{"text_format":"1","workbook":"xlsx","n_sheets":16,"sheets":["Instructions","Project Info","Buildings and Areas","Inventory","Summary","Report","Fixture Schedule","Fixture Descriptions","Control Descriptions","Inspection Form","CPSE PAF","DSMT Export","Measure_Line_Item__c","Factor Tables","Utility Admin","Version Log"],"not_rendered":{"charts":3,"images":13,"macros":1,"external_links":0,"defined_names":28,"comments":0,"pivot_tables":3},"unopened":[],"bounds":{"document_bytes":16777216,"sheet_cells":100000,"rows_first":2000,"rows_last":500,"rows_between":2000,"halvings":0,"cell_chars":16384,"cell_head_chars":4096},"cells_cut":0,"cells_raw":0,"read":"whole","date_system":"1900"}

{"sheet":"Instructions","index":0,"n_rows":83,"n_cols":3,"rows_kept":83,"cut":false,"hidden":false,"merged":[[78,1,80,12],[65,1,65,12],[82,1,83,12],[1,0,2,12],[60,1,64,12],[67,1,70,12],[74,1,76,12],[39,2,40,12],[41,2,42,12],[54,1,56,12],[50,1,51,12],[44,1,48,12],[52,1,52,8],[25,1,27,12],[29,1,32,12]]}
["Instructions"]
["This sheet provides basic instructions for using this calculator. Please contact the utility rebate program staff for further help or questions."]
[]
[]
["Getting Started"]
[]
[null,"After opening the file, enable macros if prompted. This tool uses macros to format the spreadsheets for different scenarios."]
[]
[]
[]
[]
[]
[]
[]
[]
[]
[]
[]
[]
[]
[]
[]
[]
["Project Info"]
[]
["-","Start with this sheet. Enter in all relevant information for the project. The minimum required fields are State, Utility, and Program; these fields have drop-downs. Once these have been filled in, macros will automatically un-hide the next sheets."]
[]
[]
[]
["-","Use the \"Copy data from previous version\" button to import a project from another lighting calculator version. At the end of this macro, you will be prompted to save the new file. You may overwrite the old lighting calculator that you imported from, or save it as a new filename. Note that this will not overwrite the blank calculator file that you opened, unless you specifically choose to overwrite that file in the save dialog. "]
[]
[]
[]
[]
["-","The \"Clear user data\" button clears all user-input cells and reverts the lighting calculator back to a \"fresh\" file."]
[]
["Buildings & Areas"]
[]
["-","First enter the project type (Retrofit or New Construction) if not already selected. "]
[null,"-","Retrofit projects are replacement of an existing lighting system and determine energy savings between pre-retrofit and post-retrofit fixture types. "]
[]
[null,"-","New Construction projects are new lighting installations and analyze savings by comparing the project's installed lighting power to building-code baseline. "]
[]
[]
["-","Use this sheet to define different area types for a project. Primarily this is used to determine operating hours for line items in the Inventory sheet. However, you can also break up a large project into smaller areas using this sheet. Fill in what you want to call the area in the first column (for example, \"1st floor\", \"2nd floor\"), and then select the relevant characteristics.  Also, use this to separate areas that have different operating characteristics, for example \"Warehouse\", \"Office Space\", and \"Parking Lot\". Building type operating hours are included in a table at the bottom of the sheet."]
[]
[]
[]
[]
[]
["-","Also, enter the area's conditioning type & heating equipment type if prompted. Installing more efficient lighting will reduce lighting heat load on cooling systems but result in more heating effort for heating systems. "]
[]
[null,"Example entry for Buildings and Areas"]
[]
["-","For new construction projects, also choose the code building type and enter the square footage for that area. The sheet will show you the code-baseline lighting power density (watts/square foot), and the calculator will compare that against the lighting installed in that space from the Inventory sheet to calculate savings."]
[]
[]
[]
["Inventory"]
[]
["-","This sheet is used to identify the pre-retrofit (if applicable) and new fixture types. Use one row per room & fixture type. Select the applicable building/area from the drop-down for each line item (these are the areas defined in the \"Buildings and Areas\" sheet) and enter a brief room description. Then enter the old and new lighting fixture equipment information. The \"Fixture Descriptions\" sheet provides the list of valid fixture codes & their descriptions, and can be filtered based on fixture technology type, lamp wattage, lamps/fixture, & lamp length (if applicable). "]
[]
[]
[]
[]
[null,"Example entry for lighting inventory with sample model #'s"]
[]
["-","For pre-retrofit fixtures, use the \"# of Non-Op Fixtures\" if there are currently any non-operating fixtures being replaced. Note that these fixtures should also be counted in the \"Total # of Fixtures\" column. In Line 3 of the example above, the pre-retrofit space has a total of 2 fixtures, 1/2 of which were non-operating (in this case, that means 2 of the lamps in a 4-lamp fixture). Line 4 shows that 2 of the 10 high bays were burned out."]
[]
[]
[]
[]
["-","Refer to the \"Control Descriptions\" sheet for expanded descriptions on the different selectable control types. "]
[]
["-","For post-retrofit fixtures, the \"LED0XX-TUBE\" fixture code may be used to reflect installation of LED linear tubes. In these cases, the post-retrofit quantity should reflect the total # of LED tubes installed for that line item. For Line 2 in the example, two 4-lamp fixtures had 8 total 12 watt LED tubes installed. "]
[]
[]
[]
["-","All LED fixtures are required to be listed on an accepted Qualified Product List (such as EnergyStar, \"ES\", or DesignLights Consortium, \"DLC\"). A \"Qualification\" must be selected for every post-retrofit line item. Note that the wattage listed for a product on EnergyStar or DLC might differ from the manufacturer's spec sheet."]
[]
[]
[]
["-","The energy savings calculations are hidden by default. Consult with your utility rebate program staff for further information on viewing the energy savings calculations."]

{"sheet":"Project Info","index":1,"n_rows":33,"n_cols":15,"rows_kept":33,"cut":false,"hidden":false,"merged":[[38,9,38,11],[22,1,22,11],[15,3,15,4],[14,3,14,4],[15,5,15,7],[23,5,23,10],[24,5,24,10],[25,5,25,10],[26,5,26,10],[17,5,18,7],[18,3,18,4],[1,14,1,22],[8,3,8,10],[20,3,20,10],[9,3,9,4],[9,8,9,10],[11,3,11,10],[12,3,12,8],[10,3,10,5],[10,9,10,10],[1,3,1,10],[3,3,3,10],[4,3,4,10],[7,3,7,5],[2,4,2,10]]}
[null,"CPS Energy Commercial Lighting Calculator",null,null,null,null,null,null,null,null,"v23.1.0 CPS",null,null,null,"↑ NOTE: IF THERE IS A RED \"SECURITY RISK\" BANNER"]
[null,null,"Assessed By:",null,null,null,null,null,null,null,null,null,null,null,"This calculator uses macros to help configure the tool. Some features may not work without macros enabled. To allow macros to function:"]
[null,null,"Project ID:","EA-",null,null,null,null,null,null,null,null,null,null,"1. Find the downloaded file, right-click on it and select \"Properties\""]
[null,null,"Project Name:",null,null,null,null,null,null,null,null,null,null,null,"2. On the \"General\" tab, under the \"Security\" section at the bottom check the box for \"Unblock\""]
[null,null,"Project Sponsor:",null,null,null,null,null,null,null,null,null,null,null,"3. Close and re-open the file"]
[]
[]
[null,null,"Program:"]
[null,null,"Contact Name:"]
[null,null,"Contact Phone:",null,null,null,null,"Contact Email:"]
[null,null,"Account Number:",null,null,null,null,null,"Name on Account:"]
[null,null,"Project Site Address:"]
[null,null,"City:",null,null,null,null,null,null,"ZIP Code:",null,{"$f":"IF(K13=\"\",0,IF(IFERROR(MATCH('Utility Admin'!#REF!,#REF!,0)>0,FALSE),IF(IFERROR(MATCH(K13,#REF!,0)>0,FALSE),0,1),0))","v":0}]
[]
[null,null,"Incentive Paid to:",null,null,null,null,null,"$/kWh","$/kW"]
[null,null,"Project Cost:",null,null,"Utility Rates:",null,null,7.5999999999999998E-2,0,null,null,"$/kWh"]
[]
[null,null,null,null,null,"Utility Data:",null,null,null,"Annual kWh"]
[null,null,"Project Completion Date:",null,null,null,null,null,null,"Peak Demand kW"]
[]
[null,null,"Project Decription:"]
[]
[null,"Any 4-foot T8 product being installed must meet CEE specifications for high performance or reduced wattage lamps (if applicable). Any LED product being installedmust be qualified by either DLC, Energy Star, or Lighting Facts (if applicable)."]
[null,null,null,null,null,"Select to view Consortium for Energy Efficiency (CEE) Specifications…"]
[null,null,null,null,null,"Select to view DesignLights Consortium's (DLC) Qualified Product List…"]
[null,null,null,null,null,"Select to view EnergyStar's Qualified LED Lighting List…"]
[null,null,null,null,null,"Select to view EnergyStar's Qualified LED Integral Lamp List…",null,null,null,null,null,null,"*  Required Input"]
[]
[null,null,null,null,null,null,null,null,null,null,null,null,"* Required Input"]
[null,null,null,null,null,null,null,null,null,null,null,null,"* Required Input"]
[]
[null,null,null,null,null,null,null,null,null,null,null,null,"* Required Input"]
[null,null,null,null,null,null,null,null,null,null,null,null,"* Required Input"]

{"sheet":"Buildings and Areas","index":2,"n_rows":15,"n_cols":22,"rows_kept":15,"cut":false,"hidden":false,"merged":[[11,21,11,22],[12,21,12,22],[13,21,13,22],[14,3,16,3],[6,21,6,22],[7,21,7,22],[8,21,8,22],[9,21,9,22],[10,21,10,22],[1,1,1,2],[1,15,2,18],[3,7,3,8],[4,21,4,22],[5,21,5,22]]}
[null,null,null,null,null,null,null,null,null,null,null,null,null,null,"Hide","Hide","Hide","Hide","Hide","Hide","Hide"]
[null,"Project Type:"]
[null,null,null,null,null,null,"Base Exterior Site Allowance:",{"$f":"IFERROR(INDEX(BaseSiteAllowance,MATCH(H4,Zones,0)),0)","v":0},"W",null,null,null,null,null,null,null,null,null,null,null,{"$f":"OR(U5:U14)","v":false}]
[{"$f":"SUM(A5:A14)","v":0},"Enter Name of Building or Area:","Interior or Exterior:","Building Type** (for Operating Hours):","Air Conditioning Type:","Building or Exterior Area Type (for LPD):","Exterior Zone*:\n(If Applicable)",null,null,"Code Allowed Lighting Power Density","Stipulated Operating Hours","Custom Hours","Custom Summer CF","Custom Non-Coincident DF","Air Conditioning Type to Use","IEFd lookup","IEFe lookup","Hours to Use","Summer CF to use","Non-CF to Use","Errors?"]
[{"$f":"IF(AND(B5<>\"\",COUNTIF(B$5:B$14,B5)>1),1,\"\")","v":""},null,null,null,null,null,{"$f":"IFERROR(INDEX('Factor Tables'!C$61:C$110,MATCH(F5,'Factor Tables'!B$61:B$110,0)),\"\")","v":""},null,{"$f":"IF(F5=\"\",\"\",IFERROR(\"(W/\"&IFERROR(INDEX('Factor Tables'!D$61:D$110,MATCH(F5,'Factor Tables'!B$61:B$110,0)),\"\")&\"):\",\"\"))","v":""},{"$f":"IFERROR(IF($F5<>\"\",INDEX('Factor Tables'!E$61:H$110,MATCH(F5,'Factor Tables'!B$61:B$110,0),IF(C5=\"Exterior\",MATCH(H$4,'Factor Tables'!E$97:H$97,0),1)),\"\"),0)","v":""},{"$f":"IFERROR(INDEX('Factor Tables'!$C$4:$C$42,MATCH('Buildings and Areas'!D5,'Factor Tables'!$B$4:$B$42,0)),\"\")","v":""},"Deemed","Deemed","Deemed",{"$f":"IF(OR($C5=\"Exterior\",E5=\"\"),\"None\",E5)","v":"None"},{"$f":"IFERROR(INDEX('Factor Tables'!C$55:F$55,1,MATCH(E5,'Factor Tables'!C$54:F$54,0)),1)","v":1},{"$f":"IFERROR(INDEX('Factor Tables'!C$56:F$56,1,MATCH(E5,'Factor Tables'!C$54:F$54,0)),1)","v":1},{"$f":"IFERROR(IF(ISNUMBER(L5),L5,K5),0)","v":""},{"$f":"IFERROR(IF(ISNUMBER(M5),M5,INDEX('Factor Tables'!$D$4:$D$42,MATCH('Buildings and Areas'!D5,'Factor Tables'!$B$4:$B$42,0))),0)","v":0},{"$f":"IFERROR(IF(ISNUMBER(N5),N5,INDEX('Factor Tables'!$E$4:$E$42,MATCH('Buildings and Areas'!D5,'Factor Tables'!$B$4:$B$42,0))),0)","v":0},{"$f":"AND(D5>0,NOT(ISNUMBER(K5)))","v":false},{"$f":"IF(OR(L5<>\"Deemed\",M5<>\"Deemed\",N5<>\"Deemed\"),\"Custom values will require additional information or light logging to verify.\",\"\")","v":""}]
["",null,null,null,null,null,{"$f":"IFERROR(INDEX('Factor Tables'!C$61:C$110,MATCH(F6,'Factor Tables'!B$61:B$110,0)),\"\")","v":""},null,{"$f":"IF(F6=\"\",\"\",IFERROR(\"(W/\"&IFERROR(INDEX('Factor Tables'!D$61:D$110,MATCH(F6,'Factor Tables'!B$61:B$110,0)),\"\")&\"):\",\"\"))","v":""},{"$f":"IFERROR(IF($F6<>\"\",INDEX('Factor Tables'!E$61:H$110,MATCH(F6,'Factor Tables'!B$61:B$110,0),IF(C6=\"Exterior\",MATCH(H$4,'Factor Tables'!E$97:H$97,0),1)),\"\"),0)","v":""},{"$f":"IFERROR(INDEX('Factor Tables'!$C$4:$C$42,MATCH('Buildings and Areas'!D6,'Factor Tables'!$B$4:$B$42,0)),\"\")","v":""},"Deemed","Deemed","Deemed",{"$f":"IF(OR($C6=\"Exterior\",E6=\"\"),\"None\",E6)","v":"None"},{"$f":"IFERROR(INDEX('Factor Tables'!C$55:F$55,1,MATCH(E6,'Factor Tables'!C$54:F$54,0)),1)","v":1},{"$f":"IFERROR(INDEX('Factor Tables'!C$56:F$56,1,MATCH(E6,'Factor Tables'!C$54:F$54,0)),1)","v":1},{"$f":"IFERROR(IF(ISNUMBER(L6),L6,K6),0)","v":""},{"$f":"IFERROR(IF(ISNUMBER(M6),M6,INDEX('Factor Tables'!$D$4:$D$42,MATCH('Buildings and Areas'!D6,'Factor Tables'!$B$4:$B$42,0))),0)","v":0},{"$f":"IFERROR(IF(ISNUMBER(N6),N6,INDEX('Factor Tables'!$E$4:$E$42,MATCH('Buildings and Areas'!D6,'Factor Tables'!$B$4:$B$42,0))),0)","v":0},{"$f":"AND(D6>0,NOT(ISNUMBER(K6)))","v":false},{"$f":"IF(OR(L6<>\"Deemed\",M6<>\"Deemed\",N6<>\"Deemed\"),\"Custom values will require additional information or light logging to verify.\",\"\")","v":""}]
["",null,null,null,null,null,{"$f":"IFERROR(INDEX('Factor Tables'!C$61:C$110,MATCH(F7,'Factor Tables'!B$61:B$110,0)),\"\")","v":""},null,{"$f":"IF(F7=\"\",\"\",IFERROR(\"(W/\"&IFERROR(INDEX('Factor Tables'!D$61:D$110,MATCH(F7,'Factor Tables'!B$61:B$110,0)),\"\")&\"):\",\"\"))","v":""},{"$f":"IFERROR(IF($F7<>\"\",INDEX('Factor Tables'!E$61:H$110,MATCH(F7,'Factor Tables'!B$61:B$110,0),IF(C7=\"Exterior\",MATCH(H$4,'Factor Tables'!E$97:H$97,0),1)),\"\"),0)","v":""},{"$f":"IFERROR(INDEX('Factor Tables'!$C$4:$C$42,MATCH('Buildings and Areas'!D7,'Factor Tables'!$B$4:$B$42,0)),\"\")","v":""},"Deemed","Deemed","Deemed","None",{"$f":"IFERROR(INDEX('Factor Tables'!C$55:F$55,1,MATCH(E7,'Factor Tables'!C$54:F$54,0)),1)","v":1},{"$f":"IFERROR(INDEX('Factor Tables'!C$56:F$56,1,MATCH(E7,'Factor Tables'!C$54:F$54,0)),1)","v":1},"",{"$f":"IFERROR(IF(ISNUMBER(M7),M7,INDEX('Factor Tables'!$D$4:$D$42,MATCH('Buildings and Areas'!D7,'Factor Tables'!$B$4:$B$42,0))),0)","v":0},{"$f":"IFERROR(IF(ISNUMBER(N7),N7,INDEX('Factor Tables'!$E$4:$E$42,MATCH('Buildings and Areas'!D7,'Factor Tables'!$B$4:$B$42,0))),0)","v":0},false,""]
["",null,null,null,null,null,{"$f":"IFERROR(INDEX('Factor Tables'!C$61:C$110,MATCH(F8,'Factor Tables'!B$61:B$110,0)),\"\")","v":""},null,{"$f":"IF(F8=\"\",\"\",IFERROR(\"(W/\"&IFERROR(INDEX('Factor Tables'!D$61:D$110,MATCH(F8,'Factor Tables'!B$61:B$110,0)),\"\")&\"):\",\"\"))","v":""},{"$f":"IFERROR(IF($F8<>\"\",INDEX('Factor Tables'!E$61:H$110,MATCH(F8,'Factor Tables'!B$61:B$110,0),IF(C8=\"Exterior\",MATCH(H$4,'Factor Tables'!E$97:H$97,0),1)),\"\"),0)","v":""},{"$f":"IFERROR(INDEX('Factor Tables'!$C$4:$C$42,MATCH('Buildings and Areas'!D8,'Factor Tables'!$B$4:$B$42,0)),\"\")","v":""},"Deemed","Deemed","Deemed","None",{"$f":"IFERROR(INDEX('Factor Tables'!C$55:F$55,1,MATCH(E8,'Factor Tables'!C$54:F$54,0)),1)","v":1},{"$f":"IFERROR(INDEX('Factor Tables'!C$56:F$56,1,MATCH(E8,'Factor Tables'!C$54:F$54,0)),1)","v":1},"",{"$f":"IFERROR(IF(ISNUMBER(M8),M8,INDEX('Factor Tables'!$D$4:$D$42,MATCH('Buildings and Areas'!D8,'Factor Tables'!$B$4:$B$42,0))),0)","v":0},{"$f":"IFERROR(IF(ISNUMBER(N8),N8,INDEX('Factor Tables'!$E$4:$E$42,MATCH('Buildings and Areas'!D8,'Factor Tables'!$B$4:$B$42,0))),0)","v":0},false,""]
["",null,null,null,null,null,{"$f":"IFERROR(INDEX('Factor Tables'!C$61:C$110,MATCH(F9,'Factor Tables'!B$61:B$110,0)),\"\")","v":""},null,{"$f":"IF(F9=\"\",\"\",IFERROR(\"(W/\"&IFERROR(INDEX('Factor Tables'!D$61:D$110,MATCH(F9,'Factor Tables'!B$61:B$110,0)),\"\")&\"):\",\"\"))","v":""},{"$f":"IFERROR(IF($F9<>\"\",INDEX('Factor Tables'!E$61:H$110,MATCH(F9,'Factor Tables'!B$61:B$110,0),IF(C9=\"Exterior\",MATCH(H$4,'Factor Tables'!E$97:H$97,0),1)),\"\"),0)","v":""},{"$f":"IFERROR(INDEX('Factor Tables'!$C$4:$C$42,MATCH('Buildings and Areas'!D9,'Factor Tables'!$B$4:$B$42,0)),\"\")","v":""},"Deemed","Deemed","Deemed","None",{"$f":"IFERROR(INDEX('Factor Tables'!C$55:F$55,1,MATCH(E9,'Factor Tables'!C$54:F$54,0)),1)","v":1},{"$f":"IFERROR(INDEX('Factor Tables'!C$56:F$56,1,MATCH(E9,'Factor Tables'!C$54:F$54,0)),1)","v":1},"",{"$f":"IFERROR(IF(ISNUMBER(M9),M9,INDEX('Factor Tables'!$D$4:$D$42,MATCH('Buildings and Areas'!D9,'Factor Tables'!$B$4:$B$42,0))),0)","v":0},{"$f":"IFERROR(IF(ISNUMBER(N9),N9,INDEX('Factor Tables'!$E$4:$E$42,MATCH('Buildings and Areas'!D9,'Factor Tables'!$B$4:$B$42,0))),0)","v":0},false,""]
["",null,null,null,null,null,{"$f":"IFERROR(INDEX('Factor Tables'!C$61:C$110,MATCH(F10,'Factor Tables'!B$61:B$110,0)),\"\")","v":""},null,{"$f":"IF(F10=\"\",\"\",IFERROR(\"(W/\"&IFERROR(INDEX('Factor Tables'!D$61:D$110,MATCH(F10,'Factor Tables'!B$61:B$110,0)),\"\")&\"):\",\"\"))","v":""},{"$f":"IFERROR(IF($F10<>\"\",INDEX('Factor Tables'!E$61:H$110,MATCH(F10,'Factor Tables'!B$61:B$110,0),IF(C10=\"Exterior\",MATCH(H$4,'Factor Tables'!E$97:H$97,0),1)),\"\"),0)","v":""},{"$f":"IFERROR(INDEX('Factor Tables'!$C$4:$C$42,MATCH('Buildings and Areas'!D10,'Factor Tables'!$B$4:$B$42,0)),\"\")","v":""},"Deemed","Deemed","Deemed","None",{"$f":"IFERROR(INDEX('Factor Tables'!C$55:F$55,1,MATCH(E10,'Factor Tables'!C$54:F$54,0)),1)","v":1},{"$f":"IFERROR(INDEX('Factor Tables'!C$56:F$56,1,MATCH(E10,'Factor Tables'!C$54:F$54,0)),1)","v":1},"",{"$f":"IFERROR(IF(ISNUMBER(M10),M10,INDEX('Factor Tables'!$D$4:$D$42,MATCH('Buildings and Areas'!D10,'Factor Tables'!$B$4:$B$42,0))),0)","v":0},{"$f":"IFERROR(IF(ISNUMBER(N10),N10,INDEX('Factor Tables'!$E$4:$E$42,MATCH('Buildings and Areas'!D10,'Factor Tables'!$B$4:$B$42,0))),0)","v":0},false,""]
["",null,null,null,null,null,{"$f":"IFERROR(INDEX('Factor Tables'!C$61:C$110,MATCH(F11,'Factor Tables'!B$61:B$110,0)),\"\")","v":""},null,{"$f":"IF(F11=\"\",\"\",IFERROR(\"(W/\"&IFERROR(INDEX('Factor Tables'!D$61:D$110,MATCH(F11,'Factor Tables'!B$61:B$110,0)),\"\")&\"):\",\"\"))","v":""},{"$f":"IFERROR(IF($F11<>\"\",INDEX('Factor Tables'!E$61:H$110,MATCH(F11,'Factor Tables'!B$61:B$110,0),IF(C11=\"Exterior\",MATCH(H$4,'Factor Tables'!E$97:H$97,0),1)),\"\"),0)","v":""},{"$f":"IFERROR(INDEX('Factor Tables'!$C$4:$C$42,MATCH('Buildings and Areas'!D11,'Factor Tables'!$B$4:$B$42,0)),\"\")","v":""},"Deemed","Deemed","Deemed","None",{"$f":"IFERROR(INDEX('Factor Tables'!C$55:F$55,1,MATCH(E11,'Factor Tables'!C$54:F$54,0)),1)","v":1},{"$f":"IFERROR(INDEX('Factor Tables'!C$56:F$56,1,MATCH(E11,'Factor Tables'!C$54:F$54,0)),1)","v":1},"",{"$f":"IFERROR(IF(ISNUMBER(M11),M11,INDEX('Factor Tables'!$D$4:$D$42,MATCH('Buildings and Areas'!D11,'Factor Tables'!$B$4:$B$42,0))),0)","v":0},{"$f":"IFERROR(IF(ISNUMBER(N11),N11,INDEX('Factor Tables'!$E$4:$E$42,MATCH('Buildings and Areas'!D11,'Factor Tables'!$B$4:$B$42,0))),0)","v":0},false,""]
["",null,null,null,null,null,{"$f":"IFERROR(INDEX('Factor Tables'!C$61:C$110,MATCH(F12,'Factor Tables'!B$61:B$110,0)),\"\")","v":""},null,{"$f":"IF(F12=\"\",\"\",IFERROR(\"(W/\"&IFERROR(INDEX('Factor Tables'!D$61:D$110,MATCH(F12,'Factor Tables'!B$61:B$110,0)),\"\")&\"):\",\"\"))","v":""},{"$f":"IFERROR(IF($F12<>\"\",INDEX('Factor Tables'!E$61:H$110,MATCH(F12,'Factor Tables'!B$61:B$110,0),IF(C12=\"Exterior\",MATCH(H$4,'Factor Tables'!E$97:H$97,0),1)),\"\"),0)","v":""},{"$f":"IFERROR(INDEX('Factor Tables'!$C$4:$C$42,MATCH('Buildings and Areas'!D12,'Factor Tables'!$B$4:$B$42,0)),\"\")","v":""},"Deemed","Deemed","Deemed","None",{"$f":"IFERROR(INDEX('Factor Tables'!C$55:F$55,1,MATCH(E12,'Factor Tables'!C$54:F$54,0)),1)","v":1},{"$f":"IFERROR(INDEX('Factor Tables'!C$56:F$56,1,MATCH(E12,'Factor Tables'!C$54:F$54,0)),1)","v":1},"",{"$f":"IFERROR(IF(ISNUMBER(M12),M12,INDEX('Factor Tables'!$D$4:$D$42,MATCH('Buildings and Areas'!D12,'Factor Tables'!$B$4:$B$42,0))),0)","v":0},{"$f":"IFERROR(IF(ISNUMBER(N12),N12,INDEX('Factor Tables'!$E$4:$E$42,MATCH('Buildings and Areas'!D12,'Factor Tables'!$B$4:$B$42,0))),0)","v":0},false,""]
["",null,null,null,null,null,{"$f":"IFERROR(INDEX('Factor Tables'!C$61:C$110,MATCH(F13,'Factor Tables'!B$61:B$110,0)),\"\")","v":""},null,{"$f":"IF(F13=\"\",\"\",IFERROR(\"(W/\"&IFERROR(INDEX('Factor Tables'!D$61:D$110,MATCH(F13,'Factor Tables'!B$61:B$110,0)),\"\")&\"):\",\"\"))","v":""},{"$f":"IFERROR(IF($F13<>\"\",INDEX('Factor Tables'!E$61:H$110,MATCH(F13,'Factor Tables'!B$61:B$110,0),IF(C13=\"Exterior\",MATCH(H$4,'Factor Tables'!E$97:H$97,0),1)),\"\"),0)","v":""},{"$f":"IFERROR(INDEX('Factor Tables'!$C$4:$C$42,MATCH('Buildings and Areas'!D13,'Factor Tables'!$B$4:$B$42,0)),\"\")","v":""},"Deemed","Deemed","Deemed","None",{"$f":"IFERROR(INDEX('Factor Tables'!C$55:F$55,1,MATCH(E13,'Factor Tables'!C$54:F$54,0)),1)","v":1},{"$f":"IFERROR(INDEX('Factor Tables'!C$56:F$56,1,MATCH(E13,'Factor Tables'!C$54:F$54,0)),1)","v":1},"",{"$f":"IFERROR(IF(ISNUMBER(M13),M13,INDEX('Factor Tables'!$D$4:$D$42,MATCH('Buildings and Areas'!D13,'Factor Tables'!$B$4:$B$42,0))),0)","v":0},{"$f":"IFERROR(IF(ISNUMBER(N13),N13,INDEX('Factor Tables'!$E$4:$E$42,MATCH('Buildings and Areas'!D13,'Factor Tables'!$B$4:$B$42,0))),0)","v":0},false,""]
["",null,null,null,null,null,{"$f":"IFERROR(INDEX('Factor Tables'!C$61:C$110,MATCH(F14,'Factor Tables'!B$61:B$110,0)),\"\")","v":""},null,{"$f":"IF(F14=\"\",\"\",IFERROR(\"(W/\"&IFERROR(INDEX('Factor Tables'!D$61:D$110,MATCH(F14,'Factor Tables'!B$61:B$110,0)),\"\")&\"):\",\"\"))","v":""},{"$f":"IFERROR(IF($F14<>\"\",INDEX('Factor Tables'!E$61:H$110,MATCH(F14,'Factor Tables'!B$61:B$110,0),IF(C14=\"Exterior\",MATCH(H$4,'Factor Tables'!E$97:H$97,0),1)),\"\"),0)","v":""},{"$f":"IFERROR(INDEX('Factor Tables'!$C$4:$C$42,MATCH('Buildings and Areas'!D14,'Factor Tables'!$B$4:$B$42,0)),\"\")","v":""},"Deemed","Deemed","Deemed","None",{"$f":"IFERROR(INDEX('Factor Tables'!C$55:F$55,1,MATCH(E14,'Factor Tables'!C$54:F$54,0)),1)","v":1},{"$f":"IFERROR(INDEX('Factor Tables'!C$56:F$56,1,MATCH(E14,'Factor Tables'!C$54:F$54,0)),1)","v":1},"",{"$f":"IFERROR(IF(ISNUMBER(M14),M14,INDEX('Factor Tables'!$D$4:$D$42,MATCH('Buildings and Areas'!D14,'Factor Tables'!$B$4:$B$42,0))),0)","v":0},{"$f":"IFERROR(IF(ISNUMBER(N14),N14,INDEX('Factor Tables'!$E$4:$E$42,MATCH('Buildings and Areas'!D14,'Factor Tables'!$B$4:$B$42,0))),0)","v":0},false,""]
[null,null,null,"**Building type selection is subject to change upon inspection/verification by program staff"]

{"sheet":"Inventory","index":3,"n_rows":134,"n_cols":85,"rows_kept":134,"cut":false,"hidden":false,"merged":[[6,64,6,76],[111,49,117,50]]}
[null,null,null,null,null,null,null,null,null,null,null,null,null,null,null,null,null,null,null,null,null,null,null,null,null,null,null,null,null,"Hide","Hide","Hide","Hide","Hide","Hide","Hide","Hide","Hide","Hide","Hide","Hide","Hide","Hide","Hide","Hide","Hide","Hide","Hide","Hide","Hide","Hide","Hide","Hide","Hide","Hide","Hide","Hide","Hide","Hide","Hide","Hide","Hide","Hide","Hide","Hide","Hide","Hide","Hide","Hide","Hide","Hide","Hide","Hide","Hide","Hide","Hide","Hide","Hide","Hide","Hide","Hide","Hide","Hide","Hide","Hide"]
[null,"CPS Energy Commercial Lighting Calculator",null,null,null,null,null,null,null,null,null,null,null,null,null,null,null,null,null,null,null,null,null,null,null,{"$f":"IF(ProjectType=\"New Construction\",\"kW Total\",\"Annual kWh\")","v":"Annual kWh"},{"$f":"IF(ProjectType=\"New Construction\",\"\",\"Peak kW\")","v":"Peak kW"}]
[null,null,null,null,null,null,null,null,null,null,null,null,null,null,null,null,null,null,null,null,null,null,null,null,{"$f":"IF(ProjectType=\"New Construction\", \"Total\", \"% Savings\")","v":"% Savings"},{"$f":"IF(ProjectType=\"New Construction\",SUM(BA9:BA108),Summary!J7)","v":"N/A"},{"$f":"IF(ProjectType=\"New Construction\",\"\",Summary!L7)","v":"N/A"}]
[null,null,"Project Name:",{"$f":"IF('Project Info'!$D$4=\"\",\"\",'Project Info'!$D$4)","v":""},null,null,null,null,null,null,null,null,null,null,{"$f":"IFERROR(IF(N7=\"N\",\"Project not eligible. Non-qualified fixture wattage >= 10% of project fixture wattage\",IF(N7=\"M\",\"All rows with pre fixture must have post fixture and quantity.\",\"\")),\"\")","v":""},null,null,null,null,null,null,null,null,null,"Non-qualified",{"$f":"SUMIFS(BA9:BA108,CB9:CB108,\"Not Qualified\")","v":0}]
[null,null,null,null,null,null,null,null,null,null,null,null,null,null,"Incentive calculations are not guaranteed and are subject to program staff review prior to approval.",null,null,null,null,null,null,null,null,null,"% Non-qualified",{"$f":"IF(ProjectType=\"New Construction\",IFERROR(Z4/Z3,0),0)","v":0},null,null,null,null,null,null,null,null,null,null,null,null,null,null,null,null,null,null,null,null,null,null,null,null,null,null,null,null,null,null,null,null,null,null,null,null,null,null,"Yellow background cells are final retrofit savings calculations."]
[null,null,"Building areas with Purple Text use custom hours or CF.",null,null,null,null,null,null,null,null,null,null,null,null,null,null,null,null,null,null,null,null,null,null,null,null,null,null,"Non-capped Total Incentive","Cap Applied?"]
[null,null,"Space Description",null,"Pre-Retrofit Equipment",null,null,null,{"$f":"IF(ProjectType=\"New Construction\",\"New Construction Equipment\",\"Post-Retrofit Equipment\")","v":"Post-Retrofit Equipment"},null,null,null,null,{"$f":"IFERROR(VLOOKUP(\"M\",N9:N108,1,FALSE),IF(AND(ProjectType=\"New Construction\",Z5>0.1),\"N\",\"\"))","v":""},{"$f":"IF($O$4<>\"\",0,IFERROR(SUM(IF(ProjectType=\"New Construction\",O$112:O$121,O$9:O$108)),0))","v":0},{"$f":"IF($O$4<>\"\",0,IFERROR(IF(ProjectType=\"New Construction\",0,SUM(P$9:P$108)),0))","v":0},{"$f":"IF($O$4<>\"\",0,IFERROR(O7+P7,0))","v":0},{"$f":"IF($O$4<>\"\",0,IFERROR(SUM(IF(ProjectType=\"New Construction\",R$112:R$121,R$9:R$108)),0))","v":0},{"$f":"IF($O$4<>\"\",0,IFERROR(IF(ProjectType=\"New Construction\",0,SUM(S$9:S$108)),0))","v":0},{"$f":"IF($O$4<>\"\",0,IFERROR(R7+S7,0))","v":0},{"$f":"IF($O$4<>\"\",0,IFERROR(SUM(IF(ProjectType=\"New Construction\",U$112:U$121,U$9:U$108)),0))","v":0},{"$f":"IF($O$4<>\"\",0,IFERROR(IF(ProjectType=\"New Construction\",0,SUM(V$9:V$108)),0))","v":0},{"$f":"IF($O$4<>\"\",0,IFERROR(U7+V7,0))","v":0},{"$f":"IF($O$4<>\"\",0,IFERROR(IF(ProjectType = \"New Construction\",SUM(X112:X121),SUM(X$9:X$108)),0))","v":0},{"$f":"IF($O$4<>\"\",0,IFERROR(IF(ProjectType = \"New Construction\",0,SUM(Y$9:Y$108)),0))","v":0},{"$f":"IF($O$4<>\"\",0,IFERROR(IF(ProjectType = \"New Construction\",SUM(Z112:Z121),SUM(Z$9:Z$108)),0))","v":0},{"$f":"IF($O$4<>\"\",0,IFERROR(IF(ProjectType = \"New Construction\",0,SUM(AA$9:AA$108)),0))","v":0},{"$f":"IF($O$4<>\"\",0,IFERROR(IF(ProjectType = \"New Construction\",SUM(AB112:AB121),SUM(AB$9:AB$108)),0))","v":0},{"$f":"IF($O$4<>\"\",0,IFERROR(IF(ProjectType = \"New Construction\",0,SUM(AC$9:AC$108)),0))","v":0},{"$f":"Z7+AA7","v":0},{"$f":"$AD$7>'Utility Admin'!$E$3","v":false},null,null,null,null,null,null,null,null,null,null,null,null,null,"Pre-Retrofit Equipment",null,null,null,null,null,null,{"$f":"IF(ProjectType=\"New Construction\",\"New Construction Equipment\",\"Post-Retrofit Equipment\")","v":"Post-Retrofit Equipment"},null,null,null,null,null,null,null,null,null,null,null,null,"Retrofit Savings",null,null,null,null,null,null,null,null,null,null,null,null,null,null,null,"Lighting",null,"Controls",null,{"$f":"OR(CG9:CG108)","v":false}]
[{"$f":"MATCH(\"END\",Inventory!$B:$B,0)-1","v":108},"Line\nItem","Building/Area Name","Room Description","Fixture Code","Quantity","# of\nNon-op\nFixtures*","Control Device Description","Fixture Code or Fixture Schedule ID","Quantity","Control Device Description","Qualification","Model #","Eligible?","Lighting\nNon-Coinc kW","Controls\nNon-Coinc kW","Total\nNon-Coinc kW","Lighting\nPeak kW","Controls Peak kW","Total\nPeak kW","Lighting\nkWh","Controls\nkWh","Total\nkWh","Lighting Incentive","Controls Incentive","Non-capped Lighting Incentive","Non-capped Controls Incentive","Lighting Cost Estimate","Controls Cost Estimate","Fixture Code","Controls EUL","Lighting EUL","Building Type","Int/Ext","AOH","Summer\nCF","NCPF","Air Conditioning Type","NC Bldg Type","LPD Area","Custom Hours","Custom CF","Summer IEF demand","IEF Energy","kW per\nFixture *","kW per Space w/no Controls","kW per Space w/pre Controls","kWh per Space w/no Controls","kWh per Space w/pre Controls","PAF","EAF","kW per\nFixture","kW per space w/o controls","kW per Space w/pre Controls","kW/space w/pre ctrls (Qual adjusted)","kW per Space w/post Controls","kWh per Space w/pre Controls","kWh/space w/pre ctrls (Qual adjusted)","kWH per Space w/post Controls","PAF","EAF","Line Item % Contr to Project (LTG)","Line Item % Contr to Project (Cntrl)","Line Item % Contr to B/A","LTG CP kW","LTG CP kW * IEF_S","LTG CP kW * IEF_S * CF_S","Max LTG CP kW","LTG NCP kW","CTRL CP kW","CTRL CP kW * IEF_S","CTRL CP kW * IEF_S * CF_S","CTRL NCP kW","kWh LTG","kWh LTG * IEF_E","kWh CTRL","kWh CTRL * IEF_E","Lamp Type","Label","Qualification final","$/NCPkW","$/kWh","$/NCPkW","$/kWh","Error?"]
[null,1,null,null,null,null,null,null,null,null,null,null,null,{"$f":"IF(OR(I9=\"\",J9=\"\",AND(ProjectType=\"Retrofit\",OR(E9=\"\",F9=\"\"))),\"-\",IF(OR(CB9=0,CB9=\"Not Qualified\"),\"N\",IFERROR(INDEX('Fixture Descriptions'!K:K,MATCH(AD9,'Fixture Descriptions'!A:A,0)),\"N\")))","v":"-"},{"$f":"IFERROR(ROUND(IF(OR(N9<>\"Y\",$O$4<>\"\"),0,IF(ProjectType=\"New Construction\",0,\nMAX(ABS(BQ9),ABS(R9))*IF(BQ9<0,-1,1))),3),0)","v":0},{"$f":"ROUND(IF($O$4<>\"\",0,IF(ProjectType=\"New Construction\",0,MAX(BU9,S9))),3)","v":0},{"$f":"O9+P9","v":0},{"$f":"ROUND(IF(OR(N9<>\"Y\",$O$4<>\"\"),0,IFERROR(IF(ProjectType=\"New Construction\",0,BP9),0)),3)","v":0},{"$f":"ROUND(IF($O$4<>\"\",0,IF(ProjectType=\"New Construction\",0,BT9)),3)","v":0},{"$f":"R9+S9","v":0},{"$f":"ROUND(IF(OR(N9<>\"Y\",$O$4<>\"\"),0,IFERROR(IF(ProjectType=\"New Construction\",0,BW9),0)),0)","v":0},{"$f":"ROUND(IF($O$4<>\"\",0,IF(ProjectType=\"New Construction\",0,BY9)),0)","v":0},{"$f":"U9+V9","v":0},{"$f":"ROUND(IFERROR(IF($AE$7,BJ9*MaxIncentive,Inventory!Z9),0),2)","v":0},{"$f":"ROUND(IFERROR(IF($AE$7,BK9*MaxIncentive,AA9),0),2)","v":0},{"$f":"ROUND(IFERROR(CD9*$U9+CC9*$O9,0),2)","v":0},{"$f":"ROUND(IFERROR(CF9*$V9+CE9*$P9,0),2)","v":0},{"$f":"IFERROR(ROUND(IF(U9=0,0,U9/$W$7*ProjectCost),2),0)","v":0},{"$f":"IFERROR(ROUND(IF(V9=0,0,V9/$W$7*ProjectCost),2),0)","v":0},{"$f":"IF(I9=\"\",\"\",IFERROR(VLOOKUP(I9,'Fixture Schedule'!$C$9:$D$58,2,0),I9))","v":""},{"$f":"10","v":10},{"$f":"IFERROR(VLOOKUP(IF(I9=\"REMOVED\",E9,AD9),'Fixture Descriptions'!A:J,10,FALSE),0)","v":0},{"$f":"IFERROR(INDEX('Buildings and Areas'!D$5:D$14,MATCH($C9,'Buildings and Areas'!$B$5:$B$14,0),1),\"\")","v":""},{"$f":"IFERROR(INDEX('Buildings and Areas'!C$5:C$14,MATCH($C9,'Buildings and Areas'!$B$5:$B$14,0),1),\"\")","v":""},{"$f":"IFERROR(INDEX('Buildings and Areas'!R$5:R$14,MATCH($C9,'Buildings and Areas'!$B$5:$B$14,0),1),0)","v":0},{"$f":"IFERROR(INDEX('Buildings and Areas'!S$5:S$14,MATCH($C9,'Buildings and Areas'!$B$5:$B$14,0),1),0)","v":0},{"$f":"IFERROR(INDEX('Buildings and Areas'!T$5:T$14,MATCH($C9,'Buildings and Areas'!$B$5:$B$14,0),1),0)","v":0},{"$f":"IFERROR(INDEX('Buildings and Areas'!O$5:O$14,MATCH($C9,'Buildings and Areas'!$B$5:$B$14,0),1),\"\")","v":""},{"$f":"IFERROR(INDEX('Buildings and Areas'!F$5:F$14,MATCH($C9,'Buildings and Areas'!$B$5:$B$14,0),1)&IF(AH9=\"Exterior\",\": \"&'Buildings and Areas'!$H$4,\"\"),\"\")","v":""},{"$f":"IFERROR(INDEX('Buildings and Areas'!H$5:H$14,MATCH($C9,'Buildings and Areas'!$B$5:$B$14,0),1),\"\")","v":""},{"$f":"IFERROR(IF(INDEX('Buildings and Areas'!L$5:L$14,MATCH($C9,'Buildings and Areas'!$B$5:$B$14,0),1)=\"\",\"Deemed\",INDEX('Buildings and Areas'!L$5:L$14,MATCH($C9,'Buildings and Areas'!$B$5:$B$14,0),1)),\"\")","v":""},{"$f":"IFERROR(IF(INDEX('Buildings and Areas'!M$5:M$14,MATCH($C9,'Buildings and Areas'!$B$5:$B$14,0),1)=\"\",\"Deemed\",INDEX('Buildings and Areas'!M$5:M$14,MATCH($C9,'Buildings and Areas'!$B$5:$B$14,0),1)),\"\")","v":""},{"$f":"IFERROR(INDEX('Buildings and Areas'!P$5:P$14,MATCH($C9,'Buildings and Areas'!$B$5:$B$14,0),1),0)","v":0},{"$f":"IFERROR(INDEX('Buildings and Areas'!Q$5:Q$14,MATCH($C9,'Buildings and Areas'!$B$5:$B$14,0),1),0)","v":0},{"$f":"IF(OR($AG9=\"\",$E9=\"\",$F9=\"\"),0,IF($F$124>0.1,(VLOOKUP($E9,'Fixture Descriptions'!$A:$I,8,0)/1000)*(1-$G$124),(VLOOKUP($E9,'Fixture Descriptions'!$A:$I,8,0)/1000)))","v":0},{"$f":"$F9*$AS9","v":0},{"$f":"$AT9*$AX9","v":0},{"$f":"$F9*$AS9*$AI9","v":0},{"$f":"AV9*$AY9","v":0},{"$f":"IFERROR(IF(OR('Buildings and Areas'!$D$2=\"New Construction\",$AG9=\"\",$H9=\"\",AH9=\"Exterior\"),1,INDEX('Factor Tables'!C$46:C$51,MATCH(Inventory!$H9,'Factor Tables'!$B$46:$B$51,0))),1)","v":1},{"$f":"IF(OR('Buildings and Areas'!$D$2=\"New Construction\",$AG9=\"\",$H9=\"\",AH9=\"Exterior\"),1,INDEX('Factor Tables'!D$46:D$51,MATCH(Inventory!$H9,'Factor Tables'!$B$46:$B$51,0)))","v":1},{"$f":"IF(I9=\"REMOVED\",0,IF($AD9<>\"\",VLOOKUP($AD9,'Fixture Descriptions'!$A:$I,8,0)/1000,0))","v":0},{"$f":"AZ9*J9","v":0},{"$f":"$J9*$AZ9*$AX9","v":0},{"$f":"$J9*$AZ9*$AX9*IF(AND($CB9=\"Not qualified\",ProjectType=\"New Construction\"),0,1)","v":0},{"$f":"$J9*$AZ9*$BH9","v":0},{"$f":"$J9*$AZ9*$AI9*$AY9","v":0},{"$f":"$J9*$AZ9*$AI9*$AY9*IF(AND($CB9=\"Not qualified\",ProjectType=\"New Construction\"),0,1)","v":0},{"$f":"$J9*$AZ9*$AI9*$BI9","v":0},{"$f":"IFERROR(IF(OR($AG9=\"\",$K9=\"\",AH9=\"Exterior\"),1,INDEX('Factor Tables'!C$46:C$51,MATCH(Inventory!$K9,'Factor Tables'!$B$46:$B$51,0))),1)","v":1},{"$f":"IFERROR(IF(OR($AG9=\"\",$K9=\"\",AH9=\"Exterior\"),1,INDEX('Factor Tables'!D$46:D$51,MATCH(Inventory!$K9,'Factor Tables'!$B$46:$B$51,0))),1)","v":1},{"$f":"IFERROR(U9/W$7,0)","v":0},{"$f":"IFERROR(V9/W$7,0)","v":0},{"$f":"IFERROR(BB9/INDEX(BB$112:BB$121,MATCH(C9,C$112:C$121,0)),0)","v":0},{"$f":"$AU9-$BB9","v":0},{"$f":"$BM9*AQ9","v":0},{"$f":"BN9*AJ9","v":0},{"$f":"IF(AND(OR(CB9=\"Not qualified\",CB9=\"\"),ProjectType=\"Retrofit\"),0,BO9)","v":0},{"$f":"IF(AND(OR(CB9=\"Not qualified\",CB9=\"\"),ProjectType=\"Retrofit\"),0,BM9*AR9*AK9)","v":0},{"$f":"$BB9-$BD9","v":0},{"$f":"$BR9*AQ9","v":0},{"$f":"$BS9*AJ9","v":0},{"$f":"BR9*AR9*AK9","v":0},{"$f":"$AW9-$BE9","v":0},{"$f":"IF(AND(OR(CB9=\"Not qualified\",CB9=\"\"),ProjectType=\"Retrofit\"),0,$BV9*AR9)","v":0},{"$f":"$BE9-$BG9","v":0},{"$f":"$BX9*AR9","v":0},{"$f":"IFERROR(VLOOKUP(IF($AD9=\"Removed\",E9,$AD9),'Fixture Descriptions'!$A:$I,9,0),\"\")","v":0},{"$f":"IF($AD9=\"\",\"\",VLOOKUP($AD9,'Fixture Descriptions'!$A:$I,2,0))","v":""},{"$f":"IF(I9=\"\",\"\",IF(I9=\"Removed\",\"N/A\",IF(IFERROR(VLOOKUP(I9,'Fixture Schedule'!$C$9:$G$58,5,0),L9)=\"\",\"Not Qualified\",IFERROR(VLOOKUP(I9,'Fixture Schedule'!$C$9:$G$58,5,0),L9))))","v":""},{"$f":"IFERROR(INDEX('Utility Admin'!$F$3:$AW$3,1,MATCH(1,(CC$8='Utility Admin'!$F$1:$AW$1)*(Inventory!$AH9='Utility Admin'!$F$2:$AW$2)*(Inventory!$BZ9=('Utility Admin'!$F$4:$AW$4)),0)),0)","v":0},{"$f":"IFERROR(INDEX('Utility Admin'!$F$3:$AW$3,1,MATCH(1,(CD$8='Utility Admin'!$F$1:$AW$1)*(Inventory!$AH9='Utility Admin'!$F$2:$AW$2)*(Inventory!$BZ9=('Utility Admin'!$F$4:$AW$4)),0)),0)","v":0},{"$f":"IFERROR(INDEX('Utility Admin'!$F$3:$AW$3,1,MATCH(1,(CC$8='Utility Admin'!$F$1:$AW$1)*(Inventory!$AH9='Utility Admin'!$F$2:$AW$2)*(\"Lighting Controls\"=('Utility Admin'!$F$4:$AW$4)),0)),0)","v":0},{"$f":"IFERROR(INDEX('Utility Admin'!$F$3:$AW$3,1,MATCH(1,(CD$8='Utility Admin'!$F$1:$AW$1)*(Inventory!$AH9='Utility Admin'!$F$2:$AW$2)*(\"Lighting Controls\"=('Utility Admin'!$F$4:$AW$4)),0)),0)","v":0},{"$f":"OR(AND(E9>0,ISNA(AS9)),AND(I9>0,ISNA(AZ9)))","v":false}]
[null,{"$f":"B9+1","v":2},null,null,null,null,null,null,null,null,null,null,null,{"$f":"IF(OR(I10=\"\",J10=\"\",AND(ProjectType=\"Retrofit\",OR(E10=\"\",F10=\"\"))),\"-\",IF(OR(CB10=0,CB10=\"Not Qualified\"),\"N\",IFERROR(INDEX('Fixture Descriptions'!K:K,MATCH(AD10,'Fixture Descriptions'!A:A,0)),\"N\")))","v":"-"},0,0,{"$f":"O10+P10","v":0},0,0,{"$f":"R10+S10","v":0},0,0,{"$f":"U10+V10","v":0},{"$f":"ROUND(IFERROR(IF($AE$7,BJ10*MaxIncentive,Inventory!Z10),0),2)","v":0},0,{"$f":"ROUND(IFERROR(CD10*$U10+CC10*$O10,0),2)","v":0},{"$f":"ROUND(IFERROR(CF10*$V10+CE10*$P10,0),2)","v":0},0,0,{"$f":"IF(I10=\"\",\"\",IFERROR(VLOOKUP(I10,'Fixture Schedule'!$C$9:$D$58,2,0),I10))","v":""},{"$f":"10","v":10},{"$f":"IFERROR(VLOOKUP(IF(I10=\"REMOVED\",E10,AD10),'Fixture Descriptions'!A:J,10,FALSE),0)","v":0},{"$f":"IFERROR(INDEX('Buildings and Areas'!D$5:D$14,MATCH($C10,'Buildings and Areas'!$B$5:$B$14,0),1),\"\")","v":""},{"$f":"IFERROR(INDEX('Buildings and Areas'!C$5:C$14,MATCH($C10,'Buildings and Areas'!$B$5:$B$14,0),1),\"\")","v":""},{"$f":"IFERROR(INDEX('Buildings and Areas'!R$5:R$14,MATCH($C10,'Buildings and Areas'!$B$5:$B$14,0),1),0)","v":0},{"$f":"IFERROR(INDEX('Buildings and Areas'!S$5:S$14,MATCH($C10,'Buildings and Areas'!$B$5:$B$14,0),1),0)","v":0},{"$f":"IFERROR(INDEX('Buildings and Areas'!T$5:T$14,MATCH($C10,'Buildings and Areas'!$B$5:$B$14,0),1),0)","v":0},{"$f":"IFERROR(INDEX('Buildings and Areas'!O$5:O$14,MATCH($C10,'Buildings and Areas'!$B$5:$B$14,0),1),\"\")","v":""},{"$f":"IFERROR(INDEX('Buildings and Areas'!F$5:F$14,MATCH($C10,'Buildings and Areas'!$B$5:$B$14,0),1)&IF(AH10=\"Exterior\",\": \"&'Buildings and Areas'!$H$4,\"\"),\"\")","v":""},{"$f":"IFERROR(INDEX('Buildings and Areas'!H$5:H$14,MATCH($C10,'Buildings and Areas'!$B$5:$B$14,0),1),\"\")","v":""},{"$f":"IFERROR(IF(INDEX('Buildings and Areas'!L$5:L$14,MATCH($C10,'Buildings and Areas'!$B$5:$B$14,0),1)=\"\",\"Deemed\",INDEX('Buildings and Areas'!L$5:L$14,MATCH($C10,'Buildings and Areas'!$B$5:$B$14,0),1)),\"\")","v":""},{"$f":"IFERROR(IF(INDEX('Buildings and Areas'!M$5:M$14,MATCH($C10,'Buildings and Areas'!$B$5:$B$14,0),1)=\"\",\"Deemed\",INDEX('Buildings and Areas'!M$5:M$14,MATCH($C10,'Buildings and Areas'!$B$5:$B$14,0),1)),\"\")","v":""},{"$f":"IFERROR(INDEX('Buildings and Areas'!P$5:P$14,MATCH($C10,'Buildings and Areas'!$B$5:$B$14,0),1),0)","v":0},{"$f":"IFERROR(INDEX('Buildings and Areas'!Q$5:Q$14,MATCH($C10,'Buildings and Areas'!$B$5:$B$14,0),1),0)","v":0},{"$f":"IF(OR($AG10=\"\",$E10=\"\",$F10=\"\"),0,IF($F$124>0.1,(VLOOKUP($E10,'Fixture Descriptions'!$A:$I,8,0)/1000)*(1-$G$124),(VLOOKUP($E10,'Fixture Descriptions'!$A:$I,8,0)/1000)))","v":0},0,{"$f":"$AT10*$AX10","v":0},0,{"$f":"AV10*$AY10","v":0},{"$f":"IFERROR(IF(OR('Buildings and Areas'!$D$2=\"New Construction\",$AG10=\"\",$H10=\"\",AH10=\"Exterior\"),1,INDEX('Factor Tables'!C$46:C$51,MATCH(Inventory!$H10,'Factor Tables'!$B$46:$B$51,0))),1)","v":1},{"$f":"IF(OR('Buildings and Areas'!$D$2=\"New Construction\",$AG10=\"\",$H10=\"\",AH10=\"Exterior\"),1,INDEX('Factor Tables'!D$46:D$51,MATCH(Inventory!$H10,'Factor Tables'!$B$46:$B$51,0)))","v":1},{"$f":"IF(I10=\"REMOVED\",0,IF($AD10<>\"\",VLOOKUP($AD10,'Fixture Descriptions'!$A:$I,8,0)/1000,0))","v":0},0,0,0,0,0,0,0,{"$f":"IFERROR(IF(OR($AG10=\"\",$K10=\"\",AH10=\"Exterior\"),1,INDEX('Factor Tables'!C$46:C$51,MATCH(Inventory!$K10,'Factor Tables'!$B$46:$B$51,0))),1)","v":1},{"$f":"IFERROR(IF(OR($AG10=\"\",$K10=\"\",AH10=\"Exterior\"),1,INDEX('Factor Tables'!D$46:D$51,MATCH(Inventory!$K10,'Factor Tables'!$B$46:$B$51,0))),1)","v":1},{"$f":"IFERROR(U10/W$7,0)","v":0},{"$f":"IFERROR(V10/W$7,0)","v":0},0,0,{"$f":"$BM10*AQ10","v":0},{"$f":"BN10*AJ10","v":0},{"$f":"IF(AND(OR(CB10=\"Not qualified\",CB10=\"\"),ProjectType=\"Retrofit\"),0,BO10)","v":0},{"$f":"IF(AND(OR(CB10=\"Not qualified\",CB10=\"\"),ProjectType=\"Retrofit\"),0,BM10*AR10*AK10)","v":0},{"$f":"$BB10-$BD10","v":0},0,0,0,0,0,{"$f":"$BE10-$BG10","v":0},0,{"$f":"IFERROR(VLOOKUP(IF($AD10=\"Removed\",E10,$AD10),'Fixture Descriptions'!$A:$I,9,0),\"\")","v":0},{"$f":"IF($AD10=\"\",\"\",VLOOKUP($AD10,'Fixture Descriptions'!$A:$I,2,0))","v":""},{"$f":"IF(I10=\"\",\"\",IF(I10=\"Removed\",\"N/A\",IF(IFERROR(VLOOKUP(I10,'Fixture Schedule'!$C$9:$G$58,5,0),L10)=\"\",\"Not Qualified\",IFERROR(VLOOKUP(I10,'Fixture Schedule'!$C$9:$G$58,5,0),L10))))","v":""},{"$f":"IFERROR(INDEX('Utility Admin'!$F$3:$AW$3,1,MATCH(1,(CC$8='Utility Admin'!$F$1:$AW$1)*(Inventory!$AH10='Utility Admin'!$F$2:$AW$2)*(Inventory!$BZ10=('Utility Admin'!$F$4:$AW$4)),0)),0)","v":0},{"$f":"IFERROR(INDEX('Utility Admin'!$F$3:$AW$3,1,MATCH(1,(CD$8='Utility Admin'!$F$1:$AW$1)*(Inventory!$AH10='Utility Admin'!$F$2:$AW$2)*(Inventory!$BZ10=('Utility Admin'!$F$4:$AW$4)),0)),0)","v":0},{"$f":"IFERROR(INDEX('Utility Admin'!$F$3:$AW$3,1,MATCH(1,(CC$8='Utility Admin'!$F$1:$AW$1)*(Inventory!$AH10='Utility Admin'!$F$2:$AW$2)*(\"Lighting Controls\"=('Utility Admin'!$F$4:$AW$4)),0)),0)","v":0},{"$f":"IFERROR(INDEX('Utility Admin'!$F$3:$AW$3,1,MATCH(1,(CD$8='Utility Admin'!$F$1:$AW$1)*(Inventory!$AH10='Utility Admin'!$F$2:$AW$2)*(\"Lighting Controls\"=('Utility Admin'!$F$4:$AW$4)),0)),0)","v":0},{"$f":"OR(AND(E10>0,ISNA(AS10)),AND(I10>0,ISNA(AZ10)))","v":false}]
[null,{"$f":"B10+1","v":3},null,null,null,null,null,null,null,null,null,null,null,{"$f":"IF(OR(I11=\"\",J11=\"\",AND(ProjectType=\"Retrofit\",OR(E11=\"\",F11=\"\"))),\"-\",IF(OR(CB11=0,CB11=\"Not Qualified\"),\"N\",IFERROR(INDEX('Fixture Descriptions'!K:K,MATCH(AD11,'Fixture Descriptions'!A:A,0)),\"N\")))","v":"-"},{"$f":"IFERROR(ROUND(IF(OR(N11<>\"Y\",$O$4<>\"\"),0,IF(ProjectType=\"New Construction\",0,\nMAX(ABS(BQ11),ABS(R11))*IF(BQ11<0,-1,1))),3),0)","v":0},{"$f":"ROUND(IF($O$4<>\"\",0,IF(ProjectType=\"New Construction\",0,MAX(BU11,S11))),3)","v":0},{"$f":"O11+P11","v":0},{"$f":"ROUND(IF(OR(N11<>\"Y\",$O$4<>\"\"),0,IFERROR(IF(ProjectType=\"New Construction\",0,BP11),0)),3)","v":0},{"$f":"ROUND(IF($O$4<>\"\",0,IF(ProjectType=\"New Construction\",0,BT11)),3)","v":0},{"$f":"R11+S11","v":0},{"$f":"ROUND(IF(OR(N11<>\"Y\",$O$4<>\"\"),0,IFERROR(IF(ProjectType=\"New Construction\",0,BW11),0)),0)","v":0},{"$f":"ROUND(IF($O$4<>\"\",0,IF(ProjectType=\"New Construction\",0,BY11)),0)","v":0},{"$f":"U11+V11","v":0},{"$f":"ROUND(IFERROR(IF($AE$7,BJ11*MaxIncentive,Inventory!Z11),0),2)","v":0},{"$f":"ROUND(IFERROR(IF($AE$7,BK11*MaxIncentive,AA11),0),2)","v":0},{"$f":"ROUND(IFERROR(CD11*$U11+CC11*$O11,0),2)","v":0},{"$f":"ROUND(IFERROR(CF11*$V11+CE11*$P11,0),2)","v":0},{"$f":"IFERROR(ROUND(IF(U11=0,0,U11/$W$7*ProjectCost),2),0)","v":0},{"$f":"IFERROR(ROUND(IF(V11=0,0,V11/$W$7*ProjectCost),2),0)","v":0},{"$f":"IF(I11=\"\",\"\",IFERROR(VLOOKUP(I11,'Fixture Schedule'!$C$9:$D$58,2,0),I11))","v":""},{"$f":"10","v":10},{"$f":"IFERROR(VLOOKUP(IF(I11=\"REMOVED\",E11,AD11),'Fixture Descriptions'!A:J,10,FALSE),0)","v":0},{"$f":"IFERROR(INDEX('Buildings and Areas'!D$5:D$14,MATCH($C11,'Buildings and Areas'!$B$5:$B$14,0),1),\"\")","v":""},{"$f":"IFERROR(INDEX('Buildings and Areas'!C$5:C$14,MATCH($C11,'Buildings and Areas'!$B$5:$B$14,0),1),\"\")","v":""},{"$f":"IFERROR(INDEX('Buildings and Areas'!R$5:R$14,MATCH($C11,'Buildings and Areas'!$B$5:$B$14,0),1),0)","v":0},{"$f":"IFERROR(INDEX('Buildings and Areas'!S$5:S$14,MATCH($C11,'Buildings and Areas'!$B$5:$B$14,0),1),0)","v":0},{"$f":"IFERROR(INDEX('Buildings and Areas'!T$5:T$14,MATCH($C11,'Buildings and Areas'!$B$5:$B$14,0),1),0)","v":0},{"$f":"IFERROR(INDEX('Buildings and Areas'!O$5:O$14,MATCH($C11,'Buildings and Areas'!$B$5:$B$14,0),1),\"\")","v":""},{"$f":"IFERROR(INDEX('Buildings and Areas'!F$5:F$14,MATCH($C11,'Buildings and Areas'!$B$5:$B$14,0),1)&IF(AH11=\"Exterior\",\": \"&'Buildings and Areas'!$H$4,\"\"),\"\")","v":""},{"$f":"IFERROR(INDEX('Buildings and Areas'!H$5:H$14,MATCH($C11,'Buildings and Areas'!$B$5:$B$14,0),1),\"\")","v":""},{"$f":"IFERROR(IF(INDEX('Buildings and Areas'!L$5:L$14,MATCH($C11,'Buildings and Areas'!$B$5:$B$14,0),1)=\"\",\"Deemed\",INDEX('Buildings and Areas'!L$5:L$14,MATCH($C11,'Buildings and Areas'!$B$5:$B$14,0),1)),\"\")","v":""},{"$f":"IFERROR(IF(INDEX('Buildings and Areas'!M$5:M$14,MATCH($C11,'Buildings and Areas'!$B$5:$B$14,0),1)=\"\",\"Deemed\",INDEX('Buildings and Areas'!M$5:M$14,MATCH($C11,'Buildings and Areas'!$B$5:$B$14,0),1)),\"\")","v":""},{"$f":"IFERROR(INDEX('Buildings and Areas'!P$5:P$14,MATCH($C11,'Buildings and Areas'!$B$5:$B$14,0),1),0)","v":0},{"$f":"IFERROR(INDEX('Buildings and Areas'!Q$5:Q$14,MATCH($C11,'Buildings and Areas'!$B$5:$B$14,0),1),0)","v":0},{"$f":"IF(OR($AG11=\"\",$E11=\"\",$F11=\"\"),0,IF($F$124>0.1,(VLOOKUP($E11,'Fixture Descriptions'!$A:$I,8,0)/1000)*(1-$G$124),(VLOOKUP($E11,'Fixture Descriptions'!$A:$I,8,0)/1000)))","v":0},0,0,0,{"$f":"AV11*$AY11","v":0},{"$f":"IFERROR(IF(OR('Buildings and Areas'!$D$2=\"New Construction\",$AG11=\"\",$H11=\"\",AH11=\"Exterior\"),1,INDEX('Factor Tables'!C$46:C$51,MATCH(Inventory!$H11,'Factor Tables'!$B$46:$B$51,0))),1)","v":1},{"$f":"IF(OR('Buildings and Areas'!$D$2=\"New Construction\",$AG11=\"\",$H11=\"\",AH11=\"Exterior\"),1,INDEX('Factor Tables'!D$46:D$51,MATCH(Inventory!$H11,'Factor Tables'!$B$46:$B$51,0)))","v":1},{"$f":"IF(I11=\"REMOVED\",0,IF($AD11<>\"\",VLOOKUP($AD11,'Fixture Descriptions'!$A:$I,8,0)/1000,0))","v":0},{"$f":"AZ11*J11","v":0},0,0,0,0,0,0,{"$f":"IFERROR(IF(OR($AG11=\"\",$K11=\"\",AH11=\"Exterior\"),1,INDEX('Factor Tables'!C$46:C$51,MATCH(Inventory!$K11,'Factor Tables'!$B$46:$B$51,0))),1)","v":1},{"$f":"IFERROR(IF(OR($AG11=\"\",$K11=\"\",AH11=\"Exterior\"),1,INDEX('Factor Tables'!D$46:D$51,MATCH(Inventory!$K11,'Factor Tables'!$B$46:$B$51,0))),1)","v":1},{"$f":"IFERROR(U11/W$7,0)","v":0},{"$f":"IFERROR(V11/W$7,0)","v":0},0,0,{"$f":"$BM11*AQ11","v":0},{"$f":"BN11*AJ11","v":0},{"$f":"IF(AND(OR(CB11=\"Not qualified\",CB11=\"\"),ProjectType=\"Retrofit\"),0,BO11)","v":0},{"$f":"IF(AND(OR(CB11=\"Not qualified\",CB11=\"\"),ProjectType=\"Retrofit\"),0,BM11*AR11*AK11)","v":0},0,{"$f":"$BR11*AQ11","v":0},{"$f":"$BS11*AJ11","v":0},{"$f":"BR11*AR11*AK11","v":0},0,{"$f":"IF(AND(OR(CB11=\"Not qualified\",CB11=\"\"),ProjectType=\"Retrofit\"),0,$BV11*AR11)","v":0},0,{"$f":"$BX11*AR11","v":0},{"$f":"IFERROR(VLOOKUP(IF($AD11=\"Removed\",E11,$AD11),'Fixture Descriptions'!$A:$I,9,0),\"\")","v":0},{"$f":"IF($AD11=\"\",\"\",VLOOKUP($AD11,'Fixture Descriptions'!$A:$I,2,0))","v":""},{"$f":"IF(I11=\"\",\"\",IF(I11=\"Removed\",\"N/A\",IF(IFERROR(VLOOKUP(I11,'Fixture Schedule'!$C$9:$G$58,5,0),L11)=\"\",\"Not Qualified\",IFERROR(VLOOKUP(I11,'Fixture Schedule'!$C$9:$G$58,5,0),L11))))","v":""},{"$f":"IFERROR(INDEX('Utility Admin'!$F$3:$AW$3,1,MATCH(1,(CC$8='Utility Admin'!$F$1:$AW$1)*(Inventory!$AH11='Utility Admin'!$F$2:$AW$2)*(Inventory!$BZ11=('Utility Admin'!$F$4:$AW$4)),0)),0)","v":0},{"$f":"IFERROR(INDEX('Utility Admin'!$F$3:$AW$3,1,MATCH(1,(CD$8='Utility Admin'!$F$1:$AW$1)*(Inventory!$AH11='Utility Admin'!$F$2:$AW$2)*(Inventory!$BZ11=('Utility Admin'!$F$4:$AW$4)),0)),0)","v":0},{"$f":"IFERROR(INDEX('Utility Admin'!$F$3:$AW$3,1,MATCH(1,(CC$8='Utility Admin'!$F$1:$AW$1)*(Inventory!$AH11='Utility Admin'!$F$2:$AW$2)*(\"Lighting Controls\"=('Utility Admin'!$F$4:$AW$4)),0)),0)","v":0},{"$f":"IFERROR(INDEX('Utility Admin'!$F$3:$AW$3,1,MATCH(1,(CD$8='Utility Admin'!$F$1:$AW$1)*(Inventory!$AH11='Utility Admin'!$F$2:$AW$2)*(\"Lighting Controls\"=('Utility Admin'!$F$4:$AW$4)),0)),0)","v":0},false]
[null,4,null,null,null,null,null,null,null,null,null,null,null,{"$f":"IF(OR(I12=\"\",J12=\"\",AND(ProjectType=\"Retrofit\",OR(E12=\"\",F12=\"\"))),\"-\",IF(OR(CB12=0,CB12=\"Not Qualified\"),\"N\",IFERROR(INDEX('Fixture Descriptions'!K:K,MATCH(AD12,'Fixture Descriptions'!A:A,0)),\"N\")))","v":"-"},0,0,0,0,0,0,0,0,0,{"$f":"ROUND(IFERROR(IF($AE$7,BJ12*MaxIncentive,Inventory!Z12),0),2)","v":0},0,0,0,0,0,{"$f":"IF(I12=\"\",\"\",IFERROR(VLOOKUP(I12,'Fixture Schedule'!$C$9:$D$58,2,0),I12))","v":""},{"$f":"10","v":10},{"$f":"IFERROR(VLOOKUP(IF(I12=\"REMOVED\",E12,AD12),'Fixture Descriptions'!A:J,10,FALSE),0)","v":0},{"$f":"IFERROR(INDEX('Buildings and Areas'!D$5:D$14,MATCH($C12,'Buildings and Areas'!$B$5:$B$14,0),1),\"\")","v":""},{"$f":"IFERROR(INDEX('Buildings and Areas'!C$5:C$14,MATCH($C12,'Buildings and Areas'!$B$5:$B$14,0),1),\"\")","v":""},{"$f":"IFERROR(INDEX('Buildings and Areas'!R$5:R$14,MATCH($C12,'Buildings and Areas'!$B$5:$B$14,0),1),0)","v":0},{"$f":"IFERROR(INDEX('Buildings and Areas'!S$5:S$14,MATCH($C12,'Buildings and Areas'!$B$5:$B$14,0),1),0)","v":0},{"$f":"IFERROR(INDEX('Buildings and Areas'!T$5:T$14,MATCH($C12,'Buildings and Areas'!$B$5:$B$14,0),1),0)","v":0},{"$f":"IFERROR(INDEX('Buildings and Areas'!O$5:O$14,MATCH($C12,'Buildings and Areas'!$B$5:$B$14,0),1),\"\")","v":""},{"$f":"IFERROR(INDEX('Buildings and Areas'!F$5:F$14,MATCH($C12,'Buildings and Areas'!$B$5:$B$14,0),1)&IF(AH12=\"Exterior\",\": \"&'Buildings and Areas'!$H$4,\"\"),\"\")","v":""},{"$f":"IFERROR(INDEX('Buildings and Areas'!H$5:H$14,MATCH($C12,'Buildings and Areas'!$B$5:$B$14,0),1),\"\")","v":""},{"$f":"IFERROR(IF(INDEX('Buildings and Areas'!L$5:L$14,MATCH($C12,'Buildings and Areas'!$B$5:$B$14,0),1)=\"\",\"Deemed\",INDEX('Buildings and Areas'!L$5:L$14,MATCH($C12,'Buildings and Areas'!$B$5:$B$14,0),1)),\"\")","v":""},{"$f":"IFERROR(IF(INDEX('Buildings and Areas'!M$5:M$14,MATCH($C12,'Buildings and Areas'!$B$5:$B$14,0),1)=\"\",\"Deemed\",INDEX('Buildings and Areas'!M$5:M$14,MATCH($C12,'Buildings and Areas'!$B$5:$B$14,0),1)),\"\")","v":""},{"$f":"IFERROR(INDEX('Buildings and Areas'!P$5:P$14,MATCH($C12,'Buildings and Areas'!$B$5:$B$14,0),1),0)","v":0},{"$f":"IFERROR(INDEX('Buildings and Areas'!Q$5:Q$14,MATCH($C12,'Buildings and Areas'!$B$5:$B$14,0),1),0)","v":0},{"$f":"IF(OR($AG12=\"\",$E12=\"\",$F12=\"\"),0,IF($F$124>0.1,(VLOOKUP($E12,'Fixture Descriptions'!$A:$I,8,0)/1000)*(1-$G$124),(VLOOKUP($E12,'Fixture Descriptions'!$A:$I,8,0)/1000)))","v":0},0,0,0,0,{"$f":"IFERROR(IF(OR('Buildings and Areas'!$D$2=\"New Construction\",$AG12=\"\",$H12=\"\",AH12=\"Exterior\"),1,INDEX('Factor Tables'!C$46:C$51,MATCH(Inventory!$H12,'Factor Tables'!$B$46:$B$51,0))),1)","v":1},{"$f":"IF(OR('Buildings and Areas'!$D$2=\"New Construction\",$AG12=\"\",$H12=\"\",AH12=\"Exterior\"),1,INDEX('Factor Tables'!D$46:D$51,MATCH(Inventory!$H12,'Factor Tables'!$B$46:$B$51,0)))","v":1},{"$f":"IF(I12=\"REMOVED\",0,IF($AD12<>\"\",VLOOKUP($AD12,'Fixture Descriptions'!$A:$I,8,0)/1000,0))","v":0},0,0,0,0,0,0,0,{"$f":"IFERROR(IF(OR($AG12=\"\",$K12=\"\",AH12=\"Exterior\"),1,INDEX('Factor Tables'!C$46:C$51,MATCH(Inventory!$K12,'Factor Tables'!$B$46:$B$51,0))),1)","v":1},{"$f":"IFERROR(IF(OR($AG12=\"\",$K12=\"\",AH12=\"Exterior\"),1,INDEX('Factor Tables'!D$46:D$51,MATCH(Inventory!$K12,'Factor Tables'!$B$46:$B$51,0))),1)","v":1},0,0,0,0,0,0,0,0,0,0,0,0,0,0,0,0,{"$f":"IFERROR(VLOOKUP(IF($AD12=\"Removed\",E12,$AD12),'Fixture Descriptions'!$A:$I,9,0),\"\")","v":0},{"$f":"IF($AD12=\"\",\"\",VLOOKUP($AD12,'Fixture Descriptions'!$A:$I,2,0))","v":""},{"$f":"IF(I12=\"\",\"\",IF(I12=\"Removed\",\"N/A\",IF(IFERROR(VLOOKUP(I12,'Fixture Schedule'!$C$9:$G$58,5,0),L12)=\"\",\"Not Qualified\",IFERROR(VLOOKUP(I12,'Fixture Schedule'!$C$9:$G$58,5,0),L12))))","v":""},{"$f":"IFERROR(INDEX('Utility Admin'!$F$3:$AW$3,1,MATCH(1,(CC$8='Utility Admin'!$F$1:$AW$1)*(Inventory!$AH12='Utility Admin'!$F$2:$AW$2)*(Inventory!$BZ12=('Utility Admin'!$F$4:$AW$4)),0)),0)","v":0},{"$f":"IFERROR(INDEX('Utility Admin'!$F$3:$AW$3,1,MATCH(1,(CD$8='Utility Admin'!$F$1:$AW$1)*(Inventory!$AH12='Utility Admin'!$F$2:$AW$2)*(Inventory!$BZ12=('Utility Admin'!$F$4:$AW$4)),0)),0)","v":0},{"$f":"IFERROR(INDEX('Utility Admin'!$F$3:$AW$3,1,MATCH(1,(CC$8='Utility Admin'!$F$1:$AW$1)*(Inventory!$AH12='Utility Admin'!$F$2:$AW$2)*(\"Lighting Controls\"=('Utility Admin'!$F$4:$AW$4)),0)),0)","v":0},{"$f":"IFERROR(INDEX('Utility Admin'!$F$3:$AW$3,1,MATCH(1,(CD$8='Utility Admin'!$F$1:$AW$1)*(Inventory!$AH12='Utility Admin'!$F$2:$AW$2)*(\"Lighting Controls\"=('Utility Admin'!$F$4:$AW$4)),0)),0)","v":0},false]
[null,5,null,null,null,null,null,null,null,null,null,null,null,{"$f":"IF(OR(I13=\"\",J13=\"\",AND(ProjectType=\"Retrofit\",OR(E13=\"\",F13=\"\"))),\"-\",IF(OR(CB13=0,CB13=\"Not Qualified\"),\"N\",IFERROR(INDEX('Fixture Descriptions'!K:K,MATCH(AD13,'Fixture Descriptions'!A:A,0)),\"N\")))","v":"-"},0,0,0,0,0,0,0,0,0,{"$f":"ROUND(IFERROR(IF($AE$7,BJ13*MaxIncentive,Inventory!Z13),0),2)","v":0},0,0,0,0,0,{"$f":"IF(I13=\"\",\"\",IFERROR(VLOOKUP(I13,'Fixture Schedule'!$C$9:$D$58,2,0),I13))","v":""},{"$f":"10","v":10},{"$f":"IFERROR(VLOOKUP(IF(I13=\"REMOVED\",E13,AD13),'Fixture Descriptions'!A:J,10,FALSE),0)","v":0},{"$f":"IFERROR(INDEX('Buildings and Areas'!D$5:D$14,MATCH($C13,'Buildings and Areas'!$B$5:$B$14,0),1),\"\")","v":""},{"$f":"IFERROR(INDEX('Buildings and Areas'!C$5:C$14,MATCH($C13,'Buildings and Areas'!$B$5:$B$14,0),1),\"\")","v":""},{"$f":"IFERROR(INDEX('Buildings and Areas'!R$5:R$14,MATCH($C13,'Buildings and Areas'!$B$5:$B$14,0),1),0)","v":0},{"$f":"IFERROR(INDEX('Buildings and Areas'!S$5:S$14,MATCH($C13,'Buildings and Areas'!$B$5:$B$14,0),1),0)","v":0},{"$f":"IFERROR(INDEX('Buildings and Areas'!T$5:T$14,MATCH($C13,'Buildings and Areas'!$B$5:$B$14,0),1),0)","v":0},{"$f":"IFERROR(INDEX('Buildings and Areas'!O$5:O$14,MATCH($C13,'Buildings and Areas'!$B$5:$B$14,0),1),\"\")","v":""},{"$f":"IFERROR(INDEX('Buildings and Areas'!F$5:F$14,MATCH($C13,'Buildings and Areas'!$B$5:$B$14,0),1)&IF(AH13=\"Exterior\",\": \"&'Buildings and Areas'!$H$4,\"\"),\"\")","v":""},{"$f":"IFERROR(INDEX('Buildings and Areas'!H$5:H$14,MATCH($C13,'Buildings and Areas'!$B$5:$B$14,0),1),\"\")","v":""},{"$f":"IFERROR(IF(INDEX('Buildings and Areas'!L$5:L$14,MATCH($C13,'Buildings and Areas'!$B$5:$B$14,0),1)=\"\",\"Deemed\",INDEX('Buildings and Areas'!L$5:L$14,MATCH($C13,'Buildings and Areas'!$B$5:$B$14,0),1)),\"\")","v":""},{"$f":"IFERROR(IF(INDEX('Buildings and Areas'!M$5:M$14,MATCH($C13,'Buildings and Areas'!$B$5:$B$14,0),1)=\"\",\"Deemed\",INDEX('Buildings and Areas'!M$5:M$14,MATCH($C13,'Buildings and Areas'!$B$5:$B$14,0),1)),\"\")","v":""},{"$f":"IFERROR(INDEX('Buildings and Areas'!P$5:P$14,MATCH($C13,'Buildings and Areas'!$B$5:$B$14,0),1),0)","v":0},{"$f":"IFERROR(INDEX('Buildings and Areas'!Q$5:Q$14,MATCH($C13,'Buildings and Areas'!$B$5:$B$14,0),1),0)","v":0},{"$f":"IF(OR($AG13=\"\",$E13=\"\",$F13=\"\"),0,IF($F$124>0.1,(VLOOKUP($E13,'Fixture Descriptions'!$A:$I,8,0)/1000)*(1-$G$124),(VLOOKUP($E13,'Fixture Descriptions'!$A:$I,8,0)/1000)))","v":0},0,0,0,0,{"$f":"IFERROR(IF(OR('Buildings and Areas'!$D$2=\"New Construction\",$AG13=\"\",$H13=\"\",AH13=\"Exterior\"),1,INDEX('Factor Tables'!C$46:C$51,MATCH(Inventory!$H13,'Factor Tables'!$B$46:$B$51,0))),1)","v":1},{"$f":"IF(OR('Buildings and Areas'!$D$2=\"New Construction\",$AG13=\"\",$H13=\"\",AH13=\"Exterior\"),1,INDEX('Factor Tables'!D$46:D$51,MATCH(Inventory!$H13,'Factor Tables'!$B$46:$B$51,0)))","v":1},{"$f":"IF(I13=\"REMOVED\",0,IF($AD13<>\"\",VLOOKUP($AD13,'Fixture Descriptions'!$A:$I,8,0)/1000,0))","v":0},0,0,0,0,0,0,0,{"$f":"IFERROR(IF(OR($AG13=\"\",$K13=\"\",AH13=\"Exterior\"),1,INDEX('Factor Tables'!C$46:C$51,MATCH(Inventory!$K13,'Factor Tables'!$B$46:$B$51,0))),1)","v":1},{"$f":"IFERROR(IF(OR($AG13=\"\",$K13=\"\",AH13=\"Exterior\"),1,INDEX('Factor Tables'!D$46:D$51,MATCH(Inventory!$K13,'Factor Tables'!$B$46:$B$51,0))),1)","v":1},0,0,0,0,0,0,0,0,0,0,0,0,0,0,0,0,{"$f":"IFERROR(VLOOKUP(IF($AD13=\"Removed\",E13,$AD13),'Fixture Descriptions'!$A:$I,9,0),\"\")","v":0},{"$f":"IF($AD13=\"\",\"\",VLOOKUP($AD13,'Fixture Descriptions'!$A:$I,2,0))","v":""},{"$f":"IF(I13=\"\",\"\",IF(I13=\"Removed\",\"N/A\",IF(IFERROR(VLOOKUP(I13,'Fixture Schedule'!$C$9:$G$58,5,0),L13)=\"\",\"Not Qualified\",IFERROR(VLOOKUP(I13,'Fixture Schedule'!$C$9:$G$58,5,0),L13))))","v":""},{"$f":"IFERROR(INDEX('Utility Admin'!$F$3:$AW$3,1,MATCH(1,(CC$8='Utility Admin'!$F$1:$AW$1)*(Inventory!$AH13='Utility Admin'!$F$2:$AW$2)*(Inventory!$BZ13=('Utility Admin'!$F$4:$AW$4)),0)),0)","v":0},{"$f":"IFERROR(INDEX('Utility Admin'!$F$3:$AW$3,1,MATCH(1,(CD$8='Utility Admin'!$F$1:$AW$1)*(Inventory!$AH13='Utility Admin'!$F$2:$AW$2)*(Inventory!$BZ13=('Utility Admin'!$F$4:$AW$4)),0)),0)","v":0},{"$f":"IFERROR(INDEX('Utility Admin'!$F$3:$AW$3,1,MATCH(1,(CC$8='Utility Admin'!$F$1:$AW$1)*(Inventory!$AH13='Utility Admin'!$F$2:$AW$2)*(\"Lighting Controls\"=('Utility Admin'!$F$4:$AW$4)),0)),0)","v":0},{"$f":"IFERROR(INDEX('Utility Admin'!$F$3:$AW$3,1,MATCH(1,(CD$8='Utility Admin'!$F$1:$AW$1)*(Inventory!$AH13='Utility Admin'!$F$2:$AW$2)*(\"Lighting Controls\"=('Utility Admin'!$F$4:$AW$4)),0)),0)","v":0},false]
[null,6,null,null,null,null,null,null,null,null,null,null,null,{"$f":"IF(OR(I14=\"\",J14=\"\",AND(ProjectType=\"Retrofit\",OR(E14=\"\",F14=\"\"))),\"-\",IF(OR(CB14=0,CB14=\"Not Qualified\"),\"N\",IFERROR(INDEX('Fixture Descriptions'!K:K,MATCH(AD14,'Fixture Descriptions'!A:A,0)),\"N\")))","v":"-"},0,0,0,0,0,0,0,0,0,{"$f":"ROUND(IFERROR(IF($AE$7,BJ14*MaxIncentive,Inventory!Z14),0),2)","v":0},0,0,0,0,0,{"$f":"IF(I14=\"\",\"\",IFERROR(VLOOKUP(I14,'Fixture Schedule'!$C$9:$D$58,2,0),I14))","v":""},{"$f":"10","v":10},{"$f":"IFERROR(VLOOKUP(IF(I14=\"REMOVED\",E14,AD14),'Fixture Descriptions'!A:J,10,FALSE),0)","v":0},{"$f":"IFERROR(INDEX('Buildings and Areas'!D$5:D$14,MATCH($C14,'Buildings and Areas'!$B$5:$B$14,0),1),\"\")","v":""},{"$f":"IFERROR(INDEX('Buildings and Areas'!C$5:C$14,MATCH($C14,'Buildings and Areas'!$B$5:$B$14,0),1),\"\")","v":""},{"$f":"IFERROR(INDEX('Buildings and Areas'!R$5:R$14,MATCH($C14,'Buildings and Areas'!$B$5:$B$14,0),1),0)","v":0},{"$f":"IFERROR(INDEX('Buildings and Areas'!S$5:S$14,MATCH($C14,'Buildings and Areas'!$B$5:$B$14,0),1),0)","v":0},{"$f":"IFERROR(INDEX('Buildings and Areas'!T$5:T$14,MATCH($C14,'Buildings and Areas'!$B$5:$B$14,0),1),0)","v":0},{"$f":"IFERROR(INDEX('Buildings and Areas'!O$5:O$14,MATCH($C14,'Buildings and Areas'!$B$5:$B$14,0),1),\"\")","v":""},{"$f":"IFERROR(INDEX('Buildings and Areas'!F$5:F$14,MATCH($C14,'Buildings and Areas'!$B$5:$B$14,0),1)&IF(AH14=\"Exterior\",\": \"&'Buildings and Areas'!$H$4,\"\"),\"\")","v":""},{"$f":"IFERROR(INDEX('Buildings and Areas'!H$5:H$14,MATCH($C14,'Buildings and Areas'!$B$5:$B$14,0),1),\"\")","v":""},{"$f":"IFERROR(IF(INDEX('Buildings and Areas'!L$5:L$14,MATCH($C14,'Buildings and Areas'!$B$5:$B$14,0),1)=\"\",\"Deemed\",INDEX('Buildings and Areas'!L$5:L$14,MATCH($C14,'Buildings and Areas'!$B$5:$B$14,0),1)),\"\")","v":""},{"$f":"IFERROR(IF(INDEX('Buildings and Areas'!M$5:M$14,MATCH($C14,'Buildings and Areas'!$B$5:$B$14,0),1)=\"\",\"Deemed\",INDEX('Buildings and Areas'!M$5:M$14,MATCH($C14,'Buildings and Areas'!$B$5:$B$14,0),1)),\"\")","v":""},{"$f":"IFERROR(INDEX('Buildings and Areas'!P$5:P$14,MATCH($C14,'Buildings and Areas'!$B$5:$B$14,0),1),0)","v":0},{"$f":"IFERROR(INDEX('Buildings and Areas'!Q$5:Q$14,MATCH($C14,'Buildings and Areas'!$B$5:$B$14,0),1),0)","v":0},{"$f":"IF(OR($AG14=\"\",$E14=\"\",$F14=\"\"),0,IF($F$124>0.1,(VLOOKUP($E14,'Fixture Descriptions'!$A:$I,8,0)/1000)*(1-$G$124),(VLOOKUP($E14,'Fixture Descriptions'!$A:$I,8,0)/1000)))","v":0},0,0,0,0,{"$f":"IFERROR(IF(OR('Buildings and Areas'!$D$2=\"New Construction\",$AG14=\"\",$H14=\"\",AH14=\"Exterior\"),1,INDEX('Factor Tables'!C$46:C$51,MATCH(Inventory!$H14,'Factor Tables'!$B$46:$B$51,0))),1)","v":1},{"$f":"IF(OR('Buildings and Areas'!$D$2=\"New Construction\",$AG14=\"\",$H14=\"\",AH14=\"Exterior\"),1,INDEX('Factor Tables'!D$46:D$51,MATCH(Inventory!$H14,'Factor Tables'!$B$46:$B$51,0)))","v":1},{"$f":"IF(I14=\"REMOVED\",0,IF($AD14<>\"\",VLOOKUP($AD14,'Fixture Descriptions'!$A:$I,8,0)/1000,0))","v":0},0,0,0,0,0,0,0,{"$f":"IFERROR(IF(OR($AG14=\"\",$K14=\"\",AH14=\"Exterior\"),1,INDEX('Factor Tables'!C$46:C$51,MATCH(Inventory!$K14,'Factor Tables'!$B$46:$B$51,0))),1)","v":1},{"$f":"IFERROR(IF(OR($AG14=\"\",$K14=\"\",AH14=\"Exterior\"),1,INDEX('Factor Tables'!D$46:D$51,MATCH(Inventory!$K14,'Factor Tables'!$B$46:$B$51,0))),1)","v":1},0,0,0,0,0,0,0,0,0,0,0,0,0,0,0,0,{"$f":"IFERROR(VLOOKUP(IF($AD14=\"Removed\",E14,$AD14),'Fixture Descriptions'!$A:$I,9,0),\"\")","v":0},{"$f":"IF($AD14=\"\",\"\",VLOOKUP($AD14,'Fixture Descriptions'!$A:$I,2,0))","v":""},{"$f":"IF(I14=\"\",\"\",IF(I14=\"Removed\",\"N/A\",IF(IFERROR(VLOOKUP(I14,'Fixture Schedule'!$C$9:$G$58,5,0),L14)=\"\",\"Not Qualified\",IFERROR(VLOOKUP(I14,'Fixture Schedule'!$C$9:$G$58,5,0),L14))))","v":""},{"$f":"IFERROR(INDEX('Utility Admin'!$F$3:$AW$3,1,MATCH(1,(CC$8='Utility Admin'!$F$1:$AW$1)*(Inventory!$AH14='Utility Admin'!$F$2:$AW$2)*(Inventory!$BZ14=('Utility Admin'!$F$4:$AW$4)),0)),0)","v":0},{"$f":"IFERROR(INDEX('Utility Admin'!$F$3:$AW$3,1,MATCH(1,(CD$8='Utility Admin'!$F$1:$AW$1)*(Inventory!$AH14='Utility Admin'!$F$2:$AW$2)*(Inventory!$BZ14=('Utility Admin'!$F$4:$AW$4)),0)),0)","v":0},{"$f":"IFERROR(INDEX('Utility Admin'!$F$3:$AW$3,1,MATCH(1,(CC$8='Utility Admin'!$F$1:$AW$1)*(Inventory!$AH14='Utility Admin'!$F$2:$AW$2)*(\"Lighting Controls\"=('Utility Admin'!$F$4:$AW$4)),0)),0)","v":0},{"$f":"IFERROR(INDEX('Utility Admin'!$F$3:$AW$3,1,MATCH(1,(CD$8='Utility Admin'!$F$1:$AW$1)*(Inventory!$AH14='Utility Admin'!$F$2:$AW$2)*(\"Lighting Controls\"=('Utility Admin'!$F$4:$AW$4)),0)),0)","v":0},false]
[null,7,null,null,null,null,null,null,null,null,null,null,null,{"$f":"IF(OR(I15=\"\",J15=\"\",AND(ProjectType=\"Retrofit\",OR(E15=\"\",F15=\"\"))),\"-\",IF(OR(CB15=0,CB15=\"Not Qualified\"),\"N\",IFERROR(INDEX('Fixture Descriptions'!K:K,MATCH(AD15,'Fixture Descriptions'!A:A,0)),\"N\")))","v":"-"},0,0,0,0,0,0,0,0,0,{"$f":"ROUND(IFERROR(IF($AE$7,BJ15*MaxIncentive,Inventory!Z15),0),2)","v":0},0,0,0,0,0,{"$f":"IF(I15=\"\",\"\",IFERROR(VLOOKUP(I15,'Fixture Schedule'!$C$9:$D$58,2,0),I15))","v":""},{"$f":"10","v":10},{"$f":"IFERROR(VLOOKUP(IF(I15=\"REMOVED\",E15,AD15),'Fixture Descriptions'!A:J,10,FALSE),0)","v":0},{"$f":"IFERROR(INDEX('Buildings and Areas'!D$5:D$14,MATCH($C15,'Buildings and Areas'!$B$5:$B$14,0),1),\"\")","v":""},{"$f":"IFERROR(INDEX('Buildings and Areas'!C$5:C$14,MATCH($C15,'Buildings and Areas'!$B$5:$B$14,0),1),\"\")","v":""},{"$f":"IFERROR(INDEX('Buildings and Areas'!R$5:R$14,MATCH($C15,'Buildings and Areas'!$B$5:$B$14,0),1),0)","v":0},{"$f":"IFERROR(INDEX('Buildings and Areas'!S$5:S$14,MATCH($C15,'Buildings and Areas'!$B$5:$B$14,0),1),0)","v":0},{"$f":"IFERROR(INDEX('Buildings and Areas'!T$5:T$14,MATCH($C15,'Buildings and Areas'!$B$5:$B$14,0),1),0)","v":0},{"$f":"IFERROR(INDEX('Buildings and Areas'!O$5:O$14,MATCH($C15,'Buildings and Areas'!$B$5:$B$14,0),1),\"\")","v":""},{"$f":"IFERROR(INDEX('Buildings and Areas'!F$5:F$14,MATCH($C15,'Buildings and Areas'!$B$5:$B$14,0),1)&IF(AH15=\"Exterior\",\": \"&'Buildings and Areas'!$H$4,\"\"),\"\")","v":""},{"$f":"IFERROR(INDEX('Buildings and Areas'!H$5:H$14,MATCH($C15,'Buildings and Areas'!$B$5:$B$14,0),1),\"\")","v":""},{"$f":"IFERROR(IF(INDEX('Buildings and Areas'!L$5:L$14,MATCH($C15,'Buildings and Areas'!$B$5:$B$14,0),1)=\"\",\"Deemed\",INDEX('Buildings and Areas'!L$5:L$14,MATCH($C15,'Buildings and Areas'!$B$5:$B$14,0),1)),\"\")","v":""},{"$f":"IFERROR(IF(INDEX('Buildings and Areas'!M$5:M$14,MATCH($C15,'Buildings and Areas'!$B$5:$B$14,0),1)=\"\",\"Deemed\",INDEX('Buildings and Areas'!M$5:M$14,MATCH($C15,'Buildings and Areas'!$B$5:$B$14,0),1)),\"\")","v":""},{"$f":"IFERROR(INDEX('Buildings and Areas'!P$5:P$14,MATCH($C15,'Buildings and Areas'!$B$5:$B$14,0),1),0)","v":0},{"$f":"IFERROR(INDEX('Buildings and Areas'!Q$5:Q$14,MATCH($C15,'Buildings and Areas'!$B$5:$B$14,0),1),0)","v":0},{"$f":"IF(OR($AG15=\"\",$E15=\"\",$F15=\"\"),0,IF($F$124>0.1,(VLOOKUP($E15,'Fixture Descriptions'!$A:$I,8,0)/1000)*(1-$G$124),(VLOOKUP($E15,'Fixture Descriptions'!$A:$I,8,0)/1000)))","v":0},0,0,0,0,{"$f":"IFERROR(IF(OR('Buildings and Areas'!$D$2=\"New Construction\",$AG15=\"\",$H15=\"\",AH15=\"Exterior\"),1,INDEX('Factor Tables'!C$46:C$51,MATCH(Inventory!$H15,'Factor Tables'!$B$46:$B$51,0))),1)","v":1},{"$f":"IF(OR('Buildings and Areas'!$D$2=\"New Construction\",$AG15=\"\",$H15=\"\",AH15=\"Exterior\"),1,INDEX('Factor Tables'!D$46:D$51,MATCH(Inventory!$H15,'Factor Tables'!$B$46:$B$51,0)))","v":1},{"$f":"IF(I15=\"REMOVED\",0,IF($AD15<>\"\",VLOOKUP($AD15,'Fixture Descriptions'!$A:$I,8,0)/1000,0))","v":0},0,0,0,0,0,0,0,{"$f":"IFERROR(IF(OR($AG15=\"\",$K15=\"\",AH15=\"Exterior\"),1,INDEX('Factor Tables'!C$46:C$51,MATCH(Inventory!$K15,'Factor Tables'!$B$46:$B$51,0))),1)","v":1},{"$f":"IFERROR(IF(OR($AG15=\"\",$K15=\"\",AH15=\"Exterior\"),1,INDEX('Factor Tables'!D$46:D$51,MATCH(Inventory!$K15,'Factor Tables'!$B$46:$B$51,0))),1)","v":1},0,0,0,0,0,0,0,0,0,0,0,0,0,0,0,0,{"$f":"IFERROR(VLOOKUP(IF($AD15=\"Removed\",E15,$AD15),'Fixture Descriptions'!$A:$I,9,0),\"\")","v":0},{"$f":"IF($AD15=\"\",\"\",VLOOKUP($AD15,'Fixture Descriptions'!$A:$I,2,0))","v":""},{"$f":"IF(I15=\"\",\"\",IF(I15=\"Removed\",\"N/A\",IF(IFERROR(VLOOKUP(I15,'Fixture Schedule'!$C$9:$G$58,5,0),L15)=\"\",\"Not Qualified\",IFERROR(VLOOKUP(I15,'Fixture Schedule'!$C$9:$G$58,5,0),L15))))","v":""},{"$f":"IFERROR(INDEX('Utility Admin'!$F$3:$AW$3,1,MATCH(1,(CC$8='Utility Admin'!$F$1:$AW$1)*(Inventory!$AH15='Utility Admin'!$F$2:$AW$2)*(Inventory!$BZ15=('Utility Admin'!$F$4:$AW$4)),0)),0)","v":0},{"$f":"IFERROR(INDEX('Utility Admin'!$F$3:$AW$3,1,MATCH(1,(CD$8='Utility Admin'!$F$1:$AW$1)*(Inventory!$AH15='Utility Admin'!$F$2:$AW$2)*(Inventory!$BZ15=('Utility Admin'!$F$4:$AW$4)),0)),0)","v":0},{"$f":"IFERROR(INDEX('Utility Admin'!$F$3:$AW$3,1,MATCH(1,(CC$8='Utility Admin'!$F$1:$AW$1)*(Inventory!$AH15='Utility Admin'!$F$2:$AW$2)*(\"Lighting Controls\"=('Utility Admin'!$F$4:$AW$4)),0)),0)","v":0},{"$f":"IFERROR(INDEX('Utility Admin'!$F$3:$AW$3,1,MATCH(1,(CD$8='Utility Admin'!$F$1:$AW$1)*(Inventory!$AH15='Utility Admin'!$F$2:$AW$2)*(\"Lighting Controls\"=('Utility Admin'!$F$4:$AW$4)),0)),0)","v":0},false]
[null,8,null,null,null,null,null,null,null,null,null,null,null,{"$f":"IF(OR(I16=\"\",J16=\"\",AND(ProjectType=\"Retrofit\",OR(E16=\"\",F16=\"\"))),\"-\",IF(OR(CB16=0,CB16=\"Not Qualified\"),\"N\",IFERROR(INDEX('Fixture Descriptions'!K:K,MATCH(AD16,'Fixture Descriptions'!A:A,0)),\"N\")))","v":"-"},0,0,0,0,0,0,0,0,0,{"$f":"ROUND(IFERROR(IF($AE$7,BJ16*MaxIncentive,Inventory!Z16),0),2)","v":0},0,0,0,0,0,{"$f":"IF(I16=\"\",\"\",IFERROR(VLOOKUP(I16,'Fixture Schedule'!$C$9:$D$58,2,0),I16))","v":""},{"$f":"10","v":10},{"$f":"IFERROR(VLOOKUP(IF(I16=\"REMOVED\",E16,AD16),'Fixture Descriptions'!A:J,10,FALSE),0)","v":0},{"$f":"IFERROR(INDEX('Buildings and Areas'!D$5:D$14,MATCH($C16,'Buildings and Areas'!$B$5:$B$14,0),1),\"\")","v":""},{"$f":"IFERROR(INDEX('Buildings and Areas'!C$5:C$14,MATCH($C16,'Buildings and Areas'!$B$5:$B$14,0),1),\"\")","v":""},{"$f":"IFERROR(INDEX('Buildings and Areas'!R$5:R$14,MATCH($C16,'Buildings and Areas'!$B$5:$B$14,0),1),0)","v":0},{"$f":"IFERROR(INDEX('Buildings and Areas'!S$5:S$14,MATCH($C16,'Buildings and Areas'!$B$5:$B$14,0),1),0)","v":0},{"$f":"IFERROR(INDEX('Buildings and Areas'!T$5:T$14,MATCH($C16,'Buildings and Areas'!$B$5:$B$14,0),1),0)","v":0},{"$f":"IFERROR(INDEX('Buildings and Areas'!O$5:O$14,MATCH($C16,'Buildings and Areas'!$B$5:$B$14,0),1),\"\")","v":""},{"$f":"IFERROR(INDEX('Buildings and Areas'!F$5:F$14,MATCH($C16,'Buildings and Areas'!$B$5:$B$14,0),1)&IF(AH16=\"Exterior\",\": \"&'Buildings and Areas'!$H$4,\"\"),\"\")","v":""},{"$f":"IFERROR(INDEX('Buildings and Areas'!H$5:H$14,MATCH($C16,'Buildings and Areas'!$B$5:$B$14,0),1),\"\")","v":""},{"$f":"IFERROR(IF(INDEX('Buildings and Areas'!L$5:L$14,MATCH($C16,'Buildings and Areas'!$B$5:$B$14,0),1)=\"\",\"Deemed\",INDEX('Buildings and Areas'!L$5:L$14,MATCH($C16,'Buildings and Areas'!$B$5:$B$14,0),1)),\"\")","v":""},{"$f":"IFERROR(IF(INDEX('Buildings and Areas'!M$5:M$14,MATCH($C16,'Buildings and Areas'!$B$5:$B$14,0),1)=\"\",\"Deemed\",INDEX('Buildings and Areas'!M$5:M$14,MATCH($C16,'Buildings and Areas'!$B$5:$B$14,0),1)),\"\")","v":""},{"$f":"IFERROR(INDEX('Buildings and Areas'!P$5:P$14,MATCH($C16,'Buildings and Areas'!$B$5:$B$14,0),1),0)","v":0},{"$f":"IFERROR(INDEX('Buildings and Areas'!Q$5:Q$14,MATCH($C16,'Buildings and Areas'!$B$5:$B$14,0),1),0)","v":0},{"$f":"IF(OR($AG16=\"\",$E16=\"\",$F16=\"\"),0,IF($F$124>0.1,(VLOOKUP($E16,'Fixture Descriptions'!$A:$I,8,0)/1000)*(1-$G$124),(VLOOKUP($E16,'Fixture Descriptions'!$A:$I,8,0)/1000)))","v":0},0,0,0,0,{"$f":"IFERROR(IF(OR('Buildings and Areas'!$D$2=\"New Construction\",$AG16=\"\",$H16=\"\",AH16=\"Exterior\"),1,INDEX('Factor Tables'!C$46:C$51,MATCH(Inventory!$H16,'Factor Tables'!$B$46:$B$51,0))),1)","v":1},{"$f":"IF(OR('Buildings and Areas'!$D$2=\"New Construction\",$AG16=\"\",$H16=\"\",AH16=\"Exterior\"),1,INDEX('Factor Tables'!D$46:D$51,MATCH(Inventory!$H16,'Factor Tables'!$B$46:$B$51,0)))","v":1},{"$f":"IF(I16=\"REMOVED\",0,IF($AD16<>\"\",VLOOKUP($AD16,'Fixture Descriptions'!$A:$I,8,0)/1000,0))","v":0},0,0,0,0,0,0,0,{"$f":"IFERROR(IF(OR($AG16=\"\",$K16=\"\",AH16=\"Exterior\"),1,INDEX('Factor Tables'!C$46:C$51,MATCH(Inventory!$K16,'Factor Tables'!$B$46:$B$51,0))),1)","v":1},{"$f":"IFERROR(IF(OR($AG16=\"\",$K16=\"\",AH16=\"Exterior\"),1,INDEX('Factor Tables'!D$46:D$51,MATCH(Inventory!$K16,'Factor Tables'!$B$46:$B$51,0))),1)","v":1},0,0,0,0,0,0,0,0,0,0,0,0,0,0,0,0,{"$f":"IFERROR(VLOOKUP(IF($AD16=\"Removed\",E16,$AD16),'Fixture Descriptions'!$A:$I,9,0),\"\")","v":0},{"$f":"IF($AD16=\"\",\"\",VLOOKUP($AD16,'Fixture Descriptions'!$A:$I,2,0))","v":""},{"$f":"IF(I16=\"\",\"\",IF(I16=\"Removed\",\"N/A\",IF(IFERROR(VLOOKUP(I16,'Fixture Schedule'!$C$9:$G$58,5,0),L16)=\"\",\"Not Qualified\",IFERROR(VLOOKUP(I16,'Fixture Schedule'!$C$9:$G$58,5,0),L16))))","v":""},{"$f":"IFERROR(INDEX('Utility Admin'!$F$3:$AW$3,1,MATCH(1,(CC$8='Utility Admin'!$F$1:$AW$1)*(Inventory!$AH16='Utility Admin'!$F$2:$AW$2)*(Inventory!$BZ16=('Utility Admin'!$F$4:$AW$4)),0)),0)","v":0},{"$f":"IFERROR(INDEX('Utility Admin'!$F$3:$AW$3,1,MATCH(1,(CD$8='Utility Admin'!$F$1:$AW$1)*(Inventory!$AH16='Utility Admin'!$F$2:$AW$2)*(Inventory!$BZ16=('Utility Admin'!$F$4:$AW$4)),0)),0)","v":0},{"$f":"IFERROR(INDEX('Utility Admin'!$F$3:$AW$3,1,MATCH(1,(CC$8='Utility Admin'!$F$1:$AW$1)*(Inventory!$AH16='Utility Admin'!$F$2:$AW$2)*(\"Lighting Controls\"=('Utility Admin'!$F$4:$AW$4)),0)),0)","v":0},{"$f":"IFERROR(INDEX('Utility Admin'!$F$3:$AW$3,1,MATCH(1,(CD$8='Utility Admin'!$F$1:$AW$1)*(Inventory!$AH16='Utility Admin'!$F$2:$AW$2)*(\"Lighting Controls\"=('Utility Admin'!$F$4:$AW$4)),0)),0)","v":0},false]
[null,9,null,null,null,null,null,null,null,null,null,null,null,{"$f":"IF(OR(I17=\"\",J17=\"\",AND(ProjectType=\"Retrofit\",OR(E17=\"\",F17=\"\"))),\"-\",IF(OR(CB17=0,CB17=\"Not Qualified\"),\"N\",IFERROR(INDEX('Fixture Descriptions'!K:K,MATCH(AD17,'Fixture Descriptions'!A:A,0)),\"N\")))","v":"-"},0,0,0,0,0,0,0,0,0,{"$f":"ROUND(IFERROR(IF($AE$7,BJ17*MaxIncentive,Inventory!Z17),0),2)","v":0},0,0,0,0,0,{"$f":"IF(I17=\"\",\"\",IFERROR(VLOOKUP(I17,'Fixture Schedule'!$C$9:$D$58,2,0),I17))","v":""},{"$f":"10","v":10},{"$f":"IFERROR(VLOOKUP(IF(I17=\"REMOVED\",E17,AD17),'Fixture Descriptions'!A:J,10,FALSE),0)","v":0},{"$f":"IFERROR(INDEX('Buildings and Areas'!D$5:D$14,MATCH($C17,'Buildings and Areas'!$B$5:$B$14,0),1),\"\")","v":""},{"$f":"IFERROR(INDEX('Buildings and Areas'!C$5:C$14,MATCH($C17,'Buildings and Areas'!$B$5:$B$14,0),1),\"\")","v":""},{"$f":"IFERROR(INDEX('Buildings and Areas'!R$5:R$14,MATCH($C17,'Buildings and Areas'!$B$5:$B$14,0),1),0)","v":0},{"$f":"IFERROR(INDEX('Buildings and Areas'!S$5:S$14,MATCH($C17,'Buildings and Areas'!$B$5:$B$14,0),1),0)","v":0},{"$f":"IFERROR(INDEX('Buildings and Areas'!T$5:T$14,MATCH($C17,'Buildings and Areas'!$B$5:$B$14,0),1),0)","v":0},{"$f":"IFERROR(INDEX('Buildings and Areas'!O$5:O$14,MATCH($C17,'Buildings and Areas'!$B$5:$B$14,0),1),\"\")","v":""},{"$f":"IFERROR(INDEX('Buildings and Areas'!F$5:F$14,MATCH($C17,'Buildings and Areas'!$B$5:$B$14,0),1)&IF(AH17=\"Exterior\",\": \"&'Buildings and Areas'!$H$4,\"\"),\"\")","v":""},{"$f":"IFERROR(INDEX('Buildings and Areas'!H$5:H$14,MATCH($C17,'Buildings and Areas'!$B$5:$B$14,0),1),\"\")","v":""},{"$f":"IFERROR(IF(INDEX('Buildings and Areas'!L$5:L$14,MATCH($C17,'Buildings and Areas'!$B$5:$B$14,0),1)=\"\",\"Deemed\",INDEX('Buildings and Areas'!L$5:L$14,MATCH($C17,'Buildings and Areas'!$B$5:$B$14,0),1)),\"\")","v":""},{"$f":"IFERROR(IF(INDEX('Buildings and Areas'!M$5:M$14,MATCH($C17,'Buildings and Areas'!$B$5:$B$14,0),1)=\"\",\"Deemed\",INDEX('Buildings and Areas'!M$5:M$14,MATCH($C17,'Buildings and Areas'!$B$5:$B$14,0),1)),\"\")","v":""},{"$f":"IFERROR(INDEX('Buildings and Areas'!P$5:P$14,MATCH($C17,'Buildings and Areas'!$B$5:$B$14,0),1),0)","v":0},{"$f":"IFERROR(INDEX('Buildings and Areas'!Q$5:Q$14,MATCH($C17,'Buildings and Areas'!$B$5:$B$14,0),1),0)","v":0},{"$f":"IF(OR($AG17=\"\",$E17=\"\",$F17=\"\"),0,IF($F$124>0.1,(VLOOKUP($E17,'Fixture Descriptions'!$A:$I,8,0)/1000)*(1-$G$124),(VLOOKUP($E17,'Fixture Descriptions'!$A:$I,8,0)/1000)))","v":0},0,0,0,0,{"$f":"IFERROR(IF(OR('Buildings and Areas'!$D$2=\"New Construction\",$AG17=\"\",$H17=\"\",AH17=\"Exterior\"),1,INDEX('Factor Tables'!C$46:C$51,MATCH(Inventory!$H17,'Factor Tables'!$B$46:$B$51,0))),1)","v":1},{"$f":"IF(OR('Buildings and Areas'!$D$2=\"New Construction\",$AG17=\"\",$H17=\"\",AH17=\"Exterior\"),1,INDEX('Factor Tables'!D$46:D$51,MATCH(Inventory!$H17,'Factor Tables'!$B$46:$B$51,0)))","v":1},{"$f":"IF(I17=\"REMOVED\",0,IF($AD17<>\"\",VLOOKUP($AD17,'Fixture Descriptions'!$A:$I,8,0)/1000,0))","v":0},0,0,0,0,0,0,0,{"$f":"IFERROR(IF(OR($AG17=\"\",$K17=\"\",AH17=\"Exterior\"),1,INDEX('Factor Tables'!C$46:C$51,MATCH(Inventory!$K17,'Factor Tables'!$B$46:$B$51,0))),1)","v":1},{"$f":"IFERROR(IF(OR($AG17=\"\",$K17=\"\",AH17=\"Exterior\"),1,INDEX('Factor Tables'!D$46:D$51,MATCH(Inventory!$K17,'Factor Tables'!$B$46:$B$51,0))),1)","v":1},0,0,0,0,0,0,0,0,0,0,0,0,0,0,0,0,{"$f":"IFERROR(VLOOKUP(IF($AD17=\"Removed\",E17,$AD17),'Fixture Descriptions'!$A:$I,9,0),\"\")","v":0},{"$f":"IF($AD17=\"\",\"\",VLOOKUP($AD17,'Fixture Descriptions'!$A:$I,2,0))","v":""},{"$f":"IF(I17=\"\",\"\",IF(I17=\"Removed\",\"N/A\",IF(IFERROR(VLOOKUP(I17,'Fixture Schedule'!$C$9:$G$58,5,0),L17)=\"\",\"Not Qualified\",IFERROR(VLOOKUP(I17,'Fixture Schedule'!$C$9:$G$58,5,0),L17))))","v":""},{"$f":"IFERROR(INDEX('Utility Admin'!$F$3:$AW$3,1,MATCH(1,(CC$8='Utility Admin'!$F$1:$AW$1)*(Inventory!$AH17='Utility Admin'!$F$2:$AW$2)*(Inventory!$BZ17=('Utility Admin'!$F$4:$AW$4)),0)),0)","v":0},{"$f":"IFERROR(INDEX('Utility Admin'!$F$3:$AW$3,1,MATCH(1,(CD$8='Utility Admin'!$F$1:$AW$1)*(Inventory!$AH17='Utility Admin'!$F$2:$AW$2)*(Inventory!$BZ17=('Utility Admin'!$F$4:$AW$4)),0)),0)","v":0},{"$f":"IFERROR(INDEX('Utility Admin'!$F$3:$AW$3,1,MATCH(1,(CC$8='Utility Admin'!$F$1:$AW$1)*(Inventory!$AH17='Utility Admin'!$F$2:$AW$2)*(\"Lighting Controls\"=('Utility Admin'!$F$4:$AW$4)),0)),0)","v":0},{"$f":"IFERROR(INDEX('Utility Admin'!$F$3:$AW$3,1,MATCH(1,(CD$8='Utility Admin'!$F$1:$AW$1)*(Inventory!$AH17='Utility Admin'!$F$2:$AW$2)*(\"Lighting Controls\"=('Utility Admin'!$F$4:$AW$4)),0)),0)","v":0},false]
[null,10,null,null,null,null,null,null,null,null,null,null,null,{"$f":"IF(OR(I18=\"\",J18=\"\",AND(ProjectType=\"Retrofit\",OR(E18=\"\",F18=\"\"))),\"-\",IF(OR(CB18=0,CB18=\"Not Qualified\"),\"N\",IFERROR(INDEX('Fixture Descriptions'!K:K,MATCH(AD18,'Fixture Descriptions'!A:A,0)),\"N\")))","v":"-"},0,0,0,0,0,0,0,0,0,{"$f":"ROUND(IFERROR(IF($AE$7,BJ18*MaxIncentive,Inventory!Z18),0),2)","v":0},0,0,0,0,0,{"$f":"IF(I18=\"\",\"\",IFERROR(VLOOKUP(I18,'Fixture Schedule'!$C$9:$D$58,2,0),I18))","v":""},{"$f":"10","v":10},{"$f":"IFERROR(VLOOKUP(IF(I18=\"REMOVED\",E18,AD18),'Fixture Descriptions'!A:J,10,FALSE),0)","v":0},{"$f":"IFERROR(INDEX('Buildings and Areas'!D$5:D$14,MATCH($C18,'Buildings and Areas'!$B$5:$B$14,0),1),\"\")","v":""},{"$f":"IFERROR(INDEX('Buildings and Areas'!C$5:C$14,MATCH($C18,'Buildings and Areas'!$B$5:$B$14,0),1),\"\")","v":""},{"$f":"IFERROR(INDEX('Buildings and Areas'!R$5:R$14,MATCH($C18,'Buildings and Areas'!$B$5:$B$14,0),1),0)","v":0},{"$f":"IFERROR(INDEX('Buildings and Areas'!S$5:S$14,MATCH($C18,'Buildings and Areas'!$B$5:$B$14,0),1),0)","v":0},{"$f":"IFERROR(INDEX('Buildings and Areas'!T$5:T$14,MATCH($C18,'Buildings and Areas'!$B$5:$B$14,0),1),0)","v":0},{"$f":"IFERROR(INDEX('Buildings and Areas'!O$5:O$14,MATCH($C18,'Buildings and Areas'!$B$5:$B$14,0),1),\"\")","v":""},{"$f":"IFERROR(INDEX('Buildings and Areas'!F$5:F$14,MATCH($C18,'Buildings and Areas'!$B$5:$B$14,0),1)&IF(AH18=\"Exterior\",\": \"&'Buildings and Areas'!$H$4,\"\"),\"\")","v":""},{"$f":"IFERROR(INDEX('Buildings and Areas'!H$5:H$14,MATCH($C18,'Buildings and Areas'!$B$5:$B$14,0),1),\"\")","v":""},{"$f":"IFERROR(IF(INDEX('Buildings and Areas'!L$5:L$14,MATCH($C18,'Buildings and Areas'!$B$5:$B$14,0),1)=\"\",\"Deemed\",INDEX('Buildings and Areas'!L$5:L$14,MATCH($C18,'Buildings and Areas'!$B$5:$B$14,0),1)),\"\")","v":""},{"$f":"IFERROR(IF(INDEX('Buildings and Areas'!M$5:M$14,MATCH($C18,'Buildings and Areas'!$B$5:$B$14,0),1)=\"\",\"Deemed\",INDEX('Buildings and Areas'!M$5:M$14,MATCH($C18,'Buildings and Areas'!$B$5:$B$14,0),1)),\"\")","v":""},{"$f":"IFERROR(INDEX('Buildings and Areas'!P$5:P$14,MATCH($C18,'Buildings and Areas'!$B$5:$B$14,0),1),0)","v":0},{"$f":"IFERROR(INDEX('Buildings and Areas'!Q$5:Q$14,MATCH($C18,'Buildings and Areas'!$B$5:$B$14,0),1),0)","v":0},{"$f":"IF(OR($AG18=\"\",$E18=\"\",$F18=\"\"),0,IF($F$124>0.1,(VLOOKUP($E18,'Fixture Descriptions'!$A:$I,8,0)/1000)*(1-$G$124),(VLOOKUP($E18,'Fixture Descriptions'!$A:$I,8,0)/1000)))","v":0},0,0,0,0,{"$f":"IFERROR(IF(OR('Buildings and Areas'!$D$2=\"New Construction\",$AG18=\"\",$H18=\"\",AH18=\"Exterior\"),1,INDEX('Factor Tables'!C$46:C$51,MATCH(Inventory!$H18,'Factor Tables'!$B$46:$B$51,0))),1)","v":1},{"$f":"IF(OR('Buildings and Areas'!$D$2=\"New Construction\",$AG18=\"\",$H18=\"\",AH18=\"Exterior\"),1,INDEX('Factor Tables'!D$46:D$51,MATCH(Inventory!$H18,'Factor Tables'!$B$46:$B$51,0)))","v":1},{"$f":"IF(I18=\"REMOVED\",0,IF($AD18<>\"\",VLOOKUP($AD18,'Fixture Descriptions'!$A:$I,8,0)/1000,0))","v":0},0,0,0,0,0,0,0,{"$f":"IFERROR(IF(OR($AG18=\"\",$K18=\"\",AH18=\"Exterior\"),1,INDEX('Factor Tables'!C$46:C$51,MATCH(Inventory!$K18,'Factor Tables'!$B$46:$B$51,0))),1)","v":1},{"$f":"IFERROR(IF(OR($AG18=\"\",$K18=\"\",AH18=\"Exterior\"),1,INDEX('Factor Tables'!D$46:D$51,MATCH(Inventory!$K18,'Factor Tables'!$B$46:$B$51,0))),1)","v":1},0,0,0,0,0,0,0,0,0,0,0,0,0,0,0,0,{"$f":"IFERROR(VLOOKUP(IF($AD18=\"Removed\",E18,$AD18),'Fixture Descriptions'!$A:$I,9,0),\"\")","v":0},{"$f":"IF($AD18=\"\",\"\",VLOOKUP($AD18,'Fixture Descriptions'!$A:$I,2,0))","v":""},{"$f":"IF(I18=\"\",\"\",IF(I18=\"Removed\",\"N/A\",IF(IFERROR(VLOOKUP(I18,'Fixture Schedule'!$C$9:$G$58,5,0),L18)=\"\",\"Not Qualified\",IFERROR(VLOOKUP(I18,'Fixture Schedule'!$C$9:$G$58,5,0),L18))))","v":""},{"$f":"IFERROR(INDEX('Utility Admin'!$F$3:$AW$3,1,MATCH(1,(CC$8='Utility Admin'!$F$1:$AW$1)*(Inventory!$AH18='Utility Admin'!$F$2:$AW$2)*(Inventory!$BZ18=('Utility Admin'!$F$4:$AW$4)),0)),0)","v":0},{"$f":"IFERROR(INDEX('Utility Admin'!$F$3:$AW$3,1,MATCH(1,(CD$8='Utility Admin'!$F$1:$AW$1)*(Inventory!$AH18='Utility Admin'!$F$2:$AW$2)*(Inventory!$BZ18=('Utility Admin'!$F$4:$AW$4)),0)),0)","v":0},{"$f":"IFERROR(INDEX('Utility Admin'!$F$3:$AW$3,1,MATCH(1,(CC$8='Utility Admin'!$F$1:$AW$1)*(Inventory!$AH18='Utility Admin'!$F$2:$AW$2)*(\"Lighting Controls\"=('Utility Admin'!$F$4:$AW$4)),0)),0)","v":0},{"$f":"IFERROR(INDEX('Utility Admin'!$F$3:$AW$3,1,MATCH(1,(CD$8='Utility Admin'!$F$1:$AW$1)*(Inventory!$AH18='Utility Admin'!$F$2:$AW$2)*(\"Lighting Controls\"=('Utility Admin'!$F$4:$AW$4)),0)),0)","v":0},false]
[null,11,null,null,null,null,null,null,null,null,null,null,null,{"$f":"IF(OR(I19=\"\",J19=\"\",AND(ProjectType=\"Retrofit\",OR(E19=\"\",F19=\"\"))),\"-\",IF(OR(CB19=0,CB19=\"Not Qualified\"),\"N\",IFERROR(INDEX('Fixture Descriptions'!K:K,MATCH(AD19,'Fixture Descriptions'!A:A,0)),\"N\")))","v":"-"},0,0,0,0,0,0,0,0,0,{"$f":"ROUND(IFERROR(IF($AE$7,BJ19*MaxIncentive,Inventory!Z19),0),2)","v":0},0,0,0,0,0,{"$f":"IF(I19=\"\",\"\",IFERROR(VLOOKUP(I19,'Fixture Schedule'!$C$9:$D$58,2,0),I19))","v":""},{"$f":"10","v":10},{"$f":"IFERROR(VLOOKUP(IF(I19=\"REMOVED\",E19,AD19),'Fixture Descriptions'!A:J,10,FALSE),0)","v":0},{"$f":"IFERROR(INDEX('Buildings and Areas'!D$5:D$14,MATCH($C19,'Buildings and Areas'!$B$5:$B$14,0),1),\"\")","v":""},{"$f":"IFERROR(INDEX('Buildings and Areas'!C$5:C$14,MATCH($C19,'Buildings and Areas'!$B$5:$B$14,0),1),\"\")","v":""},{"$f":"IFERROR(INDEX('Buildings and Areas'!R$5:R$14,MATCH($C19,'Buildings and Areas'!$B$5:$B$14,0),1),0)","v":0},{"$f":"IFERROR(INDEX('Buildings and Areas'!S$5:S$14,MATCH($C19,'Buildings and Areas'!$B$5:$B$14,0),1),0)","v":0},{"$f":"IFERROR(INDEX('Buildings and Areas'!T$5:T$14,MATCH($C19,'Buildings and Areas'!$B$5:$B$14,0),1),0)","v":0},{"$f":"IFERROR(INDEX('Buildings and Areas'!O$5:O$14,MATCH($C19,'Buildings and Areas'!$B$5:$B$14,0),1),\"\")","v":""},{"$f":"IFERROR(INDEX('Buildings and Areas'!F$5:F$14,MATCH($C19,'Buildings and Areas'!$B$5:$B$14,0),1)&IF(AH19=\"Exterior\",\": \"&'Buildings and Areas'!$H$4,\"\"),\"\")","v":""},{"$f":"IFERROR(INDEX('Buildings and Areas'!H$5:H$14,MATCH($C19,'Buildings and Areas'!$B$5:$B$14,0),1),\"\")","v":""},{"$f":"IFERROR(IF(INDEX('Buildings and Areas'!L$5:L$14,MATCH($C19,'Buildings and Areas'!$B$5:$B$14,0),1)=\"\",\"Deemed\",INDEX('Buildings and Areas'!L$5:L$14,MATCH($C19,'Buildings and Areas'!$B$5:$B$14,0),1)),\"\")","v":""},{"$f":"IFERROR(IF(INDEX('Buildings and Areas'!M$5:M$14,MATCH($C19,'Buildings and Areas'!$B$5:$B$14,0),1)=\"\",\"Deemed\",INDEX('Buildings and Areas'!M$5:M$14,MATCH($C19,'Buildings and Areas'!$B$5:$B$14,0),1)),\"\")","v":""},{"$f":"IFERROR(INDEX('Buildings and Areas'!P$5:P$14,MATCH($C19,'Buildings and Areas'!$B$5:$B$14,0),1),0)","v":0},{"$f":"IFERROR(INDEX('Buildings and Areas'!Q$5:Q$14,MATCH($C19,'Buildings and Areas'!$B$5:$B$14,0),1),0)","v":0},{"$f":"IF(OR($AG19=\"\",$E19=\"\",$F19=\"\"),0,IF($F$124>0.1,(VLOOKUP($E19,'Fixture Descriptions'!$A:$I,8,0)/1000)*(1-$G$124),(VLOOKUP($E19,'Fixture Descriptions'!$A:$I,8,0)/1000)))","v":0},0,0,0,0,{"$f":"IFERROR(IF(OR('Buildings and Areas'!$D$2=\"New Construction\",$AG19=\"\",$H19=\"\",AH19=\"Exterior\"),1,INDEX('Factor Tables'!C$46:C$51,MATCH(Inventory!$H19,'Factor Tables'!$B$46:$B$51,0))),1)","v":1},{"$f":"IF(OR('Buildings and Areas'!$D$2=\"New Construction\",$AG19=\"\",$H19=\"\",AH19=\"Exterior\"),1,INDEX('Factor Tables'!D$46:D$51,MATCH(Inventory!$H19,'Factor Tables'!$B$46:$B$51,0)))","v":1},{"$f":"IF(I19=\"REMOVED\",0,IF($AD19<>\"\",VLOOKUP($AD19,'Fixture Descriptions'!$A:$I,8,0)/1000,0))","v":0},0,0,0,0,0,0,0,{"$f":"IFERROR(IF(OR($AG19=\"\",$K19=\"\",AH19=\"Exterior\"),1,INDEX('Factor Tables'!C$46:C$51,MATCH(Inventory!$K19,'Factor Tables'!$B$46:$B$51,0))),1)","v":1},{"$f":"IFERROR(IF(OR($AG19=\"\",$K19=\"\",AH19=\"Exterior\"),1,INDEX('Factor Tables'!D$46:D$51,MATCH(Inventory!$K19,'Factor Tables'!$B$46:$B$51,0))),1)","v":1},0,0,0,0,0,0,0,0,0,0,0,0,0,0,0,0,{"$f":"IFERROR(VLOOKUP(IF($AD19=\"Removed\",E19,$AD19),'Fixture Descriptions'!$A:$I,9,0),\"\")","v":0},{"$f":"IF($AD19=\"\",\"\",VLOOKUP($AD19,'Fixture Descriptions'!$A:$I,2,0))","v":""},{"$f":"IF(I19=\"\",\"\",IF(I19=\"Removed\",\"N/A\",IF(IFERROR(VLOOKUP(I19,'Fixture Schedule'!$C$9:$G$58,5,0),L19)=\"\",\"Not Qualified\",IFERROR(VLOOKUP(I19,'Fixture Schedule'!$C$9:$G$58,5,0),L19))))","v":""},{"$f":"IFERROR(INDEX('Utility Admin'!$F$3:$AW$3,1,MATCH(1,(CC$8='Utility Admin'!$F$1:$AW$1)*(Inventory!$AH19='Utility Admin'!$F$2:$AW$2)*(Inventory!$BZ19=('Utility Admin'!$F$4:$AW$4)),0)),0)","v":0},{"$f":"IFERROR(INDEX('Utility Admin'!$F$3:$AW$3,1,MATCH(1,(CD$8='Utility Admin'!$F$1:$AW$1)*(Inventory!$AH19='Utility Admin'!$F$2:$AW$2)*(Inventory!$BZ19=('Utility Admin'!$F$4:$AW$4)),0)),0)","v":0},{"$f":"IFERROR(INDEX('Utility Admin'!$F$3:$AW$3,1,MATCH(1,(CC$8='Utility Admin'!$F$1:$AW$1)*(Inventory!$AH19='Utility Admin'!$F$2:$AW$2)*(\"Lighting Controls\"=('Utility Admin'!$F$4:$AW$4)),0)),0)","v":0},{"$f":"IFERROR(INDEX('Utility Admin'!$F$3:$AW$3,1,MATCH(1,(CD$8='Utility Admin'!$F$1:$AW$1)*(Inventory!$AH19='Utility Admin'!$F$2:$AW$2)*(\"Lighting Controls\"=('Utility Admin'!$F$4:$AW$4)),0)),0)","v":0},false]
[null,12,null,null,null,null,null,null,null,null,null,null,null,{"$f":"IF(OR(I20=\"\",J20=\"\",AND(ProjectType=\"Retrofit\",OR(E20=\"\",F20=\"\"))),\"-\",IF(OR(CB20=0,CB20=\"Not Qualified\"),\"N\",IFERROR(INDEX('Fixture Descriptions'!K:K,MATCH(AD20,'Fixture Descriptions'!A:A,0)),\"N\")))","v":"-"},0,0,0,0,0,0,0,0,0,{"$f":"ROUND(IFERROR(IF($AE$7,BJ20*MaxIncentive,Inventory!Z20),0),2)","v":0},0,0,0,0,0,{"$f":"IF(I20=\"\",\"\",IFERROR(VLOOKUP(I20,'Fixture Schedule'!$C$9:$D$58,2,0),I20))","v":""},{"$f":"10","v":10},{"$f":"IFERROR(VLOOKUP(IF(I20=\"REMOVED\",E20,AD20),'Fixture Descriptions'!A:J,10,FALSE),0)","v":0},{"$f":"IFERROR(INDEX('Buildings and Areas'!D$5:D$14,MATCH($C20,'Buildings and Areas'!$B$5:$B$14,0),1),\"\")","v":""},{"$f":"IFERROR(INDEX('Buildings and Areas'!C$5:C$14,MATCH($C20,'Buildings and Areas'!$B$5:$B$14,0),1),\"\")","v":""},{"$f":"IFERROR(INDEX('Buildings and Areas'!R$5:R$14,MATCH($C20,'Buildings and Areas'!$B$5:$B$14,0),1),0)","v":0},{"$f":"IFERROR(INDEX('Buildings and Areas'!S$5:S$14,MATCH($C20,'Buildings and Areas'!$B$5:$B$14,0),1),0)","v":0},{"$f":"IFERROR(INDEX('Buildings and Areas'!T$5:T$14,MATCH($C20,'Buildings and Areas'!$B$5:$B$14,0),1),0)","v":0},{"$f":"IFERROR(INDEX('Buildings and Areas'!O$5:O$14,MATCH($C20,'Buildings and Areas'!$B$5:$B$14,0),1),\"\")","v":""},{"$f":"IFERROR(INDEX('Buildings and Areas'!F$5:F$14,MATCH($C20,'Buildings and Areas'!$B$5:$B$14,0),1)&IF(AH20=\"Exterior\",\": \"&'Buildings and Areas'!$H$4,\"\"),\"\")","v":""},{"$f":"IFERROR(INDEX('Buildings and Areas'!H$5:H$14,MATCH($C20,'Buildings and Areas'!$B$5:$B$14,0),1),\"\")","v":""},{"$f":"IFERROR(IF(INDEX('Buildings and Areas'!L$5:L$14,MATCH($C20,'Buildings and Areas'!$B$5:$B$14,0),1)=\"\",\"Deemed\",INDEX('Buildings and Areas'!L$5:L$14,MATCH($C20,'Buildings and Areas'!$B$5:$B$14,0),1)),\"\")","v":""},{"$f":"IFERROR(IF(INDEX('Buildings and Areas'!M$5:M$14,MATCH($C20,'Buildings and Areas'!$B$5:$B$14,0),1)=\"\",\"Deemed\",INDEX('Buildings and Areas'!M$5:M$14,MATCH($C20,'Buildings and Areas'!$B$5:$B$14,0),1)),\"\")","v":""},{"$f":"IFERROR(INDEX('Buildings and Areas'!P$5:P$14,MATCH($C20,'Buildings and Areas'!$B$5:$B$14,0),1),0)","v":0},{"$f":"IFERROR(INDEX('Buildings and Areas'!Q$5:Q$14,MATCH($C20,'Buildings and Areas'!$B$5:$B$14,0),1),0)","v":0},{"$f":"IF(OR($AG20=\"\",$E20=\"\",$F20=\"\"),0,IF($F$124>0.1,(VLOOKUP($E20,'Fixture Descriptions'!$A:$I,8,0)/1000)*(1-$G$124),(VLOOKUP($E20,'Fixture Descriptions'!$A:$I,8,0)/1000)))","v":0},0,0,0,0,{"$f":"IFERROR(IF(OR('Buildings and Areas'!$D$2=\"New Construction\",$AG20=\"\",$H20=\"\",AH20=\"Exterior\"),1,INDEX('Factor Tables'!C$46:C$51,MATCH(Inventory!$H20,'Factor Tables'!$B$46:$B$51,0))),1)","v":1},{"$f":"IF(OR('Buildings and Areas'!$D$2=\"New Construction\",$AG20=\"\",$H20=\"\",AH20=\"Exterior\"),1,INDEX('Factor Tables'!D$46:D$51,MATCH(Inventory!$H20,'Factor Tables'!$B$46:$B$51,0)))","v":1},{"$f":"IF(I20=\"REMOVED\",0,IF($AD20<>\"\",VLOOKUP($AD20,'Fixture Descriptions'!$A:$I,8,0)/1000,0))","v":0},0,0,0,0,0,0,0,{"$f":"IFERROR(IF(OR($AG20=\"\",$K20=\"\",AH20=\"Exterior\"),1,INDEX('Factor Tables'!C$46:C$51,MATCH(Inventory!$K20,'Factor Tables'!$B$46:$B$51,0))),1)","v":1},{"$f":"IFERROR(IF(OR($AG20=\"\",$K20=\"\",AH20=\"Exterior\"),1,INDEX('Factor Tables'!D$46:D$51,MATCH(Inventory!$K20,'Factor Tables'!$B$46:$B$51,0))),1)","v":1},0,0,0,0,0,0,0,0,0,0,0,0,0,0,0,0,{"$f":"IFERROR(VLOOKUP(IF($AD20=\"Removed\",E20,$AD20),'Fixture Descriptions'!$A:$I,9,0),\"\")","v":0},{"$f":"IF($AD20=\"\",\"\",VLOOKUP($AD20,'Fixture Descriptions'!$A:$I,2,0))","v":""},{"$f":"IF(I20=\"\",\"\",IF(I20=\"Removed\",\"N/A\",IF(IFERROR(VLOOKUP(I20,'Fixture Schedule'!$C$9:$G$58,5,0),L20)=\"\",\"Not Qualified\",IFERROR(VLOOKUP(I20,'Fixture Schedule'!$C$9:$G$58,5,0),L20))))","v":""},{"$f":"IFERROR(INDEX('Utility Admin'!$F$3:$AW$3,1,MATCH(1,(CC$8='Utility Admin'!$F$1:$AW$1)*(Inventory!$AH20='Utility Admin'!$F$2:$AW$2)*(Inventory!$BZ20=('Utility Admin'!$F$4:$AW$4)),0)),0)","v":0},{"$f":"IFERROR(INDEX('Utility Admin'!$F$3:$AW$3,1,MATCH(1,(CD$8='Utility Admin'!$F$1:$AW$1)*(Inventory!$AH20='Utility Admin'!$F$2:$AW$2)*(Inventory!$BZ20=('Utility Admin'!$F$4:$AW$4)),0)),0)","v":0},{"$f":"IFERROR(INDEX('Utility Admin'!$F$3:$AW$3,1,MATCH(1,(CC$8='Utility Admin'!$F$1:$AW$1)*(Inventory!$AH20='Utility Admin'!$F$2:$AW$2)*(\"Lighting Controls\"=('Utility Admin'!$F$4:$AW$4)),0)),0)","v":0},{"$f":"IFERROR(INDEX('Utility Admin'!$F$3:$AW$3,1,MATCH(1,(CD$8='Utility Admin'!$F$1:$AW$1)*(Inventory!$AH20='Utility Admin'!$F$2:$AW$2)*(\"Lighting Controls\"=('Utility Admin'!$F$4:$AW$4)),0)),0)","v":0},false]
[null,13,null,null,null,null,null,null,null,null,null,null,null,{"$f":"IF(OR(I21=\"\",J21=\"\",AND(ProjectType=\"Retrofit\",OR(E21=\"\",F21=\"\"))),\"-\",IF(OR(CB21=0,CB21=\"Not Qualified\"),\"N\",IFERROR(INDEX('Fixture Descriptions'!K:K,MATCH(AD21,'Fixture Descriptions'!A:A,0)),\"N\")))","v":"-"},0,0,0,0,0,0,0,0,0,{"$f":"ROUND(IFERROR(IF($AE$7,BJ21*MaxIncentive,Inventory!Z21),0),2)","v":0},0,0,0,0,0,{"$f":"IF(I21=\"\",\"\",IFERROR(VLOOKUP(I21,'Fixture Schedule'!$C$9:$D$58,2,0),I21))","v":""},{"$f":"10","v":10},{"$f":"IFERROR(VLOOKUP(IF(I21=\"REMOVED\",E21,AD21),'Fixture Descriptions'!A:J,10,FALSE),0)","v":0},{"$f":"IFERROR(INDEX('Buildings and Areas'!D$5:D$14,MATCH($C21,'Buildings and Areas'!$B$5:$B$14,0),1),\"\")","v":""},{"$f":"IFERROR(INDEX('Buildings and Areas'!C$5:C$14,MATCH($C21,'Buildings and Areas'!$B$5:$B$14,0),1),\"\")","v":""},{"$f":"IFERROR(INDEX('Buildings and Areas'!R$5:R$14,MATCH($C21,'Buildings and Areas'!$B$5:$B$14,0),1),0)","v":0},{"$f":"IFERROR(INDEX('Buildings and Areas'!S$5:S$14,MATCH($C21,'Buildings and Areas'!$B$5:$B$14,0),1),0)","v":0},{"$f":"IFERROR(INDEX('Buildings and Areas'!T$5:T$14,MATCH($C21,'Buildings and Areas'!$B$5:$B$14,0),1),0)","v":0},{"$f":"IFERROR(INDEX('Buildings and Areas'!O$5:O$14,MATCH($C21,'Buildings and Areas'!$B$5:$B$14,0),1),\"\")","v":""},{"$f":"IFERROR(INDEX('Buildings and Areas'!F$5:F$14,MATCH($C21,'Buildings and Areas'!$B$5:$B$14,0),1)&IF(AH21=\"Exterior\",\": \"&'Buildings and Areas'!$H$4,\"\"),\"\")","v":""},{"$f":"IFERROR(INDEX('Buildings and Areas'!H$5:H$14,MATCH($C21,'Buildings and Areas'!$B$5:$B$14,0),1),\"\")","v":""},{"$f":"IFERROR(IF(INDEX('Buildings and Areas'!L$5:L$14,MATCH($C21,'Buildings and Areas'!$B$5:$B$14,0),1)=\"\",\"Deemed\",INDEX('Buildings and Areas'!L$5:L$14,MATCH($C21,'Buildings and Areas'!$B$5:$B$14,0),1)),\"\")","v":""},{"$f":"IFERROR(IF(INDEX('Buildings and Areas'!M$5:M$14,MATCH($C21,'Buildings and Areas'!$B$5:$B$14,0),1)=\"\",\"Deemed\",INDEX('Buildings and Areas'!M$5:M$14,MATCH($C21,'Buildings and Areas'!$B$5:$B$14,0),1)),\"\")","v":""},{"$f":"IFERROR(INDEX('Buildings and Areas'!P$5:P$14,MATCH($C21,'Buildings and Areas'!$B$5:$B$14,0),1),0)","v":0},{"$f":"IFERROR(INDEX('Buildings and Areas'!Q$5:Q$14,MATCH($C21,'Buildings and Areas'!$B$5:$B$14,0),1),0)","v":0},{"$f":"IF(OR($AG21=\"\",$E21=\"\",$F21=\"\"),0,IF($F$124>0.1,(VLOOKUP($E21,'Fixture Descriptions'!$A:$I,8,0)/1000)*(1-$G$124),(VLOOKUP($E21,'Fixture Descriptions'!$A:$I,8,0)/1000)))","v":0},0,0,0,0,{"$f":"IFERROR(IF(OR('Buildings and Areas'!$D$2=\"New Construction\",$AG21=\"\",$H21=\"\",AH21=\"Exterior\"),1,INDEX('Factor Tables'!C$46:C$51,MATCH(Inventory!$H21,'Factor Tables'!$B$46:$B$51,0))),1)","v":1},{"$f":"IF(OR('Buildings and Areas'!$D$2=\"New Construction\",$AG21=\"\",$H21=\"\",AH21=\"Exterior\"),1,INDEX('Factor Tables'!D$46:D$51,MATCH(Inventory!$H21,'Factor Tables'!$B$46:$B$51,0)))","v":1},{"$f":"IF(I21=\"REMOVED\",0,IF($AD21<>\"\",VLOOKUP($AD21,'Fixture Descriptions'!$A:$I,8,0)/1000,0))","v":0},0,0,0,0,0,0,0,{"$f":"IFERROR(IF(OR($AG21=\"\",$K21=\"\",AH21=\"Exterior\"),1,INDEX('Factor Tables'!C$46:C$51,MATCH(Inventory!$K21,'Factor Tables'!$B$46:$B$51,0))),1)","v":1},{"$f":"IFERROR(IF(OR($AG21=\"\",$K21=\"\",AH21=\"Exterior\"),1,INDEX('Factor Tables'!D$46:D$51,MATCH(Inventory!$K21,'Factor Tables'!$B$46:$B$51,0))),1)","v":1},0,0,0,0,0,0,0,0,0,0,0,0,0,0,0,0,{"$f":"IFERROR(VLOOKUP(IF($AD21=\"Removed\",E21,$AD21),'Fixture Descriptions'!$A:$I,9,0),\"\")","v":0},{"$f":"IF($AD21=\"\",\"\",VLOOKUP($AD21,'Fixture Descriptions'!$A:$I,2,0))","v":""},{"$f":"IF(I21=\"\",\"\",IF(I21=\"Removed\",\"N/A\",IF(IFERROR(VLOOKUP(I21,'Fixture Schedule'!$C$9:$G$58,5,0),L21)=\"\",\"Not Qualified\",IFERROR(VLOOKUP(I21,'Fixture Schedule'!$C$9:$G$58,5,0),L21))))","v":""},{"$f":"IFERROR(INDEX('Utility Admin'!$F$3:$AW$3,1,MATCH(1,(CC$8='Utility Admin'!$F$1:$AW$1)*(Inventory!$AH21='Utility Admin'!$F$2:$AW$2)*(Inventory!$BZ21=('Utility Admin'!$F$4:$AW$4)),0)),0)","v":0},{"$f":"IFERROR(INDEX('Utility Admin'!$F$3:$AW$3,1,MATCH(1,(CD$8='Utility Admin'!$F$1:$AW$1)*(Inventory!$AH21='Utility Admin'!$F$2:$AW$2)*(Inventory!$BZ21=('Utility Admin'!$F$4:$AW$4)),0)),0)","v":0},{"$f":"IFERROR(INDEX('Utility Admin'!$F$3:$AW$3,1,MATCH(1,(CC$8='Utility Admin'!$F$1:$AW$1)*(Inventory!$AH21='Utility Admin'!$F$2:$AW$2)*(\"Lighting Controls\"=('Utility Admin'!$F$4:$AW$4)),0)),0)","v":0},{"$f":"IFERROR(INDEX('Utility Admin'!$F$3:$AW$3,1,MATCH(1,(CD$8='Utility Admin'!$F$1:$AW$1)*(Inventory!$AH21='Utility Admin'!$F$2:$AW$2)*(\"Lighting Controls\"=('Utility Admin'!$F$4:$AW$4)),0)),0)","v":0},false]
[null,14,null,null,null,null,null,null,null,null,null,null,null,{"$f":"IF(OR(I22=\"\",J22=\"\",AND(ProjectType=\"Retrofit\",OR(E22=\"\",F22=\"\"))),\"-\",IF(OR(CB22=0,CB22=\"Not Qualified\"),\"N\",IFERROR(INDEX('Fixture Descriptions'!K:K,MATCH(AD22,'Fixture Descriptions'!A:A,0)),\"N\")))","v":"-"},0,0,0,0,0,0,0,0,0,{"$f":"ROUND(IFERROR(IF($AE$7,BJ22*MaxIncentive,Inventory!Z22),0),2)","v":0},0,0,0,0,0,{"$f":"IF(I22=\"\",\"\",IFERROR(VLOOKUP(I22,'Fixture Schedule'!$C$9:$D$58,2,0),I22))","v":""},{"$f":"10","v":10},{"$f":"IFERROR(VLOOKUP(IF(I22=\"REMOVED\",E22,AD22),'Fixture Descriptions'!A:J,10,FALSE),0)","v":0},{"$f":"IFERROR(INDEX('Buildings and Areas'!D$5:D$14,MATCH($C22,'Buildings and Areas'!$B$5:$B$14,0),1),\"\")","v":""},{"$f":"IFERROR(INDEX('Buildings and Areas'!C$5:C$14,MATCH($C22,'Buildings and Areas'!$B$5:$B$14,0),1),\"\")","v":""},{"$f":"IFERROR(INDEX('Buildings and Areas'!R$5:R$14,MATCH($C22,'Buildings and Areas'!$B$5:$B$14,0),1),0)","v":0},{"$f":"IFERROR(INDEX('Buildings and Areas'!S$5:S$14,MATCH($C22,'Buildings and Areas'!$B$5:$B$14,0),1),0)","v":0},{"$f":"IFERROR(INDEX('Buildings and Areas'!T$5:T$14,MATCH($C22,'Buildings and Areas'!$B$5:$B$14,0),1),0)","v":0},{"$f":"IFERROR(INDEX('Buildings and Areas'!O$5:O$14,MATCH($C22,'Buildings and Areas'!$B$5:$B$14,0),1),\"\")","v":""},{"$f":"IFERROR(INDEX('Buildings and Areas'!F$5:F$14,MATCH($C22,'Buildings and Areas'!$B$5:$B$14,0),1)&IF(AH22=\"Exterior\",\": \"&'Buildings and Areas'!$H$4,\"\"),\"\")","v":""},{"$f":"IFERROR(INDEX('Buildings and Areas'!H$5:H$14,MATCH($C22,'Buildings and Areas'!$B$5:$B$14,0),1),\"\")","v":""},{"$f":"IFERROR(IF(INDEX('Buildings and Areas'!L$5:L$14,MATCH($C22,'Buildings and Areas'!$B$5:$B$14,0),1)=\"\",\"Deemed\",INDEX('Buildings and Areas'!L$5:L$14,MATCH($C22,'Buildings and Areas'!$B$5:$B$14,0),1)),\"\")","v":""},{"$f":"IFERROR(IF(INDEX('Buildings and Areas'!M$5:M$14,MATCH($C22,'Buildings and Areas'!$B$5:$B$14,0),1)=\"\",\"Deemed\",INDEX('Buildings and Areas'!M$5:M$14,MATCH($C22,'Buildings and Areas'!$B$5:$B$14,0),1)),\"\")","v":""},{"$f":"IFERROR(INDEX('Buildings and Areas'!P$5:P$14,MATCH($C22,'Buildings and Areas'!$B$5:$B$14,0),1),0)","v":0},{"$f":"IFERROR(INDEX('Buildings and Areas'!Q$5:Q$14,MATCH($C22,'Buildings and Areas'!$B$5:$B$14,0),1),0)","v":0},{"$f":"IF(OR($AG22=\"\",$E22=\"\",$F22=\"\"),0,IF($F$124>0.1,(VLOOKUP($E22,'Fixture Descriptions'!$A:$I,8,0)/1000)*(1-$G$124),(VLOOKUP($E22,'Fixture Descriptions'!$A:$I,8,0)/1000)))","v":0},0,0,0,0,{"$f":"IFERROR(IF(OR('Buildings and Areas'!$D$2=\"New Construction\",$AG22=\"\",$H22=\"\",AH22=\"Exterior\"),1,INDEX('Factor Tables'!C$46:C$51,MATCH(Inventory!$H22,'Factor Tables'!$B$46:$B$51,0))),1)","v":1},{"$f":"IF(OR('Buildings and Areas'!$D$2=\"New Construction\",$AG22=\"\",$H22=\"\",AH22=\"Exterior\"),1,INDEX('Factor Tables'!D$46:D$51,MATCH(Inventory!$H22,'Factor Tables'!$B$46:$B$51,0)))","v":1},{"$f":"IF(I22=\"REMOVED\",0,IF($AD22<>\"\",VLOOKUP($AD22,'Fixture Descriptions'!$A:$I,8,0)/1000,0))","v":0},0,0,0,0,0,0,0,{"$f":"IFERROR(IF(OR($AG22=\"\",$K22=\"\",AH22=\"Exterior\"),1,INDEX('Factor Tables'!C$46:C$51,MATCH(Inventory!$K22,'Factor Tables'!$B$46:$B$51,0))),1)","v":1},{"$f":"IFERROR(IF(OR($AG22=\"\",$K22=\"\",AH22=\"Exterior\"),1,INDEX('Factor Tables'!D$46:D$51,MATCH(Inventory!$K22,'Factor Tables'!$B$46:$B$51,0))),1)","v":1},0,0,0,0,0,0,0,0,0,0,0,0,0,0,0,0,{"$f":"IFERROR(VLOOKUP(IF($AD22=\"Removed\",E22,$AD22),'Fixture Descriptions'!$A:$I,9,0),\"\")","v":0},{"$f":"IF($AD22=\"\",\"\",VLOOKUP($AD22,'Fixture Descriptions'!$A:$I,2,0))","v":""},{"$f":"IF(I22=\"\",\"\",IF(I22=\"Removed\",\"N/A\",IF(IFERROR(VLOOKUP(I22,'Fixture Schedule'!$C$9:$G$58,5,0),L22)=\"\",\"Not Qualified\",IFERROR(VLOOKUP(I22,'Fixture Schedule'!$C$9:$G$58,5,0),L22))))","v":""},{"$f":"IFERROR(INDEX('Utility Admin'!$F$3:$AW$3,1,MATCH(1,(CC$8='Utility Admin'!$F$1:$AW$1)*(Inventory!$AH22='Utility Admin'!$F$2:$AW$2)*(Inventory!$BZ22=('Utility Admin'!$F$4:$AW$4)),0)),0)","v":0},{"$f":"IFERROR(INDEX('Utility Admin'!$F$3:$AW$3,1,MATCH(1,(CD$8='Utility Admin'!$F$1:$AW$1)*(Inventory!$AH22='Utility Admin'!$F$2:$AW$2)*(Inventory!$BZ22=('Utility Admin'!$F$4:$AW$4)),0)),0)","v":0},{"$f":"IFERROR(INDEX('Utility Admin'!$F$3:$AW$3,1,MATCH(1,(CC$8='Utility Admin'!$F$1:$AW$1)*(Inventory!$AH22='Utility Admin'!$F$2:$AW$2)*(\"Lighting Controls\"=('Utility Admin'!$F$4:$AW$4)),0)),0)","v":0},{"$f":"IFERROR(INDEX('Utility Admin'!$F$3:$AW$3,1,MATCH(1,(CD$8='Utility Admin'!$F$1:$AW$1)*(Inventory!$AH22='Utility Admin'!$F$2:$AW$2)*(\"Lighting Controls\"=('Utility Admin'!$F$4:$AW$4)),0)),0)","v":0},false]
[null,15,null,null,null,null,null,null,null,null,null,null,null,{"$f":"IF(OR(I23=\"\",J23=\"\",AND(ProjectType=\"Retrofit\",OR(E23=\"\",F23=\"\"))),\"-\",IF(OR(CB23=0,CB23=\"Not Qualified\"),\"N\",IFERROR(INDEX('Fixture Descriptions'!K:K,MATCH(AD23,'Fixture Descriptions'!A:A,0)),\"N\")))","v":"-"},0,0,0,0,0,0,0,0,0,{"$f":"ROUND(IFERROR(IF($AE$7,BJ23*MaxIncentive,Inventory!Z23),0),2)","v":0},0,0,0,0,0,{"$f":"IF(I23=\"\",\"\",IFERROR(VLOOKUP(I23,'Fixture Schedule'!$C$9:$D$58,2,0),I23))","v":""},{"$f":"10","v":10},{"$f":"IFERROR(VLOOKUP(IF(I23=\"REMOVED\",E23,AD23),'Fixture Descriptions'!A:J,10,FALSE),0)","v":0},{"$f":"IFERROR(INDEX('Buildings and Areas'!D$5:D$14,MATCH($C23,'Buildings and Areas'!$B$5:$B$14,0),1),\"\")","v":""},{"$f":"IFERROR(INDEX('Buildings and Areas'!C$5:C$14,MATCH($C23,'Buildings and Areas'!$B$5:$B$14,0),1),\"\")","v":""},{"$f":"IFERROR(INDEX('Buildings and Areas'!R$5:R$14,MATCH($C23,'Buildings and Areas'!$B$5:$B$14,0),1),0)","v":0},{"$f":"IFERROR(INDEX('Buildings and Areas'!S$5:S$14,MATCH($C23,'Buildings and Areas'!$B$5:$B$14,0),1),0)","v":0},{"$f":"IFERROR(INDEX('Buildings and Areas'!T$5:T$14,MATCH($C23,'Buildings and Areas'!$B$5:$B$14,0),1),0)","v":0},{"$f":"IFERROR(INDEX('Buildings and Areas'!O$5:O$14,MATCH($C23,'Buildings and Areas'!$B$5:$B$14,0),1),\"\")","v":""},{"$f":"IFERROR(INDEX('Buildings and Areas'!F$5:F$14,MATCH($C23,'Buildings and Areas'!$B$5:$B$14,0),1)&IF(AH23=\"Exterior\",\": \"&'Buildings and Areas'!$H$4,\"\"),\"\")","v":""},{"$f":"IFERROR(INDEX('Buildings and Areas'!H$5:H$14,MATCH($C23,'Buildings and Areas'!$B$5:$B$14,0),1),\"\")","v":""},{"$f":"IFERROR(IF(INDEX('Buildings and Areas'!L$5:L$14,MATCH($C23,'Buildings and Areas'!$B$5:$B$14,0),1)=\"\",\"Deemed\",INDEX('Buildings and Areas'!L$5:L$14,MATCH($C23,'Buildings and Areas'!$B$5:$B$14,0),1)),\"\")","v":""},{"$f":"IFERROR(IF(INDEX('Buildings and Areas'!M$5:M$14,MATCH($C23,'Buildings and Areas'!$B$5:$B$14,0),1)=\"\",\"Deemed\",INDEX('Buildings and Areas'!M$5:M$14,MATCH($C23,'Buildings and Areas'!$B$5:$B$14,0),1)),\"\")","v":""},{"$f":"IFERROR(INDEX('Buildings and Areas'!P$5:P$14,MATCH($C23,'Buildings and Areas'!$B$5:$B$14,0),1),0)","v":0},{"$f":"IFERROR(INDEX('Buildings and Areas'!Q$5:Q$14,MATCH($C23,'Buildings and Areas'!$B$5:$B$14,0),1),0)","v":0},{"$f":"IF(OR($AG23=\"\",$E23=\"\",$F23=\"\"),0,IF($F$124>0.1,(VLOOKUP($E23,'Fixture Descriptions'!$A:$I,8,0)/1000)*(1-$G$124),(VLOOKUP($E23,'Fixture Descriptions'!$A:$I,8,0)/1000)))","v":0},0,0,0,0,{"$f":"IFERROR(IF(OR('Buildings and Areas'!$D$2=\"New Construction\",$AG23=\"\",$H23=\"\",AH23=\"Exterior\"),1,INDEX('Factor Tables'!C$46:C$51,MATCH(Inventory!$H23,'Factor Tables'!$B$46:$B$51,0))),1)","v":1},{"$f":"IF(OR('Buildings and Areas'!$D$2=\"New Construction\",$AG23=\"\",$H23=\"\",AH23=\"Exterior\"),1,INDEX('Factor Tables'!D$46:D$51,MATCH(Inventory!$H23,'Factor Tables'!$B$46:$B$51,0)))","v":1},{"$f":"IF(I23=\"REMOVED\",0,IF($AD23<>\"\",VLOOKUP($AD23,'Fixture Descriptions'!$A:$I,8,0)/1000,0))","v":0},0,0,0,0,0,0,0,{"$f":"IFERROR(IF(OR($AG23=\"\",$K23=\"\",AH23=\"Exterior\"),1,INDEX('Factor Tables'!C$46:C$51,MATCH(Inventory!$K23,'Factor Tables'!$B$46:$B$51,0))),1)","v":1},{"$f":"IFERROR(IF(OR($AG23=\"\",$K23=\"\",AH23=\"Exterior\"),1,INDEX('Factor Tables'!D$46:D$51,MATCH(Inventory!$K23,'Factor Tables'!$B$46:$B$51,0))),1)","v":1},0,0,0,0,0,0,0,0,0,0,0,0,0,0,0,0,{"$f":"IFERROR(VLOOKUP(IF($AD23=\"Removed\",E23,$AD23),'Fixture Descriptions'!$A:$I,9,0),\"\")","v":0},{"$f":"IF($AD23=\"\",\"\",VLOOKUP($AD23,'Fixture Descriptions'!$A:$I,2,0))","v":""},{"$f":"IF(I23=\"\",\"\",IF(I23=\"Removed\",\"N/A\",IF(IFERROR(VLOOKUP(I23,'Fixture Schedule'!$C$9:$G$58,5,0),L23)=\"\",\"Not Qualified\",IFERROR(VLOOKUP(I23,'Fixture Schedule'!$C$9:$G$58,5,0),L23))))","v":""},{"$f":"IFERROR(INDEX('Utility Admin'!$F$3:$AW$3,1,MATCH(1,(CC$8='Utility Admin'!$F$1:$AW$1)*(Inventory!$AH23='Utility Admin'!$F$2:$AW$2)*(Inventory!$BZ23=('Utility Admin'!$F$4:$AW$4)),0)),0)","v":0},{"$f":"IFERROR(INDEX('Utility Admin'!$F$3:$AW$3,1,MATCH(1,(CD$8='Utility Admin'!$F$1:$AW$1)*(Inventory!$AH23='Utility Admin'!$F$2:$AW$2)*(Inventory!$BZ23=('Utility Admin'!$F$4:$AW$4)),0)),0)","v":0},{"$f":"IFERROR(INDEX('Utility Admin'!$F$3:$AW$3,1,MATCH(1,(CC$8='Utility Admin'!$F$1:$AW$1)*(Inventory!$AH23='Utility Admin'!$F$2:$AW$2)*(\"Lighting Controls\"=('Utility Admin'!$F$4:$AW$4)),0)),0)","v":0},{"$f":"IFERROR(INDEX('Utility Admin'!$F$3:$AW$3,1,MATCH(1,(CD$8='Utility Admin'!$F$1:$AW$1)*(Inventory!$AH23='Utility Admin'!$F$2:$AW$2)*(\"Lighting Controls\"=('Utility Admin'!$F$4:$AW$4)),0)),0)","v":0},false]
[null,16,null,null,null,null,null,null,null,null,null,null,null,{"$f":"IF(OR(I24=\"\",J24=\"\",AND(ProjectType=\"Retrofit\",OR(E24=\"\",F24=\"\"))),\"-\",IF(OR(CB24=0,CB24=\"Not Qualified\"),\"N\",IFERROR(INDEX('Fixture Descriptions'!K:K,MATCH(AD24,'Fixture Descriptions'!A:A,0)),\"N\")))","v":"-"},0,0,0,0,0,0,0,0,0,{"$f":"ROUND(IFERROR(IF($AE$7,BJ24*MaxIncentive,Inventory!Z24),0),2)","v":0},0,0,0,0,0,{"$f":"IF(I24=\"\",\"\",IFERROR(VLOOKUP(I24,'Fixture Schedule'!$C$9:$D$58,2,0),I24))","v":""},{"$f":"10","v":10},{"$f":"IFERROR(VLOOKUP(IF(I24=\"REMOVED\",E24,AD24),'Fixture Descriptions'!A:J,10,FALSE),0)","v":0},{"$f":"IFERROR(INDEX('Buildings and Areas'!D$5:D$14,MATCH($C24,'Buildings and Areas'!$B$5:$B$14,0),1),\"\")","v":""},{"$f":"IFERROR(INDEX('Buildings and Areas'!C$5:C$14,MATCH($C24,'Buildings and Areas'!$B$5:$B$14,0),1),\"\")","v":""},{"$f":"IFERROR(INDEX('Buildings and Areas'!R$5:R$14,MATCH($C24,'Buildings and Areas'!$B$5:$B$14,0),1),0)","v":0},{"$f":"IFERROR(INDEX('Buildings and Areas'!S$5:S$14,MATCH($C24,'Buildings and Areas'!$B$5:$B$14,0),1),0)","v":0},{"$f":"IFERROR(INDEX('Buildings and Areas'!T$5:T$14,MATCH($C24,'Buildings and Areas'!$B$5:$B$14,0),1),0)","v":0},{"$f":"IFERROR(INDEX('Buildings and Areas'!O$5:O$14,MATCH($C24,'Buildings and Areas'!$B$5:$B$14,0),1),\"\")","v":""},{"$f":"IFERROR(INDEX('Buildings and Areas'!F$5:F$14,MATCH($C24,'Buildings and Areas'!$B$5:$B$14,0),1)&IF(AH24=\"Exterior\",\": \"&'Buildings and Areas'!$H$4,\"\"),\"\")","v":""},{"$f":"IFERROR(INDEX('Buildings and Areas'!H$5:H$14,MATCH($C24,'Buildings and Areas'!$B$5:$B$14,0),1),\"\")","v":""},{"$f":"IFERROR(IF(INDEX('Buildings and Areas'!L$5:L$14,MATCH($C24,'Buildings and Areas'!$B$5:$B$14,0),1)=\"\",\"Deemed\",INDEX('Buildings and Areas'!L$5:L$14,MATCH($C24,'Buildings and Areas'!$B$5:$B$14,0),1)),\"\")","v":""},{"$f":"IFERROR(IF(INDEX('Buildings and Areas'!M$5:M$14,MATCH($C24,'Buildings and Areas'!$B$5:$B$14,0),1)=\"\",\"Deemed\",INDEX('Buildings and Areas'!M$5:M$14,MATCH($C24,'Buildings and Areas'!$B$5:$B$14,0),1)),\"\")","v":""},{"$f":"IFERROR(INDEX('Buildings and Areas'!P$5:P$14,MATCH($C24,'Buildings and Areas'!$B$5:$B$14,0),1),0)","v":0},{"$f":"IFERROR(INDEX('Buildings and Areas'!Q$5:Q$14,MATCH($C24,'Buildings and Areas'!$B$5:$B$14,0),1),0)","v":0},{"$f":"IF(OR($AG24=\"\",$E24=\"\",$F24=\"\"),0,IF($F$124>0.1,(VLOOKUP($E24,'Fixture Descriptions'!$A:$I,8,0)/1000)*(1-$G$124),(VLOOKUP($E24,'Fixture Descriptions'!$A:$I,8,0)/1000)))","v":0},0,0,0,0,{"$f":"IFERROR(IF(OR('Buildings and Areas'!$D$2=\"New Construction\",$AG24=\"\",$H24=\"\",AH24=\"Exterior\"),1,INDEX('Factor Tables'!C$46:C$51,MATCH(Inventory!$H24,'Factor Tables'!$B$46:$B$51,0))),1)","v":1},{"$f":"IF(OR('Buildings and Areas'!$D$2=\"New Construction\",$AG24=\"\",$H24=\"\",AH24=\"Exterior\"),1,INDEX('Factor Tables'!D$46:D$51,MATCH(Inventory!$H24,'Factor Tables'!$B$46:$B$51,0)))","v":1},{"$f":"IF(I24=\"REMOVED\",0,IF($AD24<>\"\",VLOOKUP($AD24,'Fixture Descriptions'!$A:$I,8,0)/1000,0))","v":0},0,0,0,0,0,0,0,{"$f":"IFERROR(IF(OR($AG24=\"\",$K24=\"\",AH24=\"Exterior\"),1,INDEX('Factor Tables'!C$46:C$51,MATCH(Inventory!$K24,'Factor Tables'!$B$46:$B$51,0))),1)","v":1},{"$f":"IFERROR(IF(OR($AG24=\"\",$K24=\"\",AH24=\"Exterior\"),1,INDEX('Factor Tables'!D$46:D$51,MATCH(Inventory!$K24,'Factor Tables'!$B$46:$B$51,0))),1)","v":1},0,0,0,0,0,0,0,0,0,0,0,0,0,0,0,0,{"$f":"IFERROR(VLOOKUP(IF($AD24=\"Removed\",E24,$AD24),'Fixture Descriptions'!$A:$I,9,0),\"\")","v":0},{"$f":"IF($AD24=\"\",\"\",VLOOKUP($AD24,'Fixture Descriptions'!$A:$I,2,0))","v":""},{"$f":"IF(I24=\"\",\"\",IF(I24=\"Removed\",\"N/A\",IF(IFERROR(VLOOKUP(I24,'Fixture Schedule'!$C$9:$G$58,5,0),L24)=\"\",\"Not Qualified\",IFERROR(VLOOKUP(I24,'Fixture Schedule'!$C$9:$G$58,5,0),L24))))","v":""},{"$f":"IFERROR(INDEX('Utility Admin'!$F$3:$AW$3,1,MATCH(1,(CC$8='Utility Admin'!$F$1:$AW$1)*(Inventory!$AH24='Utility Admin'!$F$2:$AW$2)*(Inventory!$BZ24=('Utility Admin'!$F$4:$AW$4)),0)),0)","v":0},{"$f":"IFERROR(INDEX('Utility Admin'!$F$3:$AW$3,1,MATCH(1,(CD$8='Utility Admin'!$F$1:$AW$1)*(Inventory!$AH24='Utility Admin'!$F$2:$AW$2)*(Inventory!$BZ24=('Utility Admin'!$F$4:$AW$4)),0)),0)","v":0},{"$f":"IFERROR(INDEX('Utility Admin'!$F$3:$AW$3,1,MATCH(1,(CC$8='Utility Admin'!$F$1:$AW$1)*(Inventory!$AH24='Utility Admin'!$F$2:$AW$2)*(\"Lighting Controls\"=('Utility Admin'!$F$4:$AW$4)),0)),0)","v":0},{"$f":"IFERROR(INDEX('Utility Admin'!$F$3:$AW$3,1,MATCH(1,(CD$8='Utility Admin'!$F$1:$AW$1)*(Inventory!$AH24='Utility Admin'!$F$2:$AW$2)*(\"Lighting Controls\"=('Utility Admin'!$F$4:$AW$4)),0)),0)","v":0},false]
[null,17,null,null,null,null,null,null,null,null,null,null,null,{"$f":"IF(OR(I25=\"\",J25=\"\",AND(ProjectType=\"Retrofit\",OR(E25=\"\",F25=\"\"))),\"-\",IF(OR(CB25=0,CB25=\"Not Qualified\"),\"N\",IFERROR(INDEX('Fixture Descriptions'!K:K,MATCH(AD25,'Fixture Descriptions'!A:A,0)),\"N\")))","v":"-"},0,0,0,0,0,0,0,0,0,{"$f":"ROUND(IFERROR(IF($AE$7,BJ25*MaxIncentive,Inventory!Z25),0),2)","v":0},0,0,0,0,0,{"$f":"IF(I25=\"\",\"\",IFERROR(VLOOKUP(I25,'Fixture Schedule'!$C$9:$D$58,2,0),I25))","v":""},{"$f":"10","v":10},{"$f":"IFERROR(VLOOKUP(IF(I25=\"REMOVED\",E25,AD25),'Fixture Descriptions'!A:J,10,FALSE),0)","v":0},{"$f":"IFERROR(INDEX('Buildings and Areas'!D$5:D$14,MATCH($C25,'Buildings and Areas'!$B$5:$B$14,0),1),\"\")","v":""},{"$f":"IFERROR(INDEX('Buildings and Areas'!C$5:C$14,MATCH($C25,'Buildings and Areas'!$B$5:$B$14,0),1),\"\")","v":""},{"$f":"IFERROR(INDEX('Buildings and Areas'!R$5:R$14,MATCH($C25,'Buildings and Areas'!$B$5:$B$14,0),1),0)","v":0},{"$f":"IFERROR(INDEX('Buildings and Areas'!S$5:S$14,MATCH($C25,'Buildings and Areas'!$B$5:$B$14,0),1),0)","v":0},{"$f":"IFERROR(INDEX('Buildings and Areas'!T$5:T$14,MATCH($C25,'Buildings and Areas'!$B$5:$B$14,0),1),0)","v":0},{"$f":"IFERROR(INDEX('Buildings and Areas'!O$5:O$14,MATCH($C25,'Buildings and Areas'!$B$5:$B$14,0),1),\"\")","v":""},{"$f":"IFERROR(INDEX('Buildings and Areas'!F$5:F$14,MATCH($C25,'Buildings and Areas'!$B$5:$B$14,0),1)&IF(AH25=\"Exterior\",\": \"&'Buildings and Areas'!$H$4,\"\"),\"\")","v":""},{"$f":"IFERROR(INDEX('Buildings and Areas'!H$5:H$14,MATCH($C25,'Buildings and Areas'!$B$5:$B$14,0),1),\"\")","v":""},{"$f":"IFERROR(IF(INDEX('Buildings and Areas'!L$5:L$14,MATCH($C25,'Buildings and Areas'!$B$5:$B$14,0),1)=\"\",\"Deemed\",INDEX('Buildings and Areas'!L$5:L$14,MATCH($C25,'Buildings and Areas'!$B$5:$B$14,0),1)),\"\")","v":""},{"$f":"IFERROR(IF(INDEX('Buildings and Areas'!M$5:M$14,MATCH($C25,'Buildings and Areas'!$B$5:$B$14,0),1)=\"\",\"Deemed\",INDEX('Buildings and Areas'!M$5:M$14,MATCH($C25,'Buildings and Areas'!$B$5:$B$14,0),1)),\"\")","v":""},{"$f":"IFERROR(INDEX('Buildings and Areas'!P$5:P$14,MATCH($C25,'Buildings and Areas'!$B$5:$B$14,0),1),0)","v":0},{"$f":"IFERROR(INDEX('Buildings and Areas'!Q$5:Q$14,MATCH($C25,'Buildings and Areas'!$B$5:$B$14,0),1),0)","v":0},{"$f":"IF(OR($AG25=\"\",$E25=\"\",$F25=\"\"),0,IF($F$124>0.1,(VLOOKUP($E25,'Fixture Descriptions'!$A:$I,8,0)/1000)*(1-$G$124),(VLOOKUP($E25,'Fixture Descriptions'!$A:$I,8,0)/1000)))","v":0},0,0,0,0,{"$f":"IFERROR(IF(OR('Buildings and Areas'!$D$2=\"New Construction\",$AG25=\"\",$H25=\"\",AH25=\"Exterior\"),1,INDEX('Factor Tables'!C$46:C$51,MATCH(Inventory!$H25,'Factor Tables'!$B$46:$B$51,0))),1)","v":1},{"$f":"IF(OR('Buildings and Areas'!$D$2=\"New Construction\",$AG25=\"\",$H25=\"\",AH25=\"Exterior\"),1,INDEX('Factor Tables'!D$46:D$51,MATCH(Inventory!$H25,'Factor Tables'!$B$46:$B$51,0)))","v":1},{"$f":"IF(I25=\"REMOVED\",0,IF($AD25<>\"\",VLOOKUP($AD25,'Fixture Descriptions'!$A:$I,8,0)/1000,0))","v":0},0,0,0,0,0,0,0,{"$f":"IFERROR(IF(OR($AG25=\"\",$K25=\"\",AH25=\"Exterior\"),1,INDEX('Factor Tables'!C$46:C$51,MATCH(Inventory!$K25,'Factor Tables'!$B$46:$B$51,0))),1)","v":1},{"$f":"IFERROR(IF(OR($AG25=\"\",$K25=\"\",AH25=\"Exterior\"),1,INDEX('Factor Tables'!D$46:D$51,MATCH(Inventory!$K25,'Factor Tables'!$B$46:$B$51,0))),1)","v":1},0,0,0,0,0,0,0,0,0,0,0,0,0,0,0,0,{"$f":"IFERROR(VLOOKUP(IF($AD25=\"Removed\",E25,$AD25),'Fixture Descriptions'!$A:$I,9,0),\"\")","v":0},{"$f":"IF($AD25=\"\",\"\",VLOOKUP($AD25,'Fixture Descriptions'!$A:$I,2,0))","v":""},{"$f":"IF(I25=\"\",\"\",IF(I25=\"Removed\",\"N/A\",IF(IFERROR(VLOOKUP(I25,'Fixture Schedule'!$C$9:$G$58,5,0),L25)=\"\",\"Not Qualified\",IFERROR(VLOOKUP(I25,'Fixture Schedule'!$C$9:$G$58,5,0),L25))))","v":""},{"$f":"IFERROR(INDEX('Utility Admin'!$F$3:$AW$3,1,MATCH(1,(CC$8='Utility Admin'!$F$1:$AW$1)*(Inventory!$AH25='Utility Admin'!$F$2:$AW$2)*(Inventory!$BZ25=('Utility Admin'!$F$4:$AW$4)),0)),0)","v":0},{"$f":"IFERROR(INDEX('Utility Admin'!$F$3:$AW$3,1,MATCH(1,(CD$8='Utility Admin'!$F$1:$AW$1)*(Inventory!$AH25='Utility Admin'!$F$2:$AW$2)*(Inventory!$BZ25=('Utility Admin'!$F$4:$AW$4)),0)),0)","v":0},{"$f":"IFERROR(INDEX('Utility Admin'!$F$3:$AW$3,1,MATCH(1,(CC$8='Utility Admin'!$F$1:$AW$1)*(Inventory!$AH25='Utility Admin'!$F$2:$AW$2)*(\"Lighting Controls\"=('Utility Admin'!$F$4:$AW$4)),0)),0)","v":0},{"$f":"IFERROR(INDEX('Utility Admin'!$F$3:$AW$3,1,MATCH(1,(CD$8='Utility Admin'!$F$1:$AW$1)*(Inventory!$AH25='Utility Admin'!$F$2:$AW$2)*(\"Lighting Controls\"=('Utility Admin'!$F$4:$AW$4)),0)),0)","v":0},false]
[null,18,null,null,null,null,null,null,null,null,null,null,null,{"$f":"IF(OR(I26=\"\",J26=\"\",AND(ProjectType=\"Retrofit\",OR(E26=\"\",F26=\"\"))),\"-\",IF(OR(CB26=0,CB26=\"Not Qualified\"),\"N\",IFERROR(INDEX('Fixture Descriptions'!K:K,MATCH(AD26,'Fixture Descriptions'!A:A,0)),\"N\")))","v":"-"},0,0,0,0,0,0,0,0,0,{"$f":"ROUND(IFERROR(IF($AE$7,BJ26*MaxIncentive,Inventory!Z26),0),2)","v":0},0,0,0,0,0,{"$f":"IF(I26=\"\",\"\",IFERROR(VLOOKUP(I26,'Fixture Schedule'!$C$9:$D$58,2,0),I26))","v":""},{"$f":"10","v":10},{"$f":"IFERROR(VLOOKUP(IF(I26=\"REMOVED\",E26,AD26),'Fixture Descriptions'!A:J,10,FALSE),0)","v":0},{"$f":"IFERROR(INDEX('Buildings and Areas'!D$5:D$14,MATCH($C26,'Buildings and Areas'!$B$5:$B$14,0),1),\"\")","v":""},{"$f":"IFERROR(INDEX('Buildings and Areas'!C$5:C$14,MATCH($C26,'Buildings and Areas'!$B$5:$B$14,0),1),\"\")","v":""},{"$f":"IFERROR(INDEX('Buildings and Areas'!R$5:R$14,MATCH($C26,'Buildings and Areas'!$B$5:$B$14,0),1),0)","v":0},{"$f":"IFERROR(INDEX('Buildings and Areas'!S$5:S$14,MATCH($C26,'Buildings and Areas'!$B$5:$B$14,0),1),0)","v":0},{"$f":"IFERROR(INDEX('Buildings and Areas'!T$5:T$14,MATCH($C26,'Buildings and Areas'!$B$5:$B$14,0),1),0)","v":0},{"$f":"IFERROR(INDEX('Buildings and Areas'!O$5:O$14,MATCH($C26,'Buildings and Areas'!$B$5:$B$14,0),1),\"\")","v":""},{"$f":"IFERROR(INDEX('Buildings and Areas'!F$5:F$14,MATCH($C26,'Buildings and Areas'!$B$5:$B$14,0),1)&IF(AH26=\"Exterior\",\": \"&'Buildings and Areas'!$H$4,\"\"),\"\")","v":""},{"$f":"IFERROR(INDEX('Buildings and Areas'!H$5:H$14,MATCH($C26,'Buildings and Areas'!$B$5:$B$14,0),1),\"\")","v":""},{"$f":"IFERROR(IF(INDEX('Buildings and Areas'!L$5:L$14,MATCH($C26,'Buildings and Areas'!$B$5:$B$14,0),1)=\"\",\"Deemed\",INDEX('Buildings and Areas'!L$5:L$14,MATCH($C26,'Buildings and Areas'!$B$5:$B$14,0),1)),\"\")","v":""},{"$f":"IFERROR(IF(INDEX('Buildings and Areas'!M$5:M$14,MATCH($C26,'Buildings and Areas'!$B$5:$B$14,0),1)=\"\",\"Deemed\",INDEX('Buildings and Areas'!M$5:M$14,MATCH($C26,'Buildings and Areas'!$B$5:$B$14,0),1)),\"\")","v":""},{"$f":"IFERROR(INDEX('Buildings and Areas'!P$5:P$14,MATCH($C26,'Buildings and Areas'!$B$5:$B$14,0),1),0)","v":0},{"$f":"IFERROR(INDEX('Buildings and Areas'!Q$5:Q$14,MATCH($C26,'Buildings and Areas'!$B$5:$B$14,0),1),0)","v":0},{"$f":"IF(OR($AG26=\"\",$E26=\"\",$F26=\"\"),0,IF($F$124>0.1,(VLOOKUP($E26,'Fixture Descriptions'!$A:$I,8,0)/1000)*(1-$G$124),(VLOOKUP($E26,'Fixture Descriptions'!$A:$I,8,0)/1000)))","v":0},0,0,0,0,{"$f":"IFERROR(IF(OR('Buildings and Areas'!$D$2=\"New Construction\",$AG26=\"\",$H26=\"\",AH26=\"Exterior\"),1,INDEX('Factor Tables'!C$46:C$51,MATCH(Inventory!$H26,'Factor Tables'!$B$46:$B$51,0))),1)","v":1},{"$f":"IF(OR('Buildings and Areas'!$D$2=\"New Construction\",$AG26=\"\",$H26=\"\",AH26=\"Exterior\"),1,INDEX('Factor Tables'!D$46:D$51,MATCH(Inventory!$H26,'Factor Tables'!$B$46:$B$51,0)))","v":1},{"$f":"IF(I26=\"REMOVED\",0,IF($AD26<>\"\",VLOOKUP($AD26,'Fixture Descriptions'!$A:$I,8,0)/1000,0))","v":0},0,0,0,0,0,0,0,{"$f":"IFERROR(IF(OR($AG26=\"\",$K26=\"\",AH26=\"Exterior\"),1,INDEX('Factor Tables'!C$46:C$51,MATCH(Inventory!$K26,'Factor Tables'!$B$46:$B$51,0))),1)","v":1},{"$f":"IFERROR(IF(OR($AG26=\"\",$K26=\"\",AH26=\"Exterior\"),1,INDEX('Factor Tables'!D$46:D$51,MATCH(Inventory!$K26,'Factor Tables'!$B$46:$B$51,0))),1)","v":1},0,0,0,0,0,0,0,0,0,0,0,0,0,0,0,0,{"$f":"IFERROR(VLOOKUP(IF($AD26=\"Removed\",E26,$AD26),'Fixture Descriptions'!$A:$I,9,0),\"\")","v":0},{"$f":"IF($AD26=\"\",\"\",VLOOKUP($AD26,'Fixture Descriptions'!$A:$I,2,0))","v":""},{"$f":"IF(I26=\"\",\"\",IF(I26=\"Removed\",\"N/A\",IF(IFERROR(VLOOKUP(I26,'Fixture Schedule'!$C$9:$G$58,5,0),L26)=\"\",\"Not Qualified\",IFERROR(VLOOKUP(I26,'Fixture Schedule'!$C$9:$G$58,5,0),L26))))","v":""},{"$f":"IFERROR(INDEX('Utility Admin'!$F$3:$AW$3,1,MATCH(1,(CC$8='Utility Admin'!$F$1:$AW$1)*(Inventory!$AH26='Utility Admin'!$F$2:$AW$2)*(Inventory!$BZ26=('Utility Admin'!$F$4:$AW$4)),0)),0)","v":0},{"$f":"IFERROR(INDEX('Utility Admin'!$F$3:$AW$3,1,MATCH(1,(CD$8='Utility Admin'!$F$1:$AW$1)*(Inventory!$AH26='Utility Admin'!$F$2:$AW$2)*(Inventory!$BZ26=('Utility Admin'!$F$4:$AW$4)),0)),0)","v":0},{"$f":"IFERROR(INDEX('Utility Admin'!$F$3:$AW$3,1,MATCH(1,(CC$8='Utility Admin'!$F$1:$AW$1)*(Inventory!$AH26='Utility Admin'!$F$2:$AW$2)*(\"Lighting Controls\"=('Utility Admin'!$F$4:$AW$4)),0)),0)","v":0},{"$f":"IFERROR(INDEX('Utility Admin'!$F$3:$AW$3,1,MATCH(1,(CD$8='Utility Admin'!$F$1:$AW$1)*(Inventory!$AH26='Utility Admin'!$F$2:$AW$2)*(\"Lighting Controls\"=('Utility Admin'!$F$4:$AW$4)),0)),0)","v":0},false]
[null,19,null,null,null,null,null,null,null,null,null,null,null,{"$f":"IF(OR(I27=\"\",J27=\"\",AND(ProjectType=\"Retrofit\",OR(E27=\"\",F27=\"\"))),\"-\",IF(OR(CB27=0,CB27=\"Not Qualified\"),\"N\",IFERROR(INDEX('Fixture Descriptions'!K:K,MATCH(AD27,'Fixture Descriptions'!A:A,0)),\"N\")))","v":"-"},0,0,0,0,0,0,0,0,0,{"$f":"ROUND(IFERROR(IF($AE$7,BJ27*MaxIncentive,Inventory!Z27),0),2)","v":0},0,0,0,0,0,{"$f":"IF(I27=\"\",\"\",IFERROR(VLOOKUP(I27,'Fixture Schedule'!$C$9:$D$58,2,0),I27))","v":""},{"$f":"10","v":10},{"$f":"IFERROR(VLOOKUP(IF(I27=\"REMOVED\",E27,AD27),'Fixture Descriptions'!A:J,10,FALSE),0)","v":0},{"$f":"IFERROR(INDEX('Buildings and Areas'!D$5:D$14,MATCH($C27,'Buildings and Areas'!$B$5:$B$14,0),1),\"\")","v":""},{"$f":"IFERROR(INDEX('Buildings and Areas'!C$5:C$14,MATCH($C27,'Buildings and Areas'!$B$5:$B$14,0),1),\"\")","v":""},{"$f":"IFERROR(INDEX('Buildings and Areas'!R$5:R$14,MATCH($C27,'Buildings and Areas'!$B$5:$B$14,0),1),0)","v":0},{"$f":"IFERROR(INDEX('Buildings and Areas'!S$5:S$14,MATCH($C27,'Buildings and Areas'!$B$5:$B$14,0),1),0)","v":0},{"$f":"IFERROR(INDEX('Buildings and Areas'!T$5:T$14,MATCH($C27,'Buildings and Areas'!$B$5:$B$14,0),1),0)","v":0},{"$f":"IFERROR(INDEX('Buildings and Areas'!O$5:O$14,MATCH($C27,'Buildings and Areas'!$B$5:$B$14,0),1),\"\")","v":""},{"$f":"IFERROR(INDEX('Buildings and Areas'!F$5:F$14,MATCH($C27,'Buildings and Areas'!$B$5:$B$14,0),1)&IF(AH27=\"Exterior\",\": \"&'Buildings and Areas'!$H$4,\"\"),\"\")","v":""},{"$f":"IFERROR(INDEX('Buildings and Areas'!H$5:H$14,MATCH($C27,'Buildings and Areas'!$B$5:$B$14,0),1),\"\")","v":""},{"$f":"IFERROR(IF(INDEX('Buildings and Areas'!L$5:L$14,MATCH($C27,'Buildings and Areas'!$B$5:$B$14,0),1)=\"\",\"Deemed\",INDEX('Buildings and Areas'!L$5:L$14,MATCH($C27,'Buildings and Areas'!$B$5:$B$14,0),1)),\"\")","v":""},{"$f":"IFERROR(IF(INDEX('Buildings and Areas'!M$5:M$14,MATCH($C27,'Buildings and Areas'!$B$5:$B$14,0),1)=\"\",\"Deemed\",INDEX('Buildings and Areas'!M$5:M$14,MATCH($C27,'Buildings and Areas'!$B$5:$B$14,0),1)),\"\")","v":""},{"$f":"IFERROR(INDEX('Buildings and Areas'!P$5:P$14,MATCH($C27,'Buildings and Areas'!$B$5:$B$14,0),1),0)","v":0},{"$f":"IFERROR(INDEX('Buildings and Areas'!Q$5:Q$14,MATCH($C27,'Buildings and Areas'!$B$5:$B$14,0),1),0)","v":0},{"$f":"IF(OR($AG27=\"\",$E27=\"\",$F27=\"\"),0,IF($F$124>0.1,(VLOOKUP($E27,'Fixture Descriptions'!$A:$I,8,0)/1000)*(1-$G$124),(VLOOKUP($E27,'Fixture Descriptions'!$A:$I,8,0)/1000)))","v":0},0,0,0,0,{"$f":"IFERROR(IF(OR('Buildings and Areas'!$D$2=\"New Construction\",$AG27=\"\",$H27=\"\",AH27=\"Exterior\"),1,INDEX('Factor Tables'!C$46:C$51,MATCH(Inventory!$H27,'Factor Tables'!$B$46:$B$51,0))),1)","v":1},{"$f":"IF(OR('Buildings and Areas'!$D$2=\"New Construction\",$AG27=\"\",$H27=\"\",AH27=\"Exterior\"),1,INDEX('Factor Tables'!D$46:D$51,MATCH(Inventory!$H27,'Factor Tables'!$B$46:$B$51,0)))","v":1},{"$f":"IF(I27=\"REMOVED\",0,IF($AD27<>\"\",VLOOKUP($AD27,'Fixture Descriptions'!$A:$I,8,0)/1000,0))","v":0},0,0,0,0,0,0,0,{"$f":"IFERROR(IF(OR($AG27=\"\",$K27=\"\",AH27=\"Exterior\"),1,INDEX('Factor Tables'!C$46:C$51,MATCH(Inventory!$K27,'Factor Tables'!$B$46:$B$51,0))),1)","v":1},{"$f":"IFERROR(IF(OR($AG27=\"\",$K27=\"\",AH27=\"Exterior\"),1,INDEX('Factor Tables'!D$46:D$51,MATCH(Inventory!$K27,'Factor Tables'!$B$46:$B$51,0))),1)","v":1},0,0,0,0,0,0,0,0,0,0,0,0,0,0,0,0,{"$f":"IFERROR(VLOOKUP(IF($AD27=\"Removed\",E27,$AD27),'Fixture Descriptions'!$A:$I,9,0),\"\")","v":0},{"$f":"IF($AD27=\"\",\"\",VLOOKUP($AD27,'Fixture Descriptions'!$A:$I,2,0))","v":""},{"$f":"IF(I27=\"\",\"\",IF(I27=\"Removed\",\"N/A\",IF(IFERROR(VLOOKUP(I27,'Fixture Schedule'!$C$9:$G$58,5,0),L27)=\"\",\"Not Qualified\",IFERROR(VLOOKUP(I27,'Fixture Schedule'!$C$9:$G$58,5,0),L27))))","v":""},{"$f":"IFERROR(INDEX('Utility Admin'!$F$3:$AW$3,1,MATCH(1,(CC$8='Utility Admin'!$F$1:$AW$1)*(Inventory!$AH27='Utility Admin'!$F$2:$AW$2)*(Inventory!$BZ27=('Utility Admin'!$F$4:$AW$4)),0)),0)","v":0},{"$f":"IFERROR(INDEX('Utility Admin'!$F$3:$AW$3,1,MATCH(1,(CD$8='Utility Admin'!$F$1:$AW$1)*(Inventory!$AH27='Utility Admin'!$F$2:$AW$2)*(Inventory!$BZ27=('Utility Admin'!$F$4:$AW$4)),0)),0)","v":0},{"$f":"IFERROR(INDEX('Utility Admin'!$F$3:$AW$3,1,MATCH(1,(CC$8='Utility Admin'!$F$1:$AW$1)*(Inventory!$AH27='Utility Admin'!$F$2:$AW$2)*(\"Lighting Controls\"=('Utility Admin'!$F$4:$AW$4)),0)),0)","v":0},{"$f":"IFERROR(INDEX('Utility Admin'!$F$3:$AW$3,1,MATCH(1,(CD$8='Utility Admin'!$F$1:$AW$1)*(Inventory!$AH27='Utility Admin'!$F$2:$AW$2)*(\"Lighting Controls\"=('Utility Admin'!$F$4:$AW$4)),0)),0)","v":0},false]
[null,20,null,null,null,null,null,null,null,null,null,null,null,{"$f":"IF(OR(I28=\"\",J28=\"\",AND(ProjectType=\"Retrofit\",OR(E28=\"\",F28=\"\"))),\"-\",IF(OR(CB28=0,CB28=\"Not Qualified\"),\"N\",IFERROR(INDEX('Fixture Descriptions'!K:K,MATCH(AD28,'Fixture Descriptions'!A:A,0)),\"N\")))","v":"-"},0,0,0,0,0,0,0,0,0,{"$f":"ROUND(IFERROR(IF($AE$7,BJ28*MaxIncentive,Inventory!Z28),0),2)","v":0},0,0,0,0,0,{"$f":"IF(I28=\"\",\"\",IFERROR(VLOOKUP(I28,'Fixture Schedule'!$C$9:$D$58,2,0),I28))","v":""},{"$f":"10","v":10},{"$f":"IFERROR(VLOOKUP(IF(I28=\"REMOVED\",E28,AD28),'Fixture Descriptions'!A:J,10,FALSE),0)","v":0},{"$f":"IFERROR(INDEX('Buildings and Areas'!D$5:D$14,MATCH($C28,'Buildings and Areas'!$B$5:$B$14,0),1),\"\")","v":""},{"$f":"IFERROR(INDEX('Buildings and Areas'!C$5:C$14,MATCH($C28,'Buildings and Areas'!$B$5:$B$14,0),1),\"\")","v":""},{"$f":"IFERROR(INDEX('Buildings and Areas'!R$5:R$14,MATCH($C28,'Buildings and Areas'!$B$5:$B$14,0),1),0)","v":0},{"$f":"IFERROR(INDEX('Buildings and Areas'!S$5:S$14,MATCH($C28,'Buildings and Areas'!$B$5:$B$14,0),1),0)","v":0},{"$f":"IFERROR(INDEX('Buildings and Areas'!T$5:T$14,MATCH($C28,'Buildings and Areas'!$B$5:$B$14,0),1),0)","v":0},{"$f":"IFERROR(INDEX('Buildings and Areas'!O$5:O$14,MATCH($C28,'Buildings and Areas'!$B$5:$B$14,0),1),\"\")","v":""},{"$f":"IFERROR(INDEX('Buildings and Areas'!F$5:F$14,MATCH($C28,'Buildings and Areas'!$B$5:$B$14,0),1)&IF(AH28=\"Exterior\",\": \"&'Buildings and Areas'!$H$4,\"\"),\"\")","v":""},{"$f":"IFERROR(INDEX('Buildings and Areas'!H$5:H$14,MATCH($C28,'Buildings and Areas'!$B$5:$B$14,0),1),\"\")","v":""},{"$f":"IFERROR(IF(INDEX('Buildings and Areas'!L$5:L$14,MATCH($C28,'Buildings and Areas'!$B$5:$B$14,0),1)=\"\",\"Deemed\",INDEX('Buildings and Areas'!L$5:L$14,MATCH($C28,'Buildings and Areas'!$B$5:$B$14,0),1)),\"\")","v":""},{"$f":"IFERROR(IF(INDEX('Buildings and Areas'!M$5:M$14,MATCH($C28,'Buildings and Areas'!$B$5:$B$14,0),1)=\"\",\"Deemed\",INDEX('Buildings and Areas'!M$5:M$14,MATCH($C28,'Buildings and Areas'!$B$5:$B$14,0),1)),\"\")","v":""},{"$f":"IFERROR(INDEX('Buildings and Areas'!P$5:P$14,MATCH($C28,'Buildings and Areas'!$B$5:$B$14,0),1),0)","v":0},{"$f":"IFERROR(INDEX('Buildings and Areas'!Q$5:Q$14,MATCH($C28,'Buildings and Areas'!$B$5:$B$14,0),1),0)","v":0},{"$f":"IF(OR($AG28=\"\",$E28=\"\",$F28=\"\"),0,IF($F$124>0.1,(VLOOKUP($E28,'Fixture Descriptions'!$A:$I,8,0)/1000)*(1-$G$124),(VLOOKUP($E28,'Fixture Descriptions'!$A:$I,8,0)/1000)))","v":0},0,0,0,0,{"$f":"IFERROR(IF(OR('Buildings and Areas'!$D$2=\"New Construction\",$AG28=\"\",$H28=\"\",AH28=\"Exterior\"),1,INDEX('Factor Tables'!C$46:C$51,MATCH(Inventory!$H28,'Factor Tables'!$B$46:$B$51,0))),1)","v":1},{"$f":"IF(OR('Buildings and Areas'!$D$2=\"New Construction\",$AG28=\"\",$H28=\"\",AH28=\"Exterior\"),1,INDEX('Factor Tables'!D$46:D$51,MATCH(Inventory!$H28,'Factor Tables'!$B$46:$B$51,0)))","v":1},{"$f":"IF(I28=\"REMOVED\",0,IF($AD28<>\"\",VLOOKUP($AD28,'Fixture Descriptions'!$A:$I,8,0)/1000,0))","v":0},0,0,0,0,0,0,0,{"$f":"IFERROR(IF(OR($AG28=\"\",$K28=\"\",AH28=\"Exterior\"),1,INDEX('Factor Tables'!C$46:C$51,MATCH(Inventory!$K28,'Factor Tables'!$B$46:$B$51,0))),1)","v":1},{"$f":"IFERROR(IF(OR($AG28=\"\",$K28=\"\",AH28=\"Exterior\"),1,INDEX('Factor Tables'!D$46:D$51,MATCH(Inventory!$K28,'Factor Tables'!$B$46:$B$51,0))),1)","v":1},0,0,0,0,0,0,0,0,0,0,0,0,0,0,0,0,{"$f":"IFERROR(VLOOKUP(IF($AD28=\"Removed\",E28,$AD28),'Fixture Descriptions'!$A:$I,9,0),\"\")","v":0},{"$f":"IF($AD28=\"\",\"\",VLOOKUP($AD28,'Fixture Descriptions'!$A:$I,2,0))","v":""},{"$f":"IF(I28=\"\",\"\",IF(I28=\"Removed\",\"N/A\",IF(IFERROR(VLOOKUP(I28,'Fixture Schedule'!$C$9:$G$58,5,0),L28)=\"\",\"Not Qualified\",IFERROR(VLOOKUP(I28,'Fixture Schedule'!$C$9:$G$58,5,0),L28))))","v":""},{"$f":"IFERROR(INDEX('Utility Admin'!$F$3:$AW$3,1,MATCH(1,(CC$8='Utility Admin'!$F$1:$AW$1)*(Inventory!$AH28='Utility Admin'!$F$2:$AW$2)*(Inventory!$BZ28=('Utility Admin'!$F$4:$AW$4)),0)),0)","v":0},{"$f":"IFERROR(INDEX('Utility Admin'!$F$3:$AW$3,1,MATCH(1,(CD$8='Utility Admin'!$F$1:$AW$1)*(Inventory!$AH28='Utility Admin'!$F$2:$AW$2)*(Inventory!$BZ28=('Utility Admin'!$F$4:$AW$4)),0)),0)","v":0},{"$f":"IFERROR(INDEX('Utility Admin'!$F$3:$AW$3,1,MATCH(1,(CC$8='Utility Admin'!$F$1:$AW$1)*(Inventory!$AH28='Utility Admin'!$F$2:$AW$2)*(\"Lighting Controls\"=('Utility Admin'!$F$4:$AW$4)),0)),0)","v":0},{"$f":"IFERROR(INDEX('Utility Admin'!$F$3:$AW$3,1,MATCH(1,(CD$8='Utility Admin'!$F$1:$AW$1)*(Inventory!$AH28='Utility Admin'!$F$2:$AW$2)*(\"Lighting Controls\"=('Utility Admin'!$F$4:$AW$4)),0)),0)","v":0},false]
[null,21,null,null,null,null,null,null,null,null,null,null,null,{"$f":"IF(OR(I29=\"\",J29=\"\",AND(ProjectType=\"Retrofit\",OR(E29=\"\",F29=\"\"))),\"-\",IF(OR(CB29=0,CB29=\"Not Qualified\"),\"N\",IFERROR(INDEX('Fixture Descriptions'!K:K,MATCH(AD29,'Fixture Descriptions'!A:A,0)),\"N\")))","v":"-"},0,0,0,0,0,0,0,0,0,{"$f":"ROUND(IFERROR(IF($AE$7,BJ29*MaxIncentive,Inventory!Z29),0),2)","v":0},0,0,0,0,0,{"$f":"IF(I29=\"\",\"\",IFERROR(VLOOKUP(I29,'Fixture Schedule'!$C$9:$D$58,2,0),I29))","v":""},{"$f":"10","v":10},{"$f":"IFERROR(VLOOKUP(IF(I29=\"REMOVED\",E29,AD29),'Fixture Descriptions'!A:J,10,FALSE),0)","v":0},{"$f":"IFERROR(INDEX('Buildings and Areas'!D$5:D$14,MATCH($C29,'Buildings and Areas'!$B$5:$B$14,0),1),\"\")","v":""},{"$f":"IFERROR(INDEX('Buildings and Areas'!C$5:C$14,MATCH($C29,'Buildings and Areas'!$B$5:$B$14,0),1),\"\")","v":""},{"$f":"IFERROR(INDEX('Buildings and Areas'!R$5:R$14,MATCH($C29,'Buildings and Areas'!$B$5:$B$14,0),1),0)","v":0},{"$f":"IFERROR(INDEX('Buildings and Areas'!S$5:S$14,MATCH($C29,'Buildings and Areas'!$B$5:$B$14,0),1),0)","v":0},{"$f":"IFERROR(INDEX('Buildings and Areas'!T$5:T$14,MATCH($C29,'Buildings and Areas'!$B$5:$B$14,0),1),0)","v":0},{"$f":"IFERROR(INDEX('Buildings and Areas'!O$5:O$14,MATCH($C29,'Buildings and Areas'!$B$5:$B$14,0),1),\"\")","v":""},{"$f":"IFERROR(INDEX('Buildings and Areas'!F$5:F$14,MATCH($C29,'Buildings and Areas'!$B$5:$B$14,0),1)&IF(AH29=\"Exterior\",\": \"&'Buildings and Areas'!$H$4,\"\"),\"\")","v":""},{"$f":"IFERROR(INDEX('Buildings and Areas'!H$5:H$14,MATCH($C29,'Buildings and Areas'!$B$5:$B$14,0),1),\"\")","v":""},{"$f":"IFERROR(IF(INDEX('Buildings and Areas'!L$5:L$14,MATCH($C29,'Buildings and Areas'!$B$5:$B$14,0),1)=\"\",\"Deemed\",INDEX('Buildings and Areas'!L$5:L$14,MATCH($C29,'Buildings and Areas'!$B$5:$B$14,0),1)),\"\")","v":""},{"$f":"IFERROR(IF(INDEX('Buildings and Areas'!M$5:M$14,MATCH($C29,'Buildings and Areas'!$B$5:$B$14,0),1)=\"\",\"Deemed\",INDEX('Buildings and Areas'!M$5:M$14,MATCH($C29,'Buildings and Areas'!$B$5:$B$14,0),1)),\"\")","v":""},{"$f":"IFERROR(INDEX('Buildings and Areas'!P$5:P$14,MATCH($C29,'Buildings and Areas'!$B$5:$B$14,0),1),0)","v":0},{"$f":"IFERROR(INDEX('Buildings and Areas'!Q$5:Q$14,MATCH($C29,'Buildings and Areas'!$B$5:$B$14,0),1),0)","v":0},{"$f":"IF(OR($AG29=\"\",$E29=\"\",$F29=\"\"),0,IF($F$124>0.1,(VLOOKUP($E29,'Fixture Descriptions'!$A:$I,8,0)/1000)*(1-$G$124),(VLOOKUP($E29,'Fixture Descriptions'!$A:$I,8,0)/1000)))","v":0},0,0,0,0,{"$f":"IFERROR(IF(OR('Buildings and Areas'!$D$2=\"New Construction\",$AG29=\"\",$H29=\"\",AH29=\"Exterior\"),1,INDEX('Factor Tables'!C$46:C$51,MATCH(Inventory!$H29,'Factor Tables'!$B$46:$B$51,0))),1)","v":1},{"$f":"IF(OR('Buildings and Areas'!$D$2=\"New Construction\",$AG29=\"\",$H29=\"\",AH29=\"Exterior\"),1,INDEX('Factor Tables'!D$46:D$51,MATCH(Inventory!$H29,'Factor Tables'!$B$46:$B$51,0)))","v":1},{"$f":"IF(I29=\"REMOVED\",0,IF($AD29<>\"\",VLOOKUP($AD29,'Fixture Descriptions'!$A:$I,8,0)/1000,0))","v":0},0,0,0,0,0,0,0,{"$f":"IFERROR(IF(OR($AG29=\"\",$K29=\"\",AH29=\"Exterior\"),1,INDEX('Factor Tables'!C$46:C$51,MATCH(Inventory!$K29,'Factor Tables'!$B$46:$B$51,0))),1)","v":1},{"$f":"IFERROR(IF(OR($AG29=\"\",$K29=\"\",AH29=\"Exterior\"),1,INDEX('Factor Tables'!D$46:D$51,MATCH(Inventory!$K29,'Factor Tables'!$B$46:$B$51,0))),1)","v":1},0,0,0,0,0,0,0,0,0,0,0,0,0,0,0,0,{"$f":"IFERROR(VLOOKUP(IF($AD29=\"Removed\",E29,$AD29),'Fixture Descriptions'!$A:$I,9,0),\"\")","v":0},{"$f":"IF($AD29=\"\",\"\",VLOOKUP($AD29,'Fixture Descriptions'!$A:$I,2,0))","v":""},{"$f":"IF(I29=\"\",\"\",IF(I29=\"Removed\",\"N/A\",IF(IFERROR(VLOOKUP(I29,'Fixture Schedule'!$C$9:$G$58,5,0),L29)=\"\",\"Not Qualified\",IFERROR(VLOOKUP(I29,'Fixture Schedule'!$C$9:$G$58,5,0),L29))))","v":""},{"$f":"IFERROR(INDEX('Utility Admin'!$F$3:$AW$3,1,MATCH(1,(CC$8='Utility Admin'!$F$1:$AW$1)*(Inventory!$AH29='Utility Admin'!$F$2:$AW$2)*(Inventory!$BZ29=('Utility Admin'!$F$4:$AW$4)),0)),0)","v":0},{"$f":"IFERROR(INDEX('Utility Admin'!$F$3:$AW$3,1,MATCH(1,(CD$8='Utility Admin'!$F$1:$AW$1)*(Inventory!$AH29='Utility Admin'!$F$2:$AW$2)*(Inventory!$BZ29=('Utility Admin'!$F$4:$AW$4)),0)),0)","v":0},{"$f":"IFERROR(INDEX('Utility Admin'!$F$3:$AW$3,1,MATCH(1,(CC$8='Utility Admin'!$F$1:$AW$1)*(Inventory!$AH29='Utility Admin'!$F$2:$AW$2)*(\"Lighting Controls\"=('Utility Admin'!$F$4:$AW$4)),0)),0)","v":0},{"$f":"IFERROR(INDEX('Utility Admin'!$F$3:$AW$3,1,MATCH(1,(CD$8='Utility Admin'!$F$1:$AW$1)*(Inventory!$AH29='Utility Admin'!$F$2:$AW$2)*(\"Lighting Controls\"=('Utility Admin'!$F$4:$AW$4)),0)),0)","v":0},false]
[null,22,null,null,null,null,null,null,null,null,null,null,null,{"$f":"IF(OR(I30=\"\",J30=\"\",AND(ProjectType=\"Retrofit\",OR(E30=\"\",F30=\"\"))),\"-\",IF(OR(CB30=0,CB30=\"Not Qualified\"),\"N\",IFERROR(INDEX('Fixture Descriptions'!K:K,MATCH(AD30,'Fixture Descriptions'!A:A,0)),\"N\")))","v":"-"},0,0,0,0,0,0,0,0,0,{"$f":"ROUND(IFERROR(IF($AE$7,BJ30*MaxIncentive,Inventory!Z30),0),2)","v":0},0,0,0,0,0,{"$f":"IF(I30=\"\",\"\",IFERROR(VLOOKUP(I30,'Fixture Schedule'!$C$9:$D$58,2,0),I30))","v":""},{"$f":"10","v":10},{"$f":"IFERROR(VLOOKUP(IF(I30=\"REMOVED\",E30,AD30),'Fixture Descriptions'!A:J,10,FALSE),0)","v":0},{"$f":"IFERROR(INDEX('Buildings and Areas'!D$5:D$14,MATCH($C30,'Buildings and Areas'!$B$5:$B$14,0),1),\"\")","v":""},{"$f":"IFERROR(INDEX('Buildings and Areas'!C$5:C$14,MATCH($C30,'Buildings and Areas'!$B$5:$B$14,0),1),\"\")","v":""},{"$f":"IFERROR(INDEX('Buildings and Areas'!R$5:R$14,MATCH($C30,'Buildings and Areas'!$B$5:$B$14,0),1),0)","v":0},{"$f":"IFERROR(INDEX('Buildings and Areas'!S$5:S$14,MATCH($C30,'Buildings and Areas'!$B$5:$B$14,0),1),0)","v":0},{"$f":"IFERROR(INDEX('Buildings and Areas'!T$5:T$14,MATCH($C30,'Buildings and Areas'!$B$5:$B$14,0),1),0)","v":0},{"$f":"IFERROR(INDEX('Buildings and Areas'!O$5:O$14,MATCH($C30,'Buildings and Areas'!$B$5:$B$14,0),1),\"\")","v":""},{"$f":"IFERROR(INDEX('Buildings and Areas'!F$5:F$14,MATCH($C30,'Buildings and Areas'!$B$5:$B$14,0),1)&IF(AH30=\"Exterior\",\": \"&'Buildings and Areas'!$H$4,\"\"),\"\")","v":""},{"$f":"IFERROR(INDEX('Buildings and Areas'!H$5:H$14,MATCH($C30,'Buildings and Areas'!$B$5:$B$14,0),1),\"\")","v":""},{"$f":"IFERROR(IF(INDEX('Buildings and Areas'!L$5:L$14,MATCH($C30,'Buildings and Areas'!$B$5:$B$14,0),1)=\"\",\"Deemed\",INDEX('Buildings and Areas'!L$5:L$14,MATCH($C30,'Buildings and Areas'!$B$5:$B$14,0),1)),\"\")","v":""},{"$f":"IFERROR(IF(INDEX('Buildings and Areas'!M$5:M$14,MATCH($C30,'Buildings and Areas'!$B$5:$B$14,0),1)=\"\",\"Deemed\",INDEX('Buildings and Areas'!M$5:M$14,MATCH($C30,'Buildings and Areas'!$B$5:$B$14,0),1)),\"\")","v":""},{"$f":"IFERROR(INDEX('Buildings and Areas'!P$5:P$14,MATCH($C30,'Buildings and Areas'!$B$5:$B$14,0),1),0)","v":0},{"$f":"IFERROR(INDEX('Buildings and Areas'!Q$5:Q$14,MATCH($C30,'Buildings and Areas'!$B$5:$B$14,0),1),0)","v":0},{"$f":"IF(OR($AG30=\"\",$E30=\"\",$F30=\"\"),0,IF($F$124>0.1,(VLOOKUP($E30,'Fixture Descriptions'!$A:$I,8,0)/1000)*(1-$G$124),(VLOOKUP($E30,'Fixture Descriptions'!$A:$I,8,0)/1000)))","v":0},0,0,0,0,{"$f":"IFERROR(IF(OR('Buildings and Areas'!$D$2=\"New Construction\",$AG30=\"\",$H30=\"\",AH30=\"Exterior\"),1,INDEX('Factor Tables'!C$46:C$51,MATCH(Inventory!$H30,'Factor Tables'!$B$46:$B$51,0))),1)","v":1},{"$f":"IF(OR('Buildings and Areas'!$D$2=\"New Construction\",$AG30=\"\",$H30=\"\",AH30=\"Exterior\"),1,INDEX('Factor Tables'!D$46:D$51,MATCH(Inventory!$H30,'Factor Tables'!$B$46:$B$51,0)))","v":1},{"$f":"IF(I30=\"REMOVED\",0,IF($AD30<>\"\",VLOOKUP($AD30,'Fixture Descriptions'!$A:$I,8,0)/1000,0))","v":0},0,0,0,0,0,0,0,{"$f":"IFERROR(IF(OR($AG30=\"\",$K30=\"\",AH30=\"Exterior\"),1,INDEX('Factor Tables'!C$46:C$51,MATCH(Inventory!$K30,'Factor Tables'!$B$46:$B$51,0))),1)","v":1},{"$f":"IFERROR(IF(OR($AG30=\"\",$K30=\"\",AH30=\"Exterior\"),1,INDEX('Factor Tables'!D$46:D$51,MATCH(Inventory!$K30,'Factor Tables'!$B$46:$B$51,0))),1)","v":1},0,0,0,0,0,0,0,0,0,0,0,0,0,0,0,0,{"$f":"IFERROR(VLOOKUP(IF($AD30=\"Removed\",E30,$AD30),'Fixture Descriptions'!$A:$I,9,0),\"\")","v":0},{"$f":"IF($AD30=\"\",\"\",VLOOKUP($AD30,'Fixture Descriptions'!$A:$I,2,0))","v":""},{"$f":"IF(I30=\"\",\"\",IF(I30=\"Removed\",\"N/A\",IF(IFERROR(VLOOKUP(I30,'Fixture Schedule'!$C$9:$G$58,5,0),L30)=\"\",\"Not Qualified\",IFERROR(VLOOKUP(I30,'Fixture Schedule'!$C$9:$G$58,5,0),L30))))","v":""},{"$f":"IFERROR(INDEX('Utility Admin'!$F$3:$AW$3,1,MATCH(1,(CC$8='Utility Admin'!$F$1:$AW$1)*(Inventory!$AH30='Utility Admin'!$F$2:$AW$2)*(Inventory!$BZ30=('Utility Admin'!$F$4:$AW$4)),0)),0)","v":0},{"$f":"IFERROR(INDEX('Utility Admin'!$F$3:$AW$3,1,MATCH(1,(CD$8='Utility Admin'!$F$1:$AW$1)*(Inventory!$AH30='Utility Admin'!$F$2:$AW$2)*(Inventory!$BZ30=('Utility Admin'!$F$4:$AW$4)),0)),0)","v":0},{"$f":"IFERROR(INDEX('Utility Admin'!$F$3:$AW$3,1,MATCH(1,(CC$8='Utility Admin'!$F$1:$AW$1)*(Inventory!$AH30='Utility Admin'!$F$2:$AW$2)*(\"Lighting Controls\"=('Utility Admin'!$F$4:$AW$4)),0)),0)","v":0},{"$f":"IFERROR(INDEX('Utility Admin'!$F$3:$AW$3,1,MATCH(1,(CD$8='Utility Admin'!$F$1:$AW$1)*(Inventory!$AH30='Utility Admin'!$F$2:$AW$2)*(\"Lighting Controls\"=('Utility Admin'!$F$4:$AW$4)),0)),0)","v":0},false]
[null,23,null,null,null,null,null,null,null,null,null,null,null,{"$f":"IF(OR(I31=\"\",J31=\"\",AND(ProjectType=\"Retrofit\",OR(E31=\"\",F31=\"\"))),\"-\",IF(OR(CB31=0,CB31=\"Not Qualified\"),\"N\",IFERROR(INDEX('Fixture Descriptions'!K:K,MATCH(AD31,'Fixture Descriptions'!A:A,0)),\"N\")))","v":"-"},0,0,0,0,0,0,0,0,0,{"$f":"ROUND(IFERROR(IF($AE$7,BJ31*MaxIncentive,Inventory!Z31),0),2)","v":0},0,0,0,0,0,{"$f":"IF(I31=\"\",\"\",IFERROR(VLOOKUP(I31,'Fixture Schedule'!$C$9:$D$58,2,0),I31))","v":""},{"$f":"10","v":10},{"$f":"IFERROR(VLOOKUP(IF(I31=\"REMOVED\",E31,AD31),'Fixture Descriptions'!A:J,10,FALSE),0)","v":0},{"$f":"IFERROR(INDEX('Buildings and Areas'!D$5:D$14,MATCH($C31,'Buildings and Areas'!$B$5:$B$14,0),1),\"\")","v":""},{"$f":"IFERROR(INDEX('Buildings and Areas'!C$5:C$14,MATCH($C31,'Buildings and Areas'!$B$5:$B$14,0),1),\"\")","v":""},{"$f":"IFERROR(INDEX('Buildings and Areas'!R$5:R$14,MATCH($C31,'Buildings and Areas'!$B$5:$B$14,0),1),0)","v":0},{"$f":"IFERROR(INDEX('Buildings and Areas'!S$5:S$14,MATCH($C31,'Buildings and Areas'!$B$5:$B$14,0),1),0)","v":0},{"$f":"IFERROR(INDEX('Buildings and Areas'!T$5:T$14,MATCH($C31,'Buildings and Areas'!$B$5:$B$14,0),1),0)","v":0},{"$f":"IFERROR(INDEX('Buildings and Areas'!O$5:O$14,MATCH($C31,'Buildings and Areas'!$B$5:$B$14,0),1),\"\")","v":""},{"$f":"IFERROR(INDEX('Buildings and Areas'!F$5:F$14,MATCH($C31,'Buildings and Areas'!$B$5:$B$14,0),1)&IF(AH31=\"Exterior\",\": \"&'Buildings and Areas'!$H$4,\"\"),\"\")","v":""},{"$f":"IFERROR(INDEX('Buildings and Areas'!H$5:H$14,MATCH($C31,'Buildings and Areas'!$B$5:$B$14,0),1),\"\")","v":""},{"$f":"IFERROR(IF(INDEX('Buildings and Areas'!L$5:L$14,MATCH($C31,'Buildings and Areas'!$B$5:$B$14,0),1)=\"\",\"Deemed\",INDEX('Buildings and Areas'!L$5:L$14,MATCH($C31,'Buildings and Areas'!$B$5:$B$14,0),1)),\"\")","v":""},{"$f":"IFERROR(IF(INDEX('Buildings and Areas'!M$5:M$14,MATCH($C31,'Buildings and Areas'!$B$5:$B$14,0),1)=\"\",\"Deemed\",INDEX('Buildings and Areas'!M$5:M$14,MATCH($C31,'Buildings and Areas'!$B$5:$B$14,0),1)),\"\")","v":""},{"$f":"IFERROR(INDEX('Buildings and Areas'!P$5:P$14,MATCH($C31,'Buildings and Areas'!$B$5:$B$14,0),1),0)","v":0},{"$f":"IFERROR(INDEX('Buildings and Areas'!Q$5:Q$14,MATCH($C31,'Buildings and Areas'!$B$5:$B$14,0),1),0)","v":0},{"$f":"IF(OR($AG31=\"\",$E31=\"\",$F31=\"\"),0,IF($F$124>0.1,(VLOOKUP($E31,'Fixture Descriptions'!$A:$I,8,0)/1000)*(1-$G$124),(VLOOKUP($E31,'Fixture Descriptions'!$A:$I,8,0)/1000)))","v":0},0,0,0,0,{"$f":"IFERROR(IF(OR('Buildings and Areas'!$D$2=\"New Construction\",$AG31=\"\",$H31=\"\",AH31=\"Exterior\"),1,INDEX('Factor Tables'!C$46:C$51,MATCH(Inventory!$H31,'Factor Tables'!$B$46:$B$51,0))),1)","v":1},{"$f":"IF(OR('Buildings and Areas'!$D$2=\"New Construction\",$AG31=\"\",$H31=\"\",AH31=\"Exterior\"),1,INDEX('Factor Tables'!D$46:D$51,MATCH(Inventory!$H31,'Factor Tables'!$B$46:$B$51,0)))","v":1},{"$f":"IF(I31=\"REMOVED\",0,IF($AD31<>\"\",VLOOKUP($AD31,'Fixture Descriptions'!$A:$I,8,0)/1000,0))","v":0},0,0,0,0,0,0,0,{"$f":"IFERROR(IF(OR($AG31=\"\",$K31=\"\",AH31=\"Exterior\"),1,INDEX('Factor Tables'!C$46:C$51,MATCH(Inventory!$K31,'Factor Tables'!$B$46:$B$51,0))),1)","v":1},{"$f":"IFERROR(IF(OR($AG31=\"\",$K31=\"\",AH31=\"Exterior\"),1,INDEX('Factor Tables'!D$46:D$51,MATCH(Inventory!$K31,'Factor Tables'!$B$46:$B$51,0))),1)","v":1},0,0,0,0,0,0,0,0,0,0,0,0,0,0,0,0,{"$f":"IFERROR(VLOOKUP(IF($AD31=\"Removed\",E31,$AD31),'Fixture Descriptions'!$A:$I,9,0),\"\")","v":0},{"$f":"IF($AD31=\"\",\"\",VLOOKUP($AD31,'Fixture Descriptions'!$A:$I,2,0))","v":""},{"$f":"IF(I31=\"\",\"\",IF(I31=\"Removed\",\"N/A\",IF(IFERROR(VLOOKUP(I31,'Fixture Schedule'!$C$9:$G$58,5,0),L31)=\"\",\"Not Qualified\",IFERROR(VLOOKUP(I31,'Fixture Schedule'!$C$9:$G$58,5,0),L31))))","v":""},{"$f":"IFERROR(INDEX('Utility Admin'!$F$3:$AW$3,1,MATCH(1,(CC$8='Utility Admin'!$F$1:$AW$1)*(Inventory!$AH31='Utility Admin'!$F$2:$AW$2)*(Inventory!$BZ31=('Utility Admin'!$F$4:$AW$4)),0)),0)","v":0},{"$f":"IFERROR(INDEX('Utility Admin'!$F$3:$AW$3,1,MATCH(1,(CD$8='Utility Admin'!$F$1:$AW$1)*(Inventory!$AH31='Utility Admin'!$F$2:$AW$2)*(Inventory!$BZ31=('Utility Admin'!$F$4:$AW$4)),0)),0)","v":0},{"$f":"IFERROR(INDEX('Utility Admin'!$F$3:$AW$3,1,MATCH(1,(CC$8='Utility Admin'!$F$1:$AW$1)*(Inventory!$AH31='Utility Admin'!$F$2:$AW$2)*(\"Lighting Controls\"=('Utility Admin'!$F$4:$AW$4)),0)),0)","v":0},{"$f":"IFERROR(INDEX('Utility Admin'!$F$3:$AW$3,1,MATCH(1,(CD$8='Utility Admin'!$F$1:$AW$1)*(Inventory!$AH31='Utility Admin'!$F$2:$AW$2)*(\"Lighting Controls\"=('Utility Admin'!$F$4:$AW$4)),0)),0)","v":0},false]
[null,24,null,null,null,null,null,null,null,null,null,null,null,{"$f":"IF(OR(I32=\"\",J32=\"\",AND(ProjectType=\"Retrofit\",OR(E32=\"\",F32=\"\"))),\"-\",IF(OR(CB32=0,CB32=\"Not Qualified\"),\"N\",IFERROR(INDEX('Fixture Descriptions'!K:K,MATCH(AD32,'Fixture Descriptions'!A:A,0)),\"N\")))","v":"-"},0,0,0,0,0,0,0,0,0,{"$f":"ROUND(IFERROR(IF($AE$7,BJ32*MaxIncentive,Inventory!Z32),0),2)","v":0},0,0,0,0,0,{"$f":"IF(I32=\"\",\"\",IFERROR(VLOOKUP(I32,'Fixture Schedule'!$C$9:$D$58,2,0),I32))","v":""},{"$f":"10","v":10},{"$f":"IFERROR(VLOOKUP(IF(I32=\"REMOVED\",E32,AD32),'Fixture Descriptions'!A:J,10,FALSE),0)","v":0},{"$f":"IFERROR(INDEX('Buildings and Areas'!D$5:D$14,MATCH($C32,'Buildings and Areas'!$B$5:$B$14,0),1),\"\")","v":""},{"$f":"IFERROR(INDEX('Buildings and Areas'!C$5:C$14,MATCH($C32,'Buildings and Areas'!$B$5:$B$14,0),1),\"\")","v":""},{"$f":"IFERROR(INDEX('Buildings and Areas'!R$5:R$14,MATCH($C32,'Buildings and Areas'!$B$5:$B$14,0),1),0)","v":0},{"$f":"IFERROR(INDEX('Buildings and Areas'!S$5:S$14,MATCH($C32,'Buildings and Areas'!$B$5:$B$14,0),1),0)","v":0},{"$f":"IFERROR(INDEX('Buildings and Areas'!T$5:T$14,MATCH($C32,'Buildings and Areas'!$B$5:$B$14,0),1),0)","v":0},{"$f":"IFERROR(INDEX('Buildings and Areas'!O$5:O$14,MATCH($C32,'Buildings and Areas'!$B$5:$B$14,0),1),\"\")","v":""},{"$f":"IFERROR(INDEX('Buildings and Areas'!F$5:F$14,MATCH($C32,'Buildings and Areas'!$B$5:$B$14,0),1)&IF(AH32=\"Exterior\",\": \"&'Buildings and Areas'!$H$4,\"\"),\"\")","v":""},{"$f":"IFERROR(INDEX('Buildings and Areas'!H$5:H$14,MATCH($C32,'Buildings and Areas'!$B$5:$B$14,0),1),\"\")","v":""},{"$f":"IFERROR(IF(INDEX('Buildings and Areas'!L$5:L$14,MATCH($C32,'Buildings and Areas'!$B$5:$B$14,0),1)=\"\",\"Deemed\",INDEX('Buildings and Areas'!L$5:L$14,MATCH($C32,'Buildings and Areas'!$B$5:$B$14,0),1)),\"\")","v":""},{"$f":"IFERROR(IF(INDEX('Buildings and Areas'!M$5:M$14,MATCH($C32,'Buildings and Areas'!$B$5:$B$14,0),1)=\"\",\"Deemed\",INDEX('Buildings and Areas'!M$5:M$14,MATCH($C32,'Buildings and Areas'!$B$5:$B$14,0),1)),\"\")","v":""},{"$f":"IFERROR(INDEX('Buildings and Areas'!P$5:P$14,MATCH($C32,'Buildings and Areas'!$B$5:$B$14,0),1),0)","v":0},{"$f":"IFERROR(INDEX('Buildings and Areas'!Q$5:Q$14,MATCH($C32,'Buildings and Areas'!$B$5:$B$14,0),1),0)","v":0},{"$f":"IF(OR($AG32=\"\",$E32=\"\",$F32=\"\"),0,IF($F$124>0.1,(VLOOKUP($E32,'Fixture Descriptions'!$A:$I,8,0)/1000)*(1-$G$124),(VLOOKUP($E32,'Fixture Descriptions'!$A:$I,8,0)/1000)))","v":0},0,0,0,0,{"$f":"IFERROR(IF(OR('Buildings and Areas'!$D$2=\"New Construction\",$AG32=\"\",$H32=\"\",AH32=\"Exterior\"),1,INDEX('Factor Tables'!C$46:C$51,MATCH(Inventory!$H32,'Factor Tables'!$B$46:$B$51,0))),1)","v":1},{"$f":"IF(OR('Buildings and Areas'!$D$2=\"New Construction\",$AG32=\"\",$H32=\"\",AH32=\"Exterior\"),1,INDEX('Factor Tables'!D$46:D$51,MATCH(Inventory!$H32,'Factor Tables'!$B$46:$B$51,0)))","v":1},{"$f":"IF(I32=\"REMOVED\",0,IF($AD32<>\"\",VLOOKUP($AD32,'Fixture Descriptions'!$A:$I,8,0)/1000,0))","v":0},0,0,0,0,0,0,0,{"$f":"IFERROR(IF(OR($AG32=\"\",$K32=\"\",AH32=\"Exterior\"),1,INDEX('Factor Tables'!C$46:C$51,MATCH(Inventory!$K32,'Factor Tables'!$B$46:$B$51,0))),1)","v":1},{"$f":"IFERROR(IF(OR($AG32=\"\",$K32=\"\",AH32=\"Exterior\"),1,INDEX('Factor Tables'!D$46:D$51,MATCH(Inventory!$K32,'Factor Tables'!$B$46:$B$51,0))),1)","v":1},0,0,0,0,0,0,0,0,0,0,0,0,0,0,0,0,{"$f":"IFERROR(VLOOKUP(IF($AD32=\"Removed\",E32,$AD32),'Fixture Descriptions'!$A:$I,9,0),\"\")","v":0},{"$f":"IF($AD32=\"\",\"\",VLOOKUP($AD32,'Fixture Descriptions'!$A:$I,2,0))","v":""},{"$f":"IF(I32=\"\",\"\",IF(I32=\"Removed\",\"N/A\",IF(IFERROR(VLOOKUP(I32,'Fixture Schedule'!$C$9:$G$58,5,0),L32)=\"\",\"Not Qualified\",IFERROR(VLOOKUP(I32,'Fixture Schedule'!$C$9:$G$58,5,0),L32))))","v":""},{"$f":"IFERROR(INDEX('Utility Admin'!$F$3:$AW$3,1,MATCH(1,(CC$8='Utility Admin'!$F$1:$AW$1)*(Inventory!$AH32='Utility Admin'!$F$2:$AW$2)*(Inventory!$BZ32=('Utility Admin'!$F$4:$AW$4)),0)),0)","v":0},{"$f":"IFERROR(INDEX('Utility Admin'!$F$3:$AW$3,1,MATCH(1,(CD$8='Utility Admin'!$F$1:$AW$1)*(Inventory!$AH32='Utility Admin'!$F$2:$AW$2)*(Inventory!$BZ32=('Utility Admin'!$F$4:$AW$4)),0)),0)","v":0},{"$f":"IFERROR(INDEX('Utility Admin'!$F$3:$AW$3,1,MATCH(1,(CC$8='Utility Admin'!$F$1:$AW$1)*(Inventory!$AH32='Utility Admin'!$F$2:$AW$2)*(\"Lighting Controls\"=('Utility Admin'!$F$4:$AW$4)),0)),0)","v":0},{"$f":"IFERROR(INDEX('Utility Admin'!$F$3:$AW$3,1,MATCH(1,(CD$8='Utility Admin'!$F$1:$AW$1)*(Inventory!$AH32='Utility Admin'!$F$2:$AW$2)*(\"Lighting Controls\"=('Utility Admin'!$F$4:$AW$4)),0)),0)","v":0},false]
[null,25,null,null,null,null,null,null,null,null,null,null,null,{"$f":"IF(OR(I33=\"\",J33=\"\",AND(ProjectType=\"Retrofit\",OR(E33=\"\",F33=\"\"))),\"-\",IF(OR(CB33=0,CB33=\"Not Qualified\"),\"N\",IFERROR(INDEX('Fixture Descriptions'!K:K,MATCH(AD33,'Fixture Descriptions'!A:A,0)),\"N\")))","v":"-"},0,0,0,0,0,0,0,0,0,{"$f":"ROUND(IFERROR(IF($AE$7,BJ33*MaxIncentive,Inventory!Z33),0),2)","v":0},0,0,0,0,0,{"$f":"IF(I33=\"\",\"\",IFERROR(VLOOKUP(I33,'Fixture Schedule'!$C$9:$D$58,2,0),I33))","v":""},{"$f":"10","v":10},{"$f":"IFERROR(VLOOKUP(IF(I33=\"REMOVED\",E33,AD33),'Fixture Descriptions'!A:J,10,FALSE),0)","v":0},{"$f":"IFERROR(INDEX('Buildings and Areas'!D$5:D$14,MATCH($C33,'Buildings and Areas'!$B$5:$B$14,0),1),\"\")","v":""},{"$f":"IFERROR(INDEX('Buildings and Areas'!C$5:C$14,MATCH($C33,'Buildings and Areas'!$B$5:$B$14,0),1),\"\")","v":""},{"$f":"IFERROR(INDEX('Buildings and Areas'!R$5:R$14,MATCH($C33,'Buildings and Areas'!$B$5:$B$14,0),1),0)","v":0},{"$f":"IFERROR(INDEX('Buildings and Areas'!S$5:S$14,MATCH($C33,'Buildings and Areas'!$B$5:$B$14,0),1),0)","v":0},{"$f":"IFERROR(INDEX('Buildings and Areas'!T$5:T$14,MATCH($C33,'Buildings and Areas'!$B$5:$B$14,0),1),0)","v":0},{"$f":"IFERROR(INDEX('Buildings and Areas'!O$5:O$14,MATCH($C33,'Buildings and Areas'!$B$5:$B$14,0),1),\"\")","v":""},{"$f":"IFERROR(INDEX('Buildings and Areas'!F$5:F$14,MATCH($C33,'Buildings and Areas'!$B$5:$B$14,0),1)&IF(AH33=\"Exterior\",\": \"&'Buildings and Areas'!$H$4,\"\"),\"\")","v":""},{"$f":"IFERROR(INDEX('Buildings and Areas'!H$5:H$14,MATCH($C33,'Buildings and Areas'!$B$5:$B$14,0),1),\"\")","v":""},{"$f":"IFERROR(IF(INDEX('Buildings and Areas'!L$5:L$14,MATCH($C33,'Buildings and Areas'!$B$5:$B$14,0),1)=\"\",\"Deemed\",INDEX('Buildings and Areas'!L$5:L$14,MATCH($C33,'Buildings and Areas'!$B$5:$B$14,0),1)),\"\")","v":""},{"$f":"IFERROR(IF(INDEX('Buildings and Areas'!M$5:M$14,MATCH($C33,'Buildings and Areas'!$B$5:$B$14,0),1)=\"\",\"Deemed\",INDEX('Buildings and Areas'!M$5:M$14,MATCH($C33,'Buildings and Areas'!$B$5:$B$14,0),1)),\"\")","v":""},{"$f":"IFERROR(INDEX('Buildings and Areas'!P$5:P$14,MATCH($C33,'Buildings and Areas'!$B$5:$B$14,0),1),0)","v":0},{"$f":"IFERROR(INDEX('Buildings and Areas'!Q$5:Q$14,MATCH($C33,'Buildings and Areas'!$B$5:$B$14,0),1),0)","v":0},{"$f":"IF(OR($AG33=\"\",$E33=\"\",$F33=\"\"),0,IF($F$124>0.1,(VLOOKUP($E33,'Fixture Descriptions'!$A:$I,8,0)/1000)*(1-$G$124),(VLOOKUP($E33,'Fixture Descriptions'!$A:$I,8,0)/1000)))","v":0},0,0,0,0,{"$f":"IFERROR(IF(OR('Buildings and Areas'!$D$2=\"New Construction\",$AG33=\"\",$H33=\"\",AH33=\"Exterior\"),1,INDEX('Factor Tables'!C$46:C$51,MATCH(Inventory!$H33,'Factor Tables'!$B$46:$B$51,0))),1)","v":1},{"$f":"IF(OR('Buildings and Areas'!$D$2=\"New Construction\",$AG33=\"\",$H33=\"\",AH33=\"Exterior\"),1,INDEX('Factor Tables'!D$46:D$51,MATCH(Inventory!$H33,'Factor Tables'!$B$46:$B$51,0)))","v":1},{"$f":"IF(I33=\"REMOVED\",0,IF($AD33<>\"\",VLOOKUP($AD33,'Fixture Descriptions'!$A:$I,8,0)/1000,0))","v":0},0,0,0,0,0,0,0,{"$f":"IFERROR(IF(OR($AG33=\"\",$K33=\"\",AH33=\"Exterior\"),1,INDEX('Factor Tables'!C$46:C$51,MATCH(Inventory!$K33,'Factor Tables'!$B$46:$B$51,0))),1)","v":1},{"$f":"IFERROR(IF(OR($AG33=\"\",$K33=\"\",AH33=\"Exterior\"),1,INDEX('Factor Tables'!D$46:D$51,MATCH(Inventory!$K33,'Factor Tables'!$B$46:$B$51,0))),1)","v":1},0,0,0,0,0,0,0,0,0,0,0,0,0,0,0,0,{"$f":"IFERROR(VLOOKUP(IF($AD33=\"Removed\",E33,$AD33),'Fixture Descriptions'!$A:$I,9,0),\"\")","v":0},{"$f":"IF($AD33=\"\",\"\",VLOOKUP($AD33,'Fixture Descriptions'!$A:$I,2,0))","v":""},{"$f":"IF(I33=\"\",\"\",IF(I33=\"Removed\",\"N/A\",IF(IFERROR(VLOOKUP(I33,'Fixture Schedule'!$C$9:$G$58,5,0),L33)=\"\",\"Not Qualified\",IFERROR(VLOOKUP(I33,'Fixture Schedule'!$C$9:$G$58,5,0),L33))))","v":""},{"$f":"IFERROR(INDEX('Utility Admin'!$F$3:$AW$3,1,MATCH(1,(CC$8='Utility Admin'!$F$1:$AW$1)*(Inventory!$AH33='Utility Admin'!$F$2:$AW$2)*(Inventory!$BZ33=('Utility Admin'!$F$4:$AW$4)),0)),0)","v":0},{"$f":"IFERROR(INDEX('Utility Admin'!$F$3:$AW$3,1,MATCH(1,(CD$8='Utility Admin'!$F$1:$AW$1)*(Inventory!$AH33='Utility Admin'!$F$2:$AW$2)*(Inventory!$BZ33=('Utility Admin'!$F$4:$AW$4)),0)),0)","v":0},{"$f":"IFERROR(INDEX('Utility Admin'!$F$3:$AW$3,1,MATCH(1,(CC$8='Utility Admin'!$F$1:$AW$1)*(Inventory!$AH33='Utility Admin'!$F$2:$AW$2)*(\"Lighting Controls\"=('Utility Admin'!$F$4:$AW$4)),0)),0)","v":0},{"$f":"IFERROR(INDEX('Utility Admin'!$F$3:$AW$3,1,MATCH(1,(CD$8='Utility Admin'!$F$1:$AW$1)*(Inventory!$AH33='Utility Admin'!$F$2:$AW$2)*(\"Lighting Controls\"=('Utility Admin'!$F$4:$AW$4)),0)),0)","v":0},false]
[null,26,null,null,null,null,null,null,null,null,null,null,null,{"$f":"IF(OR(I34=\"\",J34=\"\",AND(ProjectType=\"Retrofit\",OR(E34=\"\",F34=\"\"))),\"-\",IF(OR(CB34=0,CB34=\"Not Qualified\"),\"N\",IFERROR(INDEX('Fixture Descriptions'!K:K,MATCH(AD34,'Fixture Descriptions'!A:A,0)),\"N\")))","v":"-"},0,0,0,0,0,0,0,0,0,{"$f":"ROUND(IFERROR(IF($AE$7,BJ34*MaxIncentive,Inventory!Z34),0),2)","v":0},0,0,0,0,0,{"$f":"IF(I34=\"\",\"\",IFERROR(VLOOKUP(I34,'Fixture Schedule'!$C$9:$D$58,2,0),I34))","v":""},{"$f":"10","v":10},{"$f":"IFERROR(VLOOKUP(IF(I34=\"REMOVED\",E34,AD34),'Fixture Descriptions'!A:J,10,FALSE),0)","v":0},{"$f":"IFERROR(INDEX('Buildings and Areas'!D$5:D$14,MATCH($C34,'Buildings and Areas'!$B$5:$B$14,0),1),\"\")","v":""},{"$f":"IFERROR(INDEX('Buildings and Areas'!C$5:C$14,MATCH($C34,'Buildings and Areas'!$B$5:$B$14,0),1),\"\")","v":""},{"$f":"IFERROR(INDEX('Buildings and Areas'!R$5:R$14,MATCH($C34,'Buildings and Areas'!$B$5:$B$14,0),1),0)","v":0},{"$f":"IFERROR(INDEX('Buildings and Areas'!S$5:S$14,MATCH($C34,'Buildings and Areas'!$B$5:$B$14,0),1),0)","v":0},{"$f":"IFERROR(INDEX('Buildings and Areas'!T$5:T$14,MATCH($C34,'Buildings and Areas'!$B$5:$B$14,0),1),0)","v":0},{"$f":"IFERROR(INDEX('Buildings and Areas'!O$5:O$14,MATCH($C34,'Buildings and Areas'!$B$5:$B$14,0),1),\"\")","v":""},{"$f":"IFERROR(INDEX('Buildings and Areas'!F$5:F$14,MATCH($C34,'Buildings and Areas'!$B$5:$B$14,0),1)&IF(AH34=\"Exterior\",\": \"&'Buildings and Areas'!$H$4,\"\"),\"\")","v":""},{"$f":"IFERROR(INDEX('Buildings and Areas'!H$5:H$14,MATCH($C34,'Buildings and Areas'!$B$5:$B$14,0),1),\"\")","v":""},{"$f":"IFERROR(IF(INDEX('Buildings and Areas'!L$5:L$14,MATCH($C34,'Buildings and Areas'!$B$5:$B$14,0),1)=\"\",\"Deemed\",INDEX('Buildings and Areas'!L$5:L$14,MATCH($C34,'Buildings and Areas'!$B$5:$B$14,0),1)),\"\")","v":""},{"$f":"IFERROR(IF(INDEX('Buildings and Areas'!M$5:M$14,MATCH($C34,'Buildings and Areas'!$B$5:$B$14,0),1)=\"\",\"Deemed\",INDEX('Buildings and Areas'!M$5:M$14,MATCH($C34,'Buildings and Areas'!$B$5:$B$14,0),1)),\"\")","v":""},{"$f":"IFERROR(INDEX('Buildings and Areas'!P$5:P$14,MATCH($C34,'Buildings and Areas'!$B$5:$B$14,0),1),0)","v":0},{"$f":"IFERROR(INDEX('Buildings and Areas'!Q$5:Q$14,MATCH($C34,'Buildings and Areas'!$B$5:$B$14,0),1),0)","v":0},{"$f":"IF(OR($AG34=\"\",$E34=\"\",$F34=\"\"),0,IF($F$124>0.1,(VLOOKUP($E34,'Fixture Descriptions'!$A:$I,8,0)/1000)*(1-$G$124),(VLOOKUP($E34,'Fixture Descriptions'!$A:$I,8,0)/1000)))","v":0},0,0,0,0,{"$f":"IFERROR(IF(OR('Buildings and Areas'!$D$2=\"New Construction\",$AG34=\"\",$H34=\"\",AH34=\"Exterior\"),1,INDEX('Factor Tables'!C$46:C$51,MATCH(Inventory!$H34,'Factor Tables'!$B$46:$B$51,0))),1)","v":1},{"$f":"IF(OR('Buildings and Areas'!$D$2=\"New Construction\",$AG34=\"\",$H34=\"\",AH34=\"Exterior\"),1,INDEX('Factor Tables'!D$46:D$51,MATCH(Inventory!$H34,'Factor Tables'!$B$46:$B$51,0)))","v":1},{"$f":"IF(I34=\"REMOVED\",0,IF($AD34<>\"\",VLOOKUP($AD34,'Fixture Descriptions'!$A:$I,8,0)/1000,0))","v":0},0,0,0,0,0,0,0,{"$f":"IFERROR(IF(OR($AG34=\"\",$K34=\"\",AH34=\"Exterior\"),1,INDEX('Factor Tables'!C$46:C$51,MATCH(Inventory!$K34,'Factor Tables'!$B$46:$B$51,0))),1)","v":1},{"$f":"IFERROR(IF(OR($AG34=\"\",$K34=\"\",AH34=\"Exterior\"),1,INDEX('Factor Tables'!D$46:D$51,MATCH(Inventory!$K34,'Factor Tables'!$B$46:$B$51,0))),1)","v":1},0,0,0,0,0,0,0,0,0,0,0,0,0,0,0,0,{"$f":"IFERROR(VLOOKUP(IF($AD34=\"Removed\",E34,$AD34),'Fixture Descriptions'!$A:$I,9,0),\"\")","v":0},{"$f":"IF($AD34=\"\",\"\",VLOOKUP($AD34,'Fixture Descriptions'!$A:$I,2,0))","v":""},{"$f":"IF(I34=\"\",\"\",IF(I34=\"Removed\",\"N/A\",IF(IFERROR(VLOOKUP(I34,'Fixture Schedule'!$C$9:$G$58,5,0),L34)=\"\",\"Not Qualified\",IFERROR(VLOOKUP(I34,'Fixture Schedule'!$C$9:$G$58,5,0),L34))))","v":""},{"$f":"IFERROR(INDEX('Utility Admin'!$F$3:$AW$3,1,MATCH(1,(CC$8='Utility Admin'!$F$1:$AW$1)*(Inventory!$AH34='Utility Admin'!$F$2:$AW$2)*(Inventory!$BZ34=('Utility Admin'!$F$4:$AW$4)),0)),0)","v":0},{"$f":"IFERROR(INDEX('Utility Admin'!$F$3:$AW$3,1,MATCH(1,(CD$8='Utility Admin'!$F$1:$AW$1)*(Inventory!$AH34='Utility Admin'!$F$2:$AW$2)*(Inventory!$BZ34=('Utility Admin'!$F$4:$AW$4)),0)),0)","v":0},{"$f":"IFERROR(INDEX('Utility Admin'!$F$3:$AW$3,1,MATCH(1,(CC$8='Utility Admin'!$F$1:$AW$1)*(Inventory!$AH34='Utility Admin'!$F$2:$AW$2)*(\"Lighting Controls\"=('Utility Admin'!$F$4:$AW$4)),0)),0)","v":0},{"$f":"IFERROR(INDEX('Utility Admin'!$F$3:$AW$3,1,MATCH(1,(CD$8='Utility Admin'!$F$1:$AW$1)*(Inventory!$AH34='Utility Admin'!$F$2:$AW$2)*(\"Lighting Controls\"=('Utility Admin'!$F$4:$AW$4)),0)),0)","v":0},false]
[null,27,null,null,null,null,null,null,null,null,null,null,null,{"$f":"IF(OR(I35=\"\",J35=\"\",AND(ProjectType=\"Retrofit\",OR(E35=\"\",F35=\"\"))),\"-\",IF(OR(CB35=0,CB35=\"Not Qualified\"),\"N\",IFERROR(INDEX('Fixture Descriptions'!K:K,MATCH(AD35,'Fixture Descriptions'!A:A,0)),\"N\")))","v":"-"},0,0,0,0,0,0,0,0,0,{"$f":"ROUND(IFERROR(IF($AE$7,BJ35*MaxIncentive,Inventory!Z35),0),2)","v":0},0,0,0,0,0,{"$f":"IF(I35=\"\",\"\",IFERROR(VLOOKUP(I35,'Fixture Schedule'!$C$9:$D$58,2,0),I35))","v":""},{"$f":"10","v":10},{"$f":"IFERROR(VLOOKUP(IF(I35=\"REMOVED\",E35,AD35),'Fixture Descriptions'!A:J,10,FALSE),0)","v":0},{"$f":"IFERROR(INDEX('Buildings and Areas'!D$5:D$14,MATCH($C35,'Buildings and Areas'!$B$5:$B$14,0),1),\"\")","v":""},{"$f":"IFERROR(INDEX('Buildings and Areas'!C$5:C$14,MATCH($C35,'Buildings and Areas'!$B$5:$B$14,0),1),\"\")","v":""},{"$f":"IFERROR(INDEX('Buildings and Areas'!R$5:R$14,MATCH($C35,'Buildings and Areas'!$B$5:$B$14,0),1),0)","v":0},{"$f":"IFERROR(INDEX('Buildings and Areas'!S$5:S$14,MATCH($C35,'Buildings and Areas'!$B$5:$B$14,0),1),0)","v":0},{"$f":"IFERROR(INDEX('Buildings and Areas'!T$5:T$14,MATCH($C35,'Buildings and Areas'!$B$5:$B$14,0),1),0)","v":0},{"$f":"IFERROR(INDEX('Buildings and Areas'!O$5:O$14,MATCH($C35,'Buildings and Areas'!$B$5:$B$14,0),1),\"\")","v":""},{"$f":"IFERROR(INDEX('Buildings and Areas'!F$5:F$14,MATCH($C35,'Buildings and Areas'!$B$5:$B$14,0),1)&IF(AH35=\"Exterior\",\": \"&'Buildings and Areas'!$H$4,\"\"),\"\")","v":""},{"$f":"IFERROR(INDEX('Buildings and Areas'!H$5:H$14,MATCH($C35,'Buildings and Areas'!$B$5:$B$14,0),1),\"\")","v":""},{"$f":"IFERROR(IF(INDEX('Buildings and Areas'!L$5:L$14,MATCH($C35,'Buildings and Areas'!$B$5:$B$14,0),1)=\"\",\"Deemed\",INDEX('Buildings and Areas'!L$5:L$14,MATCH($C35,'Buildings and Areas'!$B$5:$B$14,0),1)),\"\")","v":""},{"$f":"IFERROR(IF(INDEX('Buildings and Areas'!M$5:M$14,MATCH($C35,'Buildings and Areas'!$B$5:$B$14,0),1)=\"\",\"Deemed\",INDEX('Buildings and Areas'!M$5:M$14,MATCH($C35,'Buildings and Areas'!$B$5:$B$14,0),1)),\"\")","v":""},{"$f":"IFERROR(INDEX('Buildings and Areas'!P$5:P$14,MATCH($C35,'Buildings and Areas'!$B$5:$B$14,0),1),0)","v":0},{"$f":"IFERROR(INDEX('Buildings and Areas'!Q$5:Q$14,MATCH($C35,'Buildings and Areas'!$B$5:$B$14,0),1),0)","v":0},{"$f":"IF(OR($AG35=\"\",$E35=\"\",$F35=\"\"),0,IF($F$124>0.1,(VLOOKUP($E35,'Fixture Descriptions'!$A:$I,8,0)/1000)*(1-$G$124),(VLOOKUP($E35,'Fixture Descriptions'!$A:$I,8,0)/1000)))","v":0},0,0,0,0,{"$f":"IFERROR(IF(OR('Buildings and Areas'!$D$2=\"New Construction\",$AG35=\"\",$H35=\"\",AH35=\"Exterior\"),1,INDEX('Factor Tables'!C$46:C$51,MATCH(Inventory!$H35,'Factor Tables'!$B$46:$B$51,0))),1)","v":1},{"$f":"IF(OR('Buildings and Areas'!$D$2=\"New Construction\",$AG35=\"\",$H35=\"\",AH35=\"Exterior\"),1,INDEX('Factor Tables'!D$46:D$51,MATCH(Inventory!$H35,'Factor Tables'!$B$46:$B$51,0)))","v":1},{"$f":"IF(I35=\"REMOVED\",0,IF($AD35<>\"\",VLOOKUP($AD35,'Fixture Descriptions'!$A:$I,8,0)/1000,0))","v":0},0,0,0,0,0,0,0,{"$f":"IFERROR(IF(OR($AG35=\"\",$K35=\"\",AH35=\"Exterior\"),1,INDEX('Factor Tables'!C$46:C$51,MATCH(Inventory!$K35,'Factor Tables'!$B$46:$B$51,0))),1)","v":1},{"$f":"IFERROR(IF(OR($AG35=\"\",$K35=\"\",AH35=\"Exterior\"),1,INDEX('Factor Tables'!D$46:D$51,MATCH(Inventory!$K35,'Factor Tables'!$B$46:$B$51,0))),1)","v":1},0,0,0,0,0,0,0,0,0,0,0,0,0,0,0,0,{"$f":"IFERROR(VLOOKUP(IF($AD35=\"Removed\",E35,$AD35),'Fixture Descriptions'!$A:$I,9,0),\"\")","v":0},{"$f":"IF($AD35=\"\",\"\",VLOOKUP($AD35,'Fixture Descriptions'!$A:$I,2,0))","v":""},{"$f":"IF(I35=\"\",\"\",IF(I35=\"Removed\",\"N/A\",IF(IFERROR(VLOOKUP(I35,'Fixture Schedule'!$C$9:$G$58,5,0),L35)=\"\",\"Not Qualified\",IFERROR(VLOOKUP(I35,'Fixture Schedule'!$C$9:$G$58,5,0),L35))))","v":""},{"$f":"IFERROR(INDEX('Utility Admin'!$F$3:$AW$3,1,MATCH(1,(CC$8='Utility Admin'!$F$1:$AW$1)*(Inventory!$AH35='Utility Admin'!$F$2:$AW$2)*(Inventory!$BZ35=('Utility Admin'!$F$4:$AW$4)),0)),0)","v":0},{"$f":"IFERROR(INDEX('Utility Admin'!$F$3:$AW$3,1,MATCH(1,(CD$8='Utility Admin'!$F$1:$AW$1)*(Inventory!$AH35='Utility Admin'!$F$2:$AW$2)*(Inventory!$BZ35=('Utility Admin'!$F$4:$AW$4)),0)),0)","v":0},{"$f":"IFERROR(INDEX('Utility Admin'!$F$3:$AW$3,1,MATCH(1,(CC$8='Utility Admin'!$F$1:$AW$1)*(Inventory!$AH35='Utility Admin'!$F$2:$AW$2)*(\"Lighting Controls\"=('Utility Admin'!$F$4:$AW$4)),0)),0)","v":0},{"$f":"IFERROR(INDEX('Utility Admin'!$F$3:$AW$3,1,MATCH(1,(CD$8='Utility Admin'!$F$1:$AW$1)*(Inventory!$AH35='Utility Admin'!$F$2:$AW$2)*(\"Lighting Controls\"=('Utility Admin'!$F$4:$AW$4)),0)),0)","v":0},false]
[null,28,null,null,null,null,null,null,null,null,null,null,null,{"$f":"IF(OR(I36=\"\",J36=\"\",AND(ProjectType=\"Retrofit\",OR(E36=\"\",F36=\"\"))),\"-\",IF(OR(CB36=0,CB36=\"Not Qualified\"),\"N\",IFERROR(INDEX('Fixture Descriptions'!K:K,MATCH(AD36,'Fixture Descriptions'!A:A,0)),\"N\")))","v":"-"},0,0,0,0,0,0,0,0,0,{"$f":"ROUND(IFERROR(IF($AE$7,BJ36*MaxIncentive,Inventory!Z36),0),2)","v":0},0,0,0,0,0,{"$f":"IF(I36=\"\",\"\",IFERROR(VLOOKUP(I36,'Fixture Schedule'!$C$9:$D$58,2,0),I36))","v":""},{"$f":"10","v":10},{"$f":"IFERROR(VLOOKUP(IF(I36=\"REMOVED\",E36,AD36),'Fixture Descriptions'!A:J,10,FALSE),0)","v":0},{"$f":"IFERROR(INDEX('Buildings and Areas'!D$5:D$14,MATCH($C36,'Buildings and Areas'!$B$5:$B$14,0),1),\"\")","v":""},{"$f":"IFERROR(INDEX('Buildings and Areas'!C$5:C$14,MATCH($C36,'Buildings and Areas'!$B$5:$B$14,0),1),\"\")","v":""},{"$f":"IFERROR(INDEX('Buildings and Areas'!R$5:R$14,MATCH($C36,'Buildings and Areas'!$B$5:$B$14,0),1),0)","v":0},{"$f":"IFERROR(INDEX('Buildings and Areas'!S$5:S$14,MATCH($C36,'Buildings and Areas'!$B$5:$B$14,0),1),0)","v":0},{"$f":"IFERROR(INDEX('Buildings and Areas'!T$5:T$14,MATCH($C36,'Buildings and Areas'!$B$5:$B$14,0),1),0)","v":0},{"$f":"IFERROR(INDEX('Buildings and Areas'!O$5:O$14,MATCH($C36,'Buildings and Areas'!$B$5:$B$14,0),1),\"\")","v":""},{"$f":"IFERROR(INDEX('Buildings and Areas'!F$5:F$14,MATCH($C36,'Buildings and Areas'!$B$5:$B$14,0),1)&IF(AH36=\"Exterior\",\": \"&'Buildings and Areas'!$H$4,\"\"),\"\")","v":""},{"$f":"IFERROR(INDEX('Buildings and Areas'!H$5:H$14,MATCH($C36,'Buildings and Areas'!$B$5:$B$14,0),1),\"\")","v":""},{"$f":"IFERROR(IF(INDEX('Buildings and Areas'!L$5:L$14,MATCH($C36,'Buildings and Areas'!$B$5:$B$14,0),1)=\"\",\"Deemed\",INDEX('Buildings and Areas'!L$5:L$14,MATCH($C36,'Buildings and Areas'!$B$5:$B$14,0),1)),\"\")","v":""},{"$f":"IFERROR(IF(INDEX('Buildings and Areas'!M$5:M$14,MATCH($C36,'Buildings and Areas'!$B$5:$B$14,0),1)=\"\",\"Deemed\",INDEX('Buildings and Areas'!M$5:M$14,MATCH($C36,'Buildings and Areas'!$B$5:$B$14,0),1)),\"\")","v":""},{"$f":"IFERROR(INDEX('Buildings and Areas'!P$5:P$14,MATCH($C36,'Buildings and Areas'!$B$5:$B$14,0),1),0)","v":0},{"$f":"IFERROR(INDEX('Buildings and Areas'!Q$5:Q$14,MATCH($C36,'Buildings and Areas'!$B$5:$B$14,0),1),0)","v":0},{"$f":"IF(OR($AG36=\"\",$E36=\"\",$F36=\"\"),0,IF($F$124>0.1,(VLOOKUP($E36,'Fixture Descriptions'!$A:$I,8,0)/1000)*(1-$G$124),(VLOOKUP($E36,'Fixture Descriptions'!$A:$I,8,0)/1000)))","v":0},0,0,0,0,{"$f":"IFERROR(IF(OR('Buildings and Areas'!$D$2=\"New Construction\",$AG36=\"\",$H36=\"\",AH36=\"Exterior\"),1,INDEX('Factor Tables'!C$46:C$51,MATCH(Inventory!$H36,'Factor Tables'!$B$46:$B$51,0))),1)","v":1},{"$f":"IF(OR('Buildings and Areas'!$D$2=\"New Construction\",$AG36=\"\",$H36=\"\",AH36=\"Exterior\"),1,INDEX('Factor Tables'!D$46:D$51,MATCH(Inventory!$H36,'Factor Tables'!$B$46:$B$51,0)))","v":1},{"$f":"IF(I36=\"REMOVED\",0,IF($AD36<>\"\",VLOOKUP($AD36,'Fixture Descriptions'!$A:$I,8,0)/1000,0))","v":0},0,0,0,0,0,0,0,{"$f":"IFERROR(IF(OR($AG36=\"\",$K36=\"\",AH36=\"Exterior\"),1,INDEX('Factor Tables'!C$46:C$51,MATCH(Inventory!$K36,'Factor Tables'!$B$46:$B$51,0))),1)","v":1},{"$f":"IFERROR(IF(OR($AG36=\"\",$K36=\"\",AH36=\"Exterior\"),1,INDEX('Factor Tables'!D$46:D$51,MATCH(Inventory!$K36,'Factor Tables'!$B$46:$B$51,0))),1)","v":1},0,0,0,0,0,0,0,0,0,0,0,0,0,0,0,0,{"$f":"IFERROR(VLOOKUP(IF($AD36=\"Removed\",E36,$AD36),'Fixture Descriptions'!$A:$I,9,0),\"\")","v":0},{"$f":"IF($AD36=\"\",\"\",VLOOKUP($AD36,'Fixture Descriptions'!$A:$I,2,0))","v":""},{"$f":"IF(I36=\"\",\"\",IF(I36=\"Removed\",\"N/A\",IF(IFERROR(VLOOKUP(I36,'Fixture Schedule'!$C$9:$G$58,5,0),L36)=\"\",\"Not Qualified\",IFERROR(VLOOKUP(I36,'Fixture Schedule'!$C$9:$G$58,5,0),L36))))","v":""},{"$f":"IFERROR(INDEX('Utility Admin'!$F$3:$AW$3,1,MATCH(1,(CC$8='Utility Admin'!$F$1:$AW$1)*(Inventory!$AH36='Utility Admin'!$F$2:$AW$2)*(Inventory!$BZ36=('Utility Admin'!$F$4:$AW$4)),0)),0)","v":0},{"$f":"IFERROR(INDEX('Utility Admin'!$F$3:$AW$3,1,MATCH(1,(CD$8='Utility Admin'!$F$1:$AW$1)*(Inventory!$AH36='Utility Admin'!$F$2:$AW$2)*(Inventory!$BZ36=('Utility Admin'!$F$4:$AW$4)),0)),0)","v":0},{"$f":"IFERROR(INDEX('Utility Admin'!$F$3:$AW$3,1,MATCH(1,(CC$8='Utility Admin'!$F$1:$AW$1)*(Inventory!$AH36='Utility Admin'!$F$2:$AW$2)*(\"Lighting Controls\"=('Utility Admin'!$F$4:$AW$4)),0)),0)","v":0},{"$f":"IFERROR(INDEX('Utility Admin'!$F$3:$AW$3,1,MATCH(1,(CD$8='Utility Admin'!$F$1:$AW$1)*(Inventory!$AH36='Utility Admin'!$F$2:$AW$2)*(\"Lighting Controls\"=('Utility Admin'!$F$4:$AW$4)),0)),0)","v":0},false]
[null,29,null,null,null,null,null,null,null,null,null,null,null,{"$f":"IF(OR(I37=\"\",J37=\"\",AND(ProjectType=\"Retrofit\",OR(E37=\"\",F37=\"\"))),\"-\",IF(OR(CB37=0,CB37=\"Not Qualified\"),\"N\",IFERROR(INDEX('Fixture Descriptions'!K:K,MATCH(AD37,'Fixture Descriptions'!A:A,0)),\"N\")))","v":"-"},0,0,0,0,0,0,0,0,0,{"$f":"ROUND(IFERROR(IF($AE$7,BJ37*MaxIncentive,Inventory!Z37),0),2)","v":0},0,0,0,0,0,{"$f":"IF(I37=\"\",\"\",IFERROR(VLOOKUP(I37,'Fixture Schedule'!$C$9:$D$58,2,0),I37))","v":""},{"$f":"10","v":10},{"$f":"IFERROR(VLOOKUP(IF(I37=\"REMOVED\",E37,AD37),'Fixture Descriptions'!A:J,10,FALSE),0)","v":0},{"$f":"IFERROR(INDEX('Buildings and Areas'!D$5:D$14,MATCH($C37,'Buildings and Areas'!$B$5:$B$14,0),1),\"\")","v":""},{"$f":"IFERROR(INDEX('Buildings and Areas'!C$5:C$14,MATCH($C37,'Buildings and Areas'!$B$5:$B$14,0),1),\"\")","v":""},{"$f":"IFERROR(INDEX('Buildings and Areas'!R$5:R$14,MATCH($C37,'Buildings and Areas'!$B$5:$B$14,0),1),0)","v":0},{"$f":"IFERROR(INDEX('Buildings and Areas'!S$5:S$14,MATCH($C37,'Buildings and Areas'!$B$5:$B$14,0),1),0)","v":0},{"$f":"IFERROR(INDEX('Buildings and Areas'!T$5:T$14,MATCH($C37,'Buildings and Areas'!$B$5:$B$14,0),1),0)","v":0},{"$f":"IFERROR(INDEX('Buildings and Areas'!O$5:O$14,MATCH($C37,'Buildings and Areas'!$B$5:$B$14,0),1),\"\")","v":""},{"$f":"IFERROR(INDEX('Buildings and Areas'!F$5:F$14,MATCH($C37,'Buildings and Areas'!$B$5:$B$14,0),1)&IF(AH37=\"Exterior\",\": \"&'Buildings and Areas'!$H$4,\"\"),\"\")","v":""},{"$f":"IFERROR(INDEX('Buildings and Areas'!H$5:H$14,MATCH($C37,'Buildings and Areas'!$B$5:$B$14,0),1),\"\")","v":""},{"$f":"IFERROR(IF(INDEX('Buildings and Areas'!L$5:L$14,MATCH($C37,'Buildings and Areas'!$B$5:$B$14,0),1)=\"\",\"Deemed\",INDEX('Buildings and Areas'!L$5:L$14,MATCH($C37,'Buildings and Areas'!$B$5:$B$14,0),1)),\"\")","v":""},{"$f":"IFERROR(IF(INDEX('Buildings and Areas'!M$5:M$14,MATCH($C37,'Buildings and Areas'!$B$5:$B$14,0),1)=\"\",\"Deemed\",INDEX('Buildings and Areas'!M$5:M$14,MATCH($C37,'Buildings and Areas'!$B$5:$B$14,0),1)),\"\")","v":""},{"$f":"IFERROR(INDEX('Buildings and Areas'!P$5:P$14,MATCH($C37,'Buildings and Areas'!$B$5:$B$14,0),1),0)","v":0},{"$f":"IFERROR(INDEX('Buildings and Areas'!Q$5:Q$14,MATCH($C37,'Buildings and Areas'!$B$5:$B$14,0),1),0)","v":0},{"$f":"IF(OR($AG37=\"\",$E37=\"\",$F37=\"\"),0,IF($F$124>0.1,(VLOOKUP($E37,'Fixture Descriptions'!$A:$I,8,0)/1000)*(1-$G$124),(VLOOKUP($E37,'Fixture Descriptions'!$A:$I,8,0)/1000)))","v":0},0,0,0,0,{"$f":"IFERROR(IF(OR('Buildings and Areas'!$D$2=\"New Construction\",$AG37=\"\",$H37=\"\",AH37=\"Exterior\"),1,INDEX('Factor Tables'!C$46:C$51,MATCH(Inventory!$H37,'Factor Tables'!$B$46:$B$51,0))),1)","v":1},{"$f":"IF(OR('Buildings and Areas'!$D$2=\"New Construction\",$AG37=\"\",$H37=\"\",AH37=\"Exterior\"),1,INDEX('Factor Tables'!D$46:D$51,MATCH(Inventory!$H37,'Factor Tables'!$B$46:$B$51,0)))","v":1},{"$f":"IF(I37=\"REMOVED\",0,IF($AD37<>\"\",VLOOKUP($AD37,'Fixture Descriptions'!$A:$I,8,0)/1000,0))","v":0},0,0,0,0,0,0,0,{"$f":"IFERROR(IF(OR($AG37=\"\",$K37=\"\",AH37=\"Exterior\"),1,INDEX('Factor Tables'!C$46:C$51,MATCH(Inventory!$K37,'Factor Tables'!$B$46:$B$51,0))),1)","v":1},{"$f":"IFERROR(IF(OR($AG37=\"\",$K37=\"\",AH37=\"Exterior\"),1,INDEX('Factor Tables'!D$46:D$51,MATCH(Inventory!$K37,'Factor Tables'!$B$46:$B$51,0))),1)","v":1},0,0,0,0,0,0,0,0,0,0,0,0,0,0,0,0,{"$f":"IFERROR(VLOOKUP(IF($AD37=\"Removed\",E37,$AD37),'Fixture Descriptions'!$A:$I,9,0),\"\")","v":0},{"$f":"IF($AD37=\"\",\"\",VLOOKUP($AD37,'Fixture Descriptions'!$A:$I,2,0))","v":""},{"$f":"IF(I37=\"\",\"\",IF(I37=\"Removed\",\"N/A\",IF(IFERROR(VLOOKUP(I37,'Fixture Schedule'!$C$9:$G$58,5,0),L37)=\"\",\"Not Qualified\",IFERROR(VLOOKUP(I37,'Fixture Schedule'!$C$9:$G$58,5,0),L37))))","v":""},{"$f":"IFERROR(INDEX('Utility Admin'!$F$3:$AW$3,1,MATCH(1,(CC$8='Utility Admin'!$F$1:$AW$1)*(Inventory!$AH37='Utility Admin'!$F$2:$AW$2)*(Inventory!$BZ37=('Utility Admin'!$F$4:$AW$4)),0)),0)","v":0},{"$f":"IFERROR(INDEX('Utility Admin'!$F$3:$AW$3,1,MATCH(1,(CD$8='Utility Admin'!$F$1:$AW$1)*(Inventory!$AH37='Utility Admin'!$F$2:$AW$2)*(Inventory!$BZ37=('Utility Admin'!$F$4:$AW$4)),0)),0)","v":0},{"$f":"IFERROR(INDEX('Utility Admin'!$F$3:$AW$3,1,MATCH(1,(CC$8='Utility Admin'!$F$1:$AW$1)*(Inventory!$AH37='Utility Admin'!$F$2:$AW$2)*(\"Lighting Controls\"=('Utility Admin'!$F$4:$AW$4)),0)),0)","v":0},{"$f":"IFERROR(INDEX('Utility Admin'!$F$3:$AW$3,1,MATCH(1,(CD$8='Utility Admin'!$F$1:$AW$1)*(Inventory!$AH37='Utility Admin'!$F$2:$AW$2)*(\"Lighting Controls\"=('Utility Admin'!$F$4:$AW$4)),0)),0)","v":0},false]
[null,30,null,null,null,null,null,null,null,null,null,null,null,{"$f":"IF(OR(I38=\"\",J38=\"\",AND(ProjectType=\"Retrofit\",OR(E38=\"\",F38=\"\"))),\"-\",IF(OR(CB38=0,CB38=\"Not Qualified\"),\"N\",IFERROR(INDEX('Fixture Descriptions'!K:K,MATCH(AD38,'Fixture Descriptions'!A:A,0)),\"N\")))","v":"-"},0,0,0,0,0,0,0,0,0,{"$f":"ROUND(IFERROR(IF($AE$7,BJ38*MaxIncentive,Inventory!Z38),0),2)","v":0},0,0,0,0,0,{"$f":"IF(I38=\"\",\"\",IFERROR(VLOOKUP(I38,'Fixture Schedule'!$C$9:$D$58,2,0),I38))","v":""},{"$f":"10","v":10},{"$f":"IFERROR(VLOOKUP(IF(I38=\"REMOVED\",E38,AD38),'Fixture Descriptions'!A:J,10,FALSE),0)","v":0},{"$f":"IFERROR(INDEX('Buildings and Areas'!D$5:D$14,MATCH($C38,'Buildings and Areas'!$B$5:$B$14,0),1),\"\")","v":""},{"$f":"IFERROR(INDEX('Buildings and Areas'!C$5:C$14,MATCH($C38,'Buildings and Areas'!$B$5:$B$14,0),1),\"\")","v":""},{"$f":"IFERROR(INDEX('Buildings and Areas'!R$5:R$14,MATCH($C38,'Buildings and Areas'!$B$5:$B$14,0),1),0)","v":0},{"$f":"IFERROR(INDEX('Buildings and Areas'!S$5:S$14,MATCH($C38,'Buildings and Areas'!$B$5:$B$14,0),1),0)","v":0},{"$f":"IFERROR(INDEX('Buildings and Areas'!T$5:T$14,MATCH($C38,'Buildings and Areas'!$B$5:$B$14,0),1),0)","v":0},{"$f":"IFERROR(INDEX('Buildings and Areas'!O$5:O$14,MATCH($C38,'Buildings and Areas'!$B$5:$B$14,0),1),\"\")","v":""},{"$f":"IFERROR(INDEX('Buildings and Areas'!F$5:F$14,MATCH($C38,'Buildings and Areas'!$B$5:$B$14,0),1)&IF(AH38=\"Exterior\",\": \"&'Buildings and Areas'!$H$4,\"\"),\"\")","v":""},{"$f":"IFERROR(INDEX('Buildings and Areas'!H$5:H$14,MATCH($C38,'Buildings and Areas'!$B$5:$B$14,0),1),\"\")","v":""},{"$f":"IFERROR(IF(INDEX('Buildings and Areas'!L$5:L$14,MATCH($C38,'Buildings and Areas'!$B$5:$B$14,0),1)=\"\",\"Deemed\",INDEX('Buildings and Areas'!L$5:L$14,MATCH($C38,'Buildings and Areas'!$B$5:$B$14,0),1)),\"\")","v":""},{"$f":"IFERROR(IF(INDEX('Buildings and Areas'!M$5:M$14,MATCH($C38,'Buildings and Areas'!$B$5:$B$14,0),1)=\"\",\"Deemed\",INDEX('Buildings and Areas'!M$5:M$14,MATCH($C38,'Buildings and Areas'!$B$5:$B$14,0),1)),\"\")","v":""},{"$f":"IFERROR(INDEX('Buildings and Areas'!P$5:P$14,MATCH($C38,'Buildings and Areas'!$B$5:$B$14,0),1),0)","v":0},{"$f":"IFERROR(INDEX('Buildings and Areas'!Q$5:Q$14,MATCH($C38,'Buildings and Areas'!$B$5:$B$14,0),1),0)","v":0},{"$f":"IF(OR($AG38=\"\",$E38=\"\",$F38=\"\"),0,IF($F$124>0.1,(VLOOKUP($E38,'Fixture Descriptions'!$A:$I,8,0)/1000)*(1-$G$124),(VLOOKUP($E38,'Fixture Descriptions'!$A:$I,8,0)/1000)))","v":0},0,0,0,0,{"$f":"IFERROR(IF(OR('Buildings and Areas'!$D$2=\"New Construction\",$AG38=\"\",$H38=\"\",AH38=\"Exterior\"),1,INDEX('Factor Tables'!C$46:C$51,MATCH(Inventory!$H38,'Factor Tables'!$B$46:$B$51,0))),1)","v":1},{"$f":"IF(OR('Buildings and Areas'!$D$2=\"New Construction\",$AG38=\"\",$H38=\"\",AH38=\"Exterior\"),1,INDEX('Factor Tables'!D$46:D$51,MATCH(Inventory!$H38,'Factor Tables'!$B$46:$B$51,0)))","v":1},{"$f":"IF(I38=\"REMOVED\",0,IF($AD38<>\"\",VLOOKUP($AD38,'Fixture Descriptions'!$A:$I,8,0)/1000,0))","v":0},0,0,0,0,0,0,0,{"$f":"IFERROR(IF(OR($AG38=\"\",$K38=\"\",AH38=\"Exterior\"),1,INDEX('Factor Tables'!C$46:C$51,MATCH(Inventory!$K38,'Factor Tables'!$B$46:$B$51,0))),1)","v":1},{"$f":"IFERROR(IF(OR($AG38=\"\",$K38=\"\",AH38=\"Exterior\"),1,INDEX('Factor Tables'!D$46:D$51,MATCH(Inventory!$K38,'Factor Tables'!$B$46:$B$51,0))),1)","v":1},0,0,0,0,0,0,0,0,0,0,0,0,0,0,0,0,{"$f":"IFERROR(VLOOKUP(IF($AD38=\"Removed\",E38,$AD38),'Fixture Descriptions'!$A:$I,9,0),\"\")","v":0},{"$f":"IF($AD38=\"\",\"\",VLOOKUP($AD38,'Fixture Descriptions'!$A:$I,2,0))","v":""},{"$f":"IF(I38=\"\",\"\",IF(I38=\"Removed\",\"N/A\",IF(IFERROR(VLOOKUP(I38,'Fixture Schedule'!$C$9:$G$58,5,0),L38)=\"\",\"Not Qualified\",IFERROR(VLOOKUP(I38,'Fixture Schedule'!$C$9:$G$58,5,0),L38))))","v":""},{"$f":"IFERROR(INDEX('Utility Admin'!$F$3:$AW$3,1,MATCH(1,(CC$8='Utility Admin'!$F$1:$AW$1)*(Inventory!$AH38='Utility Admin'!$F$2:$AW$2)*(Inventory!$BZ38=('Utility Admin'!$F$4:$AW$4)),0)),0)","v":0},{"$f":"IFERROR(INDEX('Utility Admin'!$F$3:$AW$3,1,MATCH(1,(CD$8='Utility Admin'!$F$1:$AW$1)*(Inventory!$AH38='Utility Admin'!$F$2:$AW$2)*(Inventory!$BZ38=('Utility Admin'!$F$4:$AW$4)),0)),0)","v":0},{"$f":"IFERROR(INDEX('Utility Admin'!$F$3:$AW$3,1,MATCH(1,(CC$8='Utility Admin'!$F$1:$AW$1)*(Inventory!$AH38='Utility Admin'!$F$2:$AW$2)*(\"Lighting Controls\"=('Utility Admin'!$F$4:$AW$4)),0)),0)","v":0},{"$f":"IFERROR(INDEX('Utility Admin'!$F$3:$AW$3,1,MATCH(1,(CD$8='Utility Admin'!$F$1:$AW$1)*(Inventory!$AH38='Utility Admin'!$F$2:$AW$2)*(\"Lighting Controls\"=('Utility Admin'!$F$4:$AW$4)),0)),0)","v":0},false]
[null,31,null,null,null,null,null,null,null,null,null,null,null,{"$f":"IF(OR(I39=\"\",J39=\"\",AND(ProjectType=\"Retrofit\",OR(E39=\"\",F39=\"\"))),\"-\",IF(OR(CB39=0,CB39=\"Not Qualified\"),\"N\",IFERROR(INDEX('Fixture Descriptions'!K:K,MATCH(AD39,'Fixture Descriptions'!A:A,0)),\"N\")))","v":"-"},0,0,0,0,0,0,0,0,0,{"$f":"ROUND(IFERROR(IF($AE$7,BJ39*MaxIncentive,Inventory!Z39),0),2)","v":0},0,0,0,0,0,{"$f":"IF(I39=\"\",\"\",IFERROR(VLOOKUP(I39,'Fixture Schedule'!$C$9:$D$58,2,0),I39))","v":""},{"$f":"10","v":10},{"$f":"IFERROR(VLOOKUP(IF(I39=\"REMOVED\",E39,AD39),'Fixture Descriptions'!A:J,10,FALSE),0)","v":0},{"$f":"IFERROR(INDEX('Buildings and Areas'!D$5:D$14,MATCH($C39,'Buildings and Areas'!$B$5:$B$14,0),1),\"\")","v":""},{"$f":"IFERROR(INDEX('Buildings and Areas'!C$5:C$14,MATCH($C39,'Buildings and Areas'!$B$5:$B$14,0),1),\"\")","v":""},{"$f":"IFERROR(INDEX('Buildings and Areas'!R$5:R$14,MATCH($C39,'Buildings and Areas'!$B$5:$B$14,0),1),0)","v":0},{"$f":"IFERROR(INDEX('Buildings and Areas'!S$5:S$14,MATCH($C39,'Buildings and Areas'!$B$5:$B$14,0),1),0)","v":0},{"$f":"IFERROR(INDEX('Buildings and Areas'!T$5:T$14,MATCH($C39,'Buildings and Areas'!$B$5:$B$14,0),1),0)","v":0},{"$f":"IFERROR(INDEX('Buildings and Areas'!O$5:O$14,MATCH($C39,'Buildings and Areas'!$B$5:$B$14,0),1),\"\")","v":""},{"$f":"IFERROR(INDEX('Buildings and Areas'!F$5:F$14,MATCH($C39,'Buildings and Areas'!$B$5:$B$14,0),1)&IF(AH39=\"Exterior\",\": \"&'Buildings and Areas'!$H$4,\"\"),\"\")","v":""},{"$f":"IFERROR(INDEX('Buildings and Areas'!H$5:H$14,MATCH($C39,'Buildings and Areas'!$B$5:$B$14,0),1),\"\")","v":""},{"$f":"IFERROR(IF(INDEX('Buildings and Areas'!L$5:L$14,MATCH($C39,'Buildings and Areas'!$B$5:$B$14,0),1)=\"\",\"Deemed\",INDEX('Buildings and Areas'!L$5:L$14,MATCH($C39,'Buildings and Areas'!$B$5:$B$14,0),1)),\"\")","v":""},{"$f":"IFERROR(IF(INDEX('Buildings and Areas'!M$5:M$14,MATCH($C39,'Buildings and Areas'!$B$5:$B$14,0),1)=\"\",\"Deemed\",INDEX('Buildings and Areas'!M$5:M$14,MATCH($C39,'Buildings and Areas'!$B$5:$B$14,0),1)),\"\")","v":""},{"$f":"IFERROR(INDEX('Buildings and Areas'!P$5:P$14,MATCH($C39,'Buildings and Areas'!$B$5:$B$14,0),1),0)","v":0},{"$f":"IFERROR(INDEX('Buildings and Areas'!Q$5:Q$14,MATCH($C39,'Buildings and Areas'!$B$5:$B$14,0),1),0)","v":0},{"$f":"IF(OR($AG39=\"\",$E39=\"\",$F39=\"\"),0,IF($F$124>0.1,(VLOOKUP($E39,'Fixture Descriptions'!$A:$I,8,0)/1000)*(1-$G$124),(VLOOKUP($E39,'Fixture Descriptions'!$A:$I,8,0)/1000)))","v":0},0,0,0,0,{"$f":"IFERROR(IF(OR('Buildings and Areas'!$D$2=\"New Construction\",$AG39=\"\",$H39=\"\",AH39=\"Exterior\"),1,INDEX('Factor Tables'!C$46:C$51,MATCH(Inventory!$H39,'Factor Tables'!$B$46:$B$51,0))),1)","v":1},{"$f":"IF(OR('Buildings and Areas'!$D$2=\"New Construction\",$AG39=\"\",$H39=\"\",AH39=\"Exterior\"),1,INDEX('Factor Tables'!D$46:D$51,MATCH(Inventory!$H39,'Factor Tables'!$B$46:$B$51,0)))","v":1},{"$f":"IF(I39=\"REMOVED\",0,IF($AD39<>\"\",VLOOKUP($AD39,'Fixture Descriptions'!$A:$I,8,0)/1000,0))","v":0},0,0,0,0,0,0,0,{"$f":"IFERROR(IF(OR($AG39=\"\",$K39=\"\",AH39=\"Exterior\"),1,INDEX('Factor Tables'!C$46:C$51,MATCH(Inventory!$K39,'Factor Tables'!$B$46:$B$51,0))),1)","v":1},{"$f":"IFERROR(IF(OR($AG39=\"\",$K39=\"\",AH39=\"Exterior\"),1,INDEX('Factor Tables'!D$46:D$51,MATCH(Inventory!$K39,'Factor Tables'!$B$46:$B$51,0))),1)","v":1},0,0,0,0,0,0,0,0,0,0,0,0,0,0,0,0,{"$f":"IFERROR(VLOOKUP(IF($AD39=\"Removed\",E39,$AD39),'Fixture Descriptions'!$A:$I,9,0),\"\")","v":0},{"$f":"IF($AD39=\"\",\"\",VLOOKUP($AD39,'Fixture Descriptions'!$A:$I,2,0))","v":""},{"$f":"IF(I39=\"\",\"\",IF(I39=\"Removed\",\"N/A\",IF(IFERROR(VLOOKUP(I39,'Fixture Schedule'!$C$9:$G$58,5,0),L39)=\"\",\"Not Qualified\",IFERROR(VLOOKUP(I39,'Fixture Schedule'!$C$9:$G$58,5,0),L39))))","v":""},{"$f":"IFERROR(INDEX('Utility Admin'!$F$3:$AW$3,1,MATCH(1,(CC$8='Utility Admin'!$F$1:$AW$1)*(Inventory!$AH39='Utility Admin'!$F$2:$AW$2)*(Inventory!$BZ39=('Utility Admin'!$F$4:$AW$4)),0)),0)","v":0},{"$f":"IFERROR(INDEX('Utility Admin'!$F$3:$AW$3,1,MATCH(1,(CD$8='Utility Admin'!$F$1:$AW$1)*(Inventory!$AH39='Utility Admin'!$F$2:$AW$2)*(Inventory!$BZ39=('Utility Admin'!$F$4:$AW$4)),0)),0)","v":0},{"$f":"IFERROR(INDEX('Utility Admin'!$F$3:$AW$3,1,MATCH(1,(CC$8='Utility Admin'!$F$1:$AW$1)*(Inventory!$AH39='Utility Admin'!$F$2:$AW$2)*(\"Lighting Controls\"=('Utility Admin'!$F$4:$AW$4)),0)),0)","v":0},{"$f":"IFERROR(INDEX('Utility Admin'!$F$3:$AW$3,1,MATCH(1,(CD$8='Utility Admin'!$F$1:$AW$1)*(Inventory!$AH39='Utility Admin'!$F$2:$AW$2)*(\"Lighting Controls\"=('Utility Admin'!$F$4:$AW$4)),0)),0)","v":0},false]
[null,32,null,null,null,null,null,null,null,null,null,null,null,{"$f":"IF(OR(I40=\"\",J40=\"\",AND(ProjectType=\"Retrofit\",OR(E40=\"\",F40=\"\"))),\"-\",IF(OR(CB40=0,CB40=\"Not Qualified\"),\"N\",IFERROR(INDEX('Fixture Descriptions'!K:K,MATCH(AD40,'Fixture Descriptions'!A:A,0)),\"N\")))","v":"-"},0,0,0,0,0,0,0,0,0,{"$f":"ROUND(IFERROR(IF($AE$7,BJ40*MaxIncentive,Inventory!Z40),0),2)","v":0},0,0,0,0,0,{"$f":"IF(I40=\"\",\"\",IFERROR(VLOOKUP(I40,'Fixture Schedule'!$C$9:$D$58,2,0),I40))","v":""},{"$f":"10","v":10},{"$f":"IFERROR(VLOOKUP(IF(I40=\"REMOVED\",E40,AD40),'Fixture Descriptions'!A:J,10,FALSE),0)","v":0},{"$f":"IFERROR(INDEX('Buildings and Areas'!D$5:D$14,MATCH($C40,'Buildings and Areas'!$B$5:$B$14,0),1),\"\")","v":""},{"$f":"IFERROR(INDEX('Buildings and Areas'!C$5:C$14,MATCH($C40,'Buildings and Areas'!$B$5:$B$14,0),1),\"\")","v":""},{"$f":"IFERROR(INDEX('Buildings and Areas'!R$5:R$14,MATCH($C40,'Buildings and Areas'!$B$5:$B$14,0),1),0)","v":0},{"$f":"IFERROR(INDEX('Buildings and Areas'!S$5:S$14,MATCH($C40,'Buildings and Areas'!$B$5:$B$14,0),1),0)","v":0},{"$f":"IFERROR(INDEX('Buildings and Areas'!T$5:T$14,MATCH($C40,'Buildings and Areas'!$B$5:$B$14,0),1),0)","v":0},{"$f":"IFERROR(INDEX('Buildings and Areas'!O$5:O$14,MATCH($C40,'Buildings and Areas'!$B$5:$B$14,0),1),\"\")","v":""},{"$f":"IFERROR(INDEX('Buildings and Areas'!F$5:F$14,MATCH($C40,'Buildings and Areas'!$B$5:$B$14,0),1)&IF(AH40=\"Exterior\",\": \"&'Buildings and Areas'!$H$4,\"\"),\"\")","v":""},{"$f":"IFERROR(INDEX('Buildings and Areas'!H$5:H$14,MATCH($C40,'Buildings and Areas'!$B$5:$B$14,0),1),\"\")","v":""},{"$f":"IFERROR(IF(INDEX('Buildings and Areas'!L$5:L$14,MATCH($C40,'Buildings and Areas'!$B$5:$B$14,0),1)=\"\",\"Deemed\",INDEX('Buildings and Areas'!L$5:L$14,MATCH($C40,'Buildings and Areas'!$B$5:$B$14,0),1)),\"\")","v":""},{"$f":"IFERROR(IF(INDEX('Buildings and Areas'!M$5:M$14,MATCH($C40,'Buildings and Areas'!$B$5:$B$14,0),1)=\"\",\"Deemed\",INDEX('Buildings and Areas'!M$5:M$14,MATCH($C40,'Buildings and Areas'!$B$5:$B$14,0),1)),\"\")","v":""},{"$f":"IFERROR(INDEX('Buildings and Areas'!P$5:P$14,MATCH($C40,'Buildings and Areas'!$B$5:$B$14,0),1),0)","v":0},{"$f":"IFERROR(INDEX('Buildings and Areas'!Q$5:Q$14,MATCH($C40,'Buildings and Areas'!$B$5:$B$14,0),1),0)","v":0},{"$f":"IF(OR($AG40=\"\",$E40=\"\",$F40=\"\"),0,IF($F$124>0.1,(VLOOKUP($E40,'Fixture Descriptions'!$A:$I,8,0)/1000)*(1-$G$124),(VLOOKUP($E40,'Fixture Descriptions'!$A:$I,8,0)/1000)))","v":0},0,0,0,0,{"$f":"IFERROR(IF(OR('Buildings and Areas'!$D$2=\"New Construction\",$AG40=\"\",$H40=\"\",AH40=\"Exterior\"),1,INDEX('Factor Tables'!C$46:C$51,MATCH(Inventory!$H40,'Factor Tables'!$B$46:$B$51,0))),1)","v":1},{"$f":"IF(OR('Buildings and Areas'!$D$2=\"New Construction\",$AG40=\"\",$H40=\"\",AH40=\"Exterior\"),1,INDEX('Factor Tables'!D$46:D$51,MATCH(Inventory!$H40,'Factor Tables'!$B$46:$B$51,0)))","v":1},{"$f":"IF(I40=\"REMOVED\",0,IF($AD40<>\"\",VLOOKUP($AD40,'Fixture Descriptions'!$A:$I,8,0)/1000,0))","v":0},0,0,0,0,0,0,0,{"$f":"IFERROR(IF(OR($AG40=\"\",$K40=\"\",AH40=\"Exterior\"),1,INDEX('Factor Tables'!C$46:C$51,MATCH(Inventory!$K40,'Factor Tables'!$B$46:$B$51,0))),1)","v":1},{"$f":"IFERROR(IF(OR($AG40=\"\",$K40=\"\",AH40=\"Exterior\"),1,INDEX('Factor Tables'!D$46:D$51,MATCH(Inventory!$K40,'Factor Tables'!$B$46:$B$51,0))),1)","v":1},0,0,0,0,0,0,0,0,0,0,0,0,0,0,0,0,{"$f":"IFERROR(VLOOKUP(IF($AD40=\"Removed\",E40,$AD40),'Fixture Descriptions'!$A:$I,9,0),\"\")","v":0},{"$f":"IF($AD40=\"\",\"\",VLOOKUP($AD40,'Fixture Descriptions'!$A:$I,2,0))","v":""},{"$f":"IF(I40=\"\",\"\",IF(I40=\"Removed\",\"N/A\",IF(IFERROR(VLOOKUP(I40,'Fixture Schedule'!$C$9:$G$58,5,0),L40)=\"\",\"Not Qualified\",IFERROR(VLOOKUP(I40,'Fixture Schedule'!$C$9:$G$58,5,0),L40))))","v":""},{"$f":"IFERROR(INDEX('Utility Admin'!$F$3:$AW$3,1,MATCH(1,(CC$8='Utility Admin'!$F$1:$AW$1)*(Inventory!$AH40='Utility Admin'!$F$2:$AW$2)*(Inventory!$BZ40=('Utility Admin'!$F$4:$AW$4)),0)),0)","v":0},{"$f":"IFERROR(INDEX('Utility Admin'!$F$3:$AW$3,1,MATCH(1,(CD$8='Utility Admin'!$F$1:$AW$1)*(Inventory!$AH40='Utility Admin'!$F$2:$AW$2)*(Inventory!$BZ40=('Utility Admin'!$F$4:$AW$4)),0)),0)","v":0},{"$f":"IFERROR(INDEX('Utility Admin'!$F$3:$AW$3,1,MATCH(1,(CC$8='Utility Admin'!$F$1:$AW$1)*(Inventory!$AH40='Utility Admin'!$F$2:$AW$2)*(\"Lighting Controls\"=('Utility Admin'!$F$4:$AW$4)),0)),0)","v":0},{"$f":"IFERROR(INDEX('Utility Admin'!$F$3:$AW$3,1,MATCH(1,(CD$8='Utility Admin'!$F$1:$AW$1)*(Inventory!$AH40='Utility Admin'!$F$2:$AW$2)*(\"Lighting Controls\"=('Utility Admin'!$F$4:$AW$4)),0)),0)","v":0},false]
[null,33,null,null,null,null,null,null,null,null,null,null,null,{"$f":"IF(OR(I41=\"\",J41=\"\",AND(ProjectType=\"Retrofit\",OR(E41=\"\",F41=\"\"))),\"-\",IF(OR(CB41=0,CB41=\"Not Qualified\"),\"N\",IFERROR(INDEX('Fixture Descriptions'!K:K,MATCH(AD41,'Fixture Descriptions'!A:A,0)),\"N\")))","v":"-"},0,0,0,0,0,0,0,0,0,{"$f":"ROUND(IFERROR(IF($AE$7,BJ41*MaxIncentive,Inventory!Z41),0),2)","v":0},0,0,0,0,0,{"$f":"IF(I41=\"\",\"\",IFERROR(VLOOKUP(I41,'Fixture Schedule'!$C$9:$D$58,2,0),I41))","v":""},{"$f":"10","v":10},{"$f":"IFERROR(VLOOKUP(IF(I41=\"REMOVED\",E41,AD41),'Fixture Descriptions'!A:J,10,FALSE),0)","v":0},{"$f":"IFERROR(INDEX('Buildings and Areas'!D$5:D$14,MATCH($C41,'Buildings and Areas'!$B$5:$B$14,0),1),\"\")","v":""},{"$f":"IFERROR(INDEX('Buildings and Areas'!C$5:C$14,MATCH($C41,'Buildings and Areas'!$B$5:$B$14,0),1),\"\")","v":""},{"$f":"IFERROR(INDEX('Buildings and Areas'!R$5:R$14,MATCH($C41,'Buildings and Areas'!$B$5:$B$14,0),1),0)","v":0},{"$f":"IFERROR(INDEX('Buildings and Areas'!S$5:S$14,MATCH($C41,'Buildings and Areas'!$B$5:$B$14,0),1),0)","v":0},{"$f":"IFERROR(INDEX('Buildings and Areas'!T$5:T$14,MATCH($C41,'Buildings and Areas'!$B$5:$B$14,0),1),0)","v":0},{"$f":"IFERROR(INDEX('Buildings and Areas'!O$5:O$14,MATCH($C41,'Buildings and Areas'!$B$5:$B$14,0),1),\"\")","v":""},{"$f":"IFERROR(INDEX('Buildings and Areas'!F$5:F$14,MATCH($C41,'Buildings and Areas'!$B$5:$B$14,0),1)&IF(AH41=\"Exterior\",\": \"&'Buildings and Areas'!$H$4,\"\"),\"\")","v":""},{"$f":"IFERROR(INDEX('Buildings and Areas'!H$5:H$14,MATCH($C41,'Buildings and Areas'!$B$5:$B$14,0),1),\"\")","v":""},{"$f":"IFERROR(IF(INDEX('Buildings and Areas'!L$5:L$14,MATCH($C41,'Buildings and Areas'!$B$5:$B$14,0),1)=\"\",\"Deemed\",INDEX('Buildings and Areas'!L$5:L$14,MATCH($C41,'Buildings and Areas'!$B$5:$B$14,0),1)),\"\")","v":""},{"$f":"IFERROR(IF(INDEX('Buildings and Areas'!M$5:M$14,MATCH($C41,'Buildings and Areas'!$B$5:$B$14,0),1)=\"\",\"Deemed\",INDEX('Buildings and Areas'!M$5:M$14,MATCH($C41,'Buildings and Areas'!$B$5:$B$14,0),1)),\"\")","v":""},{"$f":"IFERROR(INDEX('Buildings and Areas'!P$5:P$14,MATCH($C41,'Buildings and Areas'!$B$5:$B$14,0),1),0)","v":0},{"$f":"IFERROR(INDEX('Buildings and Areas'!Q$5:Q$14,MATCH($C41,'Buildings and Areas'!$B$5:$B$14,0),1),0)","v":0},{"$f":"IF(OR($AG41=\"\",$E41=\"\",$F41=\"\"),0,IF($F$124>0.1,(VLOOKUP($E41,'Fixture Descriptions'!$A:$I,8,0)/1000)*(1-$G$124),(VLOOKUP($E41,'Fixture Descriptions'!$A:$I,8,0)/1000)))","v":0},0,0,0,0,{"$f":"IFERROR(IF(OR('Buildings and Areas'!$D$2=\"New Construction\",$AG41=\"\",$H41=\"\",AH41=\"Exterior\"),1,INDEX('Factor Tables'!C$46:C$51,MATCH(Inventory!$H41,'Factor Tables'!$B$46:$B$51,0))),1)","v":1},{"$f":"IF(OR('Buildings and Areas'!$D$2=\"New Construction\",$AG41=\"\",$H41=\"\",AH41=\"Exterior\"),1,INDEX('Factor Tables'!D$46:D$51,MATCH(Inventory!$H41,'Factor Tables'!$B$46:$B$51,0)))","v":1},{"$f":"IF(I41=\"REMOVED\",0,IF($AD41<>\"\",VLOOKUP($AD41,'Fixture Descriptions'!$A:$I,8,0)/1000,0))","v":0},0,0,0,0,0,0,0,{"$f":"IFERROR(IF(OR($AG41=\"\",$K41=\"\",AH41=\"Exterior\"),1,INDEX('Factor Tables'!C$46:C$51,MATCH(Inventory!$K41,'Factor Tables'!$B$46:$B$51,0))),1)","v":1},{"$f":"IFERROR(IF(OR($AG41=\"\",$K41=\"\",AH41=\"Exterior\"),1,INDEX('Factor Tables'!D$46:D$51,MATCH(Inventory!$K41,'Factor Tables'!$B$46:$B$51,0))),1)","v":1},0,0,{"$f":"IFERROR(BB41/INDEX(BB$112:BB$121,MATCH(C41,C$112:C$121,0)),0)","v":0},0,0,0,0,0,0,0,0,0,0,0,0,0,{"$f":"IFERROR(VLOOKUP(IF($AD41=\"Removed\",E41,$AD41),'Fixture Descriptions'!$A:$I,9,0),\"\")","v":0},{"$f":"IF($AD41=\"\",\"\",VLOOKUP($AD41,'Fixture Descriptions'!$A:$I,2,0))","v":""},{"$f":"IF(I41=\"\",\"\",IF(I41=\"Removed\",\"N/A\",IF(IFERROR(VLOOKUP(I41,'Fixture Schedule'!$C$9:$G$58,5,0),L41)=\"\",\"Not Qualified\",IFERROR(VLOOKUP(I41,'Fixture Schedule'!$C$9:$G$58,5,0),L41))))","v":""},{"$f":"IFERROR(INDEX('Utility Admin'!$F$3:$AW$3,1,MATCH(1,(CC$8='Utility Admin'!$F$1:$AW$1)*(Inventory!$AH41='Utility Admin'!$F$2:$AW$2)*(Inventory!$BZ41=('Utility Admin'!$F$4:$AW$4)),0)),0)","v":0},{"$f":"IFERROR(INDEX('Utility Admin'!$F$3:$AW$3,1,MATCH(1,(CD$8='Utility Admin'!$F$1:$AW$1)*(Inventory!$AH41='Utility Admin'!$F$2:$AW$2)*(Inventory!$BZ41=('Utility Admin'!$F$4:$AW$4)),0)),0)","v":0},{"$f":"IFERROR(INDEX('Utility Admin'!$F$3:$AW$3,1,MATCH(1,(CC$8='Utility Admin'!$F$1:$AW$1)*(Inventory!$AH41='Utility Admin'!$F$2:$AW$2)*(\"Lighting Controls\"=('Utility Admin'!$F$4:$AW$4)),0)),0)","v":0},{"$f":"IFERROR(INDEX('Utility Admin'!$F$3:$AW$3,1,MATCH(1,(CD$8='Utility Admin'!$F$1:$AW$1)*(Inventory!$AH41='Utility Admin'!$F$2:$AW$2)*(\"Lighting Controls\"=('Utility Admin'!$F$4:$AW$4)),0)),0)","v":0},false]
[null,34,null,null,null,null,null,null,null,null,null,null,null,{"$f":"IF(OR(I42=\"\",J42=\"\",AND(ProjectType=\"Retrofit\",OR(E42=\"\",F42=\"\"))),\"-\",IF(OR(CB42=0,CB42=\"Not Qualified\"),\"N\",IFERROR(INDEX('Fixture Descriptions'!K:K,MATCH(AD42,'Fixture Descriptions'!A:A,0)),\"N\")))","v":"-"},0,0,0,0,0,0,0,0,0,{"$f":"ROUND(IFERROR(IF($AE$7,BJ42*MaxIncentive,Inventory!Z42),0),2)","v":0},0,0,0,0,0,{"$f":"IF(I42=\"\",\"\",IFERROR(VLOOKUP(I42,'Fixture Schedule'!$C$9:$D$58,2,0),I42))","v":""},{"$f":"10","v":10},{"$f":"IFERROR(VLOOKUP(IF(I42=\"REMOVED\",E42,AD42),'Fixture Descriptions'!A:J,10,FALSE),0)","v":0},{"$f":"IFERROR(INDEX('Buildings and Areas'!D$5:D$14,MATCH($C42,'Buildings and Areas'!$B$5:$B$14,0),1),\"\")","v":""},{"$f":"IFERROR(INDEX('Buildings and Areas'!C$5:C$14,MATCH($C42,'Buildings and Areas'!$B$5:$B$14,0),1),\"\")","v":""},{"$f":"IFERROR(INDEX('Buildings and Areas'!R$5:R$14,MATCH($C42,'Buildings and Areas'!$B$5:$B$14,0),1),0)","v":0},{"$f":"IFERROR(INDEX('Buildings and Areas'!S$5:S$14,MATCH($C42,'Buildings and Areas'!$B$5:$B$14,0),1),0)","v":0},{"$f":"IFERROR(INDEX('Buildings and Areas'!T$5:T$14,MATCH($C42,'Buildings and Areas'!$B$5:$B$14,0),1),0)","v":0},{"$f":"IFERROR(INDEX('Buildings and Areas'!O$5:O$14,MATCH($C42,'Buildings and Areas'!$B$5:$B$14,0),1),\"\")","v":""},{"$f":"IFERROR(INDEX('Buildings and Areas'!F$5:F$14,MATCH($C42,'Buildings and Areas'!$B$5:$B$14,0),1)&IF(AH42=\"Exterior\",\": \"&'Buildings and Areas'!$H$4,\"\"),\"\")","v":""},{"$f":"IFERROR(INDEX('Buildings and Areas'!H$5:H$14,MATCH($C42,'Buildings and Areas'!$B$5:$B$14,0),1),\"\")","v":""},{"$f":"IFERROR(IF(INDEX('Buildings and Areas'!L$5:L$14,MATCH($C42,'Buildings and Areas'!$B$5:$B$14,0),1)=\"\",\"Deemed\",INDEX('Buildings and Areas'!L$5:L$14,MATCH($C42,'Buildings and Areas'!$B$5:$B$14,0),1)),\"\")","v":""},{"$f":"IFERROR(IF(INDEX('Buildings and Areas'!M$5:M$14,MATCH($C42,'Buildings and Areas'!$B$5:$B$14,0),1)=\"\",\"Deemed\",INDEX('Buildings and Areas'!M$5:M$14,MATCH($C42,'Buildings and Areas'!$B$5:$B$14,0),1)),\"\")","v":""},{"$f":"IFERROR(INDEX('Buildings and Areas'!P$5:P$14,MATCH($C42,'Buildings and Areas'!$B$5:$B$14,0),1),0)","v":0},{"$f":"IFERROR(INDEX('Buildings and Areas'!Q$5:Q$14,MATCH($C42,'Buildings and Areas'!$B$5:$B$14,0),1),0)","v":0},{"$f":"IF(OR($AG42=\"\",$E42=\"\",$F42=\"\"),0,IF($F$124>0.1,(VLOOKUP($E42,'Fixture Descriptions'!$A:$I,8,0)/1000)*(1-$G$124),(VLOOKUP($E42,'Fixture Descriptions'!$A:$I,8,0)/1000)))","v":0},0,0,0,0,{"$f":"IFERROR(IF(OR('Buildings and Areas'!$D$2=\"New Construction\",$AG42=\"\",$H42=\"\",AH42=\"Exterior\"),1,INDEX('Factor Tables'!C$46:C$51,MATCH(Inventory!$H42,'Factor Tables'!$B$46:$B$51,0))),1)","v":1},{"$f":"IF(OR('Buildings and Areas'!$D$2=\"New Construction\",$AG42=\"\",$H42=\"\",AH42=\"Exterior\"),1,INDEX('Factor Tables'!D$46:D$51,MATCH(Inventory!$H42,'Factor Tables'!$B$46:$B$51,0)))","v":1},{"$f":"IF(I42=\"REMOVED\",0,IF($AD42<>\"\",VLOOKUP($AD42,'Fixture Descriptions'!$A:$I,8,0)/1000,0))","v":0},0,0,0,0,0,0,0,{"$f":"IFERROR(IF(OR($AG42=\"\",$K42=\"\",AH42=\"Exterior\"),1,INDEX('Factor Tables'!C$46:C$51,MATCH(Inventory!$K42,'Factor Tables'!$B$46:$B$51,0))),1)","v":1},{"$f":"IFERROR(IF(OR($AG42=\"\",$K42=\"\",AH42=\"Exterior\"),1,INDEX('Factor Tables'!D$46:D$51,MATCH(Inventory!$K42,'Factor Tables'!$B$46:$B$51,0))),1)","v":1},0,0,0,0,0,0,0,0,0,0,0,0,0,0,0,0,{"$f":"IFERROR(VLOOKUP(IF($AD42=\"Removed\",E42,$AD42),'Fixture Descriptions'!$A:$I,9,0),\"\")","v":0},{"$f":"IF($AD42=\"\",\"\",VLOOKUP($AD42,'Fixture Descriptions'!$A:$I,2,0))","v":""},{"$f":"IF(I42=\"\",\"\",IF(I42=\"Removed\",\"N/A\",IF(IFERROR(VLOOKUP(I42,'Fixture Schedule'!$C$9:$G$58,5,0),L42)=\"\",\"Not Qualified\",IFERROR(VLOOKUP(I42,'Fixture Schedule'!$C$9:$G$58,5,0),L42))))","v":""},{"$f":"IFERROR(INDEX('Utility Admin'!$F$3:$AW$3,1,MATCH(1,(CC$8='Utility Admin'!$F$1:$AW$1)*(Inventory!$AH42='Utility Admin'!$F$2:$AW$2)*(Inventory!$BZ42=('Utility Admin'!$F$4:$AW$4)),0)),0)","v":0},{"$f":"IFERROR(INDEX('Utility Admin'!$F$3:$AW$3,1,MATCH(1,(CD$8='Utility Admin'!$F$1:$AW$1)*(Inventory!$AH42='Utility Admin'!$F$2:$AW$2)*(Inventory!$BZ42=('Utility Admin'!$F$4:$AW$4)),0)),0)","v":0},{"$f":"IFERROR(INDEX('Utility Admin'!$F$3:$AW$3,1,MATCH(1,(CC$8='Utility Admin'!$F$1:$AW$1)*(Inventory!$AH42='Utility Admin'!$F$2:$AW$2)*(\"Lighting Controls\"=('Utility Admin'!$F$4:$AW$4)),0)),0)","v":0},{"$f":"IFERROR(INDEX('Utility Admin'!$F$3:$AW$3,1,MATCH(1,(CD$8='Utility Admin'!$F$1:$AW$1)*(Inventory!$AH42='Utility Admin'!$F$2:$AW$2)*(\"Lighting Controls\"=('Utility Admin'!$F$4:$AW$4)),0)),0)","v":0},false]
[null,35,null,null,null,null,null,null,null,null,null,null,null,{"$f":"IF(OR(I43=\"\",J43=\"\",AND(ProjectType=\"Retrofit\",OR(E43=\"\",F43=\"\"))),\"-\",IF(OR(CB43=0,CB43=\"Not Qualified\"),\"N\",IFERROR(INDEX('Fixture Descriptions'!K:K,MATCH(AD43,'Fixture Descriptions'!A:A,0)),\"N\")))","v":"-"},0,0,0,0,0,0,0,0,0,{"$f":"ROUND(IFERROR(IF($AE$7,BJ43*MaxIncentive,Inventory!Z43),0),2)","v":0},0,0,0,0,0,{"$f":"IF(I43=\"\",\"\",IFERROR(VLOOKUP(I43,'Fixture Schedule'!$C$9:$D$58,2,0),I43))","v":""},{"$f":"10","v":10},{"$f":"IFERROR(VLOOKUP(IF(I43=\"REMOVED\",E43,AD43),'Fixture Descriptions'!A:J,10,FALSE),0)","v":0},{"$f":"IFERROR(INDEX('Buildings and Areas'!D$5:D$14,MATCH($C43,'Buildings and Areas'!$B$5:$B$14,0),1),\"\")","v":""},{"$f":"IFERROR(INDEX('Buildings and Areas'!C$5:C$14,MATCH($C43,'Buildings and Areas'!$B$5:$B$14,0),1),\"\")","v":""},{"$f":"IFERROR(INDEX('Buildings and Areas'!R$5:R$14,MATCH($C43,'Buildings and Areas'!$B$5:$B$14,0),1),0)","v":0},{"$f":"IFERROR(INDEX('Buildings and Areas'!S$5:S$14,MATCH($C43,'Buildings and Areas'!$B$5:$B$14,0),1),0)","v":0},{"$f":"IFERROR(INDEX('Buildings and Areas'!T$5:T$14,MATCH($C43,'Buildings and Areas'!$B$5:$B$14,0),1),0)","v":0},{"$f":"IFERROR(INDEX('Buildings and Areas'!O$5:O$14,MATCH($C43,'Buildings and Areas'!$B$5:$B$14,0),1),\"\")","v":""},{"$f":"IFERROR(INDEX('Buildings and Areas'!F$5:F$14,MATCH($C43,'Buildings and Areas'!$B$5:$B$14,0),1)&IF(AH43=\"Exterior\",\": \"&'Buildings and Areas'!$H$4,\"\"),\"\")","v":""},{"$f":"IFERROR(INDEX('Buildings and Areas'!H$5:H$14,MATCH($C43,'Buildings and Areas'!$B$5:$B$14,0),1),\"\")","v":""},{"$f":"IFERROR(IF(INDEX('Buildings and Areas'!L$5:L$14,MATCH($C43,'Buildings and Areas'!$B$5:$B$14,0),1)=\"\",\"Deemed\",INDEX('Buildings and Areas'!L$5:L$14,MATCH($C43,'Buildings and Areas'!$B$5:$B$14,0),1)),\"\")","v":""},{"$f":"IFERROR(IF(INDEX('Buildings and Areas'!M$5:M$14,MATCH($C43,'Buildings and Areas'!$B$5:$B$14,0),1)=\"\",\"Deemed\",INDEX('Buildings and Areas'!M$5:M$14,MATCH($C43,'Buildings and Areas'!$B$5:$B$14,0),1)),\"\")","v":""},{"$f":"IFERROR(INDEX('Buildings and Areas'!P$5:P$14,MATCH($C43,'Buildings and Areas'!$B$5:$B$14,0),1),0)","v":0},{"$f":"IFERROR(INDEX('Buildings and Areas'!Q$5:Q$14,MATCH($C43,'Buildings and Areas'!$B$5:$B$14,0),1),0)","v":0},{"$f":"IF(OR($AG43=\"\",$E43=\"\",$F43=\"\"),0,IF($F$124>0.1,(VLOOKUP($E43,'Fixture Descriptions'!$A:$I,8,0)/1000)*(1-$G$124),(VLOOKUP($E43,'Fixture Descriptions'!$A:$I,8,0)/1000)))","v":0},0,0,0,0,{"$f":"IFERROR(IF(OR('Buildings and Areas'!$D$2=\"New Construction\",$AG43=\"\",$H43=\"\",AH43=\"Exterior\"),1,INDEX('Factor Tables'!C$46:C$51,MATCH(Inventory!$H43,'Factor Tables'!$B$46:$B$51,0))),1)","v":1},{"$f":"IF(OR('Buildings and Areas'!$D$2=\"New Construction\",$AG43=\"\",$H43=\"\",AH43=\"Exterior\"),1,INDEX('Factor Tables'!D$46:D$51,MATCH(Inventory!$H43,'Factor Tables'!$B$46:$B$51,0)))","v":1},{"$f":"IF(I43=\"REMOVED\",0,IF($AD43<>\"\",VLOOKUP($AD43,'Fixture Descriptions'!$A:$I,8,0)/1000,0))","v":0},0,0,0,0,0,0,0,{"$f":"IFERROR(IF(OR($AG43=\"\",$K43=\"\",AH43=\"Exterior\"),1,INDEX('Factor Tables'!C$46:C$51,MATCH(Inventory!$K43,'Factor Tables'!$B$46:$B$51,0))),1)","v":1},{"$f":"IFERROR(IF(OR($AG43=\"\",$K43=\"\",AH43=\"Exterior\"),1,INDEX('Factor Tables'!D$46:D$51,MATCH(Inventory!$K43,'Factor Tables'!$B$46:$B$51,0))),1)","v":1},0,0,0,0,0,0,0,0,0,0,0,0,0,0,0,0,{"$f":"IFERROR(VLOOKUP(IF($AD43=\"Removed\",E43,$AD43),'Fixture Descriptions'!$A:$I,9,0),\"\")","v":0},{"$f":"IF($AD43=\"\",\"\",VLOOKUP($AD43,'Fixture Descriptions'!$A:$I,2,0))","v":""},{"$f":"IF(I43=\"\",\"\",IF(I43=\"Removed\",\"N/A\",IF(IFERROR(VLOOKUP(I43,'Fixture Schedule'!$C$9:$G$58,5,0),L43)=\"\",\"Not Qualified\",IFERROR(VLOOKUP(I43,'Fixture Schedule'!$C$9:$G$58,5,0),L43))))","v":""},{"$f":"IFERROR(INDEX('Utility Admin'!$F$3:$AW$3,1,MATCH(1,(CC$8='Utility Admin'!$F$1:$AW$1)*(Inventory!$AH43='Utility Admin'!$F$2:$AW$2)*(Inventory!$BZ43=('Utility Admin'!$F$4:$AW$4)),0)),0)","v":0},{"$f":"IFERROR(INDEX('Utility Admin'!$F$3:$AW$3,1,MATCH(1,(CD$8='Utility Admin'!$F$1:$AW$1)*(Inventory!$AH43='Utility Admin'!$F$2:$AW$2)*(Inventory!$BZ43=('Utility Admin'!$F$4:$AW$4)),0)),0)","v":0},{"$f":"IFERROR(INDEX('Utility Admin'!$F$3:$AW$3,1,MATCH(1,(CC$8='Utility Admin'!$F$1:$AW$1)*(Inventory!$AH43='Utility Admin'!$F$2:$AW$2)*(\"Lighting Controls\"=('Utility Admin'!$F$4:$AW$4)),0)),0)","v":0},{"$f":"IFERROR(INDEX('Utility Admin'!$F$3:$AW$3,1,MATCH(1,(CD$8='Utility Admin'!$F$1:$AW$1)*(Inventory!$AH43='Utility Admin'!$F$2:$AW$2)*(\"Lighting Controls\"=('Utility Admin'!$F$4:$AW$4)),0)),0)","v":0},false]
[null,36,null,null,null,null,null,null,null,null,null,null,null,{"$f":"IF(OR(I44=\"\",J44=\"\",AND(ProjectType=\"Retrofit\",OR(E44=\"\",F44=\"\"))),\"-\",IF(OR(CB44=0,CB44=\"Not Qualified\"),\"N\",IFERROR(INDEX('Fixture Descriptions'!K:K,MATCH(AD44,'Fixture Descriptions'!A:A,0)),\"N\")))","v":"-"},0,0,0,0,0,0,0,0,0,{"$f":"ROUND(IFERROR(IF($AE$7,BJ44*MaxIncentive,Inventory!Z44),0),2)","v":0},0,0,0,0,0,{"$f":"IF(I44=\"\",\"\",IFERROR(VLOOKUP(I44,'Fixture Schedule'!$C$9:$D$58,2,0),I44))","v":""},{"$f":"10","v":10},{"$f":"IFERROR(VLOOKUP(IF(I44=\"REMOVED\",E44,AD44),'Fixture Descriptions'!A:J,10,FALSE),0)","v":0},{"$f":"IFERROR(INDEX('Buildings and Areas'!D$5:D$14,MATCH($C44,'Buildings and Areas'!$B$5:$B$14,0),1),\"\")","v":""},{"$f":"IFERROR(INDEX('Buildings and Areas'!C$5:C$14,MATCH($C44,'Buildings and Areas'!$B$5:$B$14,0),1),\"\")","v":""},{"$f":"IFERROR(INDEX('Buildings and Areas'!R$5:R$14,MATCH($C44,'Buildings and Areas'!$B$5:$B$14,0),1),0)","v":0},{"$f":"IFERROR(INDEX('Buildings and Areas'!S$5:S$14,MATCH($C44,'Buildings and Areas'!$B$5:$B$14,0),1),0)","v":0},{"$f":"IFERROR(INDEX('Buildings and Areas'!T$5:T$14,MATCH($C44,'Buildings and Areas'!$B$5:$B$14,0),1),0)","v":0},{"$f":"IFERROR(INDEX('Buildings and Areas'!O$5:O$14,MATCH($C44,'Buildings and Areas'!$B$5:$B$14,0),1),\"\")","v":""},{"$f":"IFERROR(INDEX('Buildings and Areas'!F$5:F$14,MATCH($C44,'Buildings and Areas'!$B$5:$B$14,0),1)&IF(AH44=\"Exterior\",\": \"&'Buildings and Areas'!$H$4,\"\"),\"\")","v":""},{"$f":"IFERROR(INDEX('Buildings and Areas'!H$5:H$14,MATCH($C44,'Buildings and Areas'!$B$5:$B$14,0),1),\"\")","v":""},{"$f":"IFERROR(IF(INDEX('Buildings and Areas'!L$5:L$14,MATCH($C44,'Buildings and Areas'!$B$5:$B$14,0),1)=\"\",\"Deemed\",INDEX('Buildings and Areas'!L$5:L$14,MATCH($C44,'Buildings and Areas'!$B$5:$B$14,0),1)),\"\")","v":""},{"$f":"IFERROR(IF(INDEX('Buildings and Areas'!M$5:M$14,MATCH($C44,'Buildings and Areas'!$B$5:$B$14,0),1)=\"\",\"Deemed\",INDEX('Buildings and Areas'!M$5:M$14,MATCH($C44,'Buildings and Areas'!$B$5:$B$14,0),1)),\"\")","v":""},{"$f":"IFERROR(INDEX('Buildings and Areas'!P$5:P$14,MATCH($C44,'Buildings and Areas'!$B$5:$B$14,0),1),0)","v":0},{"$f":"IFERROR(INDEX('Buildings and Areas'!Q$5:Q$14,MATCH($C44,'Buildings and Areas'!$B$5:$B$14,0),1),0)","v":0},{"$f":"IF(OR($AG44=\"\",$E44=\"\",$F44=\"\"),0,IF($F$124>0.1,(VLOOKUP($E44,'Fixture Descriptions'!$A:$I,8,0)/1000)*(1-$G$124),(VLOOKUP($E44,'Fixture Descriptions'!$A:$I,8,0)/1000)))","v":0},0,0,0,0,{"$f":"IFERROR(IF(OR('Buildings and Areas'!$D$2=\"New Construction\",$AG44=\"\",$H44=\"\",AH44=\"Exterior\"),1,INDEX('Factor Tables'!C$46:C$51,MATCH(Inventory!$H44,'Factor Tables'!$B$46:$B$51,0))),1)","v":1},{"$f":"IF(OR('Buildings and Areas'!$D$2=\"New Construction\",$AG44=\"\",$H44=\"\",AH44=\"Exterior\"),1,INDEX('Factor Tables'!D$46:D$51,MATCH(Inventory!$H44,'Factor Tables'!$B$46:$B$51,0)))","v":1},{"$f":"IF(I44=\"REMOVED\",0,IF($AD44<>\"\",VLOOKUP($AD44,'Fixture Descriptions'!$A:$I,8,0)/1000,0))","v":0},0,0,0,0,0,0,0,{"$f":"IFERROR(IF(OR($AG44=\"\",$K44=\"\",AH44=\"Exterior\"),1,INDEX('Factor Tables'!C$46:C$51,MATCH(Inventory!$K44,'Factor Tables'!$B$46:$B$51,0))),1)","v":1},{"$f":"IFERROR(IF(OR($AG44=\"\",$K44=\"\",AH44=\"Exterior\"),1,INDEX('Factor Tables'!D$46:D$51,MATCH(Inventory!$K44,'Factor Tables'!$B$46:$B$51,0))),1)","v":1},0,0,0,0,0,0,0,0,0,0,0,0,0,0,0,0,{"$f":"IFERROR(VLOOKUP(IF($AD44=\"Removed\",E44,$AD44),'Fixture Descriptions'!$A:$I,9,0),\"\")","v":0},{"$f":"IF($AD44=\"\",\"\",VLOOKUP($AD44,'Fixture Descriptions'!$A:$I,2,0))","v":""},{"$f":"IF(I44=\"\",\"\",IF(I44=\"Removed\",\"N/A\",IF(IFERROR(VLOOKUP(I44,'Fixture Schedule'!$C$9:$G$58,5,0),L44)=\"\",\"Not Qualified\",IFERROR(VLOOKUP(I44,'Fixture Schedule'!$C$9:$G$58,5,0),L44))))","v":""},{"$f":"IFERROR(INDEX('Utility Admin'!$F$3:$AW$3,1,MATCH(1,(CC$8='Utility Admin'!$F$1:$AW$1)*(Inventory!$AH44='Utility Admin'!$F$2:$AW$2)*(Inventory!$BZ44=('Utility Admin'!$F$4:$AW$4)),0)),0)","v":0},{"$f":"IFERROR(INDEX('Utility Admin'!$F$3:$AW$3,1,MATCH(1,(CD$8='Utility Admin'!$F$1:$AW$1)*(Inventory!$AH44='Utility Admin'!$F$2:$AW$2)*(Inventory!$BZ44=('Utility Admin'!$F$4:$AW$4)),0)),0)","v":0},{"$f":"IFERROR(INDEX('Utility Admin'!$F$3:$AW$3,1,MATCH(1,(CC$8='Utility Admin'!$F$1:$AW$1)*(Inventory!$AH44='Utility Admin'!$F$2:$AW$2)*(\"Lighting Controls\"=('Utility Admin'!$F$4:$AW$4)),0)),0)","v":0},{"$f":"IFERROR(INDEX('Utility Admin'!$F$3:$AW$3,1,MATCH(1,(CD$8='Utility Admin'!$F$1:$AW$1)*(Inventory!$AH44='Utility Admin'!$F$2:$AW$2)*(\"Lighting Controls\"=('Utility Admin'!$F$4:$AW$4)),0)),0)","v":0},false]
[null,37,null,null,null,null,null,null,null,null,null,null,null,{"$f":"IF(OR(I45=\"\",J45=\"\",AND(ProjectType=\"Retrofit\",OR(E45=\"\",F45=\"\"))),\"-\",IF(OR(CB45=0,CB45=\"Not Qualified\"),\"N\",IFERROR(INDEX('Fixture Descriptions'!K:K,MATCH(AD45,'Fixture Descriptions'!A:A,0)),\"N\")))","v":"-"},0,0,0,0,0,0,0,0,0,{"$f":"ROUND(IFERROR(IF($AE$7,BJ45*MaxIncentive,Inventory!Z45),0),2)","v":0},0,0,0,0,0,{"$f":"IF(I45=\"\",\"\",IFERROR(VLOOKUP(I45,'Fixture Schedule'!$C$9:$D$58,2,0),I45))","v":""},{"$f":"10","v":10},{"$f":"IFERROR(VLOOKUP(IF(I45=\"REMOVED\",E45,AD45),'Fixture Descriptions'!A:J,10,FALSE),0)","v":0},{"$f":"IFERROR(INDEX('Buildings and Areas'!D$5:D$14,MATCH($C45,'Buildings and Areas'!$B$5:$B$14,0),1),\"\")","v":""},{"$f":"IFERROR(INDEX('Buildings and Areas'!C$5:C$14,MATCH($C45,'Buildings and Areas'!$B$5:$B$14,0),1),\"\")","v":""},{"$f":"IFERROR(INDEX('Buildings and Areas'!R$5:R$14,MATCH($C45,'Buildings and Areas'!$B$5:$B$14,0),1),0)","v":0},{"$f":"IFERROR(INDEX('Buildings and Areas'!S$5:S$14,MATCH($C45,'Buildings and Areas'!$B$5:$B$14,0),1),0)","v":0},{"$f":"IFERROR(INDEX('Buildings and Areas'!T$5:T$14,MATCH($C45,'Buildings and Areas'!$B$5:$B$14,0),1),0)","v":0},{"$f":"IFERROR(INDEX('Buildings and Areas'!O$5:O$14,MATCH($C45,'Buildings and Areas'!$B$5:$B$14,0),1),\"\")","v":""},{"$f":"IFERROR(INDEX('Buildings and Areas'!F$5:F$14,MATCH($C45,'Buildings and Areas'!$B$5:$B$14,0),1)&IF(AH45=\"Exterior\",\": \"&'Buildings and Areas'!$H$4,\"\"),\"\")","v":""},{"$f":"IFERROR(INDEX('Buildings and Areas'!H$5:H$14,MATCH($C45,'Buildings and Areas'!$B$5:$B$14,0),1),\"\")","v":""},{"$f":"IFERROR(IF(INDEX('Buildings and Areas'!L$5:L$14,MATCH($C45,'Buildings and Areas'!$B$5:$B$14,0),1)=\"\",\"Deemed\",INDEX('Buildings and Areas'!L$5:L$14,MATCH($C45,'Buildings and Areas'!$B$5:$B$14,0),1)),\"\")","v":""},{"$f":"IFERROR(IF(INDEX('Buildings and Areas'!M$5:M$14,MATCH($C45,'Buildings and Areas'!$B$5:$B$14,0),1)=\"\",\"Deemed\",INDEX('Buildings and Areas'!M$5:M$14,MATCH($C45,'Buildings and Areas'!$B$5:$B$14,0),1)),\"\")","v":""},{"$f":"IFERROR(INDEX('Buildings and Areas'!P$5:P$14,MATCH($C45,'Buildings and Areas'!$B$5:$B$14,0),1),0)","v":0},{"$f":"IFERROR(INDEX('Buildings and Areas'!Q$5:Q$14,MATCH($C45,'Buildings and Areas'!$B$5:$B$14,0),1),0)","v":0},{"$f":"IF(OR($AG45=\"\",$E45=\"\",$F45=\"\"),0,IF($F$124>0.1,(VLOOKUP($E45,'Fixture Descriptions'!$A:$I,8,0)/1000)*(1-$G$124),(VLOOKUP($E45,'Fixture Descriptions'!$A:$I,8,0)/1000)))","v":0},0,0,0,0,{"$f":"IFERROR(IF(OR('Buildings and Areas'!$D$2=\"New Construction\",$AG45=\"\",$H45=\"\",AH45=\"Exterior\"),1,INDEX('Factor Tables'!C$46:C$51,MATCH(Inventory!$H45,'Factor Tables'!$B$46:$B$51,0))),1)","v":1},{"$f":"IF(OR('Buildings and Areas'!$D$2=\"New Construction\",$AG45=\"\",$H45=\"\",AH45=\"Exterior\"),1,INDEX('Factor Tables'!D$46:D$51,MATCH(Inventory!$H45,'Factor Tables'!$B$46:$B$51,0)))","v":1},{"$f":"IF(I45=\"REMOVED\",0,IF($AD45<>\"\",VLOOKUP($AD45,'Fixture Descriptions'!$A:$I,8,0)/1000,0))","v":0},0,0,0,0,0,0,0,{"$f":"IFERROR(IF(OR($AG45=\"\",$K45=\"\",AH45=\"Exterior\"),1,INDEX('Factor Tables'!C$46:C$51,MATCH(Inventory!$K45,'Factor Tables'!$B$46:$B$51,0))),1)","v":1},{"$f":"IFERROR(IF(OR($AG45=\"\",$K45=\"\",AH45=\"Exterior\"),1,INDEX('Factor Tables'!D$46:D$51,MATCH(Inventory!$K45,'Factor Tables'!$B$46:$B$51,0))),1)","v":1},0,0,0,0,0,0,0,0,0,0,0,0,0,0,0,0,{"$f":"IFERROR(VLOOKUP(IF($AD45=\"Removed\",E45,$AD45),'Fixture Descriptions'!$A:$I,9,0),\"\")","v":0},{"$f":"IF($AD45=\"\",\"\",VLOOKUP($AD45,'Fixture Descriptions'!$A:$I,2,0))","v":""},{"$f":"IF(I45=\"\",\"\",IF(I45=\"Removed\",\"N/A\",IF(IFERROR(VLOOKUP(I45,'Fixture Schedule'!$C$9:$G$58,5,0),L45)=\"\",\"Not Qualified\",IFERROR(VLOOKUP(I45,'Fixture Schedule'!$C$9:$G$58,5,0),L45))))","v":""},{"$f":"IFERROR(INDEX('Utility Admin'!$F$3:$AW$3,1,MATCH(1,(CC$8='Utility Admin'!$F$1:$AW$1)*(Inventory!$AH45='Utility Admin'!$F$2:$AW$2)*(Inventory!$BZ45=('Utility Admin'!$F$4:$AW$4)),0)),0)","v":0},{"$f":"IFERROR(INDEX('Utility Admin'!$F$3:$AW$3,1,MATCH(1,(CD$8='Utility Admin'!$F$1:$AW$1)*(Inventory!$AH45='Utility Admin'!$F$2:$AW$2)*(Inventory!$BZ45=('Utility Admin'!$F$4:$AW$4)),0)),0)","v":0},{"$f":"IFERROR(INDEX('Utility Admin'!$F$3:$AW$3,1,MATCH(1,(CC$8='Utility Admin'!$F$1:$AW$1)*(Inventory!$AH45='Utility Admin'!$F$2:$AW$2)*(\"Lighting Controls\"=('Utility Admin'!$F$4:$AW$4)),0)),0)","v":0},{"$f":"IFERROR(INDEX('Utility Admin'!$F$3:$AW$3,1,MATCH(1,(CD$8='Utility Admin'!$F$1:$AW$1)*(Inventory!$AH45='Utility Admin'!$F$2:$AW$2)*(\"Lighting Controls\"=('Utility Admin'!$F$4:$AW$4)),0)),0)","v":0},false]
[null,38,null,null,null,null,null,null,null,null,null,null,null,{"$f":"IF(OR(I46=\"\",J46=\"\",AND(ProjectType=\"Retrofit\",OR(E46=\"\",F46=\"\"))),\"-\",IF(OR(CB46=0,CB46=\"Not Qualified\"),\"N\",IFERROR(INDEX('Fixture Descriptions'!K:K,MATCH(AD46,'Fixture Descriptions'!A:A,0)),\"N\")))","v":"-"},0,0,0,0,0,0,0,0,0,{"$f":"ROUND(IFERROR(IF($AE$7,BJ46*MaxIncentive,Inventory!Z46),0),2)","v":0},0,0,0,0,0,{"$f":"IF(I46=\"\",\"\",IFERROR(VLOOKUP(I46,'Fixture Schedule'!$C$9:$D$58,2,0),I46))","v":""},{"$f":"10","v":10},{"$f":"IFERROR(VLOOKUP(IF(I46=\"REMOVED\",E46,AD46),'Fixture Descriptions'!A:J,10,FALSE),0)","v":0},{"$f":"IFERROR(INDEX('Buildings and Areas'!D$5:D$14,MATCH($C46,'Buildings and Areas'!$B$5:$B$14,0),1),\"\")","v":""},{"$f":"IFERROR(INDEX('Buildings and Areas'!C$5:C$14,MATCH($C46,'Buildings and Areas'!$B$5:$B$14,0),1),\"\")","v":""},{"$f":"IFERROR(INDEX('Buildings and Areas'!R$5:R$14,MATCH($C46,'Buildings and Areas'!$B$5:$B$14,0),1),0)","v":0},{"$f":"IFERROR(INDEX('Buildings and Areas'!S$5:S$14,MATCH($C46,'Buildings and Areas'!$B$5:$B$14,0),1),0)","v":0},{"$f":"IFERROR(INDEX('Buildings and Areas'!T$5:T$14,MATCH($C46,'Buildings and Areas'!$B$5:$B$14,0),1),0)","v":0},{"$f":"IFERROR(INDEX('Buildings and Areas'!O$5:O$14,MATCH($C46,'Buildings and Areas'!$B$5:$B$14,0),1),\"\")","v":""},{"$f":"IFERROR(INDEX('Buildings and Areas'!F$5:F$14,MATCH($C46,'Buildings and Areas'!$B$5:$B$14,0),1)&IF(AH46=\"Exterior\",\": \"&'Buildings and Areas'!$H$4,\"\"),\"\")","v":""},{"$f":"IFERROR(INDEX('Buildings and Areas'!H$5:H$14,MATCH($C46,'Buildings and Areas'!$B$5:$B$14,0),1),\"\")","v":""},{"$f":"IFERROR(IF(INDEX('Buildings and Areas'!L$5:L$14,MATCH($C46,'Buildings and Areas'!$B$5:$B$14,0),1)=\"\",\"Deemed\",INDEX('Buildings and Areas'!L$5:L$14,MATCH($C46,'Buildings and Areas'!$B$5:$B$14,0),1)),\"\")","v":""},{"$f":"IFERROR(IF(INDEX('Buildings and Areas'!M$5:M$14,MATCH($C46,'Buildings and Areas'!$B$5:$B$14,0),1)=\"\",\"Deemed\",INDEX('Buildings and Areas'!M$5:M$14,MATCH($C46,'Buildings and Areas'!$B$5:$B$14,0),1)),\"\")","v":""},{"$f":"IFERROR(INDEX('Buildings and Areas'!P$5:P$14,MATCH($C46,'Buildings and Areas'!$B$5:$B$14,0),1),0)","v":0},{"$f":"IFERROR(INDEX('Buildings and Areas'!Q$5:Q$14,MATCH($C46,'Buildings and Areas'!$B$5:$B$14,0),1),0)","v":0},{"$f":"IF(OR($AG46=\"\",$E46=\"\",$F46=\"\"),0,IF($F$124>0.1,(VLOOKUP($E46,'Fixture Descriptions'!$A:$I,8,0)/1000)*(1-$G$124),(VLOOKUP($E46,'Fixture Descriptions'!$A:$I,8,0)/1000)))","v":0},0,0,0,0,{"$f":"IFERROR(IF(OR('Buildings and Areas'!$D$2=\"New Construction\",$AG46=\"\",$H46=\"\",AH46=\"Exterior\"),1,INDEX('Factor Tables'!C$46:C$51,MATCH(Inventory!$H46,'Factor Tables'!$B$46:$B$51,0))),1)","v":1},{"$f":"IF(OR('Buildings and Areas'!$D$2=\"New Construction\",$AG46=\"\",$H46=\"\",AH46=\"Exterior\"),1,INDEX('Factor Tables'!D$46:D$51,MATCH(Inventory!$H46,'Factor Tables'!$B$46:$B$51,0)))","v":1},{"$f":"IF(I46=\"REMOVED\",0,IF($AD46<>\"\",VLOOKUP($AD46,'Fixture Descriptions'!$A:$I,8,0)/1000,0))","v":0},0,0,0,0,0,0,0,{"$f":"IFERROR(IF(OR($AG46=\"\",$K46=\"\",AH46=\"Exterior\"),1,INDEX('Factor Tables'!C$46:C$51,MATCH(Inventory!$K46,'Factor Tables'!$B$46:$B$51,0))),1)","v":1},{"$f":"IFERROR(IF(OR($AG46=\"\",$K46=\"\",AH46=\"Exterior\"),1,INDEX('Factor Tables'!D$46:D$51,MATCH(Inventory!$K46,'Factor Tables'!$B$46:$B$51,0))),1)","v":1},0,0,0,0,0,0,0,0,0,0,0,0,0,0,0,0,{"$f":"IFERROR(VLOOKUP(IF($AD46=\"Removed\",E46,$AD46),'Fixture Descriptions'!$A:$I,9,0),\"\")","v":0},{"$f":"IF($AD46=\"\",\"\",VLOOKUP($AD46,'Fixture Descriptions'!$A:$I,2,0))","v":""},{"$f":"IF(I46=\"\",\"\",IF(I46=\"Removed\",\"N/A\",IF(IFERROR(VLOOKUP(I46,'Fixture Schedule'!$C$9:$G$58,5,0),L46)=\"\",\"Not Qualified\",IFERROR(VLOOKUP(I46,'Fixture Schedule'!$C$9:$G$58,5,0),L46))))","v":""},{"$f":"IFERROR(INDEX('Utility Admin'!$F$3:$AW$3,1,MATCH(1,(CC$8='Utility Admin'!$F$1:$AW$1)*(Inventory!$AH46='Utility Admin'!$F$2:$AW$2)*(Inventory!$BZ46=('Utility Admin'!$F$4:$AW$4)),0)),0)","v":0},{"$f":"IFERROR(INDEX('Utility Admin'!$F$3:$AW$3,1,MATCH(1,(CD$8='Utility Admin'!$F$1:$AW$1)*(Inventory!$AH46='Utility Admin'!$F$2:$AW$2)*(Inventory!$BZ46=('Utility Admin'!$F$4:$AW$4)),0)),0)","v":0},{"$f":"IFERROR(INDEX('Utility Admin'!$F$3:$AW$3,1,MATCH(1,(CC$8='Utility Admin'!$F$1:$AW$1)*(Inventory!$AH46='Utility Admin'!$F$2:$AW$2)*(\"Lighting Controls\"=('Utility Admin'!$F$4:$AW$4)),0)),0)","v":0},{"$f":"IFERROR(INDEX('Utility Admin'!$F$3:$AW$3,1,MATCH(1,(CD$8='Utility Admin'!$F$1:$AW$1)*(Inventory!$AH46='Utility Admin'!$F$2:$AW$2)*(\"Lighting Controls\"=('Utility Admin'!$F$4:$AW$4)),0)),0)","v":0},false]
[null,39,null,null,null,null,null,null,null,null,null,null,null,{"$f":"IF(OR(I47=\"\",J47=\"\",AND(ProjectType=\"Retrofit\",OR(E47=\"\",F47=\"\"))),\"-\",IF(OR(CB47=0,CB47=\"Not Qualified\"),\"N\",IFERROR(INDEX('Fixture Descriptions'!K:K,MATCH(AD47,'Fixture Descriptions'!A:A,0)),\"N\")))","v":"-"},0,0,0,0,0,0,0,0,0,{"$f":"ROUND(IFERROR(IF($AE$7,BJ47*MaxIncentive,Inventory!Z47),0),2)","v":0},0,0,0,0,0,{"$f":"IF(I47=\"\",\"\",IFERROR(VLOOKUP(I47,'Fixture Schedule'!$C$9:$D$58,2,0),I47))","v":""},{"$f":"10","v":10},{"$f":"IFERROR(VLOOKUP(IF(I47=\"REMOVED\",E47,AD47),'Fixture Descriptions'!A:J,10,FALSE),0)","v":0},{"$f":"IFERROR(INDEX('Buildings and Areas'!D$5:D$14,MATCH($C47,'Buildings and Areas'!$B$5:$B$14,0),1),\"\")","v":""},{"$f":"IFERROR(INDEX('Buildings and Areas'!C$5:C$14,MATCH($C47,'Buildings and Areas'!$B$5:$B$14,0),1),\"\")","v":""},{"$f":"IFERROR(INDEX('Buildings and Areas'!R$5:R$14,MATCH($C47,'Buildings and Areas'!$B$5:$B$14,0),1),0)","v":0},{"$f":"IFERROR(INDEX('Buildings and Areas'!S$5:S$14,MATCH($C47,'Buildings and Areas'!$B$5:$B$14,0),1),0)","v":0},{"$f":"IFERROR(INDEX('Buildings and Areas'!T$5:T$14,MATCH($C47,'Buildings and Areas'!$B$5:$B$14,0),1),0)","v":0},{"$f":"IFERROR(INDEX('Buildings and Areas'!O$5:O$14,MATCH($C47,'Buildings and Areas'!$B$5:$B$14,0),1),\"\")","v":""},{"$f":"IFERROR(INDEX('Buildings and Areas'!F$5:F$14,MATCH($C47,'Buildings and Areas'!$B$5:$B$14,0),1)&IF(AH47=\"Exterior\",\": \"&'Buildings and Areas'!$H$4,\"\"),\"\")","v":""},{"$f":"IFERROR(INDEX('Buildings and Areas'!H$5:H$14,MATCH($C47,'Buildings and Areas'!$B$5:$B$14,0),1),\"\")","v":""},{"$f":"IFERROR(IF(INDEX('Buildings and Areas'!L$5:L$14,MATCH($C47,'Buildings and Areas'!$B$5:$B$14,0),1)=\"\",\"Deemed\",INDEX('Buildings and Areas'!L$5:L$14,MATCH($C47,'Buildings and Areas'!$B$5:$B$14,0),1)),\"\")","v":""},{"$f":"IFERROR(IF(INDEX('Buildings and Areas'!M$5:M$14,MATCH($C47,'Buildings and Areas'!$B$5:$B$14,0),1)=\"\",\"Deemed\",INDEX('Buildings and Areas'!M$5:M$14,MATCH($C47,'Buildings and Areas'!$B$5:$B$14,0),1)),\"\")","v":""},{"$f":"IFERROR(INDEX('Buildings and Areas'!P$5:P$14,MATCH($C47,'Buildings and Areas'!$B$5:$B$14,0),1),0)","v":0},{"$f":"IFERROR(INDEX('Buildings and Areas'!Q$5:Q$14,MATCH($C47,'Buildings and Areas'!$B$5:$B$14,0),1),0)","v":0},{"$f":"IF(OR($AG47=\"\",$E47=\"\",$F47=\"\"),0,IF($F$124>0.1,(VLOOKUP($E47,'Fixture Descriptions'!$A:$I,8,0)/1000)*(1-$G$124),(VLOOKUP($E47,'Fixture Descriptions'!$A:$I,8,0)/1000)))","v":0},0,0,0,0,{"$f":"IFERROR(IF(OR('Buildings and Areas'!$D$2=\"New Construction\",$AG47=\"\",$H47=\"\",AH47=\"Exterior\"),1,INDEX('Factor Tables'!C$46:C$51,MATCH(Inventory!$H47,'Factor Tables'!$B$46:$B$51,0))),1)","v":1},{"$f":"IF(OR('Buildings and Areas'!$D$2=\"New Construction\",$AG47=\"\",$H47=\"\",AH47=\"Exterior\"),1,INDEX('Factor Tables'!D$46:D$51,MATCH(Inventory!$H47,'Factor Tables'!$B$46:$B$51,0)))","v":1},{"$f":"IF(I47=\"REMOVED\",0,IF($AD47<>\"\",VLOOKUP($AD47,'Fixture Descriptions'!$A:$I,8,0)/1000,0))","v":0},0,0,0,0,0,0,0,{"$f":"IFERROR(IF(OR($AG47=\"\",$K47=\"\",AH47=\"Exterior\"),1,INDEX('Factor Tables'!C$46:C$51,MATCH(Inventory!$K47,'Factor Tables'!$B$46:$B$51,0))),1)","v":1},{"$f":"IFERROR(IF(OR($AG47=\"\",$K47=\"\",AH47=\"Exterior\"),1,INDEX('Factor Tables'!D$46:D$51,MATCH(Inventory!$K47,'Factor Tables'!$B$46:$B$51,0))),1)","v":1},0,0,0,0,0,0,0,0,0,0,0,0,0,0,0,0,{"$f":"IFERROR(VLOOKUP(IF($AD47=\"Removed\",E47,$AD47),'Fixture Descriptions'!$A:$I,9,0),\"\")","v":0},{"$f":"IF($AD47=\"\",\"\",VLOOKUP($AD47,'Fixture Descriptions'!$A:$I,2,0))","v":""},{"$f":"IF(I47=\"\",\"\",IF(I47=\"Removed\",\"N/A\",IF(IFERROR(VLOOKUP(I47,'Fixture Schedule'!$C$9:$G$58,5,0),L47)=\"\",\"Not Qualified\",IFERROR(VLOOKUP(I47,'Fixture Schedule'!$C$9:$G$58,5,0),L47))))","v":""},{"$f":"IFERROR(INDEX('Utility Admin'!$F$3:$AW$3,1,MATCH(1,(CC$8='Utility Admin'!$F$1:$AW$1)*(Inventory!$AH47='Utility Admin'!$F$2:$AW$2)*(Inventory!$BZ47=('Utility Admin'!$F$4:$AW$4)),0)),0)","v":0},{"$f":"IFERROR(INDEX('Utility Admin'!$F$3:$AW$3,1,MATCH(1,(CD$8='Utility Admin'!$F$1:$AW$1)*(Inventory!$AH47='Utility Admin'!$F$2:$AW$2)*(Inventory!$BZ47=('Utility Admin'!$F$4:$AW$4)),0)),0)","v":0},{"$f":"IFERROR(INDEX('Utility Admin'!$F$3:$AW$3,1,MATCH(1,(CC$8='Utility Admin'!$F$1:$AW$1)*(Inventory!$AH47='Utility Admin'!$F$2:$AW$2)*(\"Lighting Controls\"=('Utility Admin'!$F$4:$AW$4)),0)),0)","v":0},{"$f":"IFERROR(INDEX('Utility Admin'!$F$3:$AW$3,1,MATCH(1,(CD$8='Utility Admin'!$F$1:$AW$1)*(Inventory!$AH47='Utility Admin'!$F$2:$AW$2)*(\"Lighting Controls\"=('Utility Admin'!$F$4:$AW$4)),0)),0)","v":0},false]
[null,40,null,null,null,null,null,null,null,null,null,null,null,{"$f":"IF(OR(I48=\"\",J48=\"\",AND(ProjectType=\"Retrofit\",OR(E48=\"\",F48=\"\"))),\"-\",IF(OR(CB48=0,CB48=\"Not Qualified\"),\"N\",IFERROR(INDEX('Fixture Descriptions'!K:K,MATCH(AD48,'Fixture Descriptions'!A:A,0)),\"N\")))","v":"-"},0,0,0,0,0,0,0,0,0,{"$f":"ROUND(IFERROR(IF($AE$7,BJ48*MaxIncentive,Inventory!Z48),0),2)","v":0},0,0,0,0,0,{"$f":"IF(I48=\"\",\"\",IFERROR(VLOOKUP(I48,'Fixture Schedule'!$C$9:$D$58,2,0),I48))","v":""},{"$f":"10","v":10},{"$f":"IFERROR(VLOOKUP(IF(I48=\"REMOVED\",E48,AD48),'Fixture Descriptions'!A:J,10,FALSE),0)","v":0},{"$f":"IFERROR(INDEX('Buildings and Areas'!D$5:D$14,MATCH($C48,'Buildings and Areas'!$B$5:$B$14,0),1),\"\")","v":""},{"$f":"IFERROR(INDEX('Buildings and Areas'!C$5:C$14,MATCH($C48,'Buildings and Areas'!$B$5:$B$14,0),1),\"\")","v":""},{"$f":"IFERROR(INDEX('Buildings and Areas'!R$5:R$14,MATCH($C48,'Buildings and Areas'!$B$5:$B$14,0),1),0)","v":0},{"$f":"IFERROR(INDEX('Buildings and Areas'!S$5:S$14,MATCH($C48,'Buildings and Areas'!$B$5:$B$14,0),1),0)","v":0},{"$f":"IFERROR(INDEX('Buildings and Areas'!T$5:T$14,MATCH($C48,'Buildings and Areas'!$B$5:$B$14,0),1),0)","v":0},{"$f":"IFERROR(INDEX('Buildings and Areas'!O$5:O$14,MATCH($C48,'Buildings and Areas'!$B$5:$B$14,0),1),\"\")","v":""},{"$f":"IFERROR(INDEX('Buildings and Areas'!F$5:F$14,MATCH($C48,'Buildings and Areas'!$B$5:$B$14,0),1)&IF(AH48=\"Exterior\",\": \"&'Buildings and Areas'!$H$4,\"\"),\"\")","v":""},{"$f":"IFERROR(INDEX('Buildings and Areas'!H$5:H$14,MATCH($C48,'Buildings and Areas'!$B$5:$B$14,0),1),\"\")","v":""},{"$f":"IFERROR(IF(INDEX('Buildings and Areas'!L$5:L$14,MATCH($C48,'Buildings and Areas'!$B$5:$B$14,0),1)=\"\",\"Deemed\",INDEX('Buildings and Areas'!L$5:L$14,MATCH($C48,'Buildings and Areas'!$B$5:$B$14,0),1)),\"\")","v":""},{"$f":"IFERROR(IF(INDEX('Buildings and Areas'!M$5:M$14,MATCH($C48,'Buildings and Areas'!$B$5:$B$14,0),1)=\"\",\"Deemed\",INDEX('Buildings and Areas'!M$5:M$14,MATCH($C48,'Buildings and Areas'!$B$5:$B$14,0),1)),\"\")","v":""},{"$f":"IFERROR(INDEX('Buildings and Areas'!P$5:P$14,MATCH($C48,'Buildings and Areas'!$B$5:$B$14,0),1),0)","v":0},{"$f":"IFERROR(INDEX('Buildings and Areas'!Q$5:Q$14,MATCH($C48,'Buildings and Areas'!$B$5:$B$14,0),1),0)","v":0},{"$f":"IF(OR($AG48=\"\",$E48=\"\",$F48=\"\"),0,IF($F$124>0.1,(VLOOKUP($E48,'Fixture Descriptions'!$A:$I,8,0)/1000)*(1-$G$124),(VLOOKUP($E48,'Fixture Descriptions'!$A:$I,8,0)/1000)))","v":0},0,0,0,0,{"$f":"IFERROR(IF(OR('Buildings and Areas'!$D$2=\"New Construction\",$AG48=\"\",$H48=\"\",AH48=\"Exterior\"),1,INDEX('Factor Tables'!C$46:C$51,MATCH(Inventory!$H48,'Factor Tables'!$B$46:$B$51,0))),1)","v":1},{"$f":"IF(OR('Buildings and Areas'!$D$2=\"New Construction\",$AG48=\"\",$H48=\"\",AH48=\"Exterior\"),1,INDEX('Factor Tables'!D$46:D$51,MATCH(Inventory!$H48,'Factor Tables'!$B$46:$B$51,0)))","v":1},{"$f":"IF(I48=\"REMOVED\",0,IF($AD48<>\"\",VLOOKUP($AD48,'Fixture Descriptions'!$A:$I,8,0)/1000,0))","v":0},0,0,0,0,0,0,0,{"$f":"IFERROR(IF(OR($AG48=\"\",$K48=\"\",AH48=\"Exterior\"),1,INDEX('Factor Tables'!C$46:C$51,MATCH(Inventory!$K48,'Factor Tables'!$B$46:$B$51,0))),1)","v":1},{"$f":"IFERROR(IF(OR($AG48=\"\",$K48=\"\",AH48=\"Exterior\"),1,INDEX('Factor Tables'!D$46:D$51,MATCH(Inventory!$K48,'Factor Tables'!$B$46:$B$51,0))),1)","v":1},0,0,0,0,0,0,0,0,0,0,0,0,0,0,0,0,{"$f":"IFERROR(VLOOKUP(IF($AD48=\"Removed\",E48,$AD48),'Fixture Descriptions'!$A:$I,9,0),\"\")","v":0},{"$f":"IF($AD48=\"\",\"\",VLOOKUP($AD48,'Fixture Descriptions'!$A:$I,2,0))","v":""},{"$f":"IF(I48=\"\",\"\",IF(I48=\"Removed\",\"N/A\",IF(IFERROR(VLOOKUP(I48,'Fixture Schedule'!$C$9:$G$58,5,0),L48)=\"\",\"Not Qualified\",IFERROR(VLOOKUP(I48,'Fixture Schedule'!$C$9:$G$58,5,0),L48))))","v":""},{"$f":"IFERROR(INDEX('Utility Admin'!$F$3:$AW$3,1,MATCH(1,(CC$8='Utility Admin'!$F$1:$AW$1)*(Inventory!$AH48='Utility Admin'!$F$2:$AW$2)*(Inventory!$BZ48=('Utility Admin'!$F$4:$AW$4)),0)),0)","v":0},{"$f":"IFERROR(INDEX('Utility Admin'!$F$3:$AW$3,1,MATCH(1,(CD$8='Utility Admin'!$F$1:$AW$1)*(Inventory!$AH48='Utility Admin'!$F$2:$AW$2)*(Inventory!$BZ48=('Utility Admin'!$F$4:$AW$4)),0)),0)","v":0},{"$f":"IFERROR(INDEX('Utility Admin'!$F$3:$AW$3,1,MATCH(1,(CC$8='Utility Admin'!$F$1:$AW$1)*(Inventory!$AH48='Utility Admin'!$F$2:$AW$2)*(\"Lighting Controls\"=('Utility Admin'!$F$4:$AW$4)),0)),0)","v":0},{"$f":"IFERROR(INDEX('Utility Admin'!$F$3:$AW$3,1,MATCH(1,(CD$8='Utility Admin'!$F$1:$AW$1)*(Inventory!$AH48='Utility Admin'!$F$2:$AW$2)*(\"Lighting Controls\"=('Utility Admin'!$F$4:$AW$4)),0)),0)","v":0},false]
[null,41,null,null,null,null,null,null,null,null,null,null,null,{"$f":"IF(OR(I49=\"\",J49=\"\",AND(ProjectType=\"Retrofit\",OR(E49=\"\",F49=\"\"))),\"-\",IF(OR(CB49=0,CB49=\"Not Qualified\"),\"N\",IFERROR(INDEX('Fixture Descriptions'!K:K,MATCH(AD49,'Fixture Descriptions'!A:A,0)),\"N\")))","v":"-"},0,0,0,0,0,0,0,0,0,{"$f":"ROUND(IFERROR(IF($AE$7,BJ49*MaxIncentive,Inventory!Z49),0),2)","v":0},0,0,0,0,0,{"$f":"IF(I49=\"\",\"\",IFERROR(VLOOKUP(I49,'Fixture Schedule'!$C$9:$D$58,2,0),I49))","v":""},{"$f":"10","v":10},{"$f":"IFERROR(VLOOKUP(IF(I49=\"REMOVED\",E49,AD49),'Fixture Descriptions'!A:J,10,FALSE),0)","v":0},{"$f":"IFERROR(INDEX('Buildings and Areas'!D$5:D$14,MATCH($C49,'Buildings and Areas'!$B$5:$B$14,0),1),\"\")","v":""},{"$f":"IFERROR(INDEX('Buildings and Areas'!C$5:C$14,MATCH($C49,'Buildings and Areas'!$B$5:$B$14,0),1),\"\")","v":""},{"$f":"IFERROR(INDEX('Buildings and Areas'!R$5:R$14,MATCH($C49,'Buildings and Areas'!$B$5:$B$14,0),1),0)","v":0},{"$f":"IFERROR(INDEX('Buildings and Areas'!S$5:S$14,MATCH($C49,'Buildings and Areas'!$B$5:$B$14,0),1),0)","v":0},{"$f":"IFERROR(INDEX('Buildings and Areas'!T$5:T$14,MATCH($C49,'Buildings and Areas'!$B$5:$B$14,0),1),0)","v":0},{"$f":"IFERROR(INDEX('Buildings and Areas'!O$5:O$14,MATCH($C49,'Buildings and Areas'!$B$5:$B$14,0),1),\"\")","v":""},{"$f":"IFERROR(INDEX('Buildings and Areas'!F$5:F$14,MATCH($C49,'Buildings and Areas'!$B$5:$B$14,0),1)&IF(AH49=\"Exterior\",\": \"&'Buildings and Areas'!$H$4,\"\"),\"\")","v":""},{"$f":"IFERROR(INDEX('Buildings and Areas'!H$5:H$14,MATCH($C49,'Buildings and Areas'!$B$5:$B$14,0),1),\"\")","v":""},{"$f":"IFERROR(IF(INDEX('Buildings and Areas'!L$5:L$14,MATCH($C49,'Buildings and Areas'!$B$5:$B$14,0),1)=\"\",\"Deemed\",INDEX('Buildings and Areas'!L$5:L$14,MATCH($C49,'Buildings and Areas'!$B$5:$B$14,0),1)),\"\")","v":""},{"$f":"IFERROR(IF(INDEX('Buildings and Areas'!M$5:M$14,MATCH($C49,'Buildings and Areas'!$B$5:$B$14,0),1)=\"\",\"Deemed\",INDEX('Buildings and Areas'!M$5:M$14,MATCH($C49,'Buildings and Areas'!$B$5:$B$14,0),1)),\"\")","v":""},{"$f":"IFERROR(INDEX('Buildings and Areas'!P$5:P$14,MATCH($C49,'Buildings and Areas'!$B$5:$B$14,0),1),0)","v":0},{"$f":"IFERROR(INDEX('Buildings and Areas'!Q$5:Q$14,MATCH($C49,'Buildings and Areas'!$B$5:$B$14,0),1),0)","v":0},{"$f":"IF(OR($AG49=\"\",$E49=\"\",$F49=\"\"),0,IF($F$124>0.1,(VLOOKUP($E49,'Fixture Descriptions'!$A:$I,8,0)/1000)*(1-$G$124),(VLOOKUP($E49,'Fixture Descriptions'!$A:$I,8,0)/1000)))","v":0},0,0,0,0,{"$f":"IFERROR(IF(OR('Buildings and Areas'!$D$2=\"New Construction\",$AG49=\"\",$H49=\"\",AH49=\"Exterior\"),1,INDEX('Factor Tables'!C$46:C$51,MATCH(Inventory!$H49,'Factor Tables'!$B$46:$B$51,0))),1)","v":1},{"$f":"IF(OR('Buildings and Areas'!$D$2=\"New Construction\",$AG49=\"\",$H49=\"\",AH49=\"Exterior\"),1,INDEX('Factor Tables'!D$46:D$51,MATCH(Inventory!$H49,'Factor Tables'!$B$46:$B$51,0)))","v":1},{"$f":"IF(I49=\"REMOVED\",0,IF($AD49<>\"\",VLOOKUP($AD49,'Fixture Descriptions'!$A:$I,8,0)/1000,0))","v":0},0,0,0,0,0,0,0,{"$f":"IFERROR(IF(OR($AG49=\"\",$K49=\"\",AH49=\"Exterior\"),1,INDEX('Factor Tables'!C$46:C$51,MATCH(Inventory!$K49,'Factor Tables'!$B$46:$B$51,0))),1)","v":1},{"$f":"IFERROR(IF(OR($AG49=\"\",$K49=\"\",AH49=\"Exterior\"),1,INDEX('Factor Tables'!D$46:D$51,MATCH(Inventory!$K49,'Factor Tables'!$B$46:$B$51,0))),1)","v":1},0,0,0,0,0,0,0,0,0,0,0,0,0,0,0,0,{"$f":"IFERROR(VLOOKUP(IF($AD49=\"Removed\",E49,$AD49),'Fixture Descriptions'!$A:$I,9,0),\"\")","v":0},{"$f":"IF($AD49=\"\",\"\",VLOOKUP($AD49,'Fixture Descriptions'!$A:$I,2,0))","v":""},{"$f":"IF(I49=\"\",\"\",IF(I49=\"Removed\",\"N/A\",IF(IFERROR(VLOOKUP(I49,'Fixture Schedule'!$C$9:$G$58,5,0),L49)=\"\",\"Not Qualified\",IFERROR(VLOOKUP(I49,'Fixture Schedule'!$C$9:$G$58,5,0),L49))))","v":""},{"$f":"IFERROR(INDEX('Utility Admin'!$F$3:$AW$3,1,MATCH(1,(CC$8='Utility Admin'!$F$1:$AW$1)*(Inventory!$AH49='Utility Admin'!$F$2:$AW$2)*(Inventory!$BZ49=('Utility Admin'!$F$4:$AW$4)),0)),0)","v":0},{"$f":"IFERROR(INDEX('Utility Admin'!$F$3:$AW$3,1,MATCH(1,(CD$8='Utility Admin'!$F$1:$AW$1)*(Inventory!$AH49='Utility Admin'!$F$2:$AW$2)*(Inventory!$BZ49=('Utility Admin'!$F$4:$AW$4)),0)),0)","v":0},{"$f":"IFERROR(INDEX('Utility Admin'!$F$3:$AW$3,1,MATCH(1,(CC$8='Utility Admin'!$F$1:$AW$1)*(Inventory!$AH49='Utility Admin'!$F$2:$AW$2)*(\"Lighting Controls\"=('Utility Admin'!$F$4:$AW$4)),0)),0)","v":0},{"$f":"IFERROR(INDEX('Utility Admin'!$F$3:$AW$3,1,MATCH(1,(CD$8='Utility Admin'!$F$1:$AW$1)*(Inventory!$AH49='Utility Admin'!$F$2:$AW$2)*(\"Lighting Controls\"=('Utility Admin'!$F$4:$AW$4)),0)),0)","v":0},false]
[null,42,null,null,null,null,null,null,null,null,null,null,null,{"$f":"IF(OR(I50=\"\",J50=\"\",AND(ProjectType=\"Retrofit\",OR(E50=\"\",F50=\"\"))),\"-\",IF(OR(CB50=0,CB50=\"Not Qualified\"),\"N\",IFERROR(INDEX('Fixture Descriptions'!K:K,MATCH(AD50,'Fixture Descriptions'!A:A,0)),\"N\")))","v":"-"},0,0,0,0,0,0,0,0,0,{"$f":"ROUND(IFERROR(IF($AE$7,BJ50*MaxIncentive,Inventory!Z50),0),2)","v":0},0,0,0,0,0,{"$f":"IF(I50=\"\",\"\",IFERROR(VLOOKUP(I50,'Fixture Schedule'!$C$9:$D$58,2,0),I50))","v":""},{"$f":"10","v":10},{"$f":"IFERROR(VLOOKUP(IF(I50=\"REMOVED\",E50,AD50),'Fixture Descriptions'!A:J,10,FALSE),0)","v":0},{"$f":"IFERROR(INDEX('Buildings and Areas'!D$5:D$14,MATCH($C50,'Buildings and Areas'!$B$5:$B$14,0),1),\"\")","v":""},{"$f":"IFERROR(INDEX('Buildings and Areas'!C$5:C$14,MATCH($C50,'Buildings and Areas'!$B$5:$B$14,0),1),\"\")","v":""},{"$f":"IFERROR(INDEX('Buildings and Areas'!R$5:R$14,MATCH($C50,'Buildings and Areas'!$B$5:$B$14,0),1),0)","v":0},{"$f":"IFERROR(INDEX('Buildings and Areas'!S$5:S$14,MATCH($C50,'Buildings and Areas'!$B$5:$B$14,0),1),0)","v":0},{"$f":"IFERROR(INDEX('Buildings and Areas'!T$5:T$14,MATCH($C50,'Buildings and Areas'!$B$5:$B$14,0),1),0)","v":0},{"$f":"IFERROR(INDEX('Buildings and Areas'!O$5:O$14,MATCH($C50,'Buildings and Areas'!$B$5:$B$14,0),1),\"\")","v":""},{"$f":"IFERROR(INDEX('Buildings and Areas'!F$5:F$14,MATCH($C50,'Buildings and Areas'!$B$5:$B$14,0),1)&IF(AH50=\"Exterior\",\": \"&'Buildings and Areas'!$H$4,\"\"),\"\")","v":""},{"$f":"IFERROR(INDEX('Buildings and Areas'!H$5:H$14,MATCH($C50,'Buildings and Areas'!$B$5:$B$14,0),1),\"\")","v":""},{"$f":"IFERROR(IF(INDEX('Buildings and Areas'!L$5:L$14,MATCH($C50,'Buildings and Areas'!$B$5:$B$14,0),1)=\"\",\"Deemed\",INDEX('Buildings and Areas'!L$5:L$14,MATCH($C50,'Buildings and Areas'!$B$5:$B$14,0),1)),\"\")","v":""},{"$f":"IFERROR(IF(INDEX('Buildings and Areas'!M$5:M$14,MATCH($C50,'Buildings and Areas'!$B$5:$B$14,0),1)=\"\",\"Deemed\",INDEX('Buildings and Areas'!M$5:M$14,MATCH($C50,'Buildings and Areas'!$B$5:$B$14,0),1)),\"\")","v":""},{"$f":"IFERROR(INDEX('Buildings and Areas'!P$5:P$14,MATCH($C50,'Buildings and Areas'!$B$5:$B$14,0),1),0)","v":0},{"$f":"IFERROR(INDEX('Buildings and Areas'!Q$5:Q$14,MATCH($C50,'Buildings and Areas'!$B$5:$B$14,0),1),0)","v":0},{"$f":"IF(OR($AG50=\"\",$E50=\"\",$F50=\"\"),0,IF($F$124>0.1,(VLOOKUP($E50,'Fixture Descriptions'!$A:$I,8,0)/1000)*(1-$G$124),(VLOOKUP($E50,'Fixture Descriptions'!$A:$I,8,0)/1000)))","v":0},0,0,0,0,{"$f":"IFERROR(IF(OR('Buildings and Areas'!$D$2=\"New Construction\",$AG50=\"\",$H50=\"\",AH50=\"Exterior\"),1,INDEX('Factor Tables'!C$46:C$51,MATCH(Inventory!$H50,'Factor Tables'!$B$46:$B$51,0))),1)","v":1},{"$f":"IF(OR('Buildings and Areas'!$D$2=\"New Construction\",$AG50=\"\",$H50=\"\",AH50=\"Exterior\"),1,INDEX('Factor Tables'!D$46:D$51,MATCH(Inventory!$H50,'Factor Tables'!$B$46:$B$51,0)))","v":1},{"$f":"IF(I50=\"REMOVED\",0,IF($AD50<>\"\",VLOOKUP($AD50,'Fixture Descriptions'!$A:$I,8,0)/1000,0))","v":0},0,0,0,0,0,0,0,{"$f":"IFERROR(IF(OR($AG50=\"\",$K50=\"\",AH50=\"Exterior\"),1,INDEX('Factor Tables'!C$46:C$51,MATCH(Inventory!$K50,'Factor Tables'!$B$46:$B$51,0))),1)","v":1},{"$f":"IFERROR(IF(OR($AG50=\"\",$K50=\"\",AH50=\"Exterior\"),1,INDEX('Factor Tables'!D$46:D$51,MATCH(Inventory!$K50,'Factor Tables'!$B$46:$B$51,0))),1)","v":1},0,0,0,0,0,0,0,0,0,0,0,0,0,0,0,0,{"$f":"IFERROR(VLOOKUP(IF($AD50=\"Removed\",E50,$AD50),'Fixture Descriptions'!$A:$I,9,0),\"\")","v":0},{"$f":"IF($AD50=\"\",\"\",VLOOKUP($AD50,'Fixture Descriptions'!$A:$I,2,0))","v":""},{"$f":"IF(I50=\"\",\"\",IF(I50=\"Removed\",\"N/A\",IF(IFERROR(VLOOKUP(I50,'Fixture Schedule'!$C$9:$G$58,5,0),L50)=\"\",\"Not Qualified\",IFERROR(VLOOKUP(I50,'Fixture Schedule'!$C$9:$G$58,5,0),L50))))","v":""},{"$f":"IFERROR(INDEX('Utility Admin'!$F$3:$AW$3,1,MATCH(1,(CC$8='Utility Admin'!$F$1:$AW$1)*(Inventory!$AH50='Utility Admin'!$F$2:$AW$2)*(Inventory!$BZ50=('Utility Admin'!$F$4:$AW$4)),0)),0)","v":0},{"$f":"IFERROR(INDEX('Utility Admin'!$F$3:$AW$3,1,MATCH(1,(CD$8='Utility Admin'!$F$1:$AW$1)*(Inventory!$AH50='Utility Admin'!$F$2:$AW$2)*(Inventory!$BZ50=('Utility Admin'!$F$4:$AW$4)),0)),0)","v":0},{"$f":"IFERROR(INDEX('Utility Admin'!$F$3:$AW$3,1,MATCH(1,(CC$8='Utility Admin'!$F$1:$AW$1)*(Inventory!$AH50='Utility Admin'!$F$2:$AW$2)*(\"Lighting Controls\"=('Utility Admin'!$F$4:$AW$4)),0)),0)","v":0},{"$f":"IFERROR(INDEX('Utility Admin'!$F$3:$AW$3,1,MATCH(1,(CD$8='Utility Admin'!$F$1:$AW$1)*(Inventory!$AH50='Utility Admin'!$F$2:$AW$2)*(\"Lighting Controls\"=('Utility Admin'!$F$4:$AW$4)),0)),0)","v":0},false]
[null,43,null,null,null,null,null,null,null,null,null,null,null,{"$f":"IF(OR(I51=\"\",J51=\"\",AND(ProjectType=\"Retrofit\",OR(E51=\"\",F51=\"\"))),\"-\",IF(OR(CB51=0,CB51=\"Not Qualified\"),\"N\",IFERROR(INDEX('Fixture Descriptions'!K:K,MATCH(AD51,'Fixture Descriptions'!A:A,0)),\"N\")))","v":"-"},0,0,0,0,0,0,0,0,0,{"$f":"ROUND(IFERROR(IF($AE$7,BJ51*MaxIncentive,Inventory!Z51),0),2)","v":0},0,0,0,0,0,{"$f":"IF(I51=\"\",\"\",IFERROR(VLOOKUP(I51,'Fixture Schedule'!$C$9:$D$58,2,0),I51))","v":""},{"$f":"10","v":10},{"$f":"IFERROR(VLOOKUP(IF(I51=\"REMOVED\",E51,AD51),'Fixture Descriptions'!A:J,10,FALSE),0)","v":0},{"$f":"IFERROR(INDEX('Buildings and Areas'!D$5:D$14,MATCH($C51,'Buildings and Areas'!$B$5:$B$14,0),1),\"\")","v":""},{"$f":"IFERROR(INDEX('Buildings and Areas'!C$5:C$14,MATCH($C51,'Buildings and Areas'!$B$5:$B$14,0),1),\"\")","v":""},{"$f":"IFERROR(INDEX('Buildings and Areas'!R$5:R$14,MATCH($C51,'Buildings and Areas'!$B$5:$B$14,0),1),0)","v":0},{"$f":"IFERROR(INDEX('Buildings and Areas'!S$5:S$14,MATCH($C51,'Buildings and Areas'!$B$5:$B$14,0),1),0)","v":0},{"$f":"IFERROR(INDEX('Buildings and Areas'!T$5:T$14,MATCH($C51,'Buildings and Areas'!$B$5:$B$14,0),1),0)","v":0},{"$f":"IFERROR(INDEX('Buildings and Areas'!O$5:O$14,MATCH($C51,'Buildings and Areas'!$B$5:$B$14,0),1),\"\")","v":""},{"$f":"IFERROR(INDEX('Buildings and Areas'!F$5:F$14,MATCH($C51,'Buildings and Areas'!$B$5:$B$14,0),1)&IF(AH51=\"Exterior\",\": \"&'Buildings and Areas'!$H$4,\"\"),\"\")","v":""},{"$f":"IFERROR(INDEX('Buildings and Areas'!H$5:H$14,MATCH($C51,'Buildings and Areas'!$B$5:$B$14,0),1),\"\")","v":""},{"$f":"IFERROR(IF(INDEX('Buildings and Areas'!L$5:L$14,MATCH($C51,'Buildings and Areas'!$B$5:$B$14,0),1)=\"\",\"Deemed\",INDEX('Buildings and Areas'!L$5:L$14,MATCH($C51,'Buildings and Areas'!$B$5:$B$14,0),1)),\"\")","v":""},{"$f":"IFERROR(IF(INDEX('Buildings and Areas'!M$5:M$14,MATCH($C51,'Buildings and Areas'!$B$5:$B$14,0),1)=\"\",\"Deemed\",INDEX('Buildings and Areas'!M$5:M$14,MATCH($C51,'Buildings and Areas'!$B$5:$B$14,0),1)),\"\")","v":""},{"$f":"IFERROR(INDEX('Buildings and Areas'!P$5:P$14,MATCH($C51,'Buildings and Areas'!$B$5:$B$14,0),1),0)","v":0},{"$f":"IFERROR(INDEX('Buildings and Areas'!Q$5:Q$14,MATCH($C51,'Buildings and Areas'!$B$5:$B$14,0),1),0)","v":0},{"$f":"IF(OR($AG51=\"\",$E51=\"\",$F51=\"\"),0,IF($F$124>0.1,(VLOOKUP($E51,'Fixture Descriptions'!$A:$I,8,0)/1000)*(1-$G$124),(VLOOKUP($E51,'Fixture Descriptions'!$A:$I,8,0)/1000)))","v":0},0,0,0,0,{"$f":"IFERROR(IF(OR('Buildings and Areas'!$D$2=\"New Construction\",$AG51=\"\",$H51=\"\",AH51=\"Exterior\"),1,INDEX('Factor Tables'!C$46:C$51,MATCH(Inventory!$H51,'Factor Tables'!$B$46:$B$51,0))),1)","v":1},{"$f":"IF(OR('Buildings and Areas'!$D$2=\"New Construction\",$AG51=\"\",$H51=\"\",AH51=\"Exterior\"),1,INDEX('Factor Tables'!D$46:D$51,MATCH(Inventory!$H51,'Factor Tables'!$B$46:$B$51,0)))","v":1},{"$f":"IF(I51=\"REMOVED\",0,IF($AD51<>\"\",VLOOKUP($AD51,'Fixture Descriptions'!$A:$I,8,0)/1000,0))","v":0},0,0,0,0,0,0,0,{"$f":"IFERROR(IF(OR($AG51=\"\",$K51=\"\",AH51=\"Exterior\"),1,INDEX('Factor Tables'!C$46:C$51,MATCH(Inventory!$K51,'Factor Tables'!$B$46:$B$51,0))),1)","v":1},{"$f":"IFERROR(IF(OR($AG51=\"\",$K51=\"\",AH51=\"Exterior\"),1,INDEX('Factor Tables'!D$46:D$51,MATCH(Inventory!$K51,'Factor Tables'!$B$46:$B$51,0))),1)","v":1},0,0,0,0,0,0,0,0,0,0,0,0,0,0,0,0,{"$f":"IFERROR(VLOOKUP(IF($AD51=\"Removed\",E51,$AD51),'Fixture Descriptions'!$A:$I,9,0),\"\")","v":0},{"$f":"IF($AD51=\"\",\"\",VLOOKUP($AD51,'Fixture Descriptions'!$A:$I,2,0))","v":""},{"$f":"IF(I51=\"\",\"\",IF(I51=\"Removed\",\"N/A\",IF(IFERROR(VLOOKUP(I51,'Fixture Schedule'!$C$9:$G$58,5,0),L51)=\"\",\"Not Qualified\",IFERROR(VLOOKUP(I51,'Fixture Schedule'!$C$9:$G$58,5,0),L51))))","v":""},{"$f":"IFERROR(INDEX('Utility Admin'!$F$3:$AW$3,1,MATCH(1,(CC$8='Utility Admin'!$F$1:$AW$1)*(Inventory!$AH51='Utility Admin'!$F$2:$AW$2)*(Inventory!$BZ51=('Utility Admin'!$F$4:$AW$4)),0)),0)","v":0},{"$f":"IFERROR(INDEX('Utility Admin'!$F$3:$AW$3,1,MATCH(1,(CD$8='Utility Admin'!$F$1:$AW$1)*(Inventory!$AH51='Utility Admin'!$F$2:$AW$2)*(Inventory!$BZ51=('Utility Admin'!$F$4:$AW$4)),0)),0)","v":0},{"$f":"IFERROR(INDEX('Utility Admin'!$F$3:$AW$3,1,MATCH(1,(CC$8='Utility Admin'!$F$1:$AW$1)*(Inventory!$AH51='Utility Admin'!$F$2:$AW$2)*(\"Lighting Controls\"=('Utility Admin'!$F$4:$AW$4)),0)),0)","v":0},{"$f":"IFERROR(INDEX('Utility Admin'!$F$3:$AW$3,1,MATCH(1,(CD$8='Utility Admin'!$F$1:$AW$1)*(Inventory!$AH51='Utility Admin'!$F$2:$AW$2)*(\"Lighting Controls\"=('Utility Admin'!$F$4:$AW$4)),0)),0)","v":0},false]
[null,44,null,null,null,null,null,null,null,null,null,null,null,{"$f":"IF(OR(I52=\"\",J52=\"\",AND(ProjectType=\"Retrofit\",OR(E52=\"\",F52=\"\"))),\"-\",IF(OR(CB52=0,CB52=\"Not Qualified\"),\"N\",IFERROR(INDEX('Fixture Descriptions'!K:K,MATCH(AD52,'Fixture Descriptions'!A:A,0)),\"N\")))","v":"-"},0,0,0,0,0,0,0,0,0,{"$f":"ROUND(IFERROR(IF($AE$7,BJ52*MaxIncentive,Inventory!Z52),0),2)","v":0},0,0,0,0,0,{"$f":"IF(I52=\"\",\"\",IFERROR(VLOOKUP(I52,'Fixture Schedule'!$C$9:$D$58,2,0),I52))","v":""},{"$f":"10","v":10},{"$f":"IFERROR(VLOOKUP(IF(I52=\"REMOVED\",E52,AD52),'Fixture Descriptions'!A:J,10,FALSE),0)","v":0},{"$f":"IFERROR(INDEX('Buildings and Areas'!D$5:D$14,MATCH($C52,'Buildings and Areas'!$B$5:$B$14,0),1),\"\")","v":""},{"$f":"IFERROR(INDEX('Buildings and Areas'!C$5:C$14,MATCH($C52,'Buildings and Areas'!$B$5:$B$14,0),1),\"\")","v":""},{"$f":"IFERROR(INDEX('Buildings and Areas'!R$5:R$14,MATCH($C52,'Buildings and Areas'!$B$5:$B$14,0),1),0)","v":0},{"$f":"IFERROR(INDEX('Buildings and Areas'!S$5:S$14,MATCH($C52,'Buildings and Areas'!$B$5:$B$14,0),1),0)","v":0},{"$f":"IFERROR(INDEX('Buildings and Areas'!T$5:T$14,MATCH($C52,'Buildings and Areas'!$B$5:$B$14,0),1),0)","v":0},{"$f":"IFERROR(INDEX('Buildings and Areas'!O$5:O$14,MATCH($C52,'Buildings and Areas'!$B$5:$B$14,0),1),\"\")","v":""},{"$f":"IFERROR(INDEX('Buildings and Areas'!F$5:F$14,MATCH($C52,'Buildings and Areas'!$B$5:$B$14,0),1)&IF(AH52=\"Exterior\",\": \"&'Buildings and Areas'!$H$4,\"\"),\"\")","v":""},{"$f":"IFERROR(INDEX('Buildings and Areas'!H$5:H$14,MATCH($C52,'Buildings and Areas'!$B$5:$B$14,0),1),\"\")","v":""},{"$f":"IFERROR(IF(INDEX('Buildings and Areas'!L$5:L$14,MATCH($C52,'Buildings and Areas'!$B$5:$B$14,0),1)=\"\",\"Deemed\",INDEX('Buildings and Areas'!L$5:L$14,MATCH($C52,'Buildings and Areas'!$B$5:$B$14,0),1)),\"\")","v":""},{"$f":"IFERROR(IF(INDEX('Buildings and Areas'!M$5:M$14,MATCH($C52,'Buildings and Areas'!$B$5:$B$14,0),1)=\"\",\"Deemed\",INDEX('Buildings and Areas'!M$5:M$14,MATCH($C52,'Buildings and Areas'!$B$5:$B$14,0),1)),\"\")","v":""},{"$f":"IFERROR(INDEX('Buildings and Areas'!P$5:P$14,MATCH($C52,'Buildings and Areas'!$B$5:$B$14,0),1),0)","v":0},{"$f":"IFERROR(INDEX('Buildings and Areas'!Q$5:Q$14,MATCH($C52,'Buildings and Areas'!$B$5:$B$14,0),1),0)","v":0},{"$f":"IF(OR($AG52=\"\",$E52=\"\",$F52=\"\"),0,IF($F$124>0.1,(VLOOKUP($E52,'Fixture Descriptions'!$A:$I,8,0)/1000)*(1-$G$124),(VLOOKUP($E52,'Fixture Descriptions'!$A:$I,8,0)/1000)))","v":0},0,0,0,0,{"$f":"IFERROR(IF(OR('Buildings and Areas'!$D$2=\"New Construction\",$AG52=\"\",$H52=\"\",AH52=\"Exterior\"),1,INDEX('Factor Tables'!C$46:C$51,MATCH(Inventory!$H52,'Factor Tables'!$B$46:$B$51,0))),1)","v":1},{"$f":"IF(OR('Buildings and Areas'!$D$2=\"New Construction\",$AG52=\"\",$H52=\"\",AH52=\"Exterior\"),1,INDEX('Factor Tables'!D$46:D$51,MATCH(Inventory!$H52,'Factor Tables'!$B$46:$B$51,0)))","v":1},{"$f":"IF(I52=\"REMOVED\",0,IF($AD52<>\"\",VLOOKUP($AD52,'Fixture Descriptions'!$A:$I,8,0)/1000,0))","v":0},0,0,0,0,0,0,0,{"$f":"IFERROR(IF(OR($AG52=\"\",$K52=\"\",AH52=\"Exterior\"),1,INDEX('Factor Tables'!C$46:C$51,MATCH(Inventory!$K52,'Factor Tables'!$B$46:$B$51,0))),1)","v":1},{"$f":"IFERROR(IF(OR($AG52=\"\",$K52=\"\",AH52=\"Exterior\"),1,INDEX('Factor Tables'!D$46:D$51,MATCH(Inventory!$K52,'Factor Tables'!$B$46:$B$51,0))),1)","v":1},0,0,0,0,0,0,0,0,0,0,0,0,0,0,0,0,{"$f":"IFERROR(VLOOKUP(IF($AD52=\"Removed\",E52,$AD52),'Fixture Descriptions'!$A:$I,9,0),\"\")","v":0},{"$f":"IF($AD52=\"\",\"\",VLOOKUP($AD52,'Fixture Descriptions'!$A:$I,2,0))","v":""},{"$f":"IF(I52=\"\",\"\",IF(I52=\"Removed\",\"N/A\",IF(IFERROR(VLOOKUP(I52,'Fixture Schedule'!$C$9:$G$58,5,0),L52)=\"\",\"Not Qualified\",IFERROR(VLOOKUP(I52,'Fixture Schedule'!$C$9:$G$58,5,0),L52))))","v":""},{"$f":"IFERROR(INDEX('Utility Admin'!$F$3:$AW$3,1,MATCH(1,(CC$8='Utility Admin'!$F$1:$AW$1)*(Inventory!$AH52='Utility Admin'!$F$2:$AW$2)*(Inventory!$BZ52=('Utility Admin'!$F$4:$AW$4)),0)),0)","v":0},{"$f":"IFERROR(INDEX('Utility Admin'!$F$3:$AW$3,1,MATCH(1,(CD$8='Utility Admin'!$F$1:$AW$1)*(Inventory!$AH52='Utility Admin'!$F$2:$AW$2)*(Inventory!$BZ52=('Utility Admin'!$F$4:$AW$4)),0)),0)","v":0},{"$f":"IFERROR(INDEX('Utility Admin'!$F$3:$AW$3,1,MATCH(1,(CC$8='Utility Admin'!$F$1:$AW$1)*(Inventory!$AH52='Utility Admin'!$F$2:$AW$2)*(\"Lighting Controls\"=('Utility Admin'!$F$4:$AW$4)),0)),0)","v":0},{"$f":"IFERROR(INDEX('Utility Admin'!$F$3:$AW$3,1,MATCH(1,(CD$8='Utility Admin'!$F$1:$AW$1)*(Inventory!$AH52='Utility Admin'!$F$2:$AW$2)*(\"Lighting Controls\"=('Utility Admin'!$F$4:$AW$4)),0)),0)","v":0},false]
[null,45,null,null,null,null,null,null,null,null,null,null,null,{"$f":"IF(OR(I53=\"\",J53=\"\",AND(ProjectType=\"Retrofit\",OR(E53=\"\",F53=\"\"))),\"-\",IF(OR(CB53=0,CB53=\"Not Qualified\"),\"N\",IFERROR(INDEX('Fixture Descriptions'!K:K,MATCH(AD53,'Fixture Descriptions'!A:A,0)),\"N\")))","v":"-"},0,0,0,0,0,0,0,0,0,{"$f":"ROUND(IFERROR(IF($AE$7,BJ53*MaxIncentive,Inventory!Z53),0),2)","v":0},0,0,0,0,0,{"$f":"IF(I53=\"\",\"\",IFERROR(VLOOKUP(I53,'Fixture Schedule'!$C$9:$D$58,2,0),I53))","v":""},{"$f":"10","v":10},{"$f":"IFERROR(VLOOKUP(IF(I53=\"REMOVED\",E53,AD53),'Fixture Descriptions'!A:J,10,FALSE),0)","v":0},{"$f":"IFERROR(INDEX('Buildings and Areas'!D$5:D$14,MATCH($C53,'Buildings and Areas'!$B$5:$B$14,0),1),\"\")","v":""},{"$f":"IFERROR(INDEX('Buildings and Areas'!C$5:C$14,MATCH($C53,'Buildings and Areas'!$B$5:$B$14,0),1),\"\")","v":""},{"$f":"IFERROR(INDEX('Buildings and Areas'!R$5:R$14,MATCH($C53,'Buildings and Areas'!$B$5:$B$14,0),1),0)","v":0},{"$f":"IFERROR(INDEX('Buildings and Areas'!S$5:S$14,MATCH($C53,'Buildings and Areas'!$B$5:$B$14,0),1),0)","v":0},{"$f":"IFERROR(INDEX('Buildings and Areas'!T$5:T$14,MATCH($C53,'Buildings and Areas'!$B$5:$B$14,0),1),0)","v":0},{"$f":"IFERROR(INDEX('Buildings and Areas'!O$5:O$14,MATCH($C53,'Buildings and Areas'!$B$5:$B$14,0),1),\"\")","v":""},{"$f":"IFERROR(INDEX('Buildings and Areas'!F$5:F$14,MATCH($C53,'Buildings and Areas'!$B$5:$B$14,0),1)&IF(AH53=\"Exterior\",\": \"&'Buildings and Areas'!$H$4,\"\"),\"\")","v":""},{"$f":"IFERROR(INDEX('Buildings and Areas'!H$5:H$14,MATCH($C53,'Buildings and Areas'!$B$5:$B$14,0),1),\"\")","v":""},{"$f":"IFERROR(IF(INDEX('Buildings and Areas'!L$5:L$14,MATCH($C53,'Buildings and Areas'!$B$5:$B$14,0),1)=\"\",\"Deemed\",INDEX('Buildings and Areas'!L$5:L$14,MATCH($C53,'Buildings and Areas'!$B$5:$B$14,0),1)),\"\")","v":""},{"$f":"IFERROR(IF(INDEX('Buildings and Areas'!M$5:M$14,MATCH($C53,'Buildings and Areas'!$B$5:$B$14,0),1)=\"\",\"Deemed\",INDEX('Buildings and Areas'!M$5:M$14,MATCH($C53,'Buildings and Areas'!$B$5:$B$14,0),1)),\"\")","v":""},{"$f":"IFERROR(INDEX('Buildings and Areas'!P$5:P$14,MATCH($C53,'Buildings and Areas'!$B$5:$B$14,0),1),0)","v":0},{"$f":"IFERROR(INDEX('Buildings and Areas'!Q$5:Q$14,MATCH($C53,'Buildings and Areas'!$B$5:$B$14,0),1),0)","v":0},{"$f":"IF(OR($AG53=\"\",$E53=\"\",$F53=\"\"),0,IF($F$124>0.1,(VLOOKUP($E53,'Fixture Descriptions'!$A:$I,8,0)/1000)*(1-$G$124),(VLOOKUP($E53,'Fixture Descriptions'!$A:$I,8,0)/1000)))","v":0},0,0,0,0,{"$f":"IFERROR(IF(OR('Buildings and Areas'!$D$2=\"New Construction\",$AG53=\"\",$H53=\"\",AH53=\"Exterior\"),1,INDEX('Factor Tables'!C$46:C$51,MATCH(Inventory!$H53,'Factor Tables'!$B$46:$B$51,0))),1)","v":1},{"$f":"IF(OR('Buildings and Areas'!$D$2=\"New Construction\",$AG53=\"\",$H53=\"\",AH53=\"Exterior\"),1,INDEX('Factor Tables'!D$46:D$51,MATCH(Inventory!$H53,'Factor Tables'!$B$46:$B$51,0)))","v":1},{"$f":"IF(I53=\"REMOVED\",0,IF($AD53<>\"\",VLOOKUP($AD53,'Fixture Descriptions'!$A:$I,8,0)/1000,0))","v":0},0,0,0,0,0,0,0,{"$f":"IFERROR(IF(OR($AG53=\"\",$K53=\"\",AH53=\"Exterior\"),1,INDEX('Factor Tables'!C$46:C$51,MATCH(Inventory!$K53,'Factor Tables'!$B$46:$B$51,0))),1)","v":1},{"$f":"IFERROR(IF(OR($AG53=\"\",$K53=\"\",AH53=\"Exterior\"),1,INDEX('Factor Tables'!D$46:D$51,MATCH(Inventory!$K53,'Factor Tables'!$B$46:$B$51,0))),1)","v":1},0,0,0,0,0,0,0,0,0,0,0,0,0,0,0,0,{"$f":"IFERROR(VLOOKUP(IF($AD53=\"Removed\",E53,$AD53),'Fixture Descriptions'!$A:$I,9,0),\"\")","v":0},{"$f":"IF($AD53=\"\",\"\",VLOOKUP($AD53,'Fixture Descriptions'!$A:$I,2,0))","v":""},{"$f":"IF(I53=\"\",\"\",IF(I53=\"Removed\",\"N/A\",IF(IFERROR(VLOOKUP(I53,'Fixture Schedule'!$C$9:$G$58,5,0),L53)=\"\",\"Not Qualified\",IFERROR(VLOOKUP(I53,'Fixture Schedule'!$C$9:$G$58,5,0),L53))))","v":""},{"$f":"IFERROR(INDEX('Utility Admin'!$F$3:$AW$3,1,MATCH(1,(CC$8='Utility Admin'!$F$1:$AW$1)*(Inventory!$AH53='Utility Admin'!$F$2:$AW$2)*(Inventory!$BZ53=('Utility Admin'!$F$4:$AW$4)),0)),0)","v":0},{"$f":"IFERROR(INDEX('Utility Admin'!$F$3:$AW$3,1,MATCH(1,(CD$8='Utility Admin'!$F$1:$AW$1)*(Inventory!$AH53='Utility Admin'!$F$2:$AW$2)*(Inventory!$BZ53=('Utility Admin'!$F$4:$AW$4)),0)),0)","v":0},{"$f":"IFERROR(INDEX('Utility Admin'!$F$3:$AW$3,1,MATCH(1,(CC$8='Utility Admin'!$F$1:$AW$1)*(Inventory!$AH53='Utility Admin'!$F$2:$AW$2)*(\"Lighting Controls\"=('Utility Admin'!$F$4:$AW$4)),0)),0)","v":0},{"$f":"IFERROR(INDEX('Utility Admin'!$F$3:$AW$3,1,MATCH(1,(CD$8='Utility Admin'!$F$1:$AW$1)*(Inventory!$AH53='Utility Admin'!$F$2:$AW$2)*(\"Lighting Controls\"=('Utility Admin'!$F$4:$AW$4)),0)),0)","v":0},false]
[null,46,null,null,null,null,null,null,null,null,null,null,null,{"$f":"IF(OR(I54=\"\",J54=\"\",AND(ProjectType=\"Retrofit\",OR(E54=\"\",F54=\"\"))),\"-\",IF(OR(CB54=0,CB54=\"Not Qualified\"),\"N\",IFERROR(INDEX('Fixture Descriptions'!K:K,MATCH(AD54,'Fixture Descriptions'!A:A,0)),\"N\")))","v":"-"},0,0,0,0,0,0,0,0,0,{"$f":"ROUND(IFERROR(IF($AE$7,BJ54*MaxIncentive,Inventory!Z54),0),2)","v":0},0,0,0,0,0,{"$f":"IF(I54=\"\",\"\",IFERROR(VLOOKUP(I54,'Fixture Schedule'!$C$9:$D$58,2,0),I54))","v":""},{"$f":"10","v":10},{"$f":"IFERROR(VLOOKUP(IF(I54=\"REMOVED\",E54,AD54),'Fixture Descriptions'!A:J,10,FALSE),0)","v":0},{"$f":"IFERROR(INDEX('Buildings and Areas'!D$5:D$14,MATCH($C54,'Buildings and Areas'!$B$5:$B$14,0),1),\"\")","v":""},{"$f":"IFERROR(INDEX('Buildings and Areas'!C$5:C$14,MATCH($C54,'Buildings and Areas'!$B$5:$B$14,0),1),\"\")","v":""},{"$f":"IFERROR(INDEX('Buildings and Areas'!R$5:R$14,MATCH($C54,'Buildings and Areas'!$B$5:$B$14,0),1),0)","v":0},{"$f":"IFERROR(INDEX('Buildings and Areas'!S$5:S$14,MATCH($C54,'Buildings and Areas'!$B$5:$B$14,0),1),0)","v":0},{"$f":"IFERROR(INDEX('Buildings and Areas'!T$5:T$14,MATCH($C54,'Buildings and Areas'!$B$5:$B$14,0),1),0)","v":0},{"$f":"IFERROR(INDEX('Buildings and Areas'!O$5:O$14,MATCH($C54,'Buildings and Areas'!$B$5:$B$14,0),1),\"\")","v":""},{"$f":"IFERROR(INDEX('Buildings and Areas'!F$5:F$14,MATCH($C54,'Buildings and Areas'!$B$5:$B$14,0),1)&IF(AH54=\"Exterior\",\": \"&'Buildings and Areas'!$H$4,\"\"),\"\")","v":""},{"$f":"IFERROR(INDEX('Buildings and Areas'!H$5:H$14,MATCH($C54,'Buildings and Areas'!$B$5:$B$14,0),1),\"\")","v":""},{"$f":"IFERROR(IF(INDEX('Buildings and Areas'!L$5:L$14,MATCH($C54,'Buildings and Areas'!$B$5:$B$14,0),1)=\"\",\"Deemed\",INDEX('Buildings and Areas'!L$5:L$14,MATCH($C54,'Buildings and Areas'!$B$5:$B$14,0),1)),\"\")","v":""},{"$f":"IFERROR(IF(INDEX('Buildings and Areas'!M$5:M$14,MATCH($C54,'Buildings and Areas'!$B$5:$B$14,0),1)=\"\",\"Deemed\",INDEX('Buildings and Areas'!M$5:M$14,MATCH($C54,'Buildings and Areas'!$B$5:$B$14,0),1)),\"\")","v":""},{"$f":"IFERROR(INDEX('Buildings and Areas'!P$5:P$14,MATCH($C54,'Buildings and Areas'!$B$5:$B$14,0),1),0)","v":0},{"$f":"IFERROR(INDEX('Buildings and Areas'!Q$5:Q$14,MATCH($C54,'Buildings and Areas'!$B$5:$B$14,0),1),0)","v":0},{"$f":"IF(OR($AG54=\"\",$E54=\"\",$F54=\"\"),0,IF($F$124>0.1,(VLOOKUP($E54,'Fixture Descriptions'!$A:$I,8,0)/1000)*(1-$G$124),(VLOOKUP($E54,'Fixture Descriptions'!$A:$I,8,0)/1000)))","v":0},0,0,0,0,{"$f":"IFERROR(IF(OR('Buildings and Areas'!$D$2=\"New Construction\",$AG54=\"\",$H54=\"\",AH54=\"Exterior\"),1,INDEX('Factor Tables'!C$46:C$51,MATCH(Inventory!$H54,'Factor Tables'!$B$46:$B$51,0))),1)","v":1},{"$f":"IF(OR('Buildings and Areas'!$D$2=\"New Construction\",$AG54=\"\",$H54=\"\",AH54=\"Exterior\"),1,INDEX('Factor Tables'!D$46:D$51,MATCH(Inventory!$H54,'Factor Tables'!$B$46:$B$51,0)))","v":1},{"$f":"IF(I54=\"REMOVED\",0,IF($AD54<>\"\",VLOOKUP($AD54,'Fixture Descriptions'!$A:$I,8,0)/1000,0))","v":0},0,0,0,0,0,0,0,{"$f":"IFERROR(IF(OR($AG54=\"\",$K54=\"\",AH54=\"Exterior\"),1,INDEX('Factor Tables'!C$46:C$51,MATCH(Inventory!$K54,'Factor Tables'!$B$46:$B$51,0))),1)","v":1},{"$f":"IFERROR(IF(OR($AG54=\"\",$K54=\"\",AH54=\"Exterior\"),1,INDEX('Factor Tables'!D$46:D$51,MATCH(Inventory!$K54,'Factor Tables'!$B$46:$B$51,0))),1)","v":1},0,0,0,0,0,0,0,0,0,0,0,0,0,0,0,0,{"$f":"IFERROR(VLOOKUP(IF($AD54=\"Removed\",E54,$AD54),'Fixture Descriptions'!$A:$I,9,0),\"\")","v":0},{"$f":"IF($AD54=\"\",\"\",VLOOKUP($AD54,'Fixture Descriptions'!$A:$I,2,0))","v":""},{"$f":"IF(I54=\"\",\"\",IF(I54=\"Removed\",\"N/A\",IF(IFERROR(VLOOKUP(I54,'Fixture Schedule'!$C$9:$G$58,5,0),L54)=\"\",\"Not Qualified\",IFERROR(VLOOKUP(I54,'Fixture Schedule'!$C$9:$G$58,5,0),L54))))","v":""},{"$f":"IFERROR(INDEX('Utility Admin'!$F$3:$AW$3,1,MATCH(1,(CC$8='Utility Admin'!$F$1:$AW$1)*(Inventory!$AH54='Utility Admin'!$F$2:$AW$2)*(Inventory!$BZ54=('Utility Admin'!$F$4:$AW$4)),0)),0)","v":0},{"$f":"IFERROR(INDEX('Utility Admin'!$F$3:$AW$3,1,MATCH(1,(CD$8='Utility Admin'!$F$1:$AW$1)*(Inventory!$AH54='Utility Admin'!$F$2:$AW$2)*(Inventory!$BZ54=('Utility Admin'!$F$4:$AW$4)),0)),0)","v":0},{"$f":"IFERROR(INDEX('Utility Admin'!$F$3:$AW$3,1,MATCH(1,(CC$8='Utility Admin'!$F$1:$AW$1)*(Inventory!$AH54='Utility Admin'!$F$2:$AW$2)*(\"Lighting Controls\"=('Utility Admin'!$F$4:$AW$4)),0)),0)","v":0},{"$f":"IFERROR(INDEX('Utility Admin'!$F$3:$AW$3,1,MATCH(1,(CD$8='Utility Admin'!$F$1:$AW$1)*(Inventory!$AH54='Utility Admin'!$F$2:$AW$2)*(\"Lighting Controls\"=('Utility Admin'!$F$4:$AW$4)),0)),0)","v":0},false]
[null,47,null,null,null,null,null,null,null,null,null,null,null,{"$f":"IF(OR(I55=\"\",J55=\"\",AND(ProjectType=\"Retrofit\",OR(E55=\"\",F55=\"\"))),\"-\",IF(OR(CB55=0,CB55=\"Not Qualified\"),\"N\",IFERROR(INDEX('Fixture Descriptions'!K:K,MATCH(AD55,'Fixture Descriptions'!A:A,0)),\"N\")))","v":"-"},0,0,0,0,0,0,0,0,0,{"$f":"ROUND(IFERROR(IF($AE$7,BJ55*MaxIncentive,Inventory!Z55),0),2)","v":0},0,0,0,0,0,{"$f":"IF(I55=\"\",\"\",IFERROR(VLOOKUP(I55,'Fixture Schedule'!$C$9:$D$58,2,0),I55))","v":""},{"$f":"10","v":10},{"$f":"IFERROR(VLOOKUP(IF(I55=\"REMOVED\",E55,AD55),'Fixture Descriptions'!A:J,10,FALSE),0)","v":0},{"$f":"IFERROR(INDEX('Buildings and Areas'!D$5:D$14,MATCH($C55,'Buildings and Areas'!$B$5:$B$14,0),1),\"\")","v":""},{"$f":"IFERROR(INDEX('Buildings and Areas'!C$5:C$14,MATCH($C55,'Buildings and Areas'!$B$5:$B$14,0),1),\"\")","v":""},{"$f":"IFERROR(INDEX('Buildings and Areas'!R$5:R$14,MATCH($C55,'Buildings and Areas'!$B$5:$B$14,0),1),0)","v":0},{"$f":"IFERROR(INDEX('Buildings and Areas'!S$5:S$14,MATCH($C55,'Buildings and Areas'!$B$5:$B$14,0),1),0)","v":0},{"$f":"IFERROR(INDEX('Buildings and Areas'!T$5:T$14,MATCH($C55,'Buildings and Areas'!$B$5:$B$14,0),1),0)","v":0},{"$f":"IFERROR(INDEX('Buildings and Areas'!O$5:O$14,MATCH($C55,'Buildings and Areas'!$B$5:$B$14,0),1),\"\")","v":""},{"$f":"IFERROR(INDEX('Buildings and Areas'!F$5:F$14,MATCH($C55,'Buildings and Areas'!$B$5:$B$14,0),1)&IF(AH55=\"Exterior\",\": \"&'Buildings and Areas'!$H$4,\"\"),\"\")","v":""},{"$f":"IFERROR(INDEX('Buildings and Areas'!H$5:H$14,MATCH($C55,'Buildings and Areas'!$B$5:$B$14,0),1),\"\")","v":""},{"$f":"IFERROR(IF(INDEX('Buildings and Areas'!L$5:L$14,MATCH($C55,'Buildings and Areas'!$B$5:$B$14,0),1)=\"\",\"Deemed\",INDEX('Buildings and Areas'!L$5:L$14,MATCH($C55,'Buildings and Areas'!$B$5:$B$14,0),1)),\"\")","v":""},{"$f":"IFERROR(IF(INDEX('Buildings and Areas'!M$5:M$14,MATCH($C55,'Buildings and Areas'!$B$5:$B$14,0),1)=\"\",\"Deemed\",INDEX('Buildings and Areas'!M$5:M$14,MATCH($C55,'Buildings and Areas'!$B$5:$B$14,0),1)),\"\")","v":""},{"$f":"IFERROR(INDEX('Buildings and Areas'!P$5:P$14,MATCH($C55,'Buildings and Areas'!$B$5:$B$14,0),1),0)","v":0},{"$f":"IFERROR(INDEX('Buildings and Areas'!Q$5:Q$14,MATCH($C55,'Buildings and Areas'!$B$5:$B$14,0),1),0)","v":0},{"$f":"IF(OR($AG55=\"\",$E55=\"\",$F55=\"\"),0,IF($F$124>0.1,(VLOOKUP($E55,'Fixture Descriptions'!$A:$I,8,0)/1000)*(1-$G$124),(VLOOKUP($E55,'Fixture Descriptions'!$A:$I,8,0)/1000)))","v":0},0,0,0,0,{"$f":"IFERROR(IF(OR('Buildings and Areas'!$D$2=\"New Construction\",$AG55=\"\",$H55=\"\",AH55=\"Exterior\"),1,INDEX('Factor Tables'!C$46:C$51,MATCH(Inventory!$H55,'Factor Tables'!$B$46:$B$51,0))),1)","v":1},{"$f":"IF(OR('Buildings and Areas'!$D$2=\"New Construction\",$AG55=\"\",$H55=\"\",AH55=\"Exterior\"),1,INDEX('Factor Tables'!D$46:D$51,MATCH(Inventory!$H55,'Factor Tables'!$B$46:$B$51,0)))","v":1},{"$f":"IF(I55=\"REMOVED\",0,IF($AD55<>\"\",VLOOKUP($AD55,'Fixture Descriptions'!$A:$I,8,0)/1000,0))","v":0},0,0,0,0,0,0,0,{"$f":"IFERROR(IF(OR($AG55=\"\",$K55=\"\",AH55=\"Exterior\"),1,INDEX('Factor Tables'!C$46:C$51,MATCH(Inventory!$K55,'Factor Tables'!$B$46:$B$51,0))),1)","v":1},{"$f":"IFERROR(IF(OR($AG55=\"\",$K55=\"\",AH55=\"Exterior\"),1,INDEX('Factor Tables'!D$46:D$51,MATCH(Inventory!$K55,'Factor Tables'!$B$46:$B$51,0))),1)","v":1},0,0,0,0,0,0,0,0,0,0,0,0,0,0,0,0,{"$f":"IFERROR(VLOOKUP(IF($AD55=\"Removed\",E55,$AD55),'Fixture Descriptions'!$A:$I,9,0),\"\")","v":0},{"$f":"IF($AD55=\"\",\"\",VLOOKUP($AD55,'Fixture Descriptions'!$A:$I,2,0))","v":""},{"$f":"IF(I55=\"\",\"\",IF(I55=\"Removed\",\"N/A\",IF(IFERROR(VLOOKUP(I55,'Fixture Schedule'!$C$9:$G$58,5,0),L55)=\"\",\"Not Qualified\",IFERROR(VLOOKUP(I55,'Fixture Schedule'!$C$9:$G$58,5,0),L55))))","v":""},{"$f":"IFERROR(INDEX('Utility Admin'!$F$3:$AW$3,1,MATCH(1,(CC$8='Utility Admin'!$F$1:$AW$1)*(Inventory!$AH55='Utility Admin'!$F$2:$AW$2)*(Inventory!$BZ55=('Utility Admin'!$F$4:$AW$4)),0)),0)","v":0},{"$f":"IFERROR(INDEX('Utility Admin'!$F$3:$AW$3,1,MATCH(1,(CD$8='Utility Admin'!$F$1:$AW$1)*(Inventory!$AH55='Utility Admin'!$F$2:$AW$2)*(Inventory!$BZ55=('Utility Admin'!$F$4:$AW$4)),0)),0)","v":0},{"$f":"IFERROR(INDEX('Utility Admin'!$F$3:$AW$3,1,MATCH(1,(CC$8='Utility Admin'!$F$1:$AW$1)*(Inventory!$AH55='Utility Admin'!$F$2:$AW$2)*(\"Lighting Controls\"=('Utility Admin'!$F$4:$AW$4)),0)),0)","v":0},{"$f":"IFERROR(INDEX('Utility Admin'!$F$3:$AW$3,1,MATCH(1,(CD$8='Utility Admin'!$F$1:$AW$1)*(Inventory!$AH55='Utility Admin'!$F$2:$AW$2)*(\"Lighting Controls\"=('Utility Admin'!$F$4:$AW$4)),0)),0)","v":0},false]
[null,48,null,null,null,null,null,null,null,null,null,null,null,{"$f":"IF(OR(I56=\"\",J56=\"\",AND(ProjectType=\"Retrofit\",OR(E56=\"\",F56=\"\"))),\"-\",IF(OR(CB56=0,CB56=\"Not Qualified\"),\"N\",IFERROR(INDEX('Fixture Descriptions'!K:K,MATCH(AD56,'Fixture Descriptions'!A:A,0)),\"N\")))","v":"-"},0,0,0,0,0,0,0,0,0,{"$f":"ROUND(IFERROR(IF($AE$7,BJ56*MaxIncentive,Inventory!Z56),0),2)","v":0},0,0,0,0,0,{"$f":"IF(I56=\"\",\"\",IFERROR(VLOOKUP(I56,'Fixture Schedule'!$C$9:$D$58,2,0),I56))","v":""},{"$f":"10","v":10},{"$f":"IFERROR(VLOOKUP(IF(I56=\"REMOVED\",E56,AD56),'Fixture Descriptions'!A:J,10,FALSE),0)","v":0},{"$f":"IFERROR(INDEX('Buildings and Areas'!D$5:D$14,MATCH($C56,'Buildings and Areas'!$B$5:$B$14,0),1),\"\")","v":""},{"$f":"IFERROR(INDEX('Buildings and Areas'!C$5:C$14,MATCH($C56,'Buildings and Areas'!$B$5:$B$14,0),1),\"\")","v":""},{"$f":"IFERROR(INDEX('Buildings and Areas'!R$5:R$14,MATCH($C56,'Buildings and Areas'!$B$5:$B$14,0),1),0)","v":0},{"$f":"IFERROR(INDEX('Buildings and Areas'!S$5:S$14,MATCH($C56,'Buildings and Areas'!$B$5:$B$14,0),1),0)","v":0},{"$f":"IFERROR(INDEX('Buildings and Areas'!T$5:T$14,MATCH($C56,'Buildings and Areas'!$B$5:$B$14,0),1),0)","v":0},{"$f":"IFERROR(INDEX('Buildings and Areas'!O$5:O$14,MATCH($C56,'Buildings and Areas'!$B$5:$B$14,0),1),\"\")","v":""},{"$f":"IFERROR(INDEX('Buildings and Areas'!F$5:F$14,MATCH($C56,'Buildings and Areas'!$B$5:$B$14,0),1)&IF(AH56=\"Exterior\",\": \"&'Buildings and Areas'!$H$4,\"\"),\"\")","v":""},{"$f":"IFERROR(INDEX('Buildings and Areas'!H$5:H$14,MATCH($C56,'Buildings and Areas'!$B$5:$B$14,0),1),\"\")","v":""},{"$f":"IFERROR(IF(INDEX('Buildings and Areas'!L$5:L$14,MATCH($C56,'Buildings and Areas'!$B$5:$B$14,0),1)=\"\",\"Deemed\",INDEX('Buildings and Areas'!L$5:L$14,MATCH($C56,'Buildings and Areas'!$B$5:$B$14,0),1)),\"\")","v":""},{"$f":"IFERROR(IF(INDEX('Buildings and Areas'!M$5:M$14,MATCH($C56,'Buildings and Areas'!$B$5:$B$14,0),1)=\"\",\"Deemed\",INDEX('Buildings and Areas'!M$5:M$14,MATCH($C56,'Buildings and Areas'!$B$5:$B$14,0),1)),\"\")","v":""},{"$f":"IFERROR(INDEX('Buildings and Areas'!P$5:P$14,MATCH($C56,'Buildings and Areas'!$B$5:$B$14,0),1),0)","v":0},{"$f":"IFERROR(INDEX('Buildings and Areas'!Q$5:Q$14,MATCH($C56,'Buildings and Areas'!$B$5:$B$14,0),1),0)","v":0},{"$f":"IF(OR($AG56=\"\",$E56=\"\",$F56=\"\"),0,IF($F$124>0.1,(VLOOKUP($E56,'Fixture Descriptions'!$A:$I,8,0)/1000)*(1-$G$124),(VLOOKUP($E56,'Fixture Descriptions'!$A:$I,8,0)/1000)))","v":0},0,0,0,0,{"$f":"IFERROR(IF(OR('Buildings and Areas'!$D$2=\"New Construction\",$AG56=\"\",$H56=\"\",AH56=\"Exterior\"),1,INDEX('Factor Tables'!C$46:C$51,MATCH(Inventory!$H56,'Factor Tables'!$B$46:$B$51,0))),1)","v":1},{"$f":"IF(OR('Buildings and Areas'!$D$2=\"New Construction\",$AG56=\"\",$H56=\"\",AH56=\"Exterior\"),1,INDEX('Factor Tables'!D$46:D$51,MATCH(Inventory!$H56,'Factor Tables'!$B$46:$B$51,0)))","v":1},{"$f":"IF(I56=\"REMOVED\",0,IF($AD56<>\"\",VLOOKUP($AD56,'Fixture Descriptions'!$A:$I,8,0)/1000,0))","v":0},0,0,0,0,0,0,0,{"$f":"IFERROR(IF(OR($AG56=\"\",$K56=\"\",AH56=\"Exterior\"),1,INDEX('Factor Tables'!C$46:C$51,MATCH(Inventory!$K56,'Factor Tables'!$B$46:$B$51,0))),1)","v":1},{"$f":"IFERROR(IF(OR($AG56=\"\",$K56=\"\",AH56=\"Exterior\"),1,INDEX('Factor Tables'!D$46:D$51,MATCH(Inventory!$K56,'Factor Tables'!$B$46:$B$51,0))),1)","v":1},0,0,0,0,0,0,0,0,0,0,0,0,0,0,0,0,{"$f":"IFERROR(VLOOKUP(IF($AD56=\"Removed\",E56,$AD56),'Fixture Descriptions'!$A:$I,9,0),\"\")","v":0},{"$f":"IF($AD56=\"\",\"\",VLOOKUP($AD56,'Fixture Descriptions'!$A:$I,2,0))","v":""},{"$f":"IF(I56=\"\",\"\",IF(I56=\"Removed\",\"N/A\",IF(IFERROR(VLOOKUP(I56,'Fixture Schedule'!$C$9:$G$58,5,0),L56)=\"\",\"Not Qualified\",IFERROR(VLOOKUP(I56,'Fixture Schedule'!$C$9:$G$58,5,0),L56))))","v":""},{"$f":"IFERROR(INDEX('Utility Admin'!$F$3:$AW$3,1,MATCH(1,(CC$8='Utility Admin'!$F$1:$AW$1)*(Inventory!$AH56='Utility Admin'!$F$2:$AW$2)*(Inventory!$BZ56=('Utility Admin'!$F$4:$AW$4)),0)),0)","v":0},{"$f":"IFERROR(INDEX('Utility Admin'!$F$3:$AW$3,1,MATCH(1,(CD$8='Utility Admin'!$F$1:$AW$1)*(Inventory!$AH56='Utility Admin'!$F$2:$AW$2)*(Inventory!$BZ56=('Utility Admin'!$F$4:$AW$4)),0)),0)","v":0},{"$f":"IFERROR(INDEX('Utility Admin'!$F$3:$AW$3,1,MATCH(1,(CC$8='Utility Admin'!$F$1:$AW$1)*(Inventory!$AH56='Utility Admin'!$F$2:$AW$2)*(\"Lighting Controls\"=('Utility Admin'!$F$4:$AW$4)),0)),0)","v":0},{"$f":"IFERROR(INDEX('Utility Admin'!$F$3:$AW$3,1,MATCH(1,(CD$8='Utility Admin'!$F$1:$AW$1)*(Inventory!$AH56='Utility Admin'!$F$2:$AW$2)*(\"Lighting Controls\"=('Utility Admin'!$F$4:$AW$4)),0)),0)","v":0},false]
[null,49,null,null,null,null,null,null,null,null,null,null,null,{"$f":"IF(OR(I57=\"\",J57=\"\",AND(ProjectType=\"Retrofit\",OR(E57=\"\",F57=\"\"))),\"-\",IF(OR(CB57=0,CB57=\"Not Qualified\"),\"N\",IFERROR(INDEX('Fixture Descriptions'!K:K,MATCH(AD57,'Fixture Descriptions'!A:A,0)),\"N\")))","v":"-"},0,0,0,0,0,0,0,0,0,{"$f":"ROUND(IFERROR(IF($AE$7,BJ57*MaxIncentive,Inventory!Z57),0),2)","v":0},0,0,0,0,0,{"$f":"IF(I57=\"\",\"\",IFERROR(VLOOKUP(I57,'Fixture Schedule'!$C$9:$D$58,2,0),I57))","v":""},{"$f":"10","v":10},{"$f":"IFERROR(VLOOKUP(IF(I57=\"REMOVED\",E57,AD57),'Fixture Descriptions'!A:J,10,FALSE),0)","v":0},{"$f":"IFERROR(INDEX('Buildings and Areas'!D$5:D$14,MATCH($C57,'Buildings and Areas'!$B$5:$B$14,0),1),\"\")","v":""},{"$f":"IFERROR(INDEX('Buildings and Areas'!C$5:C$14,MATCH($C57,'Buildings and Areas'!$B$5:$B$14,0),1),\"\")","v":""},{"$f":"IFERROR(INDEX('Buildings and Areas'!R$5:R$14,MATCH($C57,'Buildings and Areas'!$B$5:$B$14,0),1),0)","v":0},{"$f":"IFERROR(INDEX('Buildings and Areas'!S$5:S$14,MATCH($C57,'Buildings and Areas'!$B$5:$B$14,0),1),0)","v":0},{"$f":"IFERROR(INDEX('Buildings and Areas'!T$5:T$14,MATCH($C57,'Buildings and Areas'!$B$5:$B$14,0),1),0)","v":0},{"$f":"IFERROR(INDEX('Buildings and Areas'!O$5:O$14,MATCH($C57,'Buildings and Areas'!$B$5:$B$14,0),1),\"\")","v":""},{"$f":"IFERROR(INDEX('Buildings and Areas'!F$5:F$14,MATCH($C57,'Buildings and Areas'!$B$5:$B$14,0),1)&IF(AH57=\"Exterior\",\": \"&'Buildings and Areas'!$H$4,\"\"),\"\")","v":""},{"$f":"IFERROR(INDEX('Buildings and Areas'!H$5:H$14,MATCH($C57,'Buildings and Areas'!$B$5:$B$14,0),1),\"\")","v":""},{"$f":"IFERROR(IF(INDEX('Buildings and Areas'!L$5:L$14,MATCH($C57,'Buildings and Areas'!$B$5:$B$14,0),1)=\"\",\"Deemed\",INDEX('Buildings and Areas'!L$5:L$14,MATCH($C57,'Buildings and Areas'!$B$5:$B$14,0),1)),\"\")","v":""},{"$f":"IFERROR(IF(INDEX('Buildings and Areas'!M$5:M$14,MATCH($C57,'Buildings and Areas'!$B$5:$B$14,0),1)=\"\",\"Deemed\",INDEX('Buildings and Areas'!M$5:M$14,MATCH($C57,'Buildings and Areas'!$B$5:$B$14,0),1)),\"\")","v":""},{"$f":"IFERROR(INDEX('Buildings and Areas'!P$5:P$14,MATCH($C57,'Buildings and Areas'!$B$5:$B$14,0),1),0)","v":0},{"$f":"IFERROR(INDEX('Buildings and Areas'!Q$5:Q$14,MATCH($C57,'Buildings and Areas'!$B$5:$B$14,0),1),0)","v":0},{"$f":"IF(OR($AG57=\"\",$E57=\"\",$F57=\"\"),0,IF($F$124>0.1,(VLOOKUP($E57,'Fixture Descriptions'!$A:$I,8,0)/1000)*(1-$G$124),(VLOOKUP($E57,'Fixture Descriptions'!$A:$I,8,0)/1000)))","v":0},0,0,0,0,{"$f":"IFERROR(IF(OR('Buildings and Areas'!$D$2=\"New Construction\",$AG57=\"\",$H57=\"\",AH57=\"Exterior\"),1,INDEX('Factor Tables'!C$46:C$51,MATCH(Inventory!$H57,'Factor Tables'!$B$46:$B$51,0))),1)","v":1},{"$f":"IF(OR('Buildings and Areas'!$D$2=\"New Construction\",$AG57=\"\",$H57=\"\",AH57=\"Exterior\"),1,INDEX('Factor Tables'!D$46:D$51,MATCH(Inventory!$H57,'Factor Tables'!$B$46:$B$51,0)))","v":1},{"$f":"IF(I57=\"REMOVED\",0,IF($AD57<>\"\",VLOOKUP($AD57,'Fixture Descriptions'!$A:$I,8,0)/1000,0))","v":0},0,0,0,0,0,0,0,{"$f":"IFERROR(IF(OR($AG57=\"\",$K57=\"\",AH57=\"Exterior\"),1,INDEX('Factor Tables'!C$46:C$51,MATCH(Inventory!$K57,'Factor Tables'!$B$46:$B$51,0))),1)","v":1},{"$f":"IFERROR(IF(OR($AG57=\"\",$K57=\"\",AH57=\"Exterior\"),1,INDEX('Factor Tables'!D$46:D$51,MATCH(Inventory!$K57,'Factor Tables'!$B$46:$B$51,0))),1)","v":1},0,0,0,0,0,0,0,0,0,0,0,0,0,0,0,0,{"$f":"IFERROR(VLOOKUP(IF($AD57=\"Removed\",E57,$AD57),'Fixture Descriptions'!$A:$I,9,0),\"\")","v":0},{"$f":"IF($AD57=\"\",\"\",VLOOKUP($AD57,'Fixture Descriptions'!$A:$I,2,0))","v":""},{"$f":"IF(I57=\"\",\"\",IF(I57=\"Removed\",\"N/A\",IF(IFERROR(VLOOKUP(I57,'Fixture Schedule'!$C$9:$G$58,5,0),L57)=\"\",\"Not Qualified\",IFERROR(VLOOKUP(I57,'Fixture Schedule'!$C$9:$G$58,5,0),L57))))","v":""},{"$f":"IFERROR(INDEX('Utility Admin'!$F$3:$AW$3,1,MATCH(1,(CC$8='Utility Admin'!$F$1:$AW$1)*(Inventory!$AH57='Utility Admin'!$F$2:$AW$2)*(Inventory!$BZ57=('Utility Admin'!$F$4:$AW$4)),0)),0)","v":0},{"$f":"IFERROR(INDEX('Utility Admin'!$F$3:$AW$3,1,MATCH(1,(CD$8='Utility Admin'!$F$1:$AW$1)*(Inventory!$AH57='Utility Admin'!$F$2:$AW$2)*(Inventory!$BZ57=('Utility Admin'!$F$4:$AW$4)),0)),0)","v":0},{"$f":"IFERROR(INDEX('Utility Admin'!$F$3:$AW$3,1,MATCH(1,(CC$8='Utility Admin'!$F$1:$AW$1)*(Inventory!$AH57='Utility Admin'!$F$2:$AW$2)*(\"Lighting Controls\"=('Utility Admin'!$F$4:$AW$4)),0)),0)","v":0},{"$f":"IFERROR(INDEX('Utility Admin'!$F$3:$AW$3,1,MATCH(1,(CD$8='Utility Admin'!$F$1:$AW$1)*(Inventory!$AH57='Utility Admin'!$F$2:$AW$2)*(\"Lighting Controls\"=('Utility Admin'!$F$4:$AW$4)),0)),0)","v":0},false]
[null,50,null,null,null,null,null,null,null,null,null,null,null,{"$f":"IF(OR(I58=\"\",J58=\"\",AND(ProjectType=\"Retrofit\",OR(E58=\"\",F58=\"\"))),\"-\",IF(OR(CB58=0,CB58=\"Not Qualified\"),\"N\",IFERROR(INDEX('Fixture Descriptions'!K:K,MATCH(AD58,'Fixture Descriptions'!A:A,0)),\"N\")))","v":"-"},0,0,0,0,0,0,0,0,0,{"$f":"ROUND(IFERROR(IF($AE$7,BJ58*MaxIncentive,Inventory!Z58),0),2)","v":0},0,0,0,0,0,{"$f":"IF(I58=\"\",\"\",IFERROR(VLOOKUP(I58,'Fixture Schedule'!$C$9:$D$58,2,0),I58))","v":""},{"$f":"10","v":10},{"$f":"IFERROR(VLOOKUP(IF(I58=\"REMOVED\",E58,AD58),'Fixture Descriptions'!A:J,10,FALSE),0)","v":0},{"$f":"IFERROR(INDEX('Buildings and Areas'!D$5:D$14,MATCH($C58,'Buildings and Areas'!$B$5:$B$14,0),1),\"\")","v":""},{"$f":"IFERROR(INDEX('Buildings and Areas'!C$5:C$14,MATCH($C58,'Buildings and Areas'!$B$5:$B$14,0),1),\"\")","v":""},{"$f":"IFERROR(INDEX('Buildings and Areas'!R$5:R$14,MATCH($C58,'Buildings and Areas'!$B$5:$B$14,0),1),0)","v":0},{"$f":"IFERROR(INDEX('Buildings and Areas'!S$5:S$14,MATCH($C58,'Buildings and Areas'!$B$5:$B$14,0),1),0)","v":0},{"$f":"IFERROR(INDEX('Buildings and Areas'!T$5:T$14,MATCH($C58,'Buildings and Areas'!$B$5:$B$14,0),1),0)","v":0},{"$f":"IFERROR(INDEX('Buildings and Areas'!O$5:O$14,MATCH($C58,'Buildings and Areas'!$B$5:$B$14,0),1),\"\")","v":""},{"$f":"IFERROR(INDEX('Buildings and Areas'!F$5:F$14,MATCH($C58,'Buildings and Areas'!$B$5:$B$14,0),1)&IF(AH58=\"Exterior\",\": \"&'Buildings and Areas'!$H$4,\"\"),\"\")","v":""},{"$f":"IFERROR(INDEX('Buildings and Areas'!H$5:H$14,MATCH($C58,'Buildings and Areas'!$B$5:$B$14,0),1),\"\")","v":""},{"$f":"IFERROR(IF(INDEX('Buildings and Areas'!L$5:L$14,MATCH($C58,'Buildings and Areas'!$B$5:$B$14,0),1)=\"\",\"Deemed\",INDEX('Buildings and Areas'!L$5:L$14,MATCH($C58,'Buildings and Areas'!$B$5:$B$14,0),1)),\"\")","v":""},{"$f":"IFERROR(IF(INDEX('Buildings and Areas'!M$5:M$14,MATCH($C58,'Buildings and Areas'!$B$5:$B$14,0),1)=\"\",\"Deemed\",INDEX('Buildings and Areas'!M$5:M$14,MATCH($C58,'Buildings and Areas'!$B$5:$B$14,0),1)),\"\")","v":""},{"$f":"IFERROR(INDEX('Buildings and Areas'!P$5:P$14,MATCH($C58,'Buildings and Areas'!$B$5:$B$14,0),1),0)","v":0},{"$f":"IFERROR(INDEX('Buildings and Areas'!Q$5:Q$14,MATCH($C58,'Buildings and Areas'!$B$5:$B$14,0),1),0)","v":0},{"$f":"IF(OR($AG58=\"\",$E58=\"\",$F58=\"\"),0,IF($F$124>0.1,(VLOOKUP($E58,'Fixture Descriptions'!$A:$I,8,0)/1000)*(1-$G$124),(VLOOKUP($E58,'Fixture Descriptions'!$A:$I,8,0)/1000)))","v":0},0,0,0,0,{"$f":"IFERROR(IF(OR('Buildings and Areas'!$D$2=\"New Construction\",$AG58=\"\",$H58=\"\",AH58=\"Exterior\"),1,INDEX('Factor Tables'!C$46:C$51,MATCH(Inventory!$H58,'Factor Tables'!$B$46:$B$51,0))),1)","v":1},{"$f":"IF(OR('Buildings and Areas'!$D$2=\"New Construction\",$AG58=\"\",$H58=\"\",AH58=\"Exterior\"),1,INDEX('Factor Tables'!D$46:D$51,MATCH(Inventory!$H58,'Factor Tables'!$B$46:$B$51,0)))","v":1},{"$f":"IF(I58=\"REMOVED\",0,IF($AD58<>\"\",VLOOKUP($AD58,'Fixture Descriptions'!$A:$I,8,0)/1000,0))","v":0},0,0,0,0,0,0,0,{"$f":"IFERROR(IF(OR($AG58=\"\",$K58=\"\",AH58=\"Exterior\"),1,INDEX('Factor Tables'!C$46:C$51,MATCH(Inventory!$K58,'Factor Tables'!$B$46:$B$51,0))),1)","v":1},{"$f":"IFERROR(IF(OR($AG58=\"\",$K58=\"\",AH58=\"Exterior\"),1,INDEX('Factor Tables'!D$46:D$51,MATCH(Inventory!$K58,'Factor Tables'!$B$46:$B$51,0))),1)","v":1},0,0,0,0,0,0,0,0,0,0,0,0,0,0,0,0,{"$f":"IFERROR(VLOOKUP(IF($AD58=\"Removed\",E58,$AD58),'Fixture Descriptions'!$A:$I,9,0),\"\")","v":0},{"$f":"IF($AD58=\"\",\"\",VLOOKUP($AD58,'Fixture Descriptions'!$A:$I,2,0))","v":""},{"$f":"IF(I58=\"\",\"\",IF(I58=\"Removed\",\"N/A\",IF(IFERROR(VLOOKUP(I58,'Fixture Schedule'!$C$9:$G$58,5,0),L58)=\"\",\"Not Qualified\",IFERROR(VLOOKUP(I58,'Fixture Schedule'!$C$9:$G$58,5,0),L58))))","v":""},{"$f":"IFERROR(INDEX('Utility Admin'!$F$3:$AW$3,1,MATCH(1,(CC$8='Utility Admin'!$F$1:$AW$1)*(Inventory!$AH58='Utility Admin'!$F$2:$AW$2)*(Inventory!$BZ58=('Utility Admin'!$F$4:$AW$4)),0)),0)","v":0},{"$f":"IFERROR(INDEX('Utility Admin'!$F$3:$AW$3,1,MATCH(1,(CD$8='Utility Admin'!$F$1:$AW$1)*(Inventory!$AH58='Utility Admin'!$F$2:$AW$2)*(Inventory!$BZ58=('Utility Admin'!$F$4:$AW$4)),0)),0)","v":0},{"$f":"IFERROR(INDEX('Utility Admin'!$F$3:$AW$3,1,MATCH(1,(CC$8='Utility Admin'!$F$1:$AW$1)*(Inventory!$AH58='Utility Admin'!$F$2:$AW$2)*(\"Lighting Controls\"=('Utility Admin'!$F$4:$AW$4)),0)),0)","v":0},{"$f":"IFERROR(INDEX('Utility Admin'!$F$3:$AW$3,1,MATCH(1,(CD$8='Utility Admin'!$F$1:$AW$1)*(Inventory!$AH58='Utility Admin'!$F$2:$AW$2)*(\"Lighting Controls\"=('Utility Admin'!$F$4:$AW$4)),0)),0)","v":0},false]
[null,51,null,null,null,null,null,null,null,null,null,null,null,{"$f":"IF(OR(I59=\"\",J59=\"\",AND(ProjectType=\"Retrofit\",OR(E59=\"\",F59=\"\"))),\"-\",IF(OR(CB59=0,CB59=\"Not Qualified\"),\"N\",IFERROR(INDEX('Fixture Descriptions'!K:K,MATCH(AD59,'Fixture Descriptions'!A:A,0)),\"N\")))","v":"-"},0,0,0,0,0,0,0,0,0,{"$f":"ROUND(IFERROR(IF($AE$7,BJ59*MaxIncentive,Inventory!Z59),0),2)","v":0},0,0,0,0,0,{"$f":"IF(I59=\"\",\"\",IFERROR(VLOOKUP(I59,'Fixture Schedule'!$C$9:$D$58,2,0),I59))","v":""},{"$f":"10","v":10},{"$f":"IFERROR(VLOOKUP(IF(I59=\"REMOVED\",E59,AD59),'Fixture Descriptions'!A:J,10,FALSE),0)","v":0},{"$f":"IFERROR(INDEX('Buildings and Areas'!D$5:D$14,MATCH($C59,'Buildings and Areas'!$B$5:$B$14,0),1),\"\")","v":""},{"$f":"IFERROR(INDEX('Buildings and Areas'!C$5:C$14,MATCH($C59,'Buildings and Areas'!$B$5:$B$14,0),1),\"\")","v":""},{"$f":"IFERROR(INDEX('Buildings and Areas'!R$5:R$14,MATCH($C59,'Buildings and Areas'!$B$5:$B$14,0),1),0)","v":0},{"$f":"IFERROR(INDEX('Buildings and Areas'!S$5:S$14,MATCH($C59,'Buildings and Areas'!$B$5:$B$14,0),1),0)","v":0},{"$f":"IFERROR(INDEX('Buildings and Areas'!T$5:T$14,MATCH($C59,'Buildings and Areas'!$B$5:$B$14,0),1),0)","v":0},{"$f":"IFERROR(INDEX('Buildings and Areas'!O$5:O$14,MATCH($C59,'Buildings and Areas'!$B$5:$B$14,0),1),\"\")","v":""},{"$f":"IFERROR(INDEX('Buildings and Areas'!F$5:F$14,MATCH($C59,'Buildings and Areas'!$B$5:$B$14,0),1)&IF(AH59=\"Exterior\",\": \"&'Buildings and Areas'!$H$4,\"\"),\"\")","v":""},{"$f":"IFERROR(INDEX('Buildings and Areas'!H$5:H$14,MATCH($C59,'Buildings and Areas'!$B$5:$B$14,0),1),\"\")","v":""},{"$f":"IFERROR(IF(INDEX('Buildings and Areas'!L$5:L$14,MATCH($C59,'Buildings and Areas'!$B$5:$B$14,0),1)=\"\",\"Deemed\",INDEX('Buildings and Areas'!L$5:L$14,MATCH($C59,'Buildings and Areas'!$B$5:$B$14,0),1)),\"\")","v":""},{"$f":"IFERROR(IF(INDEX('Buildings and Areas'!M$5:M$14,MATCH($C59,'Buildings and Areas'!$B$5:$B$14,0),1)=\"\",\"Deemed\",INDEX('Buildings and Areas'!M$5:M$14,MATCH($C59,'Buildings and Areas'!$B$5:$B$14,0),1)),\"\")","v":""},{"$f":"IFERROR(INDEX('Buildings and Areas'!P$5:P$14,MATCH($C59,'Buildings and Areas'!$B$5:$B$14,0),1),0)","v":0},{"$f":"IFERROR(INDEX('Buildings and Areas'!Q$5:Q$14,MATCH($C59,'Buildings and Areas'!$B$5:$B$14,0),1),0)","v":0},{"$f":"IF(OR($AG59=\"\",$E59=\"\",$F59=\"\"),0,IF($F$124>0.1,(VLOOKUP($E59,'Fixture Descriptions'!$A:$I,8,0)/1000)*(1-$G$124),(VLOOKUP($E59,'Fixture Descriptions'!$A:$I,8,0)/1000)))","v":0},0,0,0,0,{"$f":"IFERROR(IF(OR('Buildings and Areas'!$D$2=\"New Construction\",$AG59=\"\",$H59=\"\",AH59=\"Exterior\"),1,INDEX('Factor Tables'!C$46:C$51,MATCH(Inventory!$H59,'Factor Tables'!$B$46:$B$51,0))),1)","v":1},{"$f":"IF(OR('Buildings and Areas'!$D$2=\"New Construction\",$AG59=\"\",$H59=\"\",AH59=\"Exterior\"),1,INDEX('Factor Tables'!D$46:D$51,MATCH(Inventory!$H59,'Factor Tables'!$B$46:$B$51,0)))","v":1},{"$f":"IF(I59=\"REMOVED\",0,IF($AD59<>\"\",VLOOKUP($AD59,'Fixture Descriptions'!$A:$I,8,0)/1000,0))","v":0},0,0,0,0,0,0,0,{"$f":"IFERROR(IF(OR($AG59=\"\",$K59=\"\",AH59=\"Exterior\"),1,INDEX('Factor Tables'!C$46:C$51,MATCH(Inventory!$K59,'Factor Tables'!$B$46:$B$51,0))),1)","v":1},{"$f":"IFERROR(IF(OR($AG59=\"\",$K59=\"\",AH59=\"Exterior\"),1,INDEX('Factor Tables'!D$46:D$51,MATCH(Inventory!$K59,'Factor Tables'!$B$46:$B$51,0))),1)","v":1},0,0,0,0,0,0,0,0,0,0,0,0,0,0,0,0,{"$f":"IFERROR(VLOOKUP(IF($AD59=\"Removed\",E59,$AD59),'Fixture Descriptions'!$A:$I,9,0),\"\")","v":0},{"$f":"IF($AD59=\"\",\"\",VLOOKUP($AD59,'Fixture Descriptions'!$A:$I,2,0))","v":""},{"$f":"IF(I59=\"\",\"\",IF(I59=\"Removed\",\"N/A\",IF(IFERROR(VLOOKUP(I59,'Fixture Schedule'!$C$9:$G$58,5,0),L59)=\"\",\"Not Qualified\",IFERROR(VLOOKUP(I59,'Fixture Schedule'!$C$9:$G$58,5,0),L59))))","v":""},{"$f":"IFERROR(INDEX('Utility Admin'!$F$3:$AW$3,1,MATCH(1,(CC$8='Utility Admin'!$F$1:$AW$1)*(Inventory!$AH59='Utility Admin'!$F$2:$AW$2)*(Inventory!$BZ59=('Utility Admin'!$F$4:$AW$4)),0)),0)","v":0},{"$f":"IFERROR(INDEX('Utility Admin'!$F$3:$AW$3,1,MATCH(1,(CD$8='Utility Admin'!$F$1:$AW$1)*(Inventory!$AH59='Utility Admin'!$F$2:$AW$2)*(Inventory!$BZ59=('Utility Admin'!$F$4:$AW$4)),0)),0)","v":0},{"$f":"IFERROR(INDEX('Utility Admin'!$F$3:$AW$3,1,MATCH(1,(CC$8='Utility Admin'!$F$1:$AW$1)*(Inventory!$AH59='Utility Admin'!$F$2:$AW$2)*(\"Lighting Controls\"=('Utility Admin'!$F$4:$AW$4)),0)),0)","v":0},{"$f":"IFERROR(INDEX('Utility Admin'!$F$3:$AW$3,1,MATCH(1,(CD$8='Utility Admin'!$F$1:$AW$1)*(Inventory!$AH59='Utility Admin'!$F$2:$AW$2)*(\"Lighting Controls\"=('Utility Admin'!$F$4:$AW$4)),0)),0)","v":0},false]
[null,52,null,null,null,null,null,null,null,null,null,null,null,{"$f":"IF(OR(I60=\"\",J60=\"\",AND(ProjectType=\"Retrofit\",OR(E60=\"\",F60=\"\"))),\"-\",IF(OR(CB60=0,CB60=\"Not Qualified\"),\"N\",IFERROR(INDEX('Fixture Descriptions'!K:K,MATCH(AD60,'Fixture Descriptions'!A:A,0)),\"N\")))","v":"-"},0,0,0,0,0,0,0,0,0,{"$f":"ROUND(IFERROR(IF($AE$7,BJ60*MaxIncentive,Inventory!Z60),0),2)","v":0},0,0,0,0,0,{"$f":"IF(I60=\"\",\"\",IFERROR(VLOOKUP(I60,'Fixture Schedule'!$C$9:$D$58,2,0),I60))","v":""},{"$f":"10","v":10},{"$f":"IFERROR(VLOOKUP(IF(I60=\"REMOVED\",E60,AD60),'Fixture Descriptions'!A:J,10,FALSE),0)","v":0},{"$f":"IFERROR(INDEX('Buildings and Areas'!D$5:D$14,MATCH($C60,'Buildings and Areas'!$B$5:$B$14,0),1),\"\")","v":""},{"$f":"IFERROR(INDEX('Buildings and Areas'!C$5:C$14,MATCH($C60,'Buildings and Areas'!$B$5:$B$14,0),1),\"\")","v":""},{"$f":"IFERROR(INDEX('Buildings and Areas'!R$5:R$14,MATCH($C60,'Buildings and Areas'!$B$5:$B$14,0),1),0)","v":0},{"$f":"IFERROR(INDEX('Buildings and Areas'!S$5:S$14,MATCH($C60,'Buildings and Areas'!$B$5:$B$14,0),1),0)","v":0},{"$f":"IFERROR(INDEX('Buildings and Areas'!T$5:T$14,MATCH($C60,'Buildings and Areas'!$B$5:$B$14,0),1),0)","v":0},{"$f":"IFERROR(INDEX('Buildings and Areas'!O$5:O$14,MATCH($C60,'Buildings and Areas'!$B$5:$B$14,0),1),\"\")","v":""},{"$f":"IFERROR(INDEX('Buildings and Areas'!F$5:F$14,MATCH($C60,'Buildings and Areas'!$B$5:$B$14,0),1)&IF(AH60=\"Exterior\",\": \"&'Buildings and Areas'!$H$4,\"\"),\"\")","v":""},{"$f":"IFERROR(INDEX('Buildings and Areas'!H$5:H$14,MATCH($C60,'Buildings and Areas'!$B$5:$B$14,0),1),\"\")","v":""},{"$f":"IFERROR(IF(INDEX('Buildings and Areas'!L$5:L$14,MATCH($C60,'Buildings and Areas'!$B$5:$B$14,0),1)=\"\",\"Deemed\",INDEX('Buildings and Areas'!L$5:L$14,MATCH($C60,'Buildings and Areas'!$B$5:$B$14,0),1)),\"\")","v":""},{"$f":"IFERROR(IF(INDEX('Buildings and Areas'!M$5:M$14,MATCH($C60,'Buildings and Areas'!$B$5:$B$14,0),1)=\"\",\"Deemed\",INDEX('Buildings and Areas'!M$5:M$14,MATCH($C60,'Buildings and Areas'!$B$5:$B$14,0),1)),\"\")","v":""},{"$f":"IFERROR(INDEX('Buildings and Areas'!P$5:P$14,MATCH($C60,'Buildings and Areas'!$B$5:$B$14,0),1),0)","v":0},{"$f":"IFERROR(INDEX('Buildings and Areas'!Q$5:Q$14,MATCH($C60,'Buildings and Areas'!$B$5:$B$14,0),1),0)","v":0},{"$f":"IF(OR($AG60=\"\",$E60=\"\",$F60=\"\"),0,IF($F$124>0.1,(VLOOKUP($E60,'Fixture Descriptions'!$A:$I,8,0)/1000)*(1-$G$124),(VLOOKUP($E60,'Fixture Descriptions'!$A:$I,8,0)/1000)))","v":0},0,0,0,0,{"$f":"IFERROR(IF(OR('Buildings and Areas'!$D$2=\"New Construction\",$AG60=\"\",$H60=\"\",AH60=\"Exterior\"),1,INDEX('Factor Tables'!C$46:C$51,MATCH(Inventory!$H60,'Factor Tables'!$B$46:$B$51,0))),1)","v":1},{"$f":"IF(OR('Buildings and Areas'!$D$2=\"New Construction\",$AG60=\"\",$H60=\"\",AH60=\"Exterior\"),1,INDEX('Factor Tables'!D$46:D$51,MATCH(Inventory!$H60,'Factor Tables'!$B$46:$B$51,0)))","v":1},{"$f":"IF(I60=\"REMOVED\",0,IF($AD60<>\"\",VLOOKUP($AD60,'Fixture Descriptions'!$A:$I,8,0)/1000,0))","v":0},0,0,0,0,0,0,0,{"$f":"IFERROR(IF(OR($AG60=\"\",$K60=\"\",AH60=\"Exterior\"),1,INDEX('Factor Tables'!C$46:C$51,MATCH(Inventory!$K60,'Factor Tables'!$B$46:$B$51,0))),1)","v":1},{"$f":"IFERROR(IF(OR($AG60=\"\",$K60=\"\",AH60=\"Exterior\"),1,INDEX('Factor Tables'!D$46:D$51,MATCH(Inventory!$K60,'Factor Tables'!$B$46:$B$51,0))),1)","v":1},0,0,0,0,0,0,0,0,0,0,0,0,0,0,0,0,{"$f":"IFERROR(VLOOKUP(IF($AD60=\"Removed\",E60,$AD60),'Fixture Descriptions'!$A:$I,9,0),\"\")","v":0},{"$f":"IF($AD60=\"\",\"\",VLOOKUP($AD60,'Fixture Descriptions'!$A:$I,2,0))","v":""},{"$f":"IF(I60=\"\",\"\",IF(I60=\"Removed\",\"N/A\",IF(IFERROR(VLOOKUP(I60,'Fixture Schedule'!$C$9:$G$58,5,0),L60)=\"\",\"Not Qualified\",IFERROR(VLOOKUP(I60,'Fixture Schedule'!$C$9:$G$58,5,0),L60))))","v":""},{"$f":"IFERROR(INDEX('Utility Admin'!$F$3:$AW$3,1,MATCH(1,(CC$8='Utility Admin'!$F$1:$AW$1)*(Inventory!$AH60='Utility Admin'!$F$2:$AW$2)*(Inventory!$BZ60=('Utility Admin'!$F$4:$AW$4)),0)),0)","v":0},{"$f":"IFERROR(INDEX('Utility Admin'!$F$3:$AW$3,1,MATCH(1,(CD$8='Utility Admin'!$F$1:$AW$1)*(Inventory!$AH60='Utility Admin'!$F$2:$AW$2)*(Inventory!$BZ60=('Utility Admin'!$F$4:$AW$4)),0)),0)","v":0},{"$f":"IFERROR(INDEX('Utility Admin'!$F$3:$AW$3,1,MATCH(1,(CC$8='Utility Admin'!$F$1:$AW$1)*(Inventory!$AH60='Utility Admin'!$F$2:$AW$2)*(\"Lighting Controls\"=('Utility Admin'!$F$4:$AW$4)),0)),0)","v":0},{"$f":"IFERROR(INDEX('Utility Admin'!$F$3:$AW$3,1,MATCH(1,(CD$8='Utility Admin'!$F$1:$AW$1)*(Inventory!$AH60='Utility Admin'!$F$2:$AW$2)*(\"Lighting Controls\"=('Utility Admin'!$F$4:$AW$4)),0)),0)","v":0},false]
[null,53,null,null,null,null,null,null,null,null,null,null,null,{"$f":"IF(OR(I61=\"\",J61=\"\",AND(ProjectType=\"Retrofit\",OR(E61=\"\",F61=\"\"))),\"-\",IF(OR(CB61=0,CB61=\"Not Qualified\"),\"N\",IFERROR(INDEX('Fixture Descriptions'!K:K,MATCH(AD61,'Fixture Descriptions'!A:A,0)),\"N\")))","v":"-"},0,0,0,0,0,0,0,0,0,{"$f":"ROUND(IFERROR(IF($AE$7,BJ61*MaxIncentive,Inventory!Z61),0),2)","v":0},0,0,0,0,0,{"$f":"IF(I61=\"\",\"\",IFERROR(VLOOKUP(I61,'Fixture Schedule'!$C$9:$D$58,2,0),I61))","v":""},{"$f":"10","v":10},{"$f":"IFERROR(VLOOKUP(IF(I61=\"REMOVED\",E61,AD61),'Fixture Descriptions'!A:J,10,FALSE),0)","v":0},{"$f":"IFERROR(INDEX('Buildings and Areas'!D$5:D$14,MATCH($C61,'Buildings and Areas'!$B$5:$B$14,0),1),\"\")","v":""},{"$f":"IFERROR(INDEX('Buildings and Areas'!C$5:C$14,MATCH($C61,'Buildings and Areas'!$B$5:$B$14,0),1),\"\")","v":""},{"$f":"IFERROR(INDEX('Buildings and Areas'!R$5:R$14,MATCH($C61,'Buildings and Areas'!$B$5:$B$14,0),1),0)","v":0},{"$f":"IFERROR(INDEX('Buildings and Areas'!S$5:S$14,MATCH($C61,'Buildings and Areas'!$B$5:$B$14,0),1),0)","v":0},{"$f":"IFERROR(INDEX('Buildings and Areas'!T$5:T$14,MATCH($C61,'Buildings and Areas'!$B$5:$B$14,0),1),0)","v":0},{"$f":"IFERROR(INDEX('Buildings and Areas'!O$5:O$14,MATCH($C61,'Buildings and Areas'!$B$5:$B$14,0),1),\"\")","v":""},{"$f":"IFERROR(INDEX('Buildings and Areas'!F$5:F$14,MATCH($C61,'Buildings and Areas'!$B$5:$B$14,0),1)&IF(AH61=\"Exterior\",\": \"&'Buildings and Areas'!$H$4,\"\"),\"\")","v":""},{"$f":"IFERROR(INDEX('Buildings and Areas'!H$5:H$14,MATCH($C61,'Buildings and Areas'!$B$5:$B$14,0),1),\"\")","v":""},{"$f":"IFERROR(IF(INDEX('Buildings and Areas'!L$5:L$14,MATCH($C61,'Buildings and Areas'!$B$5:$B$14,0),1)=\"\",\"Deemed\",INDEX('Buildings and Areas'!L$5:L$14,MATCH($C61,'Buildings and Areas'!$B$5:$B$14,0),1)),\"\")","v":""},{"$f":"IFERROR(IF(INDEX('Buildings and Areas'!M$5:M$14,MATCH($C61,'Buildings and Areas'!$B$5:$B$14,0),1)=\"\",\"Deemed\",INDEX('Buildings and Areas'!M$5:M$14,MATCH($C61,'Buildings and Areas'!$B$5:$B$14,0),1)),\"\")","v":""},{"$f":"IFERROR(INDEX('Buildings and Areas'!P$5:P$14,MATCH($C61,'Buildings and Areas'!$B$5:$B$14,0),1),0)","v":0},{"$f":"IFERROR(INDEX('Buildings and Areas'!Q$5:Q$14,MATCH($C61,'Buildings and Areas'!$B$5:$B$14,0),1),0)","v":0},{"$f":"IF(OR($AG61=\"\",$E61=\"\",$F61=\"\"),0,IF($F$124>0.1,(VLOOKUP($E61,'Fixture Descriptions'!$A:$I,8,0)/1000)*(1-$G$124),(VLOOKUP($E61,'Fixture Descriptions'!$A:$I,8,0)/1000)))","v":0},0,0,0,0,{"$f":"IFERROR(IF(OR('Buildings and Areas'!$D$2=\"New Construction\",$AG61=\"\",$H61=\"\",AH61=\"Exterior\"),1,INDEX('Factor Tables'!C$46:C$51,MATCH(Inventory!$H61,'Factor Tables'!$B$46:$B$51,0))),1)","v":1},{"$f":"IF(OR('Buildings and Areas'!$D$2=\"New Construction\",$AG61=\"\",$H61=\"\",AH61=\"Exterior\"),1,INDEX('Factor Tables'!D$46:D$51,MATCH(Inventory!$H61,'Factor Tables'!$B$46:$B$51,0)))","v":1},{"$f":"IF(I61=\"REMOVED\",0,IF($AD61<>\"\",VLOOKUP($AD61,'Fixture Descriptions'!$A:$I,8,0)/1000,0))","v":0},0,0,0,0,0,0,0,{"$f":"IFERROR(IF(OR($AG61=\"\",$K61=\"\",AH61=\"Exterior\"),1,INDEX('Factor Tables'!C$46:C$51,MATCH(Inventory!$K61,'Factor Tables'!$B$46:$B$51,0))),1)","v":1},{"$f":"IFERROR(IF(OR($AG61=\"\",$K61=\"\",AH61=\"Exterior\"),1,INDEX('Factor Tables'!D$46:D$51,MATCH(Inventory!$K61,'Factor Tables'!$B$46:$B$51,0))),1)","v":1},0,0,0,0,0,0,0,0,0,0,0,0,0,0,0,0,{"$f":"IFERROR(VLOOKUP(IF($AD61=\"Removed\",E61,$AD61),'Fixture Descriptions'!$A:$I,9,0),\"\")","v":0},{"$f":"IF($AD61=\"\",\"\",VLOOKUP($AD61,'Fixture Descriptions'!$A:$I,2,0))","v":""},{"$f":"IF(I61=\"\",\"\",IF(I61=\"Removed\",\"N/A\",IF(IFERROR(VLOOKUP(I61,'Fixture Schedule'!$C$9:$G$58,5,0),L61)=\"\",\"Not Qualified\",IFERROR(VLOOKUP(I61,'Fixture Schedule'!$C$9:$G$58,5,0),L61))))","v":""},{"$f":"IFERROR(INDEX('Utility Admin'!$F$3:$AW$3,1,MATCH(1,(CC$8='Utility Admin'!$F$1:$AW$1)*(Inventory!$AH61='Utility Admin'!$F$2:$AW$2)*(Inventory!$BZ61=('Utility Admin'!$F$4:$AW$4)),0)),0)","v":0},{"$f":"IFERROR(INDEX('Utility Admin'!$F$3:$AW$3,1,MATCH(1,(CD$8='Utility Admin'!$F$1:$AW$1)*(Inventory!$AH61='Utility Admin'!$F$2:$AW$2)*(Inventory!$BZ61=('Utility Admin'!$F$4:$AW$4)),0)),0)","v":0},{"$f":"IFERROR(INDEX('Utility Admin'!$F$3:$AW$3,1,MATCH(1,(CC$8='Utility Admin'!$F$1:$AW$1)*(Inventory!$AH61='Utility Admin'!$F$2:$AW$2)*(\"Lighting Controls\"=('Utility Admin'!$F$4:$AW$4)),0)),0)","v":0},{"$f":"IFERROR(INDEX('Utility Admin'!$F$3:$AW$3,1,MATCH(1,(CD$8='Utility Admin'!$F$1:$AW$1)*(Inventory!$AH61='Utility Admin'!$F$2:$AW$2)*(\"Lighting Controls\"=('Utility Admin'!$F$4:$AW$4)),0)),0)","v":0},false]
[null,54,null,null,null,null,null,null,null,null,null,null,null,{"$f":"IF(OR(I62=\"\",J62=\"\",AND(ProjectType=\"Retrofit\",OR(E62=\"\",F62=\"\"))),\"-\",IF(OR(CB62=0,CB62=\"Not Qualified\"),\"N\",IFERROR(INDEX('Fixture Descriptions'!K:K,MATCH(AD62,'Fixture Descriptions'!A:A,0)),\"N\")))","v":"-"},0,0,0,0,0,0,0,0,0,{"$f":"ROUND(IFERROR(IF($AE$7,BJ62*MaxIncentive,Inventory!Z62),0),2)","v":0},0,0,0,0,0,{"$f":"IF(I62=\"\",\"\",IFERROR(VLOOKUP(I62,'Fixture Schedule'!$C$9:$D$58,2,0),I62))","v":""},{"$f":"10","v":10},{"$f":"IFERROR(VLOOKUP(IF(I62=\"REMOVED\",E62,AD62),'Fixture Descriptions'!A:J,10,FALSE),0)","v":0},{"$f":"IFERROR(INDEX('Buildings and Areas'!D$5:D$14,MATCH($C62,'Buildings and Areas'!$B$5:$B$14,0),1),\"\")","v":""},{"$f":"IFERROR(INDEX('Buildings and Areas'!C$5:C$14,MATCH($C62,'Buildings and Areas'!$B$5:$B$14,0),1),\"\")","v":""},{"$f":"IFERROR(INDEX('Buildings and Areas'!R$5:R$14,MATCH($C62,'Buildings and Areas'!$B$5:$B$14,0),1),0)","v":0},{"$f":"IFERROR(INDEX('Buildings and Areas'!S$5:S$14,MATCH($C62,'Buildings and Areas'!$B$5:$B$14,0),1),0)","v":0},{"$f":"IFERROR(INDEX('Buildings and Areas'!T$5:T$14,MATCH($C62,'Buildings and Areas'!$B$5:$B$14,0),1),0)","v":0},{"$f":"IFERROR(INDEX('Buildings and Areas'!O$5:O$14,MATCH($C62,'Buildings and Areas'!$B$5:$B$14,0),1),\"\")","v":""},{"$f":"IFERROR(INDEX('Buildings and Areas'!F$5:F$14,MATCH($C62,'Buildings and Areas'!$B$5:$B$14,0),1)&IF(AH62=\"Exterior\",\": \"&'Buildings and Areas'!$H$4,\"\"),\"\")","v":""},{"$f":"IFERROR(INDEX('Buildings and Areas'!H$5:H$14,MATCH($C62,'Buildings and Areas'!$B$5:$B$14,0),1),\"\")","v":""},{"$f":"IFERROR(IF(INDEX('Buildings and Areas'!L$5:L$14,MATCH($C62,'Buildings and Areas'!$B$5:$B$14,0),1)=\"\",\"Deemed\",INDEX('Buildings and Areas'!L$5:L$14,MATCH($C62,'Buildings and Areas'!$B$5:$B$14,0),1)),\"\")","v":""},{"$f":"IFERROR(IF(INDEX('Buildings and Areas'!M$5:M$14,MATCH($C62,'Buildings and Areas'!$B$5:$B$14,0),1)=\"\",\"Deemed\",INDEX('Buildings and Areas'!M$5:M$14,MATCH($C62,'Buildings and Areas'!$B$5:$B$14,0),1)),\"\")","v":""},{"$f":"IFERROR(INDEX('Buildings and Areas'!P$5:P$14,MATCH($C62,'Buildings and Areas'!$B$5:$B$14,0),1),0)","v":0},{"$f":"IFERROR(INDEX('Buildings and Areas'!Q$5:Q$14,MATCH($C62,'Buildings and Areas'!$B$5:$B$14,0),1),0)","v":0},{"$f":"IF(OR($AG62=\"\",$E62=\"\",$F62=\"\"),0,IF($F$124>0.1,(VLOOKUP($E62,'Fixture Descriptions'!$A:$I,8,0)/1000)*(1-$G$124),(VLOOKUP($E62,'Fixture Descriptions'!$A:$I,8,0)/1000)))","v":0},0,0,0,0,{"$f":"IFERROR(IF(OR('Buildings and Areas'!$D$2=\"New Construction\",$AG62=\"\",$H62=\"\",AH62=\"Exterior\"),1,INDEX('Factor Tables'!C$46:C$51,MATCH(Inventory!$H62,'Factor Tables'!$B$46:$B$51,0))),1)","v":1},{"$f":"IF(OR('Buildings and Areas'!$D$2=\"New Construction\",$AG62=\"\",$H62=\"\",AH62=\"Exterior\"),1,INDEX('Factor Tables'!D$46:D$51,MATCH(Inventory!$H62,'Factor Tables'!$B$46:$B$51,0)))","v":1},{"$f":"IF(I62=\"REMOVED\",0,IF($AD62<>\"\",VLOOKUP($AD62,'Fixture Descriptions'!$A:$I,8,0)/1000,0))","v":0},0,0,0,0,0,0,0,{"$f":"IFERROR(IF(OR($AG62=\"\",$K62=\"\",AH62=\"Exterior\"),1,INDEX('Factor Tables'!C$46:C$51,MATCH(Inventory!$K62,'Factor Tables'!$B$46:$B$51,0))),1)","v":1},{"$f":"IFERROR(IF(OR($AG62=\"\",$K62=\"\",AH62=\"Exterior\"),1,INDEX('Factor Tables'!D$46:D$51,MATCH(Inventory!$K62,'Factor Tables'!$B$46:$B$51,0))),1)","v":1},0,0,0,0,0,0,0,0,0,0,0,0,0,0,0,0,{"$f":"IFERROR(VLOOKUP(IF($AD62=\"Removed\",E62,$AD62),'Fixture Descriptions'!$A:$I,9,0),\"\")","v":0},{"$f":"IF($AD62=\"\",\"\",VLOOKUP($AD62,'Fixture Descriptions'!$A:$I,2,0))","v":""},{"$f":"IF(I62=\"\",\"\",IF(I62=\"Removed\",\"N/A\",IF(IFERROR(VLOOKUP(I62,'Fixture Schedule'!$C$9:$G$58,5,0),L62)=\"\",\"Not Qualified\",IFERROR(VLOOKUP(I62,'Fixture Schedule'!$C$9:$G$58,5,0),L62))))","v":""},{"$f":"IFERROR(INDEX('Utility Admin'!$F$3:$AW$3,1,MATCH(1,(CC$8='Utility Admin'!$F$1:$AW$1)*(Inventory!$AH62='Utility Admin'!$F$2:$AW$2)*(Inventory!$BZ62=('Utility Admin'!$F$4:$AW$4)),0)),0)","v":0},{"$f":"IFERROR(INDEX('Utility Admin'!$F$3:$AW$3,1,MATCH(1,(CD$8='Utility Admin'!$F$1:$AW$1)*(Inventory!$AH62='Utility Admin'!$F$2:$AW$2)*(Inventory!$BZ62=('Utility Admin'!$F$4:$AW$4)),0)),0)","v":0},{"$f":"IFERROR(INDEX('Utility Admin'!$F$3:$AW$3,1,MATCH(1,(CC$8='Utility Admin'!$F$1:$AW$1)*(Inventory!$AH62='Utility Admin'!$F$2:$AW$2)*(\"Lighting Controls\"=('Utility Admin'!$F$4:$AW$4)),0)),0)","v":0},{"$f":"IFERROR(INDEX('Utility Admin'!$F$3:$AW$3,1,MATCH(1,(CD$8='Utility Admin'!$F$1:$AW$1)*(Inventory!$AH62='Utility Admin'!$F$2:$AW$2)*(\"Lighting Controls\"=('Utility Admin'!$F$4:$AW$4)),0)),0)","v":0},false]
[null,55,null,null,null,null,null,null,null,null,null,null,null,{"$f":"IF(OR(I63=\"\",J63=\"\",AND(ProjectType=\"Retrofit\",OR(E63=\"\",F63=\"\"))),\"-\",IF(OR(CB63=0,CB63=\"Not Qualified\"),\"N\",IFERROR(INDEX('Fixture Descriptions'!K:K,MATCH(AD63,'Fixture Descriptions'!A:A,0)),\"N\")))","v":"-"},0,0,0,0,0,0,0,0,0,{"$f":"ROUND(IFERROR(IF($AE$7,BJ63*MaxIncentive,Inventory!Z63),0),2)","v":0},0,0,0,0,0,{"$f":"IF(I63=\"\",\"\",IFERROR(VLOOKUP(I63,'Fixture Schedule'!$C$9:$D$58,2,0),I63))","v":""},{"$f":"10","v":10},{"$f":"IFERROR(VLOOKUP(IF(I63=\"REMOVED\",E63,AD63),'Fixture Descriptions'!A:J,10,FALSE),0)","v":0},{"$f":"IFERROR(INDEX('Buildings and Areas'!D$5:D$14,MATCH($C63,'Buildings and Areas'!$B$5:$B$14,0),1),\"\")","v":""},{"$f":"IFERROR(INDEX('Buildings and Areas'!C$5:C$14,MATCH($C63,'Buildings and Areas'!$B$5:$B$14,0),1),\"\")","v":""},{"$f":"IFERROR(INDEX('Buildings and Areas'!R$5:R$14,MATCH($C63,'Buildings and Areas'!$B$5:$B$14,0),1),0)","v":0},{"$f":"IFERROR(INDEX('Buildings and Areas'!S$5:S$14,MATCH($C63,'Buildings and Areas'!$B$5:$B$14,0),1),0)","v":0},{"$f":"IFERROR(INDEX('Buildings and Areas'!T$5:T$14,MATCH($C63,'Buildings and Areas'!$B$5:$B$14,0),1),0)","v":0},{"$f":"IFERROR(INDEX('Buildings and Areas'!O$5:O$14,MATCH($C63,'Buildings and Areas'!$B$5:$B$14,0),1),\"\")","v":""},{"$f":"IFERROR(INDEX('Buildings and Areas'!F$5:F$14,MATCH($C63,'Buildings and Areas'!$B$5:$B$14,0),1)&IF(AH63=\"Exterior\",\": \"&'Buildings and Areas'!$H$4,\"\"),\"\")","v":""},{"$f":"IFERROR(INDEX('Buildings and Areas'!H$5:H$14,MATCH($C63,'Buildings and Areas'!$B$5:$B$14,0),1),\"\")","v":""},{"$f":"IFERROR(IF(INDEX('Buildings and Areas'!L$5:L$14,MATCH($C63,'Buildings and Areas'!$B$5:$B$14,0),1)=\"\",\"Deemed\",INDEX('Buildings and Areas'!L$5:L$14,MATCH($C63,'Buildings and Areas'!$B$5:$B$14,0),1)),\"\")","v":""},{"$f":"IFERROR(IF(INDEX('Buildings and Areas'!M$5:M$14,MATCH($C63,'Buildings and Areas'!$B$5:$B$14,0),1)=\"\",\"Deemed\",INDEX('Buildings and Areas'!M$5:M$14,MATCH($C63,'Buildings and Areas'!$B$5:$B$14,0),1)),\"\")","v":""},{"$f":"IFERROR(INDEX('Buildings and Areas'!P$5:P$14,MATCH($C63,'Buildings and Areas'!$B$5:$B$14,0),1),0)","v":0},{"$f":"IFERROR(INDEX('Buildings and Areas'!Q$5:Q$14,MATCH($C63,'Buildings and Areas'!$B$5:$B$14,0),1),0)","v":0},{"$f":"IF(OR($AG63=\"\",$E63=\"\",$F63=\"\"),0,IF($F$124>0.1,(VLOOKUP($E63,'Fixture Descriptions'!$A:$I,8,0)/1000)*(1-$G$124),(VLOOKUP($E63,'Fixture Descriptions'!$A:$I,8,0)/1000)))","v":0},0,0,0,0,{"$f":"IFERROR(IF(OR('Buildings and Areas'!$D$2=\"New Construction\",$AG63=\"\",$H63=\"\",AH63=\"Exterior\"),1,INDEX('Factor Tables'!C$46:C$51,MATCH(Inventory!$H63,'Factor Tables'!$B$46:$B$51,0))),1)","v":1},{"$f":"IF(OR('Buildings and Areas'!$D$2=\"New Construction\",$AG63=\"\",$H63=\"\",AH63=\"Exterior\"),1,INDEX('Factor Tables'!D$46:D$51,MATCH(Inventory!$H63,'Factor Tables'!$B$46:$B$51,0)))","v":1},{"$f":"IF(I63=\"REMOVED\",0,IF($AD63<>\"\",VLOOKUP($AD63,'Fixture Descriptions'!$A:$I,8,0)/1000,0))","v":0},0,0,0,0,0,0,0,{"$f":"IFERROR(IF(OR($AG63=\"\",$K63=\"\",AH63=\"Exterior\"),1,INDEX('Factor Tables'!C$46:C$51,MATCH(Inventory!$K63,'Factor Tables'!$B$46:$B$51,0))),1)","v":1},{"$f":"IFERROR(IF(OR($AG63=\"\",$K63=\"\",AH63=\"Exterior\"),1,INDEX('Factor Tables'!D$46:D$51,MATCH(Inventory!$K63,'Factor Tables'!$B$46:$B$51,0))),1)","v":1},0,0,0,0,0,0,0,0,0,0,0,0,0,0,0,0,{"$f":"IFERROR(VLOOKUP(IF($AD63=\"Removed\",E63,$AD63),'Fixture Descriptions'!$A:$I,9,0),\"\")","v":0},{"$f":"IF($AD63=\"\",\"\",VLOOKUP($AD63,'Fixture Descriptions'!$A:$I,2,0))","v":""},{"$f":"IF(I63=\"\",\"\",IF(I63=\"Removed\",\"N/A\",IF(IFERROR(VLOOKUP(I63,'Fixture Schedule'!$C$9:$G$58,5,0),L63)=\"\",\"Not Qualified\",IFERROR(VLOOKUP(I63,'Fixture Schedule'!$C$9:$G$58,5,0),L63))))","v":""},{"$f":"IFERROR(INDEX('Utility Admin'!$F$3:$AW$3,1,MATCH(1,(CC$8='Utility Admin'!$F$1:$AW$1)*(Inventory!$AH63='Utility Admin'!$F$2:$AW$2)*(Inventory!$BZ63=('Utility Admin'!$F$4:$AW$4)),0)),0)","v":0},{"$f":"IFERROR(INDEX('Utility Admin'!$F$3:$AW$3,1,MATCH(1,(CD$8='Utility Admin'!$F$1:$AW$1)*(Inventory!$AH63='Utility Admin'!$F$2:$AW$2)*(Inventory!$BZ63=('Utility Admin'!$F$4:$AW$4)),0)),0)","v":0},{"$f":"IFERROR(INDEX('Utility Admin'!$F$3:$AW$3,1,MATCH(1,(CC$8='Utility Admin'!$F$1:$AW$1)*(Inventory!$AH63='Utility Admin'!$F$2:$AW$2)*(\"Lighting Controls\"=('Utility Admin'!$F$4:$AW$4)),0)),0)","v":0},{"$f":"IFERROR(INDEX('Utility Admin'!$F$3:$AW$3,1,MATCH(1,(CD$8='Utility Admin'!$F$1:$AW$1)*(Inventory!$AH63='Utility Admin'!$F$2:$AW$2)*(\"Lighting Controls\"=('Utility Admin'!$F$4:$AW$4)),0)),0)","v":0},false]
[null,56,null,null,null,null,null,null,null,null,null,null,null,{"$f":"IF(OR(I64=\"\",J64=\"\",AND(ProjectType=\"Retrofit\",OR(E64=\"\",F64=\"\"))),\"-\",IF(OR(CB64=0,CB64=\"Not Qualified\"),\"N\",IFERROR(INDEX('Fixture Descriptions'!K:K,MATCH(AD64,'Fixture Descriptions'!A:A,0)),\"N\")))","v":"-"},0,0,0,0,0,0,0,0,0,{"$f":"ROUND(IFERROR(IF($AE$7,BJ64*MaxIncentive,Inventory!Z64),0),2)","v":0},0,0,0,0,0,{"$f":"IF(I64=\"\",\"\",IFERROR(VLOOKUP(I64,'Fixture Schedule'!$C$9:$D$58,2,0),I64))","v":""},{"$f":"10","v":10},{"$f":"IFERROR(VLOOKUP(IF(I64=\"REMOVED\",E64,AD64),'Fixture Descriptions'!A:J,10,FALSE),0)","v":0},{"$f":"IFERROR(INDEX('Buildings and Areas'!D$5:D$14,MATCH($C64,'Buildings and Areas'!$B$5:$B$14,0),1),\"\")","v":""},{"$f":"IFERROR(INDEX('Buildings and Areas'!C$5:C$14,MATCH($C64,'Buildings and Areas'!$B$5:$B$14,0),1),\"\")","v":""},{"$f":"IFERROR(INDEX('Buildings and Areas'!R$5:R$14,MATCH($C64,'Buildings and Areas'!$B$5:$B$14,0),1),0)","v":0},{"$f":"IFERROR(INDEX('Buildings and Areas'!S$5:S$14,MATCH($C64,'Buildings and Areas'!$B$5:$B$14,0),1),0)","v":0},{"$f":"IFERROR(INDEX('Buildings and Areas'!T$5:T$14,MATCH($C64,'Buildings and Areas'!$B$5:$B$14,0),1),0)","v":0},{"$f":"IFERROR(INDEX('Buildings and Areas'!O$5:O$14,MATCH($C64,'Buildings and Areas'!$B$5:$B$14,0),1),\"\")","v":""},{"$f":"IFERROR(INDEX('Buildings and Areas'!F$5:F$14,MATCH($C64,'Buildings and Areas'!$B$5:$B$14,0),1)&IF(AH64=\"Exterior\",\": \"&'Buildings and Areas'!$H$4,\"\"),\"\")","v":""},{"$f":"IFERROR(INDEX('Buildings and Areas'!H$5:H$14,MATCH($C64,'Buildings and Areas'!$B$5:$B$14,0),1),\"\")","v":""},{"$f":"IFERROR(IF(INDEX('Buildings and Areas'!L$5:L$14,MATCH($C64,'Buildings and Areas'!$B$5:$B$14,0),1)=\"\",\"Deemed\",INDEX('Buildings and Areas'!L$5:L$14,MATCH($C64,'Buildings and Areas'!$B$5:$B$14,0),1)),\"\")","v":""},{"$f":"IFERROR(IF(INDEX('Buildings and Areas'!M$5:M$14,MATCH($C64,'Buildings and Areas'!$B$5:$B$14,0),1)=\"\",\"Deemed\",INDEX('Buildings and Areas'!M$5:M$14,MATCH($C64,'Buildings and Areas'!$B$5:$B$14,0),1)),\"\")","v":""},{"$f":"IFERROR(INDEX('Buildings and Areas'!P$5:P$14,MATCH($C64,'Buildings and Areas'!$B$5:$B$14,0),1),0)","v":0},{"$f":"IFERROR(INDEX('Buildings and Areas'!Q$5:Q$14,MATCH($C64,'Buildings and Areas'!$B$5:$B$14,0),1),0)","v":0},{"$f":"IF(OR($AG64=\"\",$E64=\"\",$F64=\"\"),0,IF($F$124>0.1,(VLOOKUP($E64,'Fixture Descriptions'!$A:$I,8,0)/1000)*(1-$G$124),(VLOOKUP($E64,'Fixture Descriptions'!$A:$I,8,0)/1000)))","v":0},0,0,0,0,{"$f":"IFERROR(IF(OR('Buildings and Areas'!$D$2=\"New Construction\",$AG64=\"\",$H64=\"\",AH64=\"Exterior\"),1,INDEX('Factor Tables'!C$46:C$51,MATCH(Inventory!$H64,'Factor Tables'!$B$46:$B$51,0))),1)","v":1},{"$f":"IF(OR('Buildings and Areas'!$D$2=\"New Construction\",$AG64=\"\",$H64=\"\",AH64=\"Exterior\"),1,INDEX('Factor Tables'!D$46:D$51,MATCH(Inventory!$H64,'Factor Tables'!$B$46:$B$51,0)))","v":1},{"$f":"IF(I64=\"REMOVED\",0,IF($AD64<>\"\",VLOOKUP($AD64,'Fixture Descriptions'!$A:$I,8,0)/1000,0))","v":0},0,0,0,0,0,0,0,{"$f":"IFERROR(IF(OR($AG64=\"\",$K64=\"\",AH64=\"Exterior\"),1,INDEX('Factor Tables'!C$46:C$51,MATCH(Inventory!$K64,'Factor Tables'!$B$46:$B$51,0))),1)","v":1},{"$f":"IFERROR(IF(OR($AG64=\"\",$K64=\"\",AH64=\"Exterior\"),1,INDEX('Factor Tables'!D$46:D$51,MATCH(Inventory!$K64,'Factor Tables'!$B$46:$B$51,0))),1)","v":1},0,0,0,0,0,0,0,0,0,0,0,0,0,0,0,0,{"$f":"IFERROR(VLOOKUP(IF($AD64=\"Removed\",E64,$AD64),'Fixture Descriptions'!$A:$I,9,0),\"\")","v":0},{"$f":"IF($AD64=\"\",\"\",VLOOKUP($AD64,'Fixture Descriptions'!$A:$I,2,0))","v":""},{"$f":"IF(I64=\"\",\"\",IF(I64=\"Removed\",\"N/A\",IF(IFERROR(VLOOKUP(I64,'Fixture Schedule'!$C$9:$G$58,5,0),L64)=\"\",\"Not Qualified\",IFERROR(VLOOKUP(I64,'Fixture Schedule'!$C$9:$G$58,5,0),L64))))","v":""},{"$f":"IFERROR(INDEX('Utility Admin'!$F$3:$AW$3,1,MATCH(1,(CC$8='Utility Admin'!$F$1:$AW$1)*(Inventory!$AH64='Utility Admin'!$F$2:$AW$2)*(Inventory!$BZ64=('Utility Admin'!$F$4:$AW$4)),0)),0)","v":0},{"$f":"IFERROR(INDEX('Utility Admin'!$F$3:$AW$3,1,MATCH(1,(CD$8='Utility Admin'!$F$1:$AW$1)*(Inventory!$AH64='Utility Admin'!$F$2:$AW$2)*(Inventory!$BZ64=('Utility Admin'!$F$4:$AW$4)),0)),0)","v":0},{"$f":"IFERROR(INDEX('Utility Admin'!$F$3:$AW$3,1,MATCH(1,(CC$8='Utility Admin'!$F$1:$AW$1)*(Inventory!$AH64='Utility Admin'!$F$2:$AW$2)*(\"Lighting Controls\"=('Utility Admin'!$F$4:$AW$4)),0)),0)","v":0},{"$f":"IFERROR(INDEX('Utility Admin'!$F$3:$AW$3,1,MATCH(1,(CD$8='Utility Admin'!$F$1:$AW$1)*(Inventory!$AH64='Utility Admin'!$F$2:$AW$2)*(\"Lighting Controls\"=('Utility Admin'!$F$4:$AW$4)),0)),0)","v":0},false]
[null,57,null,null,null,null,null,null,null,null,null,null,null,{"$f":"IF(OR(I65=\"\",J65=\"\",AND(ProjectType=\"Retrofit\",OR(E65=\"\",F65=\"\"))),\"-\",IF(OR(CB65=0,CB65=\"Not Qualified\"),\"N\",IFERROR(INDEX('Fixture Descriptions'!K:K,MATCH(AD65,'Fixture Descriptions'!A:A,0)),\"N\")))","v":"-"},0,0,0,0,0,0,0,0,0,{"$f":"ROUND(IFERROR(IF($AE$7,BJ65*MaxIncentive,Inventory!Z65),0),2)","v":0},0,0,0,0,0,{"$f":"IF(I65=\"\",\"\",IFERROR(VLOOKUP(I65,'Fixture Schedule'!$C$9:$D$58,2,0),I65))","v":""},{"$f":"10","v":10},{"$f":"IFERROR(VLOOKUP(IF(I65=\"REMOVED\",E65,AD65),'Fixture Descriptions'!A:J,10,FALSE),0)","v":0},{"$f":"IFERROR(INDEX('Buildings and Areas'!D$5:D$14,MATCH($C65,'Buildings and Areas'!$B$5:$B$14,0),1),\"\")","v":""},{"$f":"IFERROR(INDEX('Buildings and Areas'!C$5:C$14,MATCH($C65,'Buildings and Areas'!$B$5:$B$14,0),1),\"\")","v":""},{"$f":"IFERROR(INDEX('Buildings and Areas'!R$5:R$14,MATCH($C65,'Buildings and Areas'!$B$5:$B$14,0),1),0)","v":0},{"$f":"IFERROR(INDEX('Buildings and Areas'!S$5:S$14,MATCH($C65,'Buildings and Areas'!$B$5:$B$14,0),1),0)","v":0},{"$f":"IFERROR(INDEX('Buildings and Areas'!T$5:T$14,MATCH($C65,'Buildings and Areas'!$B$5:$B$14,0),1),0)","v":0},{"$f":"IFERROR(INDEX('Buildings and Areas'!O$5:O$14,MATCH($C65,'Buildings and Areas'!$B$5:$B$14,0),1),\"\")","v":""},{"$f":"IFERROR(INDEX('Buildings and Areas'!F$5:F$14,MATCH($C65,'Buildings and Areas'!$B$5:$B$14,0),1)&IF(AH65=\"Exterior\",\": \"&'Buildings and Areas'!$H$4,\"\"),\"\")","v":""},{"$f":"IFERROR(INDEX('Buildings and Areas'!H$5:H$14,MATCH($C65,'Buildings and Areas'!$B$5:$B$14,0),1),\"\")","v":""},{"$f":"IFERROR(IF(INDEX('Buildings and Areas'!L$5:L$14,MATCH($C65,'Buildings and Areas'!$B$5:$B$14,0),1)=\"\",\"Deemed\",INDEX('Buildings and Areas'!L$5:L$14,MATCH($C65,'Buildings and Areas'!$B$5:$B$14,0),1)),\"\")","v":""},{"$f":"IFERROR(IF(INDEX('Buildings and Areas'!M$5:M$14,MATCH($C65,'Buildings and Areas'!$B$5:$B$14,0),1)=\"\",\"Deemed\",INDEX('Buildings and Areas'!M$5:M$14,MATCH($C65,'Buildings and Areas'!$B$5:$B$14,0),1)),\"\")","v":""},{"$f":"IFERROR(INDEX('Buildings and Areas'!P$5:P$14,MATCH($C65,'Buildings and Areas'!$B$5:$B$14,0),1),0)","v":0},{"$f":"IFERROR(INDEX('Buildings and Areas'!Q$5:Q$14,MATCH($C65,'Buildings and Areas'!$B$5:$B$14,0),1),0)","v":0},{"$f":"IF(OR($AG65=\"\",$E65=\"\",$F65=\"\"),0,IF($F$124>0.1,(VLOOKUP($E65,'Fixture Descriptions'!$A:$I,8,0)/1000)*(1-$G$124),(VLOOKUP($E65,'Fixture Descriptions'!$A:$I,8,0)/1000)))","v":0},0,0,0,0,{"$f":"IFERROR(IF(OR('Buildings and Areas'!$D$2=\"New Construction\",$AG65=\"\",$H65=\"\",AH65=\"Exterior\"),1,INDEX('Factor Tables'!C$46:C$51,MATCH(Inventory!$H65,'Factor Tables'!$B$46:$B$51,0))),1)","v":1},{"$f":"IF(OR('Buildings and Areas'!$D$2=\"New Construction\",$AG65=\"\",$H65=\"\",AH65=\"Exterior\"),1,INDEX('Factor Tables'!D$46:D$51,MATCH(Inventory!$H65,'Factor Tables'!$B$46:$B$51,0)))","v":1},{"$f":"IF(I65=\"REMOVED\",0,IF($AD65<>\"\",VLOOKUP($AD65,'Fixture Descriptions'!$A:$I,8,0)/1000,0))","v":0},0,0,0,0,0,0,0,{"$f":"IFERROR(IF(OR($AG65=\"\",$K65=\"\",AH65=\"Exterior\"),1,INDEX('Factor Tables'!C$46:C$51,MATCH(Inventory!$K65,'Factor Tables'!$B$46:$B$51,0))),1)","v":1},{"$f":"IFERROR(IF(OR($AG65=\"\",$K65=\"\",AH65=\"Exterior\"),1,INDEX('Factor Tables'!D$46:D$51,MATCH(Inventory!$K65,'Factor Tables'!$B$46:$B$51,0))),1)","v":1},0,0,0,0,0,0,0,0,0,0,0,0,0,0,0,0,{"$f":"IFERROR(VLOOKUP(IF($AD65=\"Removed\",E65,$AD65),'Fixture Descriptions'!$A:$I,9,0),\"\")","v":0},{"$f":"IF($AD65=\"\",\"\",VLOOKUP($AD65,'Fixture Descriptions'!$A:$I,2,0))","v":""},{"$f":"IF(I65=\"\",\"\",IF(I65=\"Removed\",\"N/A\",IF(IFERROR(VLOOKUP(I65,'Fixture Schedule'!$C$9:$G$58,5,0),L65)=\"\",\"Not Qualified\",IFERROR(VLOOKUP(I65,'Fixture Schedule'!$C$9:$G$58,5,0),L65))))","v":""},{"$f":"IFERROR(INDEX('Utility Admin'!$F$3:$AW$3,1,MATCH(1,(CC$8='Utility Admin'!$F$1:$AW$1)*(Inventory!$AH65='Utility Admin'!$F$2:$AW$2)*(Inventory!$BZ65=('Utility Admin'!$F$4:$AW$4)),0)),0)","v":0},{"$f":"IFERROR(INDEX('Utility Admin'!$F$3:$AW$3,1,MATCH(1,(CD$8='Utility Admin'!$F$1:$AW$1)*(Inventory!$AH65='Utility Admin'!$F$2:$AW$2)*(Inventory!$BZ65=('Utility Admin'!$F$4:$AW$4)),0)),0)","v":0},{"$f":"IFERROR(INDEX('Utility Admin'!$F$3:$AW$3,1,MATCH(1,(CC$8='Utility Admin'!$F$1:$AW$1)*(Inventory!$AH65='Utility Admin'!$F$2:$AW$2)*(\"Lighting Controls\"=('Utility Admin'!$F$4:$AW$4)),0)),0)","v":0},{"$f":"IFERROR(INDEX('Utility Admin'!$F$3:$AW$3,1,MATCH(1,(CD$8='Utility Admin'!$F$1:$AW$1)*(Inventory!$AH65='Utility Admin'!$F$2:$AW$2)*(\"Lighting Controls\"=('Utility Admin'!$F$4:$AW$4)),0)),0)","v":0},false]
[null,58,null,null,null,null,null,null,null,null,null,null,null,{"$f":"IF(OR(I66=\"\",J66=\"\",AND(ProjectType=\"Retrofit\",OR(E66=\"\",F66=\"\"))),\"-\",IF(OR(CB66=0,CB66=\"Not Qualified\"),\"N\",IFERROR(INDEX('Fixture Descriptions'!K:K,MATCH(AD66,'Fixture Descriptions'!A:A,0)),\"N\")))","v":"-"},0,0,0,0,0,0,0,0,0,{"$f":"ROUND(IFERROR(IF($AE$7,BJ66*MaxIncentive,Inventory!Z66),0),2)","v":0},0,0,0,0,0,{"$f":"IF(I66=\"\",\"\",IFERROR(VLOOKUP(I66,'Fixture Schedule'!$C$9:$D$58,2,0),I66))","v":""},{"$f":"10","v":10},{"$f":"IFERROR(VLOOKUP(IF(I66=\"REMOVED\",E66,AD66),'Fixture Descriptions'!A:J,10,FALSE),0)","v":0},{"$f":"IFERROR(INDEX('Buildings and Areas'!D$5:D$14,MATCH($C66,'Buildings and Areas'!$B$5:$B$14,0),1),\"\")","v":""},{"$f":"IFERROR(INDEX('Buildings and Areas'!C$5:C$14,MATCH($C66,'Buildings and Areas'!$B$5:$B$14,0),1),\"\")","v":""},{"$f":"IFERROR(INDEX('Buildings and Areas'!R$5:R$14,MATCH($C66,'Buildings and Areas'!$B$5:$B$14,0),1),0)","v":0},{"$f":"IFERROR(INDEX('Buildings and Areas'!S$5:S$14,MATCH($C66,'Buildings and Areas'!$B$5:$B$14,0),1),0)","v":0},{"$f":"IFERROR(INDEX('Buildings and Areas'!T$5:T$14,MATCH($C66,'Buildings and Areas'!$B$5:$B$14,0),1),0)","v":0},{"$f":"IFERROR(INDEX('Buildings and Areas'!O$5:O$14,MATCH($C66,'Buildings and Areas'!$B$5:$B$14,0),1),\"\")","v":""},{"$f":"IFERROR(INDEX('Buildings and Areas'!F$5:F$14,MATCH($C66,'Buildings and Areas'!$B$5:$B$14,0),1)&IF(AH66=\"Exterior\",\": \"&'Buildings and Areas'!$H$4,\"\"),\"\")","v":""},{"$f":"IFERROR(INDEX('Buildings and Areas'!H$5:H$14,MATCH($C66,'Buildings and Areas'!$B$5:$B$14,0),1),\"\")","v":""},{"$f":"IFERROR(IF(INDEX('Buildings and Areas'!L$5:L$14,MATCH($C66,'Buildings and Areas'!$B$5:$B$14,0),1)=\"\",\"Deemed\",INDEX('Buildings and Areas'!L$5:L$14,MATCH($C66,'Buildings and Areas'!$B$5:$B$14,0),1)),\"\")","v":""},{"$f":"IFERROR(IF(INDEX('Buildings and Areas'!M$5:M$14,MATCH($C66,'Buildings and Areas'!$B$5:$B$14,0),1)=\"\",\"Deemed\",INDEX('Buildings and Areas'!M$5:M$14,MATCH($C66,'Buildings and Areas'!$B$5:$B$14,0),1)),\"\")","v":""},{"$f":"IFERROR(INDEX('Buildings and Areas'!P$5:P$14,MATCH($C66,'Buildings and Areas'!$B$5:$B$14,0),1),0)","v":0},{"$f":"IFERROR(INDEX('Buildings and Areas'!Q$5:Q$14,MATCH($C66,'Buildings and Areas'!$B$5:$B$14,0),1),0)","v":0},{"$f":"IF(OR($AG66=\"\",$E66=\"\",$F66=\"\"),0,IF($F$124>0.1,(VLOOKUP($E66,'Fixture Descriptions'!$A:$I,8,0)/1000)*(1-$G$124),(VLOOKUP($E66,'Fixture Descriptions'!$A:$I,8,0)/1000)))","v":0},0,0,0,0,{"$f":"IFERROR(IF(OR('Buildings and Areas'!$D$2=\"New Construction\",$AG66=\"\",$H66=\"\",AH66=\"Exterior\"),1,INDEX('Factor Tables'!C$46:C$51,MATCH(Inventory!$H66,'Factor Tables'!$B$46:$B$51,0))),1)","v":1},{"$f":"IF(OR('Buildings and Areas'!$D$2=\"New Construction\",$AG66=\"\",$H66=\"\",AH66=\"Exterior\"),1,INDEX('Factor Tables'!D$46:D$51,MATCH(Inventory!$H66,'Factor Tables'!$B$46:$B$51,0)))","v":1},{"$f":"IF(I66=\"REMOVED\",0,IF($AD66<>\"\",VLOOKUP($AD66,'Fixture Descriptions'!$A:$I,8,0)/1000,0))","v":0},0,0,0,0,0,0,0,{"$f":"IFERROR(IF(OR($AG66=\"\",$K66=\"\",AH66=\"Exterior\"),1,INDEX('Factor Tables'!C$46:C$51,MATCH(Inventory!$K66,'Factor Tables'!$B$46:$B$51,0))),1)","v":1},{"$f":"IFERROR(IF(OR($AG66=\"\",$K66=\"\",AH66=\"Exterior\"),1,INDEX('Factor Tables'!D$46:D$51,MATCH(Inventory!$K66,'Factor Tables'!$B$46:$B$51,0))),1)","v":1},0,0,0,0,0,0,0,0,0,0,0,0,0,0,0,0,{"$f":"IFERROR(VLOOKUP(IF($AD66=\"Removed\",E66,$AD66),'Fixture Descriptions'!$A:$I,9,0),\"\")","v":0},{"$f":"IF($AD66=\"\",\"\",VLOOKUP($AD66,'Fixture Descriptions'!$A:$I,2,0))","v":""},{"$f":"IF(I66=\"\",\"\",IF(I66=\"Removed\",\"N/A\",IF(IFERROR(VLOOKUP(I66,'Fixture Schedule'!$C$9:$G$58,5,0),L66)=\"\",\"Not Qualified\",IFERROR(VLOOKUP(I66,'Fixture Schedule'!$C$9:$G$58,5,0),L66))))","v":""},{"$f":"IFERROR(INDEX('Utility Admin'!$F$3:$AW$3,1,MATCH(1,(CC$8='Utility Admin'!$F$1:$AW$1)*(Inventory!$AH66='Utility Admin'!$F$2:$AW$2)*(Inventory!$BZ66=('Utility Admin'!$F$4:$AW$4)),0)),0)","v":0},{"$f":"IFERROR(INDEX('Utility Admin'!$F$3:$AW$3,1,MATCH(1,(CD$8='Utility Admin'!$F$1:$AW$1)*(Inventory!$AH66='Utility Admin'!$F$2:$AW$2)*(Inventory!$BZ66=('Utility Admin'!$F$4:$AW$4)),0)),0)","v":0},{"$f":"IFERROR(INDEX('Utility Admin'!$F$3:$AW$3,1,MATCH(1,(CC$8='Utility Admin'!$F$1:$AW$1)*(Inventory!$AH66='Utility Admin'!$F$2:$AW$2)*(\"Lighting Controls\"=('Utility Admin'!$F$4:$AW$4)),0)),0)","v":0},{"$f":"IFERROR(INDEX('Utility Admin'!$F$3:$AW$3,1,MATCH(1,(CD$8='Utility Admin'!$F$1:$AW$1)*(Inventory!$AH66='Utility Admin'!$F$2:$AW$2)*(\"Lighting Controls\"=('Utility Admin'!$F$4:$AW$4)),0)),0)","v":0},false]
[null,59,null,null,null,null,null,null,null,null,null,null,null,{"$f":"IF(OR(I67=\"\",J67=\"\",AND(ProjectType=\"Retrofit\",OR(E67=\"\",F67=\"\"))),\"-\",IF(OR(CB67=0,CB67=\"Not Qualified\"),\"N\",IFERROR(INDEX('Fixture Descriptions'!K:K,MATCH(AD67,'Fixture Descriptions'!A:A,0)),\"N\")))","v":"-"},0,0,0,0,0,0,0,0,0,{"$f":"ROUND(IFERROR(IF($AE$7,BJ67*MaxIncentive,Inventory!Z67),0),2)","v":0},0,0,0,0,0,{"$f":"IF(I67=\"\",\"\",IFERROR(VLOOKUP(I67,'Fixture Schedule'!$C$9:$D$58,2,0),I67))","v":""},{"$f":"10","v":10},{"$f":"IFERROR(VLOOKUP(IF(I67=\"REMOVED\",E67,AD67),'Fixture Descriptions'!A:J,10,FALSE),0)","v":0},{"$f":"IFERROR(INDEX('Buildings and Areas'!D$5:D$14,MATCH($C67,'Buildings and Areas'!$B$5:$B$14,0),1),\"\")","v":""},{"$f":"IFERROR(INDEX('Buildings and Areas'!C$5:C$14,MATCH($C67,'Buildings and Areas'!$B$5:$B$14,0),1),\"\")","v":""},{"$f":"IFERROR(INDEX('Buildings and Areas'!R$5:R$14,MATCH($C67,'Buildings and Areas'!$B$5:$B$14,0),1),0)","v":0},{"$f":"IFERROR(INDEX('Buildings and Areas'!S$5:S$14,MATCH($C67,'Buildings and Areas'!$B$5:$B$14,0),1),0)","v":0},{"$f":"IFERROR(INDEX('Buildings and Areas'!T$5:T$14,MATCH($C67,'Buildings and Areas'!$B$5:$B$14,0),1),0)","v":0},{"$f":"IFERROR(INDEX('Buildings and Areas'!O$5:O$14,MATCH($C67,'Buildings and Areas'!$B$5:$B$14,0),1),\"\")","v":""},{"$f":"IFERROR(INDEX('Buildings and Areas'!F$5:F$14,MATCH($C67,'Buildings and Areas'!$B$5:$B$14,0),1)&IF(AH67=\"Exterior\",\": \"&'Buildings and Areas'!$H$4,\"\"),\"\")","v":""},{"$f":"IFERROR(INDEX('Buildings and Areas'!H$5:H$14,MATCH($C67,'Buildings and Areas'!$B$5:$B$14,0),1),\"\")","v":""},{"$f":"IFERROR(IF(INDEX('Buildings and Areas'!L$5:L$14,MATCH($C67,'Buildings and Areas'!$B$5:$B$14,0),1)=\"\",\"Deemed\",INDEX('Buildings and Areas'!L$5:L$14,MATCH($C67,'Buildings and Areas'!$B$5:$B$14,0),1)),\"\")","v":""},{"$f":"IFERROR(IF(INDEX('Buildings and Areas'!M$5:M$14,MATCH($C67,'Buildings and Areas'!$B$5:$B$14,0),1)=\"\",\"Deemed\",INDEX('Buildings and Areas'!M$5:M$14,MATCH($C67,'Buildings and Areas'!$B$5:$B$14,0),1)),\"\")","v":""},{"$f":"IFERROR(INDEX('Buildings and Areas'!P$5:P$14,MATCH($C67,'Buildings and Areas'!$B$5:$B$14,0),1),0)","v":0},{"$f":"IFERROR(INDEX('Buildings and Areas'!Q$5:Q$14,MATCH($C67,'Buildings and Areas'!$B$5:$B$14,0),1),0)","v":0},{"$f":"IF(OR($AG67=\"\",$E67=\"\",$F67=\"\"),0,IF($F$124>0.1,(VLOOKUP($E67,'Fixture Descriptions'!$A:$I,8,0)/1000)*(1-$G$124),(VLOOKUP($E67,'Fixture Descriptions'!$A:$I,8,0)/1000)))","v":0},0,0,0,0,{"$f":"IFERROR(IF(OR('Buildings and Areas'!$D$2=\"New Construction\",$AG67=\"\",$H67=\"\",AH67=\"Exterior\"),1,INDEX('Factor Tables'!C$46:C$51,MATCH(Inventory!$H67,'Factor Tables'!$B$46:$B$51,0))),1)","v":1},{"$f":"IF(OR('Buildings and Areas'!$D$2=\"New Construction\",$AG67=\"\",$H67=\"\",AH67=\"Exterior\"),1,INDEX('Factor Tables'!D$46:D$51,MATCH(Inventory!$H67,'Factor Tables'!$B$46:$B$51,0)))","v":1},{"$f":"IF(I67=\"REMOVED\",0,IF($AD67<>\"\",VLOOKUP($AD67,'Fixture Descriptions'!$A:$I,8,0)/1000,0))","v":0},0,0,0,0,0,0,0,{"$f":"IFERROR(IF(OR($AG67=\"\",$K67=\"\",AH67=\"Exterior\"),1,INDEX('Factor Tables'!C$46:C$51,MATCH(Inventory!$K67,'Factor Tables'!$B$46:$B$51,0))),1)","v":1},{"$f":"IFERROR(IF(OR($AG67=\"\",$K67=\"\",AH67=\"Exterior\"),1,INDEX('Factor Tables'!D$46:D$51,MATCH(Inventory!$K67,'Factor Tables'!$B$46:$B$51,0))),1)","v":1},0,0,0,0,0,0,0,0,0,0,0,0,0,0,0,0,{"$f":"IFERROR(VLOOKUP(IF($AD67=\"Removed\",E67,$AD67),'Fixture Descriptions'!$A:$I,9,0),\"\")","v":0},{"$f":"IF($AD67=\"\",\"\",VLOOKUP($AD67,'Fixture Descriptions'!$A:$I,2,0))","v":""},{"$f":"IF(I67=\"\",\"\",IF(I67=\"Removed\",\"N/A\",IF(IFERROR(VLOOKUP(I67,'Fixture Schedule'!$C$9:$G$58,5,0),L67)=\"\",\"Not Qualified\",IFERROR(VLOOKUP(I67,'Fixture Schedule'!$C$9:$G$58,5,0),L67))))","v":""},{"$f":"IFERROR(INDEX('Utility Admin'!$F$3:$AW$3,1,MATCH(1,(CC$8='Utility Admin'!$F$1:$AW$1)*(Inventory!$AH67='Utility Admin'!$F$2:$AW$2)*(Inventory!$BZ67=('Utility Admin'!$F$4:$AW$4)),0)),0)","v":0},{"$f":"IFERROR(INDEX('Utility Admin'!$F$3:$AW$3,1,MATCH(1,(CD$8='Utility Admin'!$F$1:$AW$1)*(Inventory!$AH67='Utility Admin'!$F$2:$AW$2)*(Inventory!$BZ67=('Utility Admin'!$F$4:$AW$4)),0)),0)","v":0},{"$f":"IFERROR(INDEX('Utility Admin'!$F$3:$AW$3,1,MATCH(1,(CC$8='Utility Admin'!$F$1:$AW$1)*(Inventory!$AH67='Utility Admin'!$F$2:$AW$2)*(\"Lighting Controls\"=('Utility Admin'!$F$4:$AW$4)),0)),0)","v":0},{"$f":"IFERROR(INDEX('Utility Admin'!$F$3:$AW$3,1,MATCH(1,(CD$8='Utility Admin'!$F$1:$AW$1)*(Inventory!$AH67='Utility Admin'!$F$2:$AW$2)*(\"Lighting Controls\"=('Utility Admin'!$F$4:$AW$4)),0)),0)","v":0},false]
[null,60,null,null,null,null,null,null,null,null,null,null,null,{"$f":"IF(OR(I68=\"\",J68=\"\",AND(ProjectType=\"Retrofit\",OR(E68=\"\",F68=\"\"))),\"-\",IF(OR(CB68=0,CB68=\"Not Qualified\"),\"N\",IFERROR(INDEX('Fixture Descriptions'!K:K,MATCH(AD68,'Fixture Descriptions'!A:A,0)),\"N\")))","v":"-"},0,0,0,0,0,0,0,0,0,{"$f":"ROUND(IFERROR(IF($AE$7,BJ68*MaxIncentive,Inventory!Z68),0),2)","v":0},0,0,0,0,0,{"$f":"IF(I68=\"\",\"\",IFERROR(VLOOKUP(I68,'Fixture Schedule'!$C$9:$D$58,2,0),I68))","v":""},{"$f":"10","v":10},{"$f":"IFERROR(VLOOKUP(IF(I68=\"REMOVED\",E68,AD68),'Fixture Descriptions'!A:J,10,FALSE),0)","v":0},{"$f":"IFERROR(INDEX('Buildings and Areas'!D$5:D$14,MATCH($C68,'Buildings and Areas'!$B$5:$B$14,0),1),\"\")","v":""},{"$f":"IFERROR(INDEX('Buildings and Areas'!C$5:C$14,MATCH($C68,'Buildings and Areas'!$B$5:$B$14,0),1),\"\")","v":""},{"$f":"IFERROR(INDEX('Buildings and Areas'!R$5:R$14,MATCH($C68,'Buildings and Areas'!$B$5:$B$14,0),1),0)","v":0},{"$f":"IFERROR(INDEX('Buildings and Areas'!S$5:S$14,MATCH($C68,'Buildings and Areas'!$B$5:$B$14,0),1),0)","v":0},{"$f":"IFERROR(INDEX('Buildings and Areas'!T$5:T$14,MATCH($C68,'Buildings and Areas'!$B$5:$B$14,0),1),0)","v":0},{"$f":"IFERROR(INDEX('Buildings and Areas'!O$5:O$14,MATCH($C68,'Buildings and Areas'!$B$5:$B$14,0),1),\"\")","v":""},{"$f":"IFERROR(INDEX('Buildings and Areas'!F$5:F$14,MATCH($C68,'Buildings and Areas'!$B$5:$B$14,0),1)&IF(AH68=\"Exterior\",\": \"&'Buildings and Areas'!$H$4,\"\"),\"\")","v":""},{"$f":"IFERROR(INDEX('Buildings and Areas'!H$5:H$14,MATCH($C68,'Buildings and Areas'!$B$5:$B$14,0),1),\"\")","v":""},{"$f":"IFERROR(IF(INDEX('Buildings and Areas'!L$5:L$14,MATCH($C68,'Buildings and Areas'!$B$5:$B$14,0),1)=\"\",\"Deemed\",INDEX('Buildings and Areas'!L$5:L$14,MATCH($C68,'Buildings and Areas'!$B$5:$B$14,0),1)),\"\")","v":""},{"$f":"IFERROR(IF(INDEX('Buildings and Areas'!M$5:M$14,MATCH($C68,'Buildings and Areas'!$B$5:$B$14,0),1)=\"\",\"Deemed\",INDEX('Buildings and Areas'!M$5:M$14,MATCH($C68,'Buildings and Areas'!$B$5:$B$14,0),1)),\"\")","v":""},{"$f":"IFERROR(INDEX('Buildings and Areas'!P$5:P$14,MATCH($C68,'Buildings and Areas'!$B$5:$B$14,0),1),0)","v":0},{"$f":"IFERROR(INDEX('Buildings and Areas'!Q$5:Q$14,MATCH($C68,'Buildings and Areas'!$B$5:$B$14,0),1),0)","v":0},{"$f":"IF(OR($AG68=\"\",$E68=\"\",$F68=\"\"),0,IF($F$124>0.1,(VLOOKUP($E68,'Fixture Descriptions'!$A:$I,8,0)/1000)*(1-$G$124),(VLOOKUP($E68,'Fixture Descriptions'!$A:$I,8,0)/1000)))","v":0},0,0,0,0,{"$f":"IFERROR(IF(OR('Buildings and Areas'!$D$2=\"New Construction\",$AG68=\"\",$H68=\"\",AH68=\"Exterior\"),1,INDEX('Factor Tables'!C$46:C$51,MATCH(Inventory!$H68,'Factor Tables'!$B$46:$B$51,0))),1)","v":1},{"$f":"IF(OR('Buildings and Areas'!$D$2=\"New Construction\",$AG68=\"\",$H68=\"\",AH68=\"Exterior\"),1,INDEX('Factor Tables'!D$46:D$51,MATCH(Inventory!$H68,'Factor Tables'!$B$46:$B$51,0)))","v":1},{"$f":"IF(I68=\"REMOVED\",0,IF($AD68<>\"\",VLOOKUP($AD68,'Fixture Descriptions'!$A:$I,8,0)/1000,0))","v":0},0,0,0,0,0,0,0,{"$f":"IFERROR(IF(OR($AG68=\"\",$K68=\"\",AH68=\"Exterior\"),1,INDEX('Factor Tables'!C$46:C$51,MATCH(Inventory!$K68,'Factor Tables'!$B$46:$B$51,0))),1)","v":1},{"$f":"IFERROR(IF(OR($AG68=\"\",$K68=\"\",AH68=\"Exterior\"),1,INDEX('Factor Tables'!D$46:D$51,MATCH(Inventory!$K68,'Factor Tables'!$B$46:$B$51,0))),1)","v":1},0,0,0,0,0,0,0,0,0,0,0,0,0,0,0,0,{"$f":"IFERROR(VLOOKUP(IF($AD68=\"Removed\",E68,$AD68),'Fixture Descriptions'!$A:$I,9,0),\"\")","v":0},{"$f":"IF($AD68=\"\",\"\",VLOOKUP($AD68,'Fixture Descriptions'!$A:$I,2,0))","v":""},{"$f":"IF(I68=\"\",\"\",IF(I68=\"Removed\",\"N/A\",IF(IFERROR(VLOOKUP(I68,'Fixture Schedule'!$C$9:$G$58,5,0),L68)=\"\",\"Not Qualified\",IFERROR(VLOOKUP(I68,'Fixture Schedule'!$C$9:$G$58,5,0),L68))))","v":""},{"$f":"IFERROR(INDEX('Utility Admin'!$F$3:$AW$3,1,MATCH(1,(CC$8='Utility Admin'!$F$1:$AW$1)*(Inventory!$AH68='Utility Admin'!$F$2:$AW$2)*(Inventory!$BZ68=('Utility Admin'!$F$4:$AW$4)),0)),0)","v":0},{"$f":"IFERROR(INDEX('Utility Admin'!$F$3:$AW$3,1,MATCH(1,(CD$8='Utility Admin'!$F$1:$AW$1)*(Inventory!$AH68='Utility Admin'!$F$2:$AW$2)*(Inventory!$BZ68=('Utility Admin'!$F$4:$AW$4)),0)),0)","v":0},{"$f":"IFERROR(INDEX('Utility Admin'!$F$3:$AW$3,1,MATCH(1,(CC$8='Utility Admin'!$F$1:$AW$1)*(Inventory!$AH68='Utility Admin'!$F$2:$AW$2)*(\"Lighting Controls\"=('Utility Admin'!$F$4:$AW$4)),0)),0)","v":0},{"$f":"IFERROR(INDEX('Utility Admin'!$F$3:$AW$3,1,MATCH(1,(CD$8='Utility Admin'!$F$1:$AW$1)*(Inventory!$AH68='Utility Admin'!$F$2:$AW$2)*(\"Lighting Controls\"=('Utility Admin'!$F$4:$AW$4)),0)),0)","v":0},false]
[null,61,null,null,null,null,null,null,null,null,null,null,null,{"$f":"IF(OR(I69=\"\",J69=\"\",AND(ProjectType=\"Retrofit\",OR(E69=\"\",F69=\"\"))),\"-\",IF(OR(CB69=0,CB69=\"Not Qualified\"),\"N\",IFERROR(INDEX('Fixture Descriptions'!K:K,MATCH(AD69,'Fixture Descriptions'!A:A,0)),\"N\")))","v":"-"},0,0,0,0,0,0,0,0,0,{"$f":"ROUND(IFERROR(IF($AE$7,BJ69*MaxIncentive,Inventory!Z69),0),2)","v":0},0,0,0,0,0,{"$f":"IF(I69=\"\",\"\",IFERROR(VLOOKUP(I69,'Fixture Schedule'!$C$9:$D$58,2,0),I69))","v":""},{"$f":"10","v":10},{"$f":"IFERROR(VLOOKUP(IF(I69=\"REMOVED\",E69,AD69),'Fixture Descriptions'!A:J,10,FALSE),0)","v":0},{"$f":"IFERROR(INDEX('Buildings and Areas'!D$5:D$14,MATCH($C69,'Buildings and Areas'!$B$5:$B$14,0),1),\"\")","v":""},{"$f":"IFERROR(INDEX('Buildings and Areas'!C$5:C$14,MATCH($C69,'Buildings and Areas'!$B$5:$B$14,0),1),\"\")","v":""},{"$f":"IFERROR(INDEX('Buildings and Areas'!R$5:R$14,MATCH($C69,'Buildings and Areas'!$B$5:$B$14,0),1),0)","v":0},{"$f":"IFERROR(INDEX('Buildings and Areas'!S$5:S$14,MATCH($C69,'Buildings and Areas'!$B$5:$B$14,0),1),0)","v":0},{"$f":"IFERROR(INDEX('Buildings and Areas'!T$5:T$14,MATCH($C69,'Buildings and Areas'!$B$5:$B$14,0),1),0)","v":0},{"$f":"IFERROR(INDEX('Buildings and Areas'!O$5:O$14,MATCH($C69,'Buildings and Areas'!$B$5:$B$14,0),1),\"\")","v":""},{"$f":"IFERROR(INDEX('Buildings and Areas'!F$5:F$14,MATCH($C69,'Buildings and Areas'!$B$5:$B$14,0),1)&IF(AH69=\"Exterior\",\": \"&'Buildings and Areas'!$H$4,\"\"),\"\")","v":""},{"$f":"IFERROR(INDEX('Buildings and Areas'!H$5:H$14,MATCH($C69,'Buildings and Areas'!$B$5:$B$14,0),1),\"\")","v":""},{"$f":"IFERROR(IF(INDEX('Buildings and Areas'!L$5:L$14,MATCH($C69,'Buildings and Areas'!$B$5:$B$14,0),1)=\"\",\"Deemed\",INDEX('Buildings and Areas'!L$5:L$14,MATCH($C69,'Buildings and Areas'!$B$5:$B$14,0),1)),\"\")","v":""},{"$f":"IFERROR(IF(INDEX('Buildings and Areas'!M$5:M$14,MATCH($C69,'Buildings and Areas'!$B$5:$B$14,0),1)=\"\",\"Deemed\",INDEX('Buildings and Areas'!M$5:M$14,MATCH($C69,'Buildings and Areas'!$B$5:$B$14,0),1)),\"\")","v":""},{"$f":"IFERROR(INDEX('Buildings and Areas'!P$5:P$14,MATCH($C69,'Buildings and Areas'!$B$5:$B$14,0),1),0)","v":0},{"$f":"IFERROR(INDEX('Buildings and Areas'!Q$5:Q$14,MATCH($C69,'Buildings and Areas'!$B$5:$B$14,0),1),0)","v":0},{"$f":"IF(OR($AG69=\"\",$E69=\"\",$F69=\"\"),0,IF($F$124>0.1,(VLOOKUP($E69,'Fixture Descriptions'!$A:$I,8,0)/1000)*(1-$G$124),(VLOOKUP($E69,'Fixture Descriptions'!$A:$I,8,0)/1000)))","v":0},0,0,0,0,{"$f":"IFERROR(IF(OR('Buildings and Areas'!$D$2=\"New Construction\",$AG69=\"\",$H69=\"\",AH69=\"Exterior\"),1,INDEX('Factor Tables'!C$46:C$51,MATCH(Inventory!$H69,'Factor Tables'!$B$46:$B$51,0))),1)","v":1},{"$f":"IF(OR('Buildings and Areas'!$D$2=\"New Construction\",$AG69=\"\",$H69=\"\",AH69=\"Exterior\"),1,INDEX('Factor Tables'!D$46:D$51,MATCH(Inventory!$H69,'Factor Tables'!$B$46:$B$51,0)))","v":1},{"$f":"IF(I69=\"REMOVED\",0,IF($AD69<>\"\",VLOOKUP($AD69,'Fixture Descriptions'!$A:$I,8,0)/1000,0))","v":0},0,0,0,0,0,0,0,{"$f":"IFERROR(IF(OR($AG69=\"\",$K69=\"\",AH69=\"Exterior\"),1,INDEX('Factor Tables'!C$46:C$51,MATCH(Inventory!$K69,'Factor Tables'!$B$46:$B$51,0))),1)","v":1},{"$f":"IFERROR(IF(OR($AG69=\"\",$K69=\"\",AH69=\"Exterior\"),1,INDEX('Factor Tables'!D$46:D$51,MATCH(Inventory!$K69,'Factor Tables'!$B$46:$B$51,0))),1)","v":1},0,0,0,0,0,0,0,0,0,0,0,0,0,0,0,0,{"$f":"IFERROR(VLOOKUP(IF($AD69=\"Removed\",E69,$AD69),'Fixture Descriptions'!$A:$I,9,0),\"\")","v":0},{"$f":"IF($AD69=\"\",\"\",VLOOKUP($AD69,'Fixture Descriptions'!$A:$I,2,0))","v":""},{"$f":"IF(I69=\"\",\"\",IF(I69=\"Removed\",\"N/A\",IF(IFERROR(VLOOKUP(I69,'Fixture Schedule'!$C$9:$G$58,5,0),L69)=\"\",\"Not Qualified\",IFERROR(VLOOKUP(I69,'Fixture Schedule'!$C$9:$G$58,5,0),L69))))","v":""},{"$f":"IFERROR(INDEX('Utility Admin'!$F$3:$AW$3,1,MATCH(1,(CC$8='Utility Admin'!$F$1:$AW$1)*(Inventory!$AH69='Utility Admin'!$F$2:$AW$2)*(Inventory!$BZ69=('Utility Admin'!$F$4:$AW$4)),0)),0)","v":0},{"$f":"IFERROR(INDEX('Utility Admin'!$F$3:$AW$3,1,MATCH(1,(CD$8='Utility Admin'!$F$1:$AW$1)*(Inventory!$AH69='Utility Admin'!$F$2:$AW$2)*(Inventory!$BZ69=('Utility Admin'!$F$4:$AW$4)),0)),0)","v":0},{"$f":"IFERROR(INDEX('Utility Admin'!$F$3:$AW$3,1,MATCH(1,(CC$8='Utility Admin'!$F$1:$AW$1)*(Inventory!$AH69='Utility Admin'!$F$2:$AW$2)*(\"Lighting Controls\"=('Utility Admin'!$F$4:$AW$4)),0)),0)","v":0},{"$f":"IFERROR(INDEX('Utility Admin'!$F$3:$AW$3,1,MATCH(1,(CD$8='Utility Admin'!$F$1:$AW$1)*(Inventory!$AH69='Utility Admin'!$F$2:$AW$2)*(\"Lighting Controls\"=('Utility Admin'!$F$4:$AW$4)),0)),0)","v":0},false]
[null,62,null,null,null,null,null,null,null,null,null,null,null,{"$f":"IF(OR(I70=\"\",J70=\"\",AND(ProjectType=\"Retrofit\",OR(E70=\"\",F70=\"\"))),\"-\",IF(OR(CB70=0,CB70=\"Not Qualified\"),\"N\",IFERROR(INDEX('Fixture Descriptions'!K:K,MATCH(AD70,'Fixture Descriptions'!A:A,0)),\"N\")))","v":"-"},0,0,0,0,0,0,0,0,0,{"$f":"ROUND(IFERROR(IF($AE$7,BJ70*MaxIncentive,Inventory!Z70),0),2)","v":0},0,0,0,0,0,{"$f":"IF(I70=\"\",\"\",IFERROR(VLOOKUP(I70,'Fixture Schedule'!$C$9:$D$58,2,0),I70))","v":""},{"$f":"10","v":10},{"$f":"IFERROR(VLOOKUP(IF(I70=\"REMOVED\",E70,AD70),'Fixture Descriptions'!A:J,10,FALSE),0)","v":0},{"$f":"IFERROR(INDEX('Buildings and Areas'!D$5:D$14,MATCH($C70,'Buildings and Areas'!$B$5:$B$14,0),1),\"\")","v":""},{"$f":"IFERROR(INDEX('Buildings and Areas'!C$5:C$14,MATCH($C70,'Buildings and Areas'!$B$5:$B$14,0),1),\"\")","v":""},{"$f":"IFERROR(INDEX('Buildings and Areas'!R$5:R$14,MATCH($C70,'Buildings and Areas'!$B$5:$B$14,0),1),0)","v":0},{"$f":"IFERROR(INDEX('Buildings and Areas'!S$5:S$14,MATCH($C70,'Buildings and Areas'!$B$5:$B$14,0),1),0)","v":0},{"$f":"IFERROR(INDEX('Buildings and Areas'!T$5:T$14,MATCH($C70,'Buildings and Areas'!$B$5:$B$14,0),1),0)","v":0},{"$f":"IFERROR(INDEX('Buildings and Areas'!O$5:O$14,MATCH($C70,'Buildings and Areas'!$B$5:$B$14,0),1),\"\")","v":""},{"$f":"IFERROR(INDEX('Buildings and Areas'!F$5:F$14,MATCH($C70,'Buildings and Areas'!$B$5:$B$14,0),1)&IF(AH70=\"Exterior\",\": \"&'Buildings and Areas'!$H$4,\"\"),\"\")","v":""},{"$f":"IFERROR(INDEX('Buildings and Areas'!H$5:H$14,MATCH($C70,'Buildings and Areas'!$B$5:$B$14,0),1),\"\")","v":""},{"$f":"IFERROR(IF(INDEX('Buildings and Areas'!L$5:L$14,MATCH($C70,'Buildings and Areas'!$B$5:$B$14,0),1)=\"\",\"Deemed\",INDEX('Buildings and Areas'!L$5:L$14,MATCH($C70,'Buildings and Areas'!$B$5:$B$14,0),1)),\"\")","v":""},{"$f":"IFERROR(IF(INDEX('Buildings and Areas'!M$5:M$14,MATCH($C70,'Buildings and Areas'!$B$5:$B$14,0),1)=\"\",\"Deemed\",INDEX('Buildings and Areas'!M$5:M$14,MATCH($C70,'Buildings and Areas'!$B$5:$B$14,0),1)),\"\")","v":""},{"$f":"IFERROR(INDEX('Buildings and Areas'!P$5:P$14,MATCH($C70,'Buildings and Areas'!$B$5:$B$14,0),1),0)","v":0},{"$f":"IFERROR(INDEX('Buildings and Areas'!Q$5:Q$14,MATCH($C70,'Buildings and Areas'!$B$5:$B$14,0),1),0)","v":0},{"$f":"IF(OR($AG70=\"\",$E70=\"\",$F70=\"\"),0,IF($F$124>0.1,(VLOOKUP($E70,'Fixture Descriptions'!$A:$I,8,0)/1000)*(1-$G$124),(VLOOKUP($E70,'Fixture Descriptions'!$A:$I,8,0)/1000)))","v":0},0,0,0,0,{"$f":"IFERROR(IF(OR('Buildings and Areas'!$D$2=\"New Construction\",$AG70=\"\",$H70=\"\",AH70=\"Exterior\"),1,INDEX('Factor Tables'!C$46:C$51,MATCH(Inventory!$H70,'Factor Tables'!$B$46:$B$51,0))),1)","v":1},{"$f":"IF(OR('Buildings and Areas'!$D$2=\"New Construction\",$AG70=\"\",$H70=\"\",AH70=\"Exterior\"),1,INDEX('Factor Tables'!D$46:D$51,MATCH(Inventory!$H70,'Factor Tables'!$B$46:$B$51,0)))","v":1},{"$f":"IF(I70=\"REMOVED\",0,IF($AD70<>\"\",VLOOKUP($AD70,'Fixture Descriptions'!$A:$I,8,0)/1000,0))","v":0},0,0,0,0,0,0,0,{"$f":"IFERROR(IF(OR($AG70=\"\",$K70=\"\",AH70=\"Exterior\"),1,INDEX('Factor Tables'!C$46:C$51,MATCH(Inventory!$K70,'Factor Tables'!$B$46:$B$51,0))),1)","v":1},{"$f":"IFERROR(IF(OR($AG70=\"\",$K70=\"\",AH70=\"Exterior\"),1,INDEX('Factor Tables'!D$46:D$51,MATCH(Inventory!$K70,'Factor Tables'!$B$46:$B$51,0))),1)","v":1},0,0,0,0,0,0,0,0,0,0,0,0,0,0,0,0,{"$f":"IFERROR(VLOOKUP(IF($AD70=\"Removed\",E70,$AD70),'Fixture Descriptions'!$A:$I,9,0),\"\")","v":0},{"$f":"IF($AD70=\"\",\"\",VLOOKUP($AD70,'Fixture Descriptions'!$A:$I,2,0))","v":""},{"$f":"IF(I70=\"\",\"\",IF(I70=\"Removed\",\"N/A\",IF(IFERROR(VLOOKUP(I70,'Fixture Schedule'!$C$9:$G$58,5,0),L70)=\"\",\"Not Qualified\",IFERROR(VLOOKUP(I70,'Fixture Schedule'!$C$9:$G$58,5,0),L70))))","v":""},{"$f":"IFERROR(INDEX('Utility Admin'!$F$3:$AW$3,1,MATCH(1,(CC$8='Utility Admin'!$F$1:$AW$1)*(Inventory!$AH70='Utility Admin'!$F$2:$AW$2)*(Inventory!$BZ70=('Utility Admin'!$F$4:$AW$4)),0)),0)","v":0},{"$f":"IFERROR(INDEX('Utility Admin'!$F$3:$AW$3,1,MATCH(1,(CD$8='Utility Admin'!$F$1:$AW$1)*(Inventory!$AH70='Utility Admin'!$F$2:$AW$2)*(Inventory!$BZ70=('Utility Admin'!$F$4:$AW$4)),0)),0)","v":0},{"$f":"IFERROR(INDEX('Utility Admin'!$F$3:$AW$3,1,MATCH(1,(CC$8='Utility Admin'!$F$1:$AW$1)*(Inventory!$AH70='Utility Admin'!$F$2:$AW$2)*(\"Lighting Controls\"=('Utility Admin'!$F$4:$AW$4)),0)),0)","v":0},{"$f":"IFERROR(INDEX('Utility Admin'!$F$3:$AW$3,1,MATCH(1,(CD$8='Utility Admin'!$F$1:$AW$1)*(Inventory!$AH70='Utility Admin'!$F$2:$AW$2)*(\"Lighting Controls\"=('Utility Admin'!$F$4:$AW$4)),0)),0)","v":0},false]
[null,63,null,null,null,null,null,null,null,null,null,null,null,{"$f":"IF(OR(I71=\"\",J71=\"\",AND(ProjectType=\"Retrofit\",OR(E71=\"\",F71=\"\"))),\"-\",IF(OR(CB71=0,CB71=\"Not Qualified\"),\"N\",IFERROR(INDEX('Fixture Descriptions'!K:K,MATCH(AD71,'Fixture Descriptions'!A:A,0)),\"N\")))","v":"-"},0,0,0,0,0,0,0,0,0,{"$f":"ROUND(IFERROR(IF($AE$7,BJ71*MaxIncentive,Inventory!Z71),0),2)","v":0},0,0,0,0,0,{"$f":"IF(I71=\"\",\"\",IFERROR(VLOOKUP(I71,'Fixture Schedule'!$C$9:$D$58,2,0),I71))","v":""},{"$f":"10","v":10},{"$f":"IFERROR(VLOOKUP(IF(I71=\"REMOVED\",E71,AD71),'Fixture Descriptions'!A:J,10,FALSE),0)","v":0},{"$f":"IFERROR(INDEX('Buildings and Areas'!D$5:D$14,MATCH($C71,'Buildings and Areas'!$B$5:$B$14,0),1),\"\")","v":""},{"$f":"IFERROR(INDEX('Buildings and Areas'!C$5:C$14,MATCH($C71,'Buildings and Areas'!$B$5:$B$14,0),1),\"\")","v":""},{"$f":"IFERROR(INDEX('Buildings and Areas'!R$5:R$14,MATCH($C71,'Buildings and Areas'!$B$5:$B$14,0),1),0)","v":0},{"$f":"IFERROR(INDEX('Buildings and Areas'!S$5:S$14,MATCH($C71,'Buildings and Areas'!$B$5:$B$14,0),1),0)","v":0},{"$f":"IFERROR(INDEX('Buildings and Areas'!T$5:T$14,MATCH($C71,'Buildings and Areas'!$B$5:$B$14,0),1),0)","v":0},{"$f":"IFERROR(INDEX('Buildings and Areas'!O$5:O$14,MATCH($C71,'Buildings and Areas'!$B$5:$B$14,0),1),\"\")","v":""},{"$f":"IFERROR(INDEX('Buildings and Areas'!F$5:F$14,MATCH($C71,'Buildings and Areas'!$B$5:$B$14,0),1)&IF(AH71=\"Exterior\",\": \"&'Buildings and Areas'!$H$4,\"\"),\"\")","v":""},{"$f":"IFERROR(INDEX('Buildings and Areas'!H$5:H$14,MATCH($C71,'Buildings and Areas'!$B$5:$B$14,0),1),\"\")","v":""},{"$f":"IFERROR(IF(INDEX('Buildings and Areas'!L$5:L$14,MATCH($C71,'Buildings and Areas'!$B$5:$B$14,0),1)=\"\",\"Deemed\",INDEX('Buildings and Areas'!L$5:L$14,MATCH($C71,'Buildings and Areas'!$B$5:$B$14,0),1)),\"\")","v":""},{"$f":"IFERROR(IF(INDEX('Buildings and Areas'!M$5:M$14,MATCH($C71,'Buildings and Areas'!$B$5:$B$14,0),1)=\"\",\"Deemed\",INDEX('Buildings and Areas'!M$5:M$14,MATCH($C71,'Buildings and Areas'!$B$5:$B$14,0),1)),\"\")","v":""},{"$f":"IFERROR(INDEX('Buildings and Areas'!P$5:P$14,MATCH($C71,'Buildings and Areas'!$B$5:$B$14,0),1),0)","v":0},{"$f":"IFERROR(INDEX('Buildings and Areas'!Q$5:Q$14,MATCH($C71,'Buildings and Areas'!$B$5:$B$14,0),1),0)","v":0},{"$f":"IF(OR($AG71=\"\",$E71=\"\",$F71=\"\"),0,IF($F$124>0.1,(VLOOKUP($E71,'Fixture Descriptions'!$A:$I,8,0)/1000)*(1-$G$124),(VLOOKUP($E71,'Fixture Descriptions'!$A:$I,8,0)/1000)))","v":0},0,0,0,0,{"$f":"IFERROR(IF(OR('Buildings and Areas'!$D$2=\"New Construction\",$AG71=\"\",$H71=\"\",AH71=\"Exterior\"),1,INDEX('Factor Tables'!C$46:C$51,MATCH(Inventory!$H71,'Factor Tables'!$B$46:$B$51,0))),1)","v":1},{"$f":"IF(OR('Buildings and Areas'!$D$2=\"New Construction\",$AG71=\"\",$H71=\"\",AH71=\"Exterior\"),1,INDEX('Factor Tables'!D$46:D$51,MATCH(Inventory!$H71,'Factor Tables'!$B$46:$B$51,0)))","v":1},{"$f":"IF(I71=\"REMOVED\",0,IF($AD71<>\"\",VLOOKUP($AD71,'Fixture Descriptions'!$A:$I,8,0)/1000,0))","v":0},0,0,0,0,0,0,0,{"$f":"IFERROR(IF(OR($AG71=\"\",$K71=\"\",AH71=\"Exterior\"),1,INDEX('Factor Tables'!C$46:C$51,MATCH(Inventory!$K71,'Factor Tables'!$B$46:$B$51,0))),1)","v":1},{"$f":"IFERROR(IF(OR($AG71=\"\",$K71=\"\",AH71=\"Exterior\"),1,INDEX('Factor Tables'!D$46:D$51,MATCH(Inventory!$K71,'Factor Tables'!$B$46:$B$51,0))),1)","v":1},0,0,0,0,0,0,0,0,0,0,0,0,0,0,0,0,{"$f":"IFERROR(VLOOKUP(IF($AD71=\"Removed\",E71,$AD71),'Fixture Descriptions'!$A:$I,9,0),\"\")","v":0},{"$f":"IF($AD71=\"\",\"\",VLOOKUP($AD71,'Fixture Descriptions'!$A:$I,2,0))","v":""},{"$f":"IF(I71=\"\",\"\",IF(I71=\"Removed\",\"N/A\",IF(IFERROR(VLOOKUP(I71,'Fixture Schedule'!$C$9:$G$58,5,0),L71)=\"\",\"Not Qualified\",IFERROR(VLOOKUP(I71,'Fixture Schedule'!$C$9:$G$58,5,0),L71))))","v":""},{"$f":"IFERROR(INDEX('Utility Admin'!$F$3:$AW$3,1,MATCH(1,(CC$8='Utility Admin'!$F$1:$AW$1)*(Inventory!$AH71='Utility Admin'!$F$2:$AW$2)*(Inventory!$BZ71=('Utility Admin'!$F$4:$AW$4)),0)),0)","v":0},{"$f":"IFERROR(INDEX('Utility Admin'!$F$3:$AW$3,1,MATCH(1,(CD$8='Utility Admin'!$F$1:$AW$1)*(Inventory!$AH71='Utility Admin'!$F$2:$AW$2)*(Inventory!$BZ71=('Utility Admin'!$F$4:$AW$4)),0)),0)","v":0},{"$f":"IFERROR(INDEX('Utility Admin'!$F$3:$AW$3,1,MATCH(1,(CC$8='Utility Admin'!$F$1:$AW$1)*(Inventory!$AH71='Utility Admin'!$F$2:$AW$2)*(\"Lighting Controls\"=('Utility Admin'!$F$4:$AW$4)),0)),0)","v":0},{"$f":"IFERROR(INDEX('Utility Admin'!$F$3:$AW$3,1,MATCH(1,(CD$8='Utility Admin'!$F$1:$AW$1)*(Inventory!$AH71='Utility Admin'!$F$2:$AW$2)*(\"Lighting Controls\"=('Utility Admin'!$F$4:$AW$4)),0)),0)","v":0},false]
[null,64,null,null,null,null,null,null,null,null,null,null,null,{"$f":"IF(OR(I72=\"\",J72=\"\",AND(ProjectType=\"Retrofit\",OR(E72=\"\",F72=\"\"))),\"-\",IF(OR(CB72=0,CB72=\"Not Qualified\"),\"N\",IFERROR(INDEX('Fixture Descriptions'!K:K,MATCH(AD72,'Fixture Descriptions'!A:A,0)),\"N\")))","v":"-"},0,0,0,0,0,0,0,0,0,{"$f":"ROUND(IFERROR(IF($AE$7,BJ72*MaxIncentive,Inventory!Z72),0),2)","v":0},0,0,0,0,0,{"$f":"IF(I72=\"\",\"\",IFERROR(VLOOKUP(I72,'Fixture Schedule'!$C$9:$D$58,2,0),I72))","v":""},{"$f":"10","v":10},{"$f":"IFERROR(VLOOKUP(IF(I72=\"REMOVED\",E72,AD72),'Fixture Descriptions'!A:J,10,FALSE),0)","v":0},{"$f":"IFERROR(INDEX('Buildings and Areas'!D$5:D$14,MATCH($C72,'Buildings and Areas'!$B$5:$B$14,0),1),\"\")","v":""},{"$f":"IFERROR(INDEX('Buildings and Areas'!C$5:C$14,MATCH($C72,'Buildings and Areas'!$B$5:$B$14,0),1),\"\")","v":""},{"$f":"IFERROR(INDEX('Buildings and Areas'!R$5:R$14,MATCH($C72,'Buildings and Areas'!$B$5:$B$14,0),1),0)","v":0},{"$f":"IFERROR(INDEX('Buildings and Areas'!S$5:S$14,MATCH($C72,'Buildings and Areas'!$B$5:$B$14,0),1),0)","v":0},{"$f":"IFERROR(INDEX('Buildings and Areas'!T$5:T$14,MATCH($C72,'Buildings and Areas'!$B$5:$B$14,0),1),0)","v":0},{"$f":"IFERROR(INDEX('Buildings and Areas'!O$5:O$14,MATCH($C72,'Buildings and Areas'!$B$5:$B$14,0),1),\"\")","v":""},{"$f":"IFERROR(INDEX('Buildings and Areas'!F$5:F$14,MATCH($C72,'Buildings and Areas'!$B$5:$B$14,0),1)&IF(AH72=\"Exterior\",\": \"&'Buildings and Areas'!$H$4,\"\"),\"\")","v":""},{"$f":"IFERROR(INDEX('Buildings and Areas'!H$5:H$14,MATCH($C72,'Buildings and Areas'!$B$5:$B$14,0),1),\"\")","v":""},{"$f":"IFERROR(IF(INDEX('Buildings and Areas'!L$5:L$14,MATCH($C72,'Buildings and Areas'!$B$5:$B$14,0),1)=\"\",\"Deemed\",INDEX('Buildings and Areas'!L$5:L$14,MATCH($C72,'Buildings and Areas'!$B$5:$B$14,0),1)),\"\")","v":""},{"$f":"IFERROR(IF(INDEX('Buildings and Areas'!M$5:M$14,MATCH($C72,'Buildings and Areas'!$B$5:$B$14,0),1)=\"\",\"Deemed\",INDEX('Buildings and Areas'!M$5:M$14,MATCH($C72,'Buildings and Areas'!$B$5:$B$14,0),1)),\"\")","v":""},{"$f":"IFERROR(INDEX('Buildings and Areas'!P$5:P$14,MATCH($C72,'Buildings and Areas'!$B$5:$B$14,0),1),0)","v":0},{"$f":"IFERROR(INDEX('Buildings and Areas'!Q$5:Q$14,MATCH($C72,'Buildings and Areas'!$B$5:$B$14,0),1),0)","v":0},{"$f":"IF(OR($AG72=\"\",$E72=\"\",$F72=\"\"),0,IF($F$124>0.1,(VLOOKUP($E72,'Fixture Descriptions'!$A:$I,8,0)/1000)*(1-$G$124),(VLOOKUP($E72,'Fixture Descriptions'!$A:$I,8,0)/1000)))","v":0},0,0,0,0,{"$f":"IFERROR(IF(OR('Buildings and Areas'!$D$2=\"New Construction\",$AG72=\"\",$H72=\"\",AH72=\"Exterior\"),1,INDEX('Factor Tables'!C$46:C$51,MATCH(Inventory!$H72,'Factor Tables'!$B$46:$B$51,0))),1)","v":1},{"$f":"IF(OR('Buildings and Areas'!$D$2=\"New Construction\",$AG72=\"\",$H72=\"\",AH72=\"Exterior\"),1,INDEX('Factor Tables'!D$46:D$51,MATCH(Inventory!$H72,'Factor Tables'!$B$46:$B$51,0)))","v":1},{"$f":"IF(I72=\"REMOVED\",0,IF($AD72<>\"\",VLOOKUP($AD72,'Fixture Descriptions'!$A:$I,8,0)/1000,0))","v":0},0,0,0,0,0,0,0,{"$f":"IFERROR(IF(OR($AG72=\"\",$K72=\"\",AH72=\"Exterior\"),1,INDEX('Factor Tables'!C$46:C$51,MATCH(Inventory!$K72,'Factor Tables'!$B$46:$B$51,0))),1)","v":1},{"$f":"IFERROR(IF(OR($AG72=\"\",$K72=\"\",AH72=\"Exterior\"),1,INDEX('Factor Tables'!D$46:D$51,MATCH(Inventory!$K72,'Factor Tables'!$B$46:$B$51,0))),1)","v":1},0,0,0,0,0,0,0,0,0,0,0,0,0,0,0,0,{"$f":"IFERROR(VLOOKUP(IF($AD72=\"Removed\",E72,$AD72),'Fixture Descriptions'!$A:$I,9,0),\"\")","v":0},{"$f":"IF($AD72=\"\",\"\",VLOOKUP($AD72,'Fixture Descriptions'!$A:$I,2,0))","v":""},{"$f":"IF(I72=\"\",\"\",IF(I72=\"Removed\",\"N/A\",IF(IFERROR(VLOOKUP(I72,'Fixture Schedule'!$C$9:$G$58,5,0),L72)=\"\",\"Not Qualified\",IFERROR(VLOOKUP(I72,'Fixture Schedule'!$C$9:$G$58,5,0),L72))))","v":""},{"$f":"IFERROR(INDEX('Utility Admin'!$F$3:$AW$3,1,MATCH(1,(CC$8='Utility Admin'!$F$1:$AW$1)*(Inventory!$AH72='Utility Admin'!$F$2:$AW$2)*(Inventory!$BZ72=('Utility Admin'!$F$4:$AW$4)),0)),0)","v":0},{"$f":"IFERROR(INDEX('Utility Admin'!$F$3:$AW$3,1,MATCH(1,(CD$8='Utility Admin'!$F$1:$AW$1)*(Inventory!$AH72='Utility Admin'!$F$2:$AW$2)*(Inventory!$BZ72=('Utility Admin'!$F$4:$AW$4)),0)),0)","v":0},{"$f":"IFERROR(INDEX('Utility Admin'!$F$3:$AW$3,1,MATCH(1,(CC$8='Utility Admin'!$F$1:$AW$1)*(Inventory!$AH72='Utility Admin'!$F$2:$AW$2)*(\"Lighting Controls\"=('Utility Admin'!$F$4:$AW$4)),0)),0)","v":0},{"$f":"IFERROR(INDEX('Utility Admin'!$F$3:$AW$3,1,MATCH(1,(CD$8='Utility Admin'!$F$1:$AW$1)*(Inventory!$AH72='Utility Admin'!$F$2:$AW$2)*(\"Lighting Controls\"=('Utility Admin'!$F$4:$AW$4)),0)),0)","v":0},false]
[null,65,null,null,null,null,null,null,null,null,null,null,null,{"$f":"IF(OR(I73=\"\",J73=\"\",AND(ProjectType=\"Retrofit\",OR(E73=\"\",F73=\"\"))),\"-\",IF(OR(CB73=0,CB73=\"Not Qualified\"),\"N\",IFERROR(INDEX('Fixture Descriptions'!K:K,MATCH(AD73,'Fixture Descriptions'!A:A,0)),\"N\")))","v":"-"},0,0,0,0,0,0,0,0,0,{"$f":"ROUND(IFERROR(IF($AE$7,BJ73*MaxIncentive,Inventory!Z73),0),2)","v":0},0,0,0,0,0,{"$f":"IF(I73=\"\",\"\",IFERROR(VLOOKUP(I73,'Fixture Schedule'!$C$9:$D$58,2,0),I73))","v":""},{"$f":"10","v":10},{"$f":"IFERROR(VLOOKUP(IF(I73=\"REMOVED\",E73,AD73),'Fixture Descriptions'!A:J,10,FALSE),0)","v":0},{"$f":"IFERROR(INDEX('Buildings and Areas'!D$5:D$14,MATCH($C73,'Buildings and Areas'!$B$5:$B$14,0),1),\"\")","v":""},{"$f":"IFERROR(INDEX('Buildings and Areas'!C$5:C$14,MATCH($C73,'Buildings and Areas'!$B$5:$B$14,0),1),\"\")","v":""},{"$f":"IFERROR(INDEX('Buildings and Areas'!R$5:R$14,MATCH($C73,'Buildings and Areas'!$B$5:$B$14,0),1),0)","v":0},{"$f":"IFERROR(INDEX('Buildings and Areas'!S$5:S$14,MATCH($C73,'Buildings and Areas'!$B$5:$B$14,0),1),0)","v":0},{"$f":"IFERROR(INDEX('Buildings and Areas'!T$5:T$14,MATCH($C73,'Buildings and Areas'!$B$5:$B$14,0),1),0)","v":0},{"$f":"IFERROR(INDEX('Buildings and Areas'!O$5:O$14,MATCH($C73,'Buildings and Areas'!$B$5:$B$14,0),1),\"\")","v":""},{"$f":"IFERROR(INDEX('Buildings and Areas'!F$5:F$14,MATCH($C73,'Buildings and Areas'!$B$5:$B$14,0),1)&IF(AH73=\"Exterior\",\": \"&'Buildings and Areas'!$H$4,\"\"),\"\")","v":""},{"$f":"IFERROR(INDEX('Buildings and Areas'!H$5:H$14,MATCH($C73,'Buildings and Areas'!$B$5:$B$14,0),1),\"\")","v":""},{"$f":"IFERROR(IF(INDEX('Buildings and Areas'!L$5:L$14,MATCH($C73,'Buildings and Areas'!$B$5:$B$14,0),1)=\"\",\"Deemed\",INDEX('Buildings and Areas'!L$5:L$14,MATCH($C73,'Buildings and Areas'!$B$5:$B$14,0),1)),\"\")","v":""},{"$f":"IFERROR(IF(INDEX('Buildings and Areas'!M$5:M$14,MATCH($C73,'Buildings and Areas'!$B$5:$B$14,0),1)=\"\",\"Deemed\",INDEX('Buildings and Areas'!M$5:M$14,MATCH($C73,'Buildings and Areas'!$B$5:$B$14,0),1)),\"\")","v":""},{"$f":"IFERROR(INDEX('Buildings and Areas'!P$5:P$14,MATCH($C73,'Buildings and Areas'!$B$5:$B$14,0),1),0)","v":0},{"$f":"IFERROR(INDEX('Buildings and Areas'!Q$5:Q$14,MATCH($C73,'Buildings and Areas'!$B$5:$B$14,0),1),0)","v":0},{"$f":"IF(OR($AG73=\"\",$E73=\"\",$F73=\"\"),0,IF($F$124>0.1,(VLOOKUP($E73,'Fixture Descriptions'!$A:$I,8,0)/1000)*(1-$G$124),(VLOOKUP($E73,'Fixture Descriptions'!$A:$I,8,0)/1000)))","v":0},0,0,0,0,{"$f":"IFERROR(IF(OR('Buildings and Areas'!$D$2=\"New Construction\",$AG73=\"\",$H73=\"\",AH73=\"Exterior\"),1,INDEX('Factor Tables'!C$46:C$51,MATCH(Inventory!$H73,'Factor Tables'!$B$46:$B$51,0))),1)","v":1},{"$f":"IF(OR('Buildings and Areas'!$D$2=\"New Construction\",$AG73=\"\",$H73=\"\",AH73=\"Exterior\"),1,INDEX('Factor Tables'!D$46:D$51,MATCH(Inventory!$H73,'Factor Tables'!$B$46:$B$51,0)))","v":1},{"$f":"IF(I73=\"REMOVED\",0,IF($AD73<>\"\",VLOOKUP($AD73,'Fixture Descriptions'!$A:$I,8,0)/1000,0))","v":0},0,0,0,0,0,0,0,{"$f":"IFERROR(IF(OR($AG73=\"\",$K73=\"\",AH73=\"Exterior\"),1,INDEX('Factor Tables'!C$46:C$51,MATCH(Inventory!$K73,'Factor Tables'!$B$46:$B$51,0))),1)","v":1},{"$f":"IFERROR(IF(OR($AG73=\"\",$K73=\"\",AH73=\"Exterior\"),1,INDEX('Factor Tables'!D$46:D$51,MATCH(Inventory!$K73,'Factor Tables'!$B$46:$B$51,0))),1)","v":1},0,0,{"$f":"IFERROR(BB73/INDEX(BB$112:BB$121,MATCH(C73,C$112:C$121,0)),0)","v":0},0,0,0,0,0,0,0,0,0,0,0,0,0,{"$f":"IFERROR(VLOOKUP(IF($AD73=\"Removed\",E73,$AD73),'Fixture Descriptions'!$A:$I,9,0),\"\")","v":0},{"$f":"IF($AD73=\"\",\"\",VLOOKUP($AD73,'Fixture Descriptions'!$A:$I,2,0))","v":""},{"$f":"IF(I73=\"\",\"\",IF(I73=\"Removed\",\"N/A\",IF(IFERROR(VLOOKUP(I73,'Fixture Schedule'!$C$9:$G$58,5,0),L73)=\"\",\"Not Qualified\",IFERROR(VLOOKUP(I73,'Fixture Schedule'!$C$9:$G$58,5,0),L73))))","v":""},{"$f":"IFERROR(INDEX('Utility Admin'!$F$3:$AW$3,1,MATCH(1,(CC$8='Utility Admin'!$F$1:$AW$1)*(Inventory!$AH73='Utility Admin'!$F$2:$AW$2)*(Inventory!$BZ73=('Utility Admin'!$F$4:$AW$4)),0)),0)","v":0},{"$f":"IFERROR(INDEX('Utility Admin'!$F$3:$AW$3,1,MATCH(1,(CD$8='Utility Admin'!$F$1:$AW$1)*(Inventory!$AH73='Utility Admin'!$F$2:$AW$2)*(Inventory!$BZ73=('Utility Admin'!$F$4:$AW$4)),0)),0)","v":0},{"$f":"IFERROR(INDEX('Utility Admin'!$F$3:$AW$3,1,MATCH(1,(CC$8='Utility Admin'!$F$1:$AW$1)*(Inventory!$AH73='Utility Admin'!$F$2:$AW$2)*(\"Lighting Controls\"=('Utility Admin'!$F$4:$AW$4)),0)),0)","v":0},{"$f":"IFERROR(INDEX('Utility Admin'!$F$3:$AW$3,1,MATCH(1,(CD$8='Utility Admin'!$F$1:$AW$1)*(Inventory!$AH73='Utility Admin'!$F$2:$AW$2)*(\"Lighting Controls\"=('Utility Admin'!$F$4:$AW$4)),0)),0)","v":0},false]
[null,66,null,null,null,null,null,null,null,null,null,null,null,{"$f":"IF(OR(I74=\"\",J74=\"\",AND(ProjectType=\"Retrofit\",OR(E74=\"\",F74=\"\"))),\"-\",IF(OR(CB74=0,CB74=\"Not Qualified\"),\"N\",IFERROR(INDEX('Fixture Descriptions'!K:K,MATCH(AD74,'Fixture Descriptions'!A:A,0)),\"N\")))","v":"-"},0,0,0,0,0,0,0,0,0,{"$f":"ROUND(IFERROR(IF($AE$7,BJ74*MaxIncentive,Inventory!Z74),0),2)","v":0},0,0,0,0,0,{"$f":"IF(I74=\"\",\"\",IFERROR(VLOOKUP(I74,'Fixture Schedule'!$C$9:$D$58,2,0),I74))","v":""},{"$f":"10","v":10},{"$f":"IFERROR(VLOOKUP(IF(I74=\"REMOVED\",E74,AD74),'Fixture Descriptions'!A:J,10,FALSE),0)","v":0},{"$f":"IFERROR(INDEX('Buildings and Areas'!D$5:D$14,MATCH($C74,'Buildings and Areas'!$B$5:$B$14,0),1),\"\")","v":""},{"$f":"IFERROR(INDEX('Buildings and Areas'!C$5:C$14,MATCH($C74,'Buildings and Areas'!$B$5:$B$14,0),1),\"\")","v":""},{"$f":"IFERROR(INDEX('Buildings and Areas'!R$5:R$14,MATCH($C74,'Buildings and Areas'!$B$5:$B$14,0),1),0)","v":0},{"$f":"IFERROR(INDEX('Buildings and Areas'!S$5:S$14,MATCH($C74,'Buildings and Areas'!$B$5:$B$14,0),1),0)","v":0},{"$f":"IFERROR(INDEX('Buildings and Areas'!T$5:T$14,MATCH($C74,'Buildings and Areas'!$B$5:$B$14,0),1),0)","v":0},{"$f":"IFERROR(INDEX('Buildings and Areas'!O$5:O$14,MATCH($C74,'Buildings and Areas'!$B$5:$B$14,0),1),\"\")","v":""},{"$f":"IFERROR(INDEX('Buildings and Areas'!F$5:F$14,MATCH($C74,'Buildings and Areas'!$B$5:$B$14,0),1)&IF(AH74=\"Exterior\",\": \"&'Buildings and Areas'!$H$4,\"\"),\"\")","v":""},{"$f":"IFERROR(INDEX('Buildings and Areas'!H$5:H$14,MATCH($C74,'Buildings and Areas'!$B$5:$B$14,0),1),\"\")","v":""},{"$f":"IFERROR(IF(INDEX('Buildings and Areas'!L$5:L$14,MATCH($C74,'Buildings and Areas'!$B$5:$B$14,0),1)=\"\",\"Deemed\",INDEX('Buildings and Areas'!L$5:L$14,MATCH($C74,'Buildings and Areas'!$B$5:$B$14,0),1)),\"\")","v":""},{"$f":"IFERROR(IF(INDEX('Buildings and Areas'!M$5:M$14,MATCH($C74,'Buildings and Areas'!$B$5:$B$14,0),1)=\"\",\"Deemed\",INDEX('Buildings and Areas'!M$5:M$14,MATCH($C74,'Buildings and Areas'!$B$5:$B$14,0),1)),\"\")","v":""},{"$f":"IFERROR(INDEX('Buildings and Areas'!P$5:P$14,MATCH($C74,'Buildings and Areas'!$B$5:$B$14,0),1),0)","v":0},{"$f":"IFERROR(INDEX('Buildings and Areas'!Q$5:Q$14,MATCH($C74,'Buildings and Areas'!$B$5:$B$14,0),1),0)","v":0},{"$f":"IF(OR($AG74=\"\",$E74=\"\",$F74=\"\"),0,IF($F$124>0.1,(VLOOKUP($E74,'Fixture Descriptions'!$A:$I,8,0)/1000)*(1-$G$124),(VLOOKUP($E74,'Fixture Descriptions'!$A:$I,8,0)/1000)))","v":0},0,0,0,0,{"$f":"IFERROR(IF(OR('Buildings and Areas'!$D$2=\"New Construction\",$AG74=\"\",$H74=\"\",AH74=\"Exterior\"),1,INDEX('Factor Tables'!C$46:C$51,MATCH(Inventory!$H74,'Factor Tables'!$B$46:$B$51,0))),1)","v":1},{"$f":"IF(OR('Buildings and Areas'!$D$2=\"New Construction\",$AG74=\"\",$H74=\"\",AH74=\"Exterior\"),1,INDEX('Factor Tables'!D$46:D$51,MATCH(Inventory!$H74,'Factor Tables'!$B$46:$B$51,0)))","v":1},{"$f":"IF(I74=\"REMOVED\",0,IF($AD74<>\"\",VLOOKUP($AD74,'Fixture Descriptions'!$A:$I,8,0)/1000,0))","v":0},0,0,0,0,0,0,0,{"$f":"IFERROR(IF(OR($AG74=\"\",$K74=\"\",AH74=\"Exterior\"),1,INDEX('Factor Tables'!C$46:C$51,MATCH(Inventory!$K74,'Factor Tables'!$B$46:$B$51,0))),1)","v":1},{"$f":"IFERROR(IF(OR($AG74=\"\",$K74=\"\",AH74=\"Exterior\"),1,INDEX('Factor Tables'!D$46:D$51,MATCH(Inventory!$K74,'Factor Tables'!$B$46:$B$51,0))),1)","v":1},0,0,0,0,0,0,0,0,0,0,0,0,0,0,0,0,{"$f":"IFERROR(VLOOKUP(IF($AD74=\"Removed\",E74,$AD74),'Fixture Descriptions'!$A:$I,9,0),\"\")","v":0},{"$f":"IF($AD74=\"\",\"\",VLOOKUP($AD74,'Fixture Descriptions'!$A:$I,2,0))","v":""},{"$f":"IF(I74=\"\",\"\",IF(I74=\"Removed\",\"N/A\",IF(IFERROR(VLOOKUP(I74,'Fixture Schedule'!$C$9:$G$58,5,0),L74)=\"\",\"Not Qualified\",IFERROR(VLOOKUP(I74,'Fixture Schedule'!$C$9:$G$58,5,0),L74))))","v":""},{"$f":"IFERROR(INDEX('Utility Admin'!$F$3:$AW$3,1,MATCH(1,(CC$8='Utility Admin'!$F$1:$AW$1)*(Inventory!$AH74='Utility Admin'!$F$2:$AW$2)*(Inventory!$BZ74=('Utility Admin'!$F$4:$AW$4)),0)),0)","v":0},{"$f":"IFERROR(INDEX('Utility Admin'!$F$3:$AW$3,1,MATCH(1,(CD$8='Utility Admin'!$F$1:$AW$1)*(Inventory!$AH74='Utility Admin'!$F$2:$AW$2)*(Inventory!$BZ74=('Utility Admin'!$F$4:$AW$4)),0)),0)","v":0},{"$f":"IFERROR(INDEX('Utility Admin'!$F$3:$AW$3,1,MATCH(1,(CC$8='Utility Admin'!$F$1:$AW$1)*(Inventory!$AH74='Utility Admin'!$F$2:$AW$2)*(\"Lighting Controls\"=('Utility Admin'!$F$4:$AW$4)),0)),0)","v":0},{"$f":"IFERROR(INDEX('Utility Admin'!$F$3:$AW$3,1,MATCH(1,(CD$8='Utility Admin'!$F$1:$AW$1)*(Inventory!$AH74='Utility Admin'!$F$2:$AW$2)*(\"Lighting Controls\"=('Utility Admin'!$F$4:$AW$4)),0)),0)","v":0},{"$f":"OR(AND(E74>0,ISNA(AS74)),AND(I74>0,ISNA(AZ74)))","v":false}]
[null,{"$f":"B74+1","v":67},null,null,null,null,null,null,null,null,null,null,null,{"$f":"IF(OR(I75=\"\",J75=\"\",AND(ProjectType=\"Retrofit\",OR(E75=\"\",F75=\"\"))),\"-\",IF(OR(CB75=0,CB75=\"Not Qualified\"),\"N\",IFERROR(INDEX('Fixture Descriptions'!K:K,MATCH(AD75,'Fixture Descriptions'!A:A,0)),\"N\")))","v":"-"},{"$f":"IFERROR(ROUND(IF(OR(N75<>\"Y\",$O$4<>\"\"),0,IF(ProjectType=\"New Construction\",0,\nMAX(ABS(BQ75),ABS(R75))*IF(BQ75<0,-1,1))),3),0)","v":0},{"$f":"ROUND(IF($O$4<>\"\",0,IF(ProjectType=\"New Construction\",0,MAX(BU75,S75))),3)","v":0},{"$f":"O75+P75","v":0},{"$f":"ROUND(IF(OR(N75<>\"Y\",$O$4<>\"\"),0,IFERROR(IF(ProjectType=\"New Construction\",0,BP75),0)),3)","v":0},{"$f":"ROUND(IF($O$4<>\"\",0,IF(ProjectType=\"New Construction\",0,BT75)),3)","v":0},{"$f":"R75+S75","v":0},{"$f":"ROUND(IF(OR(N75<>\"Y\",$O$4<>\"\"),0,IFERROR(IF(ProjectType=\"New Construction\",0,BW75),0)),0)","v":0},{"$f":"ROUND(IF($O$4<>\"\",0,IF(ProjectType=\"New Construction\",0,BY75)),0)","v":0},{"$f":"U75+V75","v":0},{"$f":"ROUND(IFERROR(IF($AE$7,BJ75*MaxIncentive,Inventory!Z75),0),2)","v":0},{"$f":"ROUND(IFERROR(IF($AE$7,BK75*MaxIncentive,AA75),0),2)","v":0},{"$f":"ROUND(IFERROR(CD75*$U75+CC75*$O75,0),2)","v":0},{"$f":"ROUND(IFERROR(CF75*$V75+CE75*$P75,0),2)","v":0},{"$f":"IFERROR(ROUND(IF(U75=0,0,U75/$W$7*ProjectCost),2),0)","v":0},{"$f":"IFERROR(ROUND(IF(V75=0,0,V75/$W$7*ProjectCost),2),0)","v":0},{"$f":"IF(I75=\"\",\"\",IFERROR(VLOOKUP(I75,'Fixture Schedule'!$C$9:$D$58,2,0),I75))","v":""},{"$f":"10","v":10},{"$f":"IFERROR(VLOOKUP(IF(I75=\"REMOVED\",E75,AD75),'Fixture Descriptions'!A:J,10,FALSE),0)","v":0},{"$f":"IFERROR(INDEX('Buildings and Areas'!D$5:D$14,MATCH($C75,'Buildings and Areas'!$B$5:$B$14,0),1),\"\")","v":""},{"$f":"IFERROR(INDEX('Buildings and Areas'!C$5:C$14,MATCH($C75,'Buildings and Areas'!$B$5:$B$14,0),1),\"\")","v":""},{"$f":"IFERROR(INDEX('Buildings and Areas'!R$5:R$14,MATCH($C75,'Buildings and Areas'!$B$5:$B$14,0),1),0)","v":0},{"$f":"IFERROR(INDEX('Buildings and Areas'!S$5:S$14,MATCH($C75,'Buildings and Areas'!$B$5:$B$14,0),1),0)","v":0},{"$f":"IFERROR(INDEX('Buildings and Areas'!T$5:T$14,MATCH($C75,'Buildings and Areas'!$B$5:$B$14,0),1),0)","v":0},{"$f":"IFERROR(INDEX('Buildings and Areas'!O$5:O$14,MATCH($C75,'Buildings and Areas'!$B$5:$B$14,0),1),\"\")","v":""},{"$f":"IFERROR(INDEX('Buildings and Areas'!F$5:F$14,MATCH($C75,'Buildings and Areas'!$B$5:$B$14,0),1)&IF(AH75=\"Exterior\",\": \"&'Buildings and Areas'!$H$4,\"\"),\"\")","v":""},{"$f":"IFERROR(INDEX('Buildings and Areas'!H$5:H$14,MATCH($C75,'Buildings and Areas'!$B$5:$B$14,0),1),\"\")","v":""},{"$f":"IFERROR(IF(INDEX('Buildings and Areas'!L$5:L$14,MATCH($C75,'Buildings and Areas'!$B$5:$B$14,0),1)=\"\",\"Deemed\",INDEX('Buildings and Areas'!L$5:L$14,MATCH($C75,'Buildings and Areas'!$B$5:$B$14,0),1)),\"\")","v":""},{"$f":"IFERROR(IF(INDEX('Buildings and Areas'!M$5:M$14,MATCH($C75,'Buildings and Areas'!$B$5:$B$14,0),1)=\"\",\"Deemed\",INDEX('Buildings and Areas'!M$5:M$14,MATCH($C75,'Buildings and Areas'!$B$5:$B$14,0),1)),\"\")","v":""},{"$f":"IFERROR(INDEX('Buildings and Areas'!P$5:P$14,MATCH($C75,'Buildings and Areas'!$B$5:$B$14,0),1),0)","v":0},{"$f":"IFERROR(INDEX('Buildings and Areas'!Q$5:Q$14,MATCH($C75,'Buildings and Areas'!$B$5:$B$14,0),1),0)","v":0},{"$f":"IF(OR($AG75=\"\",$E75=\"\",$F75=\"\"),0,IF($F$124>0.1,(VLOOKUP($E75,'Fixture Descriptions'!$A:$I,8,0)/1000)*(1-$G$124),(VLOOKUP($E75,'Fixture Descriptions'!$A:$I,8,0)/1000)))","v":0},0,0,0,{"$f":"AV75*$AY75","v":0},{"$f":"IFERROR(IF(OR('Buildings and Areas'!$D$2=\"New Construction\",$AG75=\"\",$H75=\"\",AH75=\"Exterior\"),1,INDEX('Factor Tables'!C$46:C$51,MATCH(Inventory!$H75,'Factor Tables'!$B$46:$B$51,0))),1)","v":1},{"$f":"IF(OR('Buildings and Areas'!$D$2=\"New Construction\",$AG75=\"\",$H75=\"\",AH75=\"Exterior\"),1,INDEX('Factor Tables'!D$46:D$51,MATCH(Inventory!$H75,'Factor Tables'!$B$46:$B$51,0)))","v":1},{"$f":"IF(I75=\"REMOVED\",0,IF($AD75<>\"\",VLOOKUP($AD75,'Fixture Descriptions'!$A:$I,8,0)/1000,0))","v":0},{"$f":"AZ75*J75","v":0},0,0,0,0,0,0,{"$f":"IFERROR(IF(OR($AG75=\"\",$K75=\"\",AH75=\"Exterior\"),1,INDEX('Factor Tables'!C$46:C$51,MATCH(Inventory!$K75,'Factor Tables'!$B$46:$B$51,0))),1)","v":1},{"$f":"IFERROR(IF(OR($AG75=\"\",$K75=\"\",AH75=\"Exterior\"),1,INDEX('Factor Tables'!D$46:D$51,MATCH(Inventory!$K75,'Factor Tables'!$B$46:$B$51,0))),1)","v":1},{"$f":"IFERROR(U75/W$7,0)","v":0},{"$f":"IFERROR(V75/W$7,0)","v":0},0,0,{"$f":"$BM75*AQ75","v":0},{"$f":"BN75*AJ75","v":0},{"$f":"IF(AND(OR(CB75=\"Not qualified\",CB75=\"\"),ProjectType=\"Retrofit\"),0,BO75)","v":0},{"$f":"IF(AND(OR(CB75=\"Not qualified\",CB75=\"\"),ProjectType=\"Retrofit\"),0,BM75*AR75*AK75)","v":0},0,{"$f":"$BR75*AQ75","v":0},{"$f":"$BS75*AJ75","v":0},{"$f":"BR75*AR75*AK75","v":0},0,{"$f":"IF(AND(OR(CB75=\"Not qualified\",CB75=\"\"),ProjectType=\"Retrofit\"),0,$BV75*AR75)","v":0},0,{"$f":"$BX75*AR75","v":0},{"$f":"IFERROR(VLOOKUP(IF($AD75=\"Removed\",E75,$AD75),'Fixture Descriptions'!$A:$I,9,0),\"\")","v":0},{"$f":"IF($AD75=\"\",\"\",VLOOKUP($AD75,'Fixture Descriptions'!$A:$I,2,0))","v":""},{"$f":"IF(I75=\"\",\"\",IF(I75=\"Removed\",\"N/A\",IF(IFERROR(VLOOKUP(I75,'Fixture Schedule'!$C$9:$G$58,5,0),L75)=\"\",\"Not Qualified\",IFERROR(VLOOKUP(I75,'Fixture Schedule'!$C$9:$G$58,5,0),L75))))","v":""},{"$f":"IFERROR(INDEX('Utility Admin'!$F$3:$AW$3,1,MATCH(1,(CC$8='Utility Admin'!$F$1:$AW$1)*(Inventory!$AH75='Utility Admin'!$F$2:$AW$2)*(Inventory!$BZ75=('Utility Admin'!$F$4:$AW$4)),0)),0)","v":0},{"$f":"IFERROR(INDEX('Utility Admin'!$F$3:$AW$3,1,MATCH(1,(CD$8='Utility Admin'!$F$1:$AW$1)*(Inventory!$AH75='Utility Admin'!$F$2:$AW$2)*(Inventory!$BZ75=('Utility Admin'!$F$4:$AW$4)),0)),0)","v":0},{"$f":"IFERROR(INDEX('Utility Admin'!$F$3:$AW$3,1,MATCH(1,(CC$8='Utility Admin'!$F$1:$AW$1)*(Inventory!$AH75='Utility Admin'!$F$2:$AW$2)*(\"Lighting Controls\"=('Utility Admin'!$F$4:$AW$4)),0)),0)","v":0},{"$f":"IFERROR(INDEX('Utility Admin'!$F$3:$AW$3,1,MATCH(1,(CD$8='Utility Admin'!$F$1:$AW$1)*(Inventory!$AH75='Utility Admin'!$F$2:$AW$2)*(\"Lighting Controls\"=('Utility Admin'!$F$4:$AW$4)),0)),0)","v":0},false]
[null,68,null,null,null,null,null,null,null,null,null,null,null,{"$f":"IF(OR(I76=\"\",J76=\"\",AND(ProjectType=\"Retrofit\",OR(E76=\"\",F76=\"\"))),\"-\",IF(OR(CB76=0,CB76=\"Not Qualified\"),\"N\",IFERROR(INDEX('Fixture Descriptions'!K:K,MATCH(AD76,'Fixture Descriptions'!A:A,0)),\"N\")))","v":"-"},0,0,0,0,0,0,0,0,0,{"$f":"ROUND(IFERROR(IF($AE$7,BJ76*MaxIncentive,Inventory!Z76),0),2)","v":0},0,0,0,0,0,{"$f":"IF(I76=\"\",\"\",IFERROR(VLOOKUP(I76,'Fixture Schedule'!$C$9:$D$58,2,0),I76))","v":""},{"$f":"10","v":10},{"$f":"IFERROR(VLOOKUP(IF(I76=\"REMOVED\",E76,AD76),'Fixture Descriptions'!A:J,10,FALSE),0)","v":0},{"$f":"IFERROR(INDEX('Buildings and Areas'!D$5:D$14,MATCH($C76,'Buildings and Areas'!$B$5:$B$14,0),1),\"\")","v":""},{"$f":"IFERROR(INDEX('Buildings and Areas'!C$5:C$14,MATCH($C76,'Buildings and Areas'!$B$5:$B$14,0),1),\"\")","v":""},{"$f":"IFERROR(INDEX('Buildings and Areas'!R$5:R$14,MATCH($C76,'Buildings and Areas'!$B$5:$B$14,0),1),0)","v":0},{"$f":"IFERROR(INDEX('Buildings and Areas'!S$5:S$14,MATCH($C76,'Buildings and Areas'!$B$5:$B$14,0),1),0)","v":0},{"$f":"IFERROR(INDEX('Buildings and Areas'!T$5:T$14,MATCH($C76,'Buildings and Areas'!$B$5:$B$14,0),1),0)","v":0},{"$f":"IFERROR(INDEX('Buildings and Areas'!O$5:O$14,MATCH($C76,'Buildings and Areas'!$B$5:$B$14,0),1),\"\")","v":""},{"$f":"IFERROR(INDEX('Buildings and Areas'!F$5:F$14,MATCH($C76,'Buildings and Areas'!$B$5:$B$14,0),1)&IF(AH76=\"Exterior\",\": \"&'Buildings and Areas'!$H$4,\"\"),\"\")","v":""},{"$f":"IFERROR(INDEX('Buildings and Areas'!H$5:H$14,MATCH($C76,'Buildings and Areas'!$B$5:$B$14,0),1),\"\")","v":""},{"$f":"IFERROR(IF(INDEX('Buildings and Areas'!L$5:L$14,MATCH($C76,'Buildings and Areas'!$B$5:$B$14,0),1)=\"\",\"Deemed\",INDEX('Buildings and Areas'!L$5:L$14,MATCH($C76,'Buildings and Areas'!$B$5:$B$14,0),1)),\"\")","v":""},{"$f":"IFERROR(IF(INDEX('Buildings and Areas'!M$5:M$14,MATCH($C76,'Buildings and Areas'!$B$5:$B$14,0),1)=\"\",\"Deemed\",INDEX('Buildings and Areas'!M$5:M$14,MATCH($C76,'Buildings and Areas'!$B$5:$B$14,0),1)),\"\")","v":""},{"$f":"IFERROR(INDEX('Buildings and Areas'!P$5:P$14,MATCH($C76,'Buildings and Areas'!$B$5:$B$14,0),1),0)","v":0},{"$f":"IFERROR(INDEX('Buildings and Areas'!Q$5:Q$14,MATCH($C76,'Buildings and Areas'!$B$5:$B$14,0),1),0)","v":0},{"$f":"IF(OR($AG76=\"\",$E76=\"\",$F76=\"\"),0,IF($F$124>0.1,(VLOOKUP($E76,'Fixture Descriptions'!$A:$I,8,0)/1000)*(1-$G$124),(VLOOKUP($E76,'Fixture Descriptions'!$A:$I,8,0)/1000)))","v":0},0,0,0,0,{"$f":"IFERROR(IF(OR('Buildings and Areas'!$D$2=\"New Construction\",$AG76=\"\",$H76=\"\",AH76=\"Exterior\"),1,INDEX('Factor Tables'!C$46:C$51,MATCH(Inventory!$H76,'Factor Tables'!$B$46:$B$51,0))),1)","v":1},{"$f":"IF(OR('Buildings and Areas'!$D$2=\"New Construction\",$AG76=\"\",$H76=\"\",AH76=\"Exterior\"),1,INDEX('Factor Tables'!D$46:D$51,MATCH(Inventory!$H76,'Factor Tables'!$B$46:$B$51,0)))","v":1},{"$f":"IF(I76=\"REMOVED\",0,IF($AD76<>\"\",VLOOKUP($AD76,'Fixture Descriptions'!$A:$I,8,0)/1000,0))","v":0},0,0,0,0,0,0,0,{"$f":"IFERROR(IF(OR($AG76=\"\",$K76=\"\",AH76=\"Exterior\"),1,INDEX('Factor Tables'!C$46:C$51,MATCH(Inventory!$K76,'Factor Tables'!$B$46:$B$51,0))),1)","v":1},{"$f":"IFERROR(IF(OR($AG76=\"\",$K76=\"\",AH76=\"Exterior\"),1,INDEX('Factor Tables'!D$46:D$51,MATCH(Inventory!$K76,'Factor Tables'!$B$46:$B$51,0))),1)","v":1},0,0,0,0,0,0,0,0,0,0,0,0,0,0,0,0,{"$f":"IFERROR(VLOOKUP(IF($AD76=\"Removed\",E76,$AD76),'Fixture Descriptions'!$A:$I,9,0),\"\")","v":0},{"$f":"IF($AD76=\"\",\"\",VLOOKUP($AD76,'Fixture Descriptions'!$A:$I,2,0))","v":""},{"$f":"IF(I76=\"\",\"\",IF(I76=\"Removed\",\"N/A\",IF(IFERROR(VLOOKUP(I76,'Fixture Schedule'!$C$9:$G$58,5,0),L76)=\"\",\"Not Qualified\",IFERROR(VLOOKUP(I76,'Fixture Schedule'!$C$9:$G$58,5,0),L76))))","v":""},{"$f":"IFERROR(INDEX('Utility Admin'!$F$3:$AW$3,1,MATCH(1,(CC$8='Utility Admin'!$F$1:$AW$1)*(Inventory!$AH76='Utility Admin'!$F$2:$AW$2)*(Inventory!$BZ76=('Utility Admin'!$F$4:$AW$4)),0)),0)","v":0},{"$f":"IFERROR(INDEX('Utility Admin'!$F$3:$AW$3,1,MATCH(1,(CD$8='Utility Admin'!$F$1:$AW$1)*(Inventory!$AH76='Utility Admin'!$F$2:$AW$2)*(Inventory!$BZ76=('Utility Admin'!$F$4:$AW$4)),0)),0)","v":0},{"$f":"IFERROR(INDEX('Utility Admin'!$F$3:$AW$3,1,MATCH(1,(CC$8='Utility Admin'!$F$1:$AW$1)*(Inventory!$AH76='Utility Admin'!$F$2:$AW$2)*(\"Lighting Controls\"=('Utility Admin'!$F$4:$AW$4)),0)),0)","v":0},{"$f":"IFERROR(INDEX('Utility Admin'!$F$3:$AW$3,1,MATCH(1,(CD$8='Utility Admin'!$F$1:$AW$1)*(Inventory!$AH76='Utility Admin'!$F$2:$AW$2)*(\"Lighting Controls\"=('Utility Admin'!$F$4:$AW$4)),0)),0)","v":0},false]
[null,69,null,null,null,null,null,null,null,null,null,null,null,{"$f":"IF(OR(I77=\"\",J77=\"\",AND(ProjectType=\"Retrofit\",OR(E77=\"\",F77=\"\"))),\"-\",IF(OR(CB77=0,CB77=\"Not Qualified\"),\"N\",IFERROR(INDEX('Fixture Descriptions'!K:K,MATCH(AD77,'Fixture Descriptions'!A:A,0)),\"N\")))","v":"-"},0,0,0,0,0,0,0,0,0,{"$f":"ROUND(IFERROR(IF($AE$7,BJ77*MaxIncentive,Inventory!Z77),0),2)","v":0},0,0,0,0,0,{"$f":"IF(I77=\"\",\"\",IFERROR(VLOOKUP(I77,'Fixture Schedule'!$C$9:$D$58,2,0),I77))","v":""},{"$f":"10","v":10},{"$f":"IFERROR(VLOOKUP(IF(I77=\"REMOVED\",E77,AD77),'Fixture Descriptions'!A:J,10,FALSE),0)","v":0},{"$f":"IFERROR(INDEX('Buildings and Areas'!D$5:D$14,MATCH($C77,'Buildings and Areas'!$B$5:$B$14,0),1),\"\")","v":""},{"$f":"IFERROR(INDEX('Buildings and Areas'!C$5:C$14,MATCH($C77,'Buildings and Areas'!$B$5:$B$14,0),1),\"\")","v":""},{"$f":"IFERROR(INDEX('Buildings and Areas'!R$5:R$14,MATCH($C77,'Buildings and Areas'!$B$5:$B$14,0),1),0)","v":0},{"$f":"IFERROR(INDEX('Buildings and Areas'!S$5:S$14,MATCH($C77,'Buildings and Areas'!$B$5:$B$14,0),1),0)","v":0},{"$f":"IFERROR(INDEX('Buildings and Areas'!T$5:T$14,MATCH($C77,'Buildings and Areas'!$B$5:$B$14,0),1),0)","v":0},{"$f":"IFERROR(INDEX('Buildings and Areas'!O$5:O$14,MATCH($C77,'Buildings and Areas'!$B$5:$B$14,0),1),\"\")","v":""},{"$f":"IFERROR(INDEX('Buildings and Areas'!F$5:F$14,MATCH($C77,'Buildings and Areas'!$B$5:$B$14,0),1)&IF(AH77=\"Exterior\",\": \"&'Buildings and Areas'!$H$4,\"\"),\"\")","v":""},{"$f":"IFERROR(INDEX('Buildings and Areas'!H$5:H$14,MATCH($C77,'Buildings and Areas'!$B$5:$B$14,0),1),\"\")","v":""},{"$f":"IFERROR(IF(INDEX('Buildings and Areas'!L$5:L$14,MATCH($C77,'Buildings and Areas'!$B$5:$B$14,0),1)=\"\",\"Deemed\",INDEX('Buildings and Areas'!L$5:L$14,MATCH($C77,'Buildings and Areas'!$B$5:$B$14,0),1)),\"\")","v":""},{"$f":"IFERROR(IF(INDEX('Buildings and Areas'!M$5:M$14,MATCH($C77,'Buildings and Areas'!$B$5:$B$14,0),1)=\"\",\"Deemed\",INDEX('Buildings and Areas'!M$5:M$14,MATCH($C77,'Buildings and Areas'!$B$5:$B$14,0),1)),\"\")","v":""},{"$f":"IFERROR(INDEX('Buildings and Areas'!P$5:P$14,MATCH($C77,'Buildings and Areas'!$B$5:$B$14,0),1),0)","v":0},{"$f":"IFERROR(INDEX('Buildings and Areas'!Q$5:Q$14,MATCH($C77,'Buildings and Areas'!$B$5:$B$14,0),1),0)","v":0},{"$f":"IF(OR($AG77=\"\",$E77=\"\",$F77=\"\"),0,IF($F$124>0.1,(VLOOKUP($E77,'Fixture Descriptions'!$A:$I,8,0)/1000)*(1-$G$124),(VLOOKUP($E77,'Fixture Descriptions'!$A:$I,8,0)/1000)))","v":0},0,0,0,0,{"$f":"IFERROR(IF(OR('Buildings and Areas'!$D$2=\"New Construction\",$AG77=\"\",$H77=\"\",AH77=\"Exterior\"),1,INDEX('Factor Tables'!C$46:C$51,MATCH(Inventory!$H77,'Factor Tables'!$B$46:$B$51,0))),1)","v":1},{"$f":"IF(OR('Buildings and Areas'!$D$2=\"New Construction\",$AG77=\"\",$H77=\"\",AH77=\"Exterior\"),1,INDEX('Factor Tables'!D$46:D$51,MATCH(Inventory!$H77,'Factor Tables'!$B$46:$B$51,0)))","v":1},{"$f":"IF(I77=\"REMOVED\",0,IF($AD77<>\"\",VLOOKUP($AD77,'Fixture Descriptions'!$A:$I,8,0)/1000,0))","v":0},0,0,0,0,0,0,0,{"$f":"IFERROR(IF(OR($AG77=\"\",$K77=\"\",AH77=\"Exterior\"),1,INDEX('Factor Tables'!C$46:C$51,MATCH(Inventory!$K77,'Factor Tables'!$B$46:$B$51,0))),1)","v":1},{"$f":"IFERROR(IF(OR($AG77=\"\",$K77=\"\",AH77=\"Exterior\"),1,INDEX('Factor Tables'!D$46:D$51,MATCH(Inventory!$K77,'Factor Tables'!$B$46:$B$51,0))),1)","v":1},0,0,0,0,0,0,0,0,0,0,0,0,0,0,0,0,{"$f":"IFERROR(VLOOKUP(IF($AD77=\"Removed\",E77,$AD77),'Fixture Descriptions'!$A:$I,9,0),\"\")","v":0},{"$f":"IF($AD77=\"\",\"\",VLOOKUP($AD77,'Fixture Descriptions'!$A:$I,2,0))","v":""},{"$f":"IF(I77=\"\",\"\",IF(I77=\"Removed\",\"N/A\",IF(IFERROR(VLOOKUP(I77,'Fixture Schedule'!$C$9:$G$58,5,0),L77)=\"\",\"Not Qualified\",IFERROR(VLOOKUP(I77,'Fixture Schedule'!$C$9:$G$58,5,0),L77))))","v":""},{"$f":"IFERROR(INDEX('Utility Admin'!$F$3:$AW$3,1,MATCH(1,(CC$8='Utility Admin'!$F$1:$AW$1)*(Inventory!$AH77='Utility Admin'!$F$2:$AW$2)*(Inventory!$BZ77=('Utility Admin'!$F$4:$AW$4)),0)),0)","v":0},{"$f":"IFERROR(INDEX('Utility Admin'!$F$3:$AW$3,1,MATCH(1,(CD$8='Utility Admin'!$F$1:$AW$1)*(Inventory!$AH77='Utility Admin'!$F$2:$AW$2)*(Inventory!$BZ77=('Utility Admin'!$F$4:$AW$4)),0)),0)","v":0},{"$f":"IFERROR(INDEX('Utility Admin'!$F$3:$AW$3,1,MATCH(1,(CC$8='Utility Admin'!$F$1:$AW$1)*(Inventory!$AH77='Utility Admin'!$F$2:$AW$2)*(\"Lighting Controls\"=('Utility Admin'!$F$4:$AW$4)),0)),0)","v":0},{"$f":"IFERROR(INDEX('Utility Admin'!$F$3:$AW$3,1,MATCH(1,(CD$8='Utility Admin'!$F$1:$AW$1)*(Inventory!$AH77='Utility Admin'!$F$2:$AW$2)*(\"Lighting Controls\"=('Utility Admin'!$F$4:$AW$4)),0)),0)","v":0},false]
[null,70,null,null,null,null,null,null,null,null,null,null,null,{"$f":"IF(OR(I78=\"\",J78=\"\",AND(ProjectType=\"Retrofit\",OR(E78=\"\",F78=\"\"))),\"-\",IF(OR(CB78=0,CB78=\"Not Qualified\"),\"N\",IFERROR(INDEX('Fixture Descriptions'!K:K,MATCH(AD78,'Fixture Descriptions'!A:A,0)),\"N\")))","v":"-"},0,0,0,0,0,0,0,0,0,{"$f":"ROUND(IFERROR(IF($AE$7,BJ78*MaxIncentive,Inventory!Z78),0),2)","v":0},0,0,0,0,0,{"$f":"IF(I78=\"\",\"\",IFERROR(VLOOKUP(I78,'Fixture Schedule'!$C$9:$D$58,2,0),I78))","v":""},{"$f":"10","v":10},{"$f":"IFERROR(VLOOKUP(IF(I78=\"REMOVED\",E78,AD78),'Fixture Descriptions'!A:J,10,FALSE),0)","v":0},{"$f":"IFERROR(INDEX('Buildings and Areas'!D$5:D$14,MATCH($C78,'Buildings and Areas'!$B$5:$B$14,0),1),\"\")","v":""},{"$f":"IFERROR(INDEX('Buildings and Areas'!C$5:C$14,MATCH($C78,'Buildings and Areas'!$B$5:$B$14,0),1),\"\")","v":""},{"$f":"IFERROR(INDEX('Buildings and Areas'!R$5:R$14,MATCH($C78,'Buildings and Areas'!$B$5:$B$14,0),1),0)","v":0},{"$f":"IFERROR(INDEX('Buildings and Areas'!S$5:S$14,MATCH($C78,'Buildings and Areas'!$B$5:$B$14,0),1),0)","v":0},{"$f":"IFERROR(INDEX('Buildings and Areas'!T$5:T$14,MATCH($C78,'Buildings and Areas'!$B$5:$B$14,0),1),0)","v":0},{"$f":"IFERROR(INDEX('Buildings and Areas'!O$5:O$14,MATCH($C78,'Buildings and Areas'!$B$5:$B$14,0),1),\"\")","v":""},{"$f":"IFERROR(INDEX('Buildings and Areas'!F$5:F$14,MATCH($C78,'Buildings and Areas'!$B$5:$B$14,0),1)&IF(AH78=\"Exterior\",\": \"&'Buildings and Areas'!$H$4,\"\"),\"\")","v":""},{"$f":"IFERROR(INDEX('Buildings and Areas'!H$5:H$14,MATCH($C78,'Buildings and Areas'!$B$5:$B$14,0),1),\"\")","v":""},{"$f":"IFERROR(IF(INDEX('Buildings and Areas'!L$5:L$14,MATCH($C78,'Buildings and Areas'!$B$5:$B$14,0),1)=\"\",\"Deemed\",INDEX('Buildings and Areas'!L$5:L$14,MATCH($C78,'Buildings and Areas'!$B$5:$B$14,0),1)),\"\")","v":""},{"$f":"IFERROR(IF(INDEX('Buildings and Areas'!M$5:M$14,MATCH($C78,'Buildings and Areas'!$B$5:$B$14,0),1)=\"\",\"Deemed\",INDEX('Buildings and Areas'!M$5:M$14,MATCH($C78,'Buildings and Areas'!$B$5:$B$14,0),1)),\"\")","v":""},{"$f":"IFERROR(INDEX('Buildings and Areas'!P$5:P$14,MATCH($C78,'Buildings and Areas'!$B$5:$B$14,0),1),0)","v":0},{"$f":"IFERROR(INDEX('Buildings and Areas'!Q$5:Q$14,MATCH($C78,'Buildings and Areas'!$B$5:$B$14,0),1),0)","v":0},{"$f":"IF(OR($AG78=\"\",$E78=\"\",$F78=\"\"),0,IF($F$124>0.1,(VLOOKUP($E78,'Fixture Descriptions'!$A:$I,8,0)/1000)*(1-$G$124),(VLOOKUP($E78,'Fixture Descriptions'!$A:$I,8,0)/1000)))","v":0},0,0,0,0,{"$f":"IFERROR(IF(OR('Buildings and Areas'!$D$2=\"New Construction\",$AG78=\"\",$H78=\"\",AH78=\"Exterior\"),1,INDEX('Factor Tables'!C$46:C$51,MATCH(Inventory!$H78,'Factor Tables'!$B$46:$B$51,0))),1)","v":1},{"$f":"IF(OR('Buildings and Areas'!$D$2=\"New Construction\",$AG78=\"\",$H78=\"\",AH78=\"Exterior\"),1,INDEX('Factor Tables'!D$46:D$51,MATCH(Inventory!$H78,'Factor Tables'!$B$46:$B$51,0)))","v":1},{"$f":"IF(I78=\"REMOVED\",0,IF($AD78<>\"\",VLOOKUP($AD78,'Fixture Descriptions'!$A:$I,8,0)/1000,0))","v":0},0,0,0,0,0,0,0,{"$f":"IFERROR(IF(OR($AG78=\"\",$K78=\"\",AH78=\"Exterior\"),1,INDEX('Factor Tables'!C$46:C$51,MATCH(Inventory!$K78,'Factor Tables'!$B$46:$B$51,0))),1)","v":1},{"$f":"IFERROR(IF(OR($AG78=\"\",$K78=\"\",AH78=\"Exterior\"),1,INDEX('Factor Tables'!D$46:D$51,MATCH(Inventory!$K78,'Factor Tables'!$B$46:$B$51,0))),1)","v":1},0,0,0,0,0,0,0,0,0,0,0,0,0,0,0,0,{"$f":"IFERROR(VLOOKUP(IF($AD78=\"Removed\",E78,$AD78),'Fixture Descriptions'!$A:$I,9,0),\"\")","v":0},{"$f":"IF($AD78=\"\",\"\",VLOOKUP($AD78,'Fixture Descriptions'!$A:$I,2,0))","v":""},{"$f":"IF(I78=\"\",\"\",IF(I78=\"Removed\",\"N/A\",IF(IFERROR(VLOOKUP(I78,'Fixture Schedule'!$C$9:$G$58,5,0),L78)=\"\",\"Not Qualified\",IFERROR(VLOOKUP(I78,'Fixture Schedule'!$C$9:$G$58,5,0),L78))))","v":""},{"$f":"IFERROR(INDEX('Utility Admin'!$F$3:$AW$3,1,MATCH(1,(CC$8='Utility Admin'!$F$1:$AW$1)*(Inventory!$AH78='Utility Admin'!$F$2:$AW$2)*(Inventory!$BZ78=('Utility Admin'!$F$4:$AW$4)),0)),0)","v":0},{"$f":"IFERROR(INDEX('Utility Admin'!$F$3:$AW$3,1,MATCH(1,(CD$8='Utility Admin'!$F$1:$AW$1)*(Inventory!$AH78='Utility Admin'!$F$2:$AW$2)*(Inventory!$BZ78=('Utility Admin'!$F$4:$AW$4)),0)),0)","v":0},{"$f":"IFERROR(INDEX('Utility Admin'!$F$3:$AW$3,1,MATCH(1,(CC$8='Utility Admin'!$F$1:$AW$1)*(Inventory!$AH78='Utility Admin'!$F$2:$AW$2)*(\"Lighting Controls\"=('Utility Admin'!$F$4:$AW$4)),0)),0)","v":0},{"$f":"IFERROR(INDEX('Utility Admin'!$F$3:$AW$3,1,MATCH(1,(CD$8='Utility Admin'!$F$1:$AW$1)*(Inventory!$AH78='Utility Admin'!$F$2:$AW$2)*(\"Lighting Controls\"=('Utility Admin'!$F$4:$AW$4)),0)),0)","v":0},false]
[null,71,null,null,null,null,null,null,null,null,null,null,null,{"$f":"IF(OR(I79=\"\",J79=\"\",AND(ProjectType=\"Retrofit\",OR(E79=\"\",F79=\"\"))),\"-\",IF(OR(CB79=0,CB79=\"Not Qualified\"),\"N\",IFERROR(INDEX('Fixture Descriptions'!K:K,MATCH(AD79,'Fixture Descriptions'!A:A,0)),\"N\")))","v":"-"},0,0,0,0,0,0,0,0,0,{"$f":"ROUND(IFERROR(IF($AE$7,BJ79*MaxIncentive,Inventory!Z79),0),2)","v":0},0,0,0,0,0,{"$f":"IF(I79=\"\",\"\",IFERROR(VLOOKUP(I79,'Fixture Schedule'!$C$9:$D$58,2,0),I79))","v":""},{"$f":"10","v":10},{"$f":"IFERROR(VLOOKUP(IF(I79=\"REMOVED\",E79,AD79),'Fixture Descriptions'!A:J,10,FALSE),0)","v":0},{"$f":"IFERROR(INDEX('Buildings and Areas'!D$5:D$14,MATCH($C79,'Buildings and Areas'!$B$5:$B$14,0),1),\"\")","v":""},{"$f":"IFERROR(INDEX('Buildings and Areas'!C$5:C$14,MATCH($C79,'Buildings and Areas'!$B$5:$B$14,0),1),\"\")","v":""},{"$f":"IFERROR(INDEX('Buildings and Areas'!R$5:R$14,MATCH($C79,'Buildings and Areas'!$B$5:$B$14,0),1),0)","v":0},{"$f":"IFERROR(INDEX('Buildings and Areas'!S$5:S$14,MATCH($C79,'Buildings and Areas'!$B$5:$B$14,0),1),0)","v":0},{"$f":"IFERROR(INDEX('Buildings and Areas'!T$5:T$14,MATCH($C79,'Buildings and Areas'!$B$5:$B$14,0),1),0)","v":0},{"$f":"IFERROR(INDEX('Buildings and Areas'!O$5:O$14,MATCH($C79,'Buildings and Areas'!$B$5:$B$14,0),1),\"\")","v":""},{"$f":"IFERROR(INDEX('Buildings and Areas'!F$5:F$14,MATCH($C79,'Buildings and Areas'!$B$5:$B$14,0),1)&IF(AH79=\"Exterior\",\": \"&'Buildings and Areas'!$H$4,\"\"),\"\")","v":""},{"$f":"IFERROR(INDEX('Buildings and Areas'!H$5:H$14,MATCH($C79,'Buildings and Areas'!$B$5:$B$14,0),1),\"\")","v":""},{"$f":"IFERROR(IF(INDEX('Buildings and Areas'!L$5:L$14,MATCH($C79,'Buildings and Areas'!$B$5:$B$14,0),1)=\"\",\"Deemed\",INDEX('Buildings and Areas'!L$5:L$14,MATCH($C79,'Buildings and Areas'!$B$5:$B$14,0),1)),\"\")","v":""},{"$f":"IFERROR(IF(INDEX('Buildings and Areas'!M$5:M$14,MATCH($C79,'Buildings and Areas'!$B$5:$B$14,0),1)=\"\",\"Deemed\",INDEX('Buildings and Areas'!M$5:M$14,MATCH($C79,'Buildings and Areas'!$B$5:$B$14,0),1)),\"\")","v":""},{"$f":"IFERROR(INDEX('Buildings and Areas'!P$5:P$14,MATCH($C79,'Buildings and Areas'!$B$5:$B$14,0),1),0)","v":0},{"$f":"IFERROR(INDEX('Buildings and Areas'!Q$5:Q$14,MATCH($C79,'Buildings and Areas'!$B$5:$B$14,0),1),0)","v":0},{"$f":"IF(OR($AG79=\"\",$E79=\"\",$F79=\"\"),0,IF($F$124>0.1,(VLOOKUP($E79,'Fixture Descriptions'!$A:$I,8,0)/1000)*(1-$G$124),(VLOOKUP($E79,'Fixture Descriptions'!$A:$I,8,0)/1000)))","v":0},0,0,0,0,{"$f":"IFERROR(IF(OR('Buildings and Areas'!$D$2=\"New Construction\",$AG79=\"\",$H79=\"\",AH79=\"Exterior\"),1,INDEX('Factor Tables'!C$46:C$51,MATCH(Inventory!$H79,'Factor Tables'!$B$46:$B$51,0))),1)","v":1},{"$f":"IF(OR('Buildings and Areas'!$D$2=\"New Construction\",$AG79=\"\",$H79=\"\",AH79=\"Exterior\"),1,INDEX('Factor Tables'!D$46:D$51,MATCH(Inventory!$H79,'Factor Tables'!$B$46:$B$51,0)))","v":1},{"$f":"IF(I79=\"REMOVED\",0,IF($AD79<>\"\",VLOOKUP($AD79,'Fixture Descriptions'!$A:$I,8,0)/1000,0))","v":0},0,0,0,0,0,0,0,{"$f":"IFERROR(IF(OR($AG79=\"\",$K79=\"\",AH79=\"Exterior\"),1,INDEX('Factor Tables'!C$46:C$51,MATCH(Inventory!$K79,'Factor Tables'!$B$46:$B$51,0))),1)","v":1},{"$f":"IFERROR(IF(OR($AG79=\"\",$K79=\"\",AH79=\"Exterior\"),1,INDEX('Factor Tables'!D$46:D$51,MATCH(Inventory!$K79,'Factor Tables'!$B$46:$B$51,0))),1)","v":1},0,0,0,0,0,0,0,0,0,0,0,0,0,0,0,0,{"$f":"IFERROR(VLOOKUP(IF($AD79=\"Removed\",E79,$AD79),'Fixture Descriptions'!$A:$I,9,0),\"\")","v":0},{"$f":"IF($AD79=\"\",\"\",VLOOKUP($AD79,'Fixture Descriptions'!$A:$I,2,0))","v":""},{"$f":"IF(I79=\"\",\"\",IF(I79=\"Removed\",\"N/A\",IF(IFERROR(VLOOKUP(I79,'Fixture Schedule'!$C$9:$G$58,5,0),L79)=\"\",\"Not Qualified\",IFERROR(VLOOKUP(I79,'Fixture Schedule'!$C$9:$G$58,5,0),L79))))","v":""},{"$f":"IFERROR(INDEX('Utility Admin'!$F$3:$AW$3,1,MATCH(1,(CC$8='Utility Admin'!$F$1:$AW$1)*(Inventory!$AH79='Utility Admin'!$F$2:$AW$2)*(Inventory!$BZ79=('Utility Admin'!$F$4:$AW$4)),0)),0)","v":0},{"$f":"IFERROR(INDEX('Utility Admin'!$F$3:$AW$3,1,MATCH(1,(CD$8='Utility Admin'!$F$1:$AW$1)*(Inventory!$AH79='Utility Admin'!$F$2:$AW$2)*(Inventory!$BZ79=('Utility Admin'!$F$4:$AW$4)),0)),0)","v":0},{"$f":"IFERROR(INDEX('Utility Admin'!$F$3:$AW$3,1,MATCH(1,(CC$8='Utility Admin'!$F$1:$AW$1)*(Inventory!$AH79='Utility Admin'!$F$2:$AW$2)*(\"Lighting Controls\"=('Utility Admin'!$F$4:$AW$4)),0)),0)","v":0},{"$f":"IFERROR(INDEX('Utility Admin'!$F$3:$AW$3,1,MATCH(1,(CD$8='Utility Admin'!$F$1:$AW$1)*(Inventory!$AH79='Utility Admin'!$F$2:$AW$2)*(\"Lighting Controls\"=('Utility Admin'!$F$4:$AW$4)),0)),0)","v":0},false]
[null,72,null,null,null,null,null,null,null,null,null,null,null,{"$f":"IF(OR(I80=\"\",J80=\"\",AND(ProjectType=\"Retrofit\",OR(E80=\"\",F80=\"\"))),\"-\",IF(OR(CB80=0,CB80=\"Not Qualified\"),\"N\",IFERROR(INDEX('Fixture Descriptions'!K:K,MATCH(AD80,'Fixture Descriptions'!A:A,0)),\"N\")))","v":"-"},0,0,0,0,0,0,0,0,0,{"$f":"ROUND(IFERROR(IF($AE$7,BJ80*MaxIncentive,Inventory!Z80),0),2)","v":0},0,0,0,0,0,{"$f":"IF(I80=\"\",\"\",IFERROR(VLOOKUP(I80,'Fixture Schedule'!$C$9:$D$58,2,0),I80))","v":""},{"$f":"10","v":10},{"$f":"IFERROR(VLOOKUP(IF(I80=\"REMOVED\",E80,AD80),'Fixture Descriptions'!A:J,10,FALSE),0)","v":0},{"$f":"IFERROR(INDEX('Buildings and Areas'!D$5:D$14,MATCH($C80,'Buildings and Areas'!$B$5:$B$14,0),1),\"\")","v":""},{"$f":"IFERROR(INDEX('Buildings and Areas'!C$5:C$14,MATCH($C80,'Buildings and Areas'!$B$5:$B$14,0),1),\"\")","v":""},{"$f":"IFERROR(INDEX('Buildings and Areas'!R$5:R$14,MATCH($C80,'Buildings and Areas'!$B$5:$B$14,0),1),0)","v":0},{"$f":"IFERROR(INDEX('Buildings and Areas'!S$5:S$14,MATCH($C80,'Buildings and Areas'!$B$5:$B$14,0),1),0)","v":0},{"$f":"IFERROR(INDEX('Buildings and Areas'!T$5:T$14,MATCH($C80,'Buildings and Areas'!$B$5:$B$14,0),1),0)","v":0},{"$f":"IFERROR(INDEX('Buildings and Areas'!O$5:O$14,MATCH($C80,'Buildings and Areas'!$B$5:$B$14,0),1),\"\")","v":""},{"$f":"IFERROR(INDEX('Buildings and Areas'!F$5:F$14,MATCH($C80,'Buildings and Areas'!$B$5:$B$14,0),1)&IF(AH80=\"Exterior\",\": \"&'Buildings and Areas'!$H$4,\"\"),\"\")","v":""},{"$f":"IFERROR(INDEX('Buildings and Areas'!H$5:H$14,MATCH($C80,'Buildings and Areas'!$B$5:$B$14,0),1),\"\")","v":""},{"$f":"IFERROR(IF(INDEX('Buildings and Areas'!L$5:L$14,MATCH($C80,'Buildings and Areas'!$B$5:$B$14,0),1)=\"\",\"Deemed\",INDEX('Buildings and Areas'!L$5:L$14,MATCH($C80,'Buildings and Areas'!$B$5:$B$14,0),1)),\"\")","v":""},{"$f":"IFERROR(IF(INDEX('Buildings and Areas'!M$5:M$14,MATCH($C80,'Buildings and Areas'!$B$5:$B$14,0),1)=\"\",\"Deemed\",INDEX('Buildings and Areas'!M$5:M$14,MATCH($C80,'Buildings and Areas'!$B$5:$B$14,0),1)),\"\")","v":""},{"$f":"IFERROR(INDEX('Buildings and Areas'!P$5:P$14,MATCH($C80,'Buildings and Areas'!$B$5:$B$14,0),1),0)","v":0},{"$f":"IFERROR(INDEX('Buildings and Areas'!Q$5:Q$14,MATCH($C80,'Buildings and Areas'!$B$5:$B$14,0),1),0)","v":0},{"$f":"IF(OR($AG80=\"\",$E80=\"\",$F80=\"\"),0,IF($F$124>0.1,(VLOOKUP($E80,'Fixture Descriptions'!$A:$I,8,0)/1000)*(1-$G$124),(VLOOKUP($E80,'Fixture Descriptions'!$A:$I,8,0)/1000)))","v":0},0,0,0,0,{"$f":"IFERROR(IF(OR('Buildings and Areas'!$D$2=\"New Construction\",$AG80=\"\",$H80=\"\",AH80=\"Exterior\"),1,INDEX('Factor Tables'!C$46:C$51,MATCH(Inventory!$H80,'Factor Tables'!$B$46:$B$51,0))),1)","v":1},{"$f":"IF(OR('Buildings and Areas'!$D$2=\"New Construction\",$AG80=\"\",$H80=\"\",AH80=\"Exterior\"),1,INDEX('Factor Tables'!D$46:D$51,MATCH(Inventory!$H80,'Factor Tables'!$B$46:$B$51,0)))","v":1},{"$f":"IF(I80=\"REMOVED\",0,IF($AD80<>\"\",VLOOKUP($AD80,'Fixture Descriptions'!$A:$I,8,0)/1000,0))","v":0},0,0,0,0,0,0,0,{"$f":"IFERROR(IF(OR($AG80=\"\",$K80=\"\",AH80=\"Exterior\"),1,INDEX('Factor Tables'!C$46:C$51,MATCH(Inventory!$K80,'Factor Tables'!$B$46:$B$51,0))),1)","v":1},{"$f":"IFERROR(IF(OR($AG80=\"\",$K80=\"\",AH80=\"Exterior\"),1,INDEX('Factor Tables'!D$46:D$51,MATCH(Inventory!$K80,'Factor Tables'!$B$46:$B$51,0))),1)","v":1},0,0,0,0,0,0,0,0,0,0,0,0,0,0,0,0,{"$f":"IFERROR(VLOOKUP(IF($AD80=\"Removed\",E80,$AD80),'Fixture Descriptions'!$A:$I,9,0),\"\")","v":0},{"$f":"IF($AD80=\"\",\"\",VLOOKUP($AD80,'Fixture Descriptions'!$A:$I,2,0))","v":""},{"$f":"IF(I80=\"\",\"\",IF(I80=\"Removed\",\"N/A\",IF(IFERROR(VLOOKUP(I80,'Fixture Schedule'!$C$9:$G$58,5,0),L80)=\"\",\"Not Qualified\",IFERROR(VLOOKUP(I80,'Fixture Schedule'!$C$9:$G$58,5,0),L80))))","v":""},{"$f":"IFERROR(INDEX('Utility Admin'!$F$3:$AW$3,1,MATCH(1,(CC$8='Utility Admin'!$F$1:$AW$1)*(Inventory!$AH80='Utility Admin'!$F$2:$AW$2)*(Inventory!$BZ80=('Utility Admin'!$F$4:$AW$4)),0)),0)","v":0},{"$f":"IFERROR(INDEX('Utility Admin'!$F$3:$AW$3,1,MATCH(1,(CD$8='Utility Admin'!$F$1:$AW$1)*(Inventory!$AH80='Utility Admin'!$F$2:$AW$2)*(Inventory!$BZ80=('Utility Admin'!$F$4:$AW$4)),0)),0)","v":0},{"$f":"IFERROR(INDEX('Utility Admin'!$F$3:$AW$3,1,MATCH(1,(CC$8='Utility Admin'!$F$1:$AW$1)*(Inventory!$AH80='Utility Admin'!$F$2:$AW$2)*(\"Lighting Controls\"=('Utility Admin'!$F$4:$AW$4)),0)),0)","v":0},{"$f":"IFERROR(INDEX('Utility Admin'!$F$3:$AW$3,1,MATCH(1,(CD$8='Utility Admin'!$F$1:$AW$1)*(Inventory!$AH80='Utility Admin'!$F$2:$AW$2)*(\"Lighting Controls\"=('Utility Admin'!$F$4:$AW$4)),0)),0)","v":0},false]
[null,73,null,null,null,null,null,null,null,null,null,null,null,{"$f":"IF(OR(I81=\"\",J81=\"\",AND(ProjectType=\"Retrofit\",OR(E81=\"\",F81=\"\"))),\"-\",IF(OR(CB81=0,CB81=\"Not Qualified\"),\"N\",IFERROR(INDEX('Fixture Descriptions'!K:K,MATCH(AD81,'Fixture Descriptions'!A:A,0)),\"N\")))","v":"-"},0,0,0,0,0,0,0,0,0,{"$f":"ROUND(IFERROR(IF($AE$7,BJ81*MaxIncentive,Inventory!Z81),0),2)","v":0},0,0,0,0,0,{"$f":"IF(I81=\"\",\"\",IFERROR(VLOOKUP(I81,'Fixture Schedule'!$C$9:$D$58,2,0),I81))","v":""},{"$f":"10","v":10},{"$f":"IFERROR(VLOOKUP(IF(I81=\"REMOVED\",E81,AD81),'Fixture Descriptions'!A:J,10,FALSE),0)","v":0},{"$f":"IFERROR(INDEX('Buildings and Areas'!D$5:D$14,MATCH($C81,'Buildings and Areas'!$B$5:$B$14,0),1),\"\")","v":""},{"$f":"IFERROR(INDEX('Buildings and Areas'!C$5:C$14,MATCH($C81,'Buildings and Areas'!$B$5:$B$14,0),1),\"\")","v":""},{"$f":"IFERROR(INDEX('Buildings and Areas'!R$5:R$14,MATCH($C81,'Buildings and Areas'!$B$5:$B$14,0),1),0)","v":0},{"$f":"IFERROR(INDEX('Buildings and Areas'!S$5:S$14,MATCH($C81,'Buildings and Areas'!$B$5:$B$14,0),1),0)","v":0},{"$f":"IFERROR(INDEX('Buildings and Areas'!T$5:T$14,MATCH($C81,'Buildings and Areas'!$B$5:$B$14,0),1),0)","v":0},{"$f":"IFERROR(INDEX('Buildings and Areas'!O$5:O$14,MATCH($C81,'Buildings and Areas'!$B$5:$B$14,0),1),\"\")","v":""},{"$f":"IFERROR(INDEX('Buildings and Areas'!F$5:F$14,MATCH($C81,'Buildings and Areas'!$B$5:$B$14,0),1)&IF(AH81=\"Exterior\",\": \"&'Buildings and Areas'!$H$4,\"\"),\"\")","v":""},{"$f":"IFERROR(INDEX('Buildings and Areas'!H$5:H$14,MATCH($C81,'Buildings and Areas'!$B$5:$B$14,0),1),\"\")","v":""},{"$f":"IFERROR(IF(INDEX('Buildings and Areas'!L$5:L$14,MATCH($C81,'Buildings and Areas'!$B$5:$B$14,0),1)=\"\",\"Deemed\",INDEX('Buildings and Areas'!L$5:L$14,MATCH($C81,'Buildings and Areas'!$B$5:$B$14,0),1)),\"\")","v":""},{"$f":"IFERROR(IF(INDEX('Buildings and Areas'!M$5:M$14,MATCH($C81,'Buildings and Areas'!$B$5:$B$14,0),1)=\"\",\"Deemed\",INDEX('Buildings and Areas'!M$5:M$14,MATCH($C81,'Buildings and Areas'!$B$5:$B$14,0),1)),\"\")","v":""},{"$f":"IFERROR(INDEX('Buildings and Areas'!P$5:P$14,MATCH($C81,'Buildings and Areas'!$B$5:$B$14,0),1),0)","v":0},{"$f":"IFERROR(INDEX('Buildings and Areas'!Q$5:Q$14,MATCH($C81,'Buildings and Areas'!$B$5:$B$14,0),1),0)","v":0},{"$f":"IF(OR($AG81=\"\",$E81=\"\",$F81=\"\"),0,IF($F$124>0.1,(VLOOKUP($E81,'Fixture Descriptions'!$A:$I,8,0)/1000)*(1-$G$124),(VLOOKUP($E81,'Fixture Descriptions'!$A:$I,8,0)/1000)))","v":0},0,0,0,0,{"$f":"IFERROR(IF(OR('Buildings and Areas'!$D$2=\"New Construction\",$AG81=\"\",$H81=\"\",AH81=\"Exterior\"),1,INDEX('Factor Tables'!C$46:C$51,MATCH(Inventory!$H81,'Factor Tables'!$B$46:$B$51,0))),1)","v":1},{"$f":"IF(OR('Buildings and Areas'!$D$2=\"New Construction\",$AG81=\"\",$H81=\"\",AH81=\"Exterior\"),1,INDEX('Factor Tables'!D$46:D$51,MATCH(Inventory!$H81,'Factor Tables'!$B$46:$B$51,0)))","v":1},{"$f":"IF(I81=\"REMOVED\",0,IF($AD81<>\"\",VLOOKUP($AD81,'Fixture Descriptions'!$A:$I,8,0)/1000,0))","v":0},0,0,0,0,0,0,0,{"$f":"IFERROR(IF(OR($AG81=\"\",$K81=\"\",AH81=\"Exterior\"),1,INDEX('Factor Tables'!C$46:C$51,MATCH(Inventory!$K81,'Factor Tables'!$B$46:$B$51,0))),1)","v":1},{"$f":"IFERROR(IF(OR($AG81=\"\",$K81=\"\",AH81=\"Exterior\"),1,INDEX('Factor Tables'!D$46:D$51,MATCH(Inventory!$K81,'Factor Tables'!$B$46:$B$51,0))),1)","v":1},0,0,0,0,0,0,0,0,0,0,0,0,0,0,0,0,{"$f":"IFERROR(VLOOKUP(IF($AD81=\"Removed\",E81,$AD81),'Fixture Descriptions'!$A:$I,9,0),\"\")","v":0},{"$f":"IF($AD81=\"\",\"\",VLOOKUP($AD81,'Fixture Descriptions'!$A:$I,2,0))","v":""},{"$f":"IF(I81=\"\",\"\",IF(I81=\"Removed\",\"N/A\",IF(IFERROR(VLOOKUP(I81,'Fixture Schedule'!$C$9:$G$58,5,0),L81)=\"\",\"Not Qualified\",IFERROR(VLOOKUP(I81,'Fixture Schedule'!$C$9:$G$58,5,0),L81))))","v":""},{"$f":"IFERROR(INDEX('Utility Admin'!$F$3:$AW$3,1,MATCH(1,(CC$8='Utility Admin'!$F$1:$AW$1)*(Inventory!$AH81='Utility Admin'!$F$2:$AW$2)*(Inventory!$BZ81=('Utility Admin'!$F$4:$AW$4)),0)),0)","v":0},{"$f":"IFERROR(INDEX('Utility Admin'!$F$3:$AW$3,1,MATCH(1,(CD$8='Utility Admin'!$F$1:$AW$1)*(Inventory!$AH81='Utility Admin'!$F$2:$AW$2)*(Inventory!$BZ81=('Utility Admin'!$F$4:$AW$4)),0)),0)","v":0},{"$f":"IFERROR(INDEX('Utility Admin'!$F$3:$AW$3,1,MATCH(1,(CC$8='Utility Admin'!$F$1:$AW$1)*(Inventory!$AH81='Utility Admin'!$F$2:$AW$2)*(\"Lighting Controls\"=('Utility Admin'!$F$4:$AW$4)),0)),0)","v":0},{"$f":"IFERROR(INDEX('Utility Admin'!$F$3:$AW$3,1,MATCH(1,(CD$8='Utility Admin'!$F$1:$AW$1)*(Inventory!$AH81='Utility Admin'!$F$2:$AW$2)*(\"Lighting Controls\"=('Utility Admin'!$F$4:$AW$4)),0)),0)","v":0},false]
[null,74,null,null,null,null,null,null,null,null,null,null,null,{"$f":"IF(OR(I82=\"\",J82=\"\",AND(ProjectType=\"Retrofit\",OR(E82=\"\",F82=\"\"))),\"-\",IF(OR(CB82=0,CB82=\"Not Qualified\"),\"N\",IFERROR(INDEX('Fixture Descriptions'!K:K,MATCH(AD82,'Fixture Descriptions'!A:A,0)),\"N\")))","v":"-"},0,0,0,0,0,0,0,0,0,{"$f":"ROUND(IFERROR(IF($AE$7,BJ82*MaxIncentive,Inventory!Z82),0),2)","v":0},0,0,0,0,0,{"$f":"IF(I82=\"\",\"\",IFERROR(VLOOKUP(I82,'Fixture Schedule'!$C$9:$D$58,2,0),I82))","v":""},{"$f":"10","v":10},{"$f":"IFERROR(VLOOKUP(IF(I82=\"REMOVED\",E82,AD82),'Fixture Descriptions'!A:J,10,FALSE),0)","v":0},{"$f":"IFERROR(INDEX('Buildings and Areas'!D$5:D$14,MATCH($C82,'Buildings and Areas'!$B$5:$B$14,0),1),\"\")","v":""},{"$f":"IFERROR(INDEX('Buildings and Areas'!C$5:C$14,MATCH($C82,'Buildings and Areas'!$B$5:$B$14,0),1),\"\")","v":""},{"$f":"IFERROR(INDEX('Buildings and Areas'!R$5:R$14,MATCH($C82,'Buildings and Areas'!$B$5:$B$14,0),1),0)","v":0},{"$f":"IFERROR(INDEX('Buildings and Areas'!S$5:S$14,MATCH($C82,'Buildings and Areas'!$B$5:$B$14,0),1),0)","v":0},{"$f":"IFERROR(INDEX('Buildings and Areas'!T$5:T$14,MATCH($C82,'Buildings and Areas'!$B$5:$B$14,0),1),0)","v":0},{"$f":"IFERROR(INDEX('Buildings and Areas'!O$5:O$14,MATCH($C82,'Buildings and Areas'!$B$5:$B$14,0),1),\"\")","v":""},{"$f":"IFERROR(INDEX('Buildings and Areas'!F$5:F$14,MATCH($C82,'Buildings and Areas'!$B$5:$B$14,0),1)&IF(AH82=\"Exterior\",\": \"&'Buildings and Areas'!$H$4,\"\"),\"\")","v":""},{"$f":"IFERROR(INDEX('Buildings and Areas'!H$5:H$14,MATCH($C82,'Buildings and Areas'!$B$5:$B$14,0),1),\"\")","v":""},{"$f":"IFERROR(IF(INDEX('Buildings and Areas'!L$5:L$14,MATCH($C82,'Buildings and Areas'!$B$5:$B$14,0),1)=\"\",\"Deemed\",INDEX('Buildings and Areas'!L$5:L$14,MATCH($C82,'Buildings and Areas'!$B$5:$B$14,0),1)),\"\")","v":""},{"$f":"IFERROR(IF(INDEX('Buildings and Areas'!M$5:M$14,MATCH($C82,'Buildings and Areas'!$B$5:$B$14,0),1)=\"\",\"Deemed\",INDEX('Buildings and Areas'!M$5:M$14,MATCH($C82,'Buildings and Areas'!$B$5:$B$14,0),1)),\"\")","v":""},{"$f":"IFERROR(INDEX('Buildings and Areas'!P$5:P$14,MATCH($C82,'Buildings and Areas'!$B$5:$B$14,0),1),0)","v":0},{"$f":"IFERROR(INDEX('Buildings and Areas'!Q$5:Q$14,MATCH($C82,'Buildings and Areas'!$B$5:$B$14,0),1),0)","v":0},{"$f":"IF(OR($AG82=\"\",$E82=\"\",$F82=\"\"),0,IF($F$124>0.1,(VLOOKUP($E82,'Fixture Descriptions'!$A:$I,8,0)/1000)*(1-$G$124),(VLOOKUP($E82,'Fixture Descriptions'!$A:$I,8,0)/1000)))","v":0},0,0,0,0,{"$f":"IFERROR(IF(OR('Buildings and Areas'!$D$2=\"New Construction\",$AG82=\"\",$H82=\"\",AH82=\"Exterior\"),1,INDEX('Factor Tables'!C$46:C$51,MATCH(Inventory!$H82,'Factor Tables'!$B$46:$B$51,0))),1)","v":1},{"$f":"IF(OR('Buildings and Areas'!$D$2=\"New Construction\",$AG82=\"\",$H82=\"\",AH82=\"Exterior\"),1,INDEX('Factor Tables'!D$46:D$51,MATCH(Inventory!$H82,'Factor Tables'!$B$46:$B$51,0)))","v":1},{"$f":"IF(I82=\"REMOVED\",0,IF($AD82<>\"\",VLOOKUP($AD82,'Fixture Descriptions'!$A:$I,8,0)/1000,0))","v":0},0,0,0,0,0,0,0,{"$f":"IFERROR(IF(OR($AG82=\"\",$K82=\"\",AH82=\"Exterior\"),1,INDEX('Factor Tables'!C$46:C$51,MATCH(Inventory!$K82,'Factor Tables'!$B$46:$B$51,0))),1)","v":1},{"$f":"IFERROR(IF(OR($AG82=\"\",$K82=\"\",AH82=\"Exterior\"),1,INDEX('Factor Tables'!D$46:D$51,MATCH(Inventory!$K82,'Factor Tables'!$B$46:$B$51,0))),1)","v":1},0,0,0,0,0,0,0,0,0,0,0,0,0,0,0,0,{"$f":"IFERROR(VLOOKUP(IF($AD82=\"Removed\",E82,$AD82),'Fixture Descriptions'!$A:$I,9,0),\"\")","v":0},{"$f":"IF($AD82=\"\",\"\",VLOOKUP($AD82,'Fixture Descriptions'!$A:$I,2,0))","v":""},{"$f":"IF(I82=\"\",\"\",IF(I82=\"Removed\",\"N/A\",IF(IFERROR(VLOOKUP(I82,'Fixture Schedule'!$C$9:$G$58,5,0),L82)=\"\",\"Not Qualified\",IFERROR(VLOOKUP(I82,'Fixture Schedule'!$C$9:$G$58,5,0),L82))))","v":""},{"$f":"IFERROR(INDEX('Utility Admin'!$F$3:$AW$3,1,MATCH(1,(CC$8='Utility Admin'!$F$1:$AW$1)*(Inventory!$AH82='Utility Admin'!$F$2:$AW$2)*(Inventory!$BZ82=('Utility Admin'!$F$4:$AW$4)),0)),0)","v":0},{"$f":"IFERROR(INDEX('Utility Admin'!$F$3:$AW$3,1,MATCH(1,(CD$8='Utility Admin'!$F$1:$AW$1)*(Inventory!$AH82='Utility Admin'!$F$2:$AW$2)*(Inventory!$BZ82=('Utility Admin'!$F$4:$AW$4)),0)),0)","v":0},{"$f":"IFERROR(INDEX('Utility Admin'!$F$3:$AW$3,1,MATCH(1,(CC$8='Utility Admin'!$F$1:$AW$1)*(Inventory!$AH82='Utility Admin'!$F$2:$AW$2)*(\"Lighting Controls\"=('Utility Admin'!$F$4:$AW$4)),0)),0)","v":0},{"$f":"IFERROR(INDEX('Utility Admin'!$F$3:$AW$3,1,MATCH(1,(CD$8='Utility Admin'!$F$1:$AW$1)*(Inventory!$AH82='Utility Admin'!$F$2:$AW$2)*(\"Lighting Controls\"=('Utility Admin'!$F$4:$AW$4)),0)),0)","v":0},false]
[null,75,null,null,null,null,null,null,null,null,null,null,null,{"$f":"IF(OR(I83=\"\",J83=\"\",AND(ProjectType=\"Retrofit\",OR(E83=\"\",F83=\"\"))),\"-\",IF(OR(CB83=0,CB83=\"Not Qualified\"),\"N\",IFERROR(INDEX('Fixture Descriptions'!K:K,MATCH(AD83,'Fixture Descriptions'!A:A,0)),\"N\")))","v":"-"},0,0,0,0,0,0,0,0,0,{"$f":"ROUND(IFERROR(IF($AE$7,BJ83*MaxIncentive,Inventory!Z83),0),2)","v":0},0,0,0,0,0,{"$f":"IF(I83=\"\",\"\",IFERROR(VLOOKUP(I83,'Fixture Schedule'!$C$9:$D$58,2,0),I83))","v":""},{"$f":"10","v":10},{"$f":"IFERROR(VLOOKUP(IF(I83=\"REMOVED\",E83,AD83),'Fixture Descriptions'!A:J,10,FALSE),0)","v":0},{"$f":"IFERROR(INDEX('Buildings and Areas'!D$5:D$14,MATCH($C83,'Buildings and Areas'!$B$5:$B$14,0),1),\"\")","v":""},{"$f":"IFERROR(INDEX('Buildings and Areas'!C$5:C$14,MATCH($C83,'Buildings and Areas'!$B$5:$B$14,0),1),\"\")","v":""},{"$f":"IFERROR(INDEX('Buildings and Areas'!R$5:R$14,MATCH($C83,'Buildings and Areas'!$B$5:$B$14,0),1),0)","v":0},{"$f":"IFERROR(INDEX('Buildings and Areas'!S$5:S$14,MATCH($C83,'Buildings and Areas'!$B$5:$B$14,0),1),0)","v":0},{"$f":"IFERROR(INDEX('Buildings and Areas'!T$5:T$14,MATCH($C83,'Buildings and Areas'!$B$5:$B$14,0),1),0)","v":0},{"$f":"IFERROR(INDEX('Buildings and Areas'!O$5:O$14,MATCH($C83,'Buildings and Areas'!$B$5:$B$14,0),1),\"\")","v":""},{"$f":"IFERROR(INDEX('Buildings and Areas'!F$5:F$14,MATCH($C83,'Buildings and Areas'!$B$5:$B$14,0),1)&IF(AH83=\"Exterior\",\": \"&'Buildings and Areas'!$H$4,\"\"),\"\")","v":""},{"$f":"IFERROR(INDEX('Buildings and Areas'!H$5:H$14,MATCH($C83,'Buildings and Areas'!$B$5:$B$14,0),1),\"\")","v":""},{"$f":"IFERROR(IF(INDEX('Buildings and Areas'!L$5:L$14,MATCH($C83,'Buildings and Areas'!$B$5:$B$14,0),1)=\"\",\"Deemed\",INDEX('Buildings and Areas'!L$5:L$14,MATCH($C83,'Buildings and Areas'!$B$5:$B$14,0),1)),\"\")","v":""},{"$f":"IFERROR(IF(INDEX('Buildings and Areas'!M$5:M$14,MATCH($C83,'Buildings and Areas'!$B$5:$B$14,0),1)=\"\",\"Deemed\",INDEX('Buildings and Areas'!M$5:M$14,MATCH($C83,'Buildings and Areas'!$B$5:$B$14,0),1)),\"\")","v":""},{"$f":"IFERROR(INDEX('Buildings and Areas'!P$5:P$14,MATCH($C83,'Buildings and Areas'!$B$5:$B$14,0),1),0)","v":0},{"$f":"IFERROR(INDEX('Buildings and Areas'!Q$5:Q$14,MATCH($C83,'Buildings and Areas'!$B$5:$B$14,0),1),0)","v":0},{"$f":"IF(OR($AG83=\"\",$E83=\"\",$F83=\"\"),0,IF($F$124>0.1,(VLOOKUP($E83,'Fixture Descriptions'!$A:$I,8,0)/1000)*(1-$G$124),(VLOOKUP($E83,'Fixture Descriptions'!$A:$I,8,0)/1000)))","v":0},0,0,0,0,{"$f":"IFERROR(IF(OR('Buildings and Areas'!$D$2=\"New Construction\",$AG83=\"\",$H83=\"\",AH83=\"Exterior\"),1,INDEX('Factor Tables'!C$46:C$51,MATCH(Inventory!$H83,'Factor Tables'!$B$46:$B$51,0))),1)","v":1},{"$f":"IF(OR('Buildings and Areas'!$D$2=\"New Construction\",$AG83=\"\",$H83=\"\",AH83=\"Exterior\"),1,INDEX('Factor Tables'!D$46:D$51,MATCH(Inventory!$H83,'Factor Tables'!$B$46:$B$51,0)))","v":1},{"$f":"IF(I83=\"REMOVED\",0,IF($AD83<>\"\",VLOOKUP($AD83,'Fixture Descriptions'!$A:$I,8,0)/1000,0))","v":0},0,0,0,0,0,0,0,{"$f":"IFERROR(IF(OR($AG83=\"\",$K83=\"\",AH83=\"Exterior\"),1,INDEX('Factor Tables'!C$46:C$51,MATCH(Inventory!$K83,'Factor Tables'!$B$46:$B$51,0))),1)","v":1},{"$f":"IFERROR(IF(OR($AG83=\"\",$K83=\"\",AH83=\"Exterior\"),1,INDEX('Factor Tables'!D$46:D$51,MATCH(Inventory!$K83,'Factor Tables'!$B$46:$B$51,0))),1)","v":1},0,0,0,0,0,0,0,0,0,0,0,0,0,0,0,0,{"$f":"IFERROR(VLOOKUP(IF($AD83=\"Removed\",E83,$AD83),'Fixture Descriptions'!$A:$I,9,0),\"\")","v":0},{"$f":"IF($AD83=\"\",\"\",VLOOKUP($AD83,'Fixture Descriptions'!$A:$I,2,0))","v":""},{"$f":"IF(I83=\"\",\"\",IF(I83=\"Removed\",\"N/A\",IF(IFERROR(VLOOKUP(I83,'Fixture Schedule'!$C$9:$G$58,5,0),L83)=\"\",\"Not Qualified\",IFERROR(VLOOKUP(I83,'Fixture Schedule'!$C$9:$G$58,5,0),L83))))","v":""},{"$f":"IFERROR(INDEX('Utility Admin'!$F$3:$AW$3,1,MATCH(1,(CC$8='Utility Admin'!$F$1:$AW$1)*(Inventory!$AH83='Utility Admin'!$F$2:$AW$2)*(Inventory!$BZ83=('Utility Admin'!$F$4:$AW$4)),0)),0)","v":0},{"$f":"IFERROR(INDEX('Utility Admin'!$F$3:$AW$3,1,MATCH(1,(CD$8='Utility Admin'!$F$1:$AW$1)*(Inventory!$AH83='Utility Admin'!$F$2:$AW$2)*(Inventory!$BZ83=('Utility Admin'!$F$4:$AW$4)),0)),0)","v":0},{"$f":"IFERROR(INDEX('Utility Admin'!$F$3:$AW$3,1,MATCH(1,(CC$8='Utility Admin'!$F$1:$AW$1)*(Inventory!$AH83='Utility Admin'!$F$2:$AW$2)*(\"Lighting Controls\"=('Utility Admin'!$F$4:$AW$4)),0)),0)","v":0},{"$f":"IFERROR(INDEX('Utility Admin'!$F$3:$AW$3,1,MATCH(1,(CD$8='Utility Admin'!$F$1:$AW$1)*(Inventory!$AH83='Utility Admin'!$F$2:$AW$2)*(\"Lighting Controls\"=('Utility Admin'!$F$4:$AW$4)),0)),0)","v":0},false]
[null,76,null,null,null,null,null,null,null,null,null,null,null,{"$f":"IF(OR(I84=\"\",J84=\"\",AND(ProjectType=\"Retrofit\",OR(E84=\"\",F84=\"\"))),\"-\",IF(OR(CB84=0,CB84=\"Not Qualified\"),\"N\",IFERROR(INDEX('Fixture Descriptions'!K:K,MATCH(AD84,'Fixture Descriptions'!A:A,0)),\"N\")))","v":"-"},0,0,0,0,0,0,0,0,0,{"$f":"ROUND(IFERROR(IF($AE$7,BJ84*MaxIncentive,Inventory!Z84),0),2)","v":0},0,0,0,0,0,{"$f":"IF(I84=\"\",\"\",IFERROR(VLOOKUP(I84,'Fixture Schedule'!$C$9:$D$58,2,0),I84))","v":""},{"$f":"10","v":10},{"$f":"IFERROR(VLOOKUP(IF(I84=\"REMOVED\",E84,AD84),'Fixture Descriptions'!A:J,10,FALSE),0)","v":0},{"$f":"IFERROR(INDEX('Buildings and Areas'!D$5:D$14,MATCH($C84,'Buildings and Areas'!$B$5:$B$14,0),1),\"\")","v":""},{"$f":"IFERROR(INDEX('Buildings and Areas'!C$5:C$14,MATCH($C84,'Buildings and Areas'!$B$5:$B$14,0),1),\"\")","v":""},{"$f":"IFERROR(INDEX('Buildings and Areas'!R$5:R$14,MATCH($C84,'Buildings and Areas'!$B$5:$B$14,0),1),0)","v":0},{"$f":"IFERROR(INDEX('Buildings and Areas'!S$5:S$14,MATCH($C84,'Buildings and Areas'!$B$5:$B$14,0),1),0)","v":0},{"$f":"IFERROR(INDEX('Buildings and Areas'!T$5:T$14,MATCH($C84,'Buildings and Areas'!$B$5:$B$14,0),1),0)","v":0},{"$f":"IFERROR(INDEX('Buildings and Areas'!O$5:O$14,MATCH($C84,'Buildings and Areas'!$B$5:$B$14,0),1),\"\")","v":""},{"$f":"IFERROR(INDEX('Buildings and Areas'!F$5:F$14,MATCH($C84,'Buildings and Areas'!$B$5:$B$14,0),1)&IF(AH84=\"Exterior\",\": \"&'Buildings and Areas'!$H$4,\"\"),\"\")","v":""},{"$f":"IFERROR(INDEX('Buildings and Areas'!H$5:H$14,MATCH($C84,'Buildings and Areas'!$B$5:$B$14,0),1),\"\")","v":""},{"$f":"IFERROR(IF(INDEX('Buildings and Areas'!L$5:L$14,MATCH($C84,'Buildings and Areas'!$B$5:$B$14,0),1)=\"\",\"Deemed\",INDEX('Buildings and Areas'!L$5:L$14,MATCH($C84,'Buildings and Areas'!$B$5:$B$14,0),1)),\"\")","v":""},{"$f":"IFERROR(IF(INDEX('Buildings and Areas'!M$5:M$14,MATCH($C84,'Buildings and Areas'!$B$5:$B$14,0),1)=\"\",\"Deemed\",INDEX('Buildings and Areas'!M$5:M$14,MATCH($C84,'Buildings and Areas'!$B$5:$B$14,0),1)),\"\")","v":""},{"$f":"IFERROR(INDEX('Buildings and Areas'!P$5:P$14,MATCH($C84,'Buildings and Areas'!$B$5:$B$14,0),1),0)","v":0},{"$f":"IFERROR(INDEX('Buildings and Areas'!Q$5:Q$14,MATCH($C84,'Buildings and Areas'!$B$5:$B$14,0),1),0)","v":0},{"$f":"IF(OR($AG84=\"\",$E84=\"\",$F84=\"\"),0,IF($F$124>0.1,(VLOOKUP($E84,'Fixture Descriptions'!$A:$I,8,0)/1000)*(1-$G$124),(VLOOKUP($E84,'Fixture Descriptions'!$A:$I,8,0)/1000)))","v":0},0,0,0,0,{"$f":"IFERROR(IF(OR('Buildings and Areas'!$D$2=\"New Construction\",$AG84=\"\",$H84=\"\",AH84=\"Exterior\"),1,INDEX('Factor Tables'!C$46:C$51,MATCH(Inventory!$H84,'Factor Tables'!$B$46:$B$51,0))),1)","v":1},{"$f":"IF(OR('Buildings and Areas'!$D$2=\"New Construction\",$AG84=\"\",$H84=\"\",AH84=\"Exterior\"),1,INDEX('Factor Tables'!D$46:D$51,MATCH(Inventory!$H84,'Factor Tables'!$B$46:$B$51,0)))","v":1},{"$f":"IF(I84=\"REMOVED\",0,IF($AD84<>\"\",VLOOKUP($AD84,'Fixture Descriptions'!$A:$I,8,0)/1000,0))","v":0},0,0,0,0,0,0,0,{"$f":"IFERROR(IF(OR($AG84=\"\",$K84=\"\",AH84=\"Exterior\"),1,INDEX('Factor Tables'!C$46:C$51,MATCH(Inventory!$K84,'Factor Tables'!$B$46:$B$51,0))),1)","v":1},{"$f":"IFERROR(IF(OR($AG84=\"\",$K84=\"\",AH84=\"Exterior\"),1,INDEX('Factor Tables'!D$46:D$51,MATCH(Inventory!$K84,'Factor Tables'!$B$46:$B$51,0))),1)","v":1},0,0,0,0,0,0,0,0,0,0,0,0,0,0,0,0,{"$f":"IFERROR(VLOOKUP(IF($AD84=\"Removed\",E84,$AD84),'Fixture Descriptions'!$A:$I,9,0),\"\")","v":0},{"$f":"IF($AD84=\"\",\"\",VLOOKUP($AD84,'Fixture Descriptions'!$A:$I,2,0))","v":""},{"$f":"IF(I84=\"\",\"\",IF(I84=\"Removed\",\"N/A\",IF(IFERROR(VLOOKUP(I84,'Fixture Schedule'!$C$9:$G$58,5,0),L84)=\"\",\"Not Qualified\",IFERROR(VLOOKUP(I84,'Fixture Schedule'!$C$9:$G$58,5,0),L84))))","v":""},{"$f":"IFERROR(INDEX('Utility Admin'!$F$3:$AW$3,1,MATCH(1,(CC$8='Utility Admin'!$F$1:$AW$1)*(Inventory!$AH84='Utility Admin'!$F$2:$AW$2)*(Inventory!$BZ84=('Utility Admin'!$F$4:$AW$4)),0)),0)","v":0},{"$f":"IFERROR(INDEX('Utility Admin'!$F$3:$AW$3,1,MATCH(1,(CD$8='Utility Admin'!$F$1:$AW$1)*(Inventory!$AH84='Utility Admin'!$F$2:$AW$2)*(Inventory!$BZ84=('Utility Admin'!$F$4:$AW$4)),0)),0)","v":0},{"$f":"IFERROR(INDEX('Utility Admin'!$F$3:$AW$3,1,MATCH(1,(CC$8='Utility Admin'!$F$1:$AW$1)*(Inventory!$AH84='Utility Admin'!$F$2:$AW$2)*(\"Lighting Controls\"=('Utility Admin'!$F$4:$AW$4)),0)),0)","v":0},{"$f":"IFERROR(INDEX('Utility Admin'!$F$3:$AW$3,1,MATCH(1,(CD$8='Utility Admin'!$F$1:$AW$1)*(Inventory!$AH84='Utility Admin'!$F$2:$AW$2)*(\"Lighting Controls\"=('Utility Admin'!$F$4:$AW$4)),0)),0)","v":0},false]
[null,77,null,null,null,null,null,null,null,null,null,null,null,{"$f":"IF(OR(I85=\"\",J85=\"\",AND(ProjectType=\"Retrofit\",OR(E85=\"\",F85=\"\"))),\"-\",IF(OR(CB85=0,CB85=\"Not Qualified\"),\"N\",IFERROR(INDEX('Fixture Descriptions'!K:K,MATCH(AD85,'Fixture Descriptions'!A:A,0)),\"N\")))","v":"-"},0,0,0,0,0,0,0,0,0,{"$f":"ROUND(IFERROR(IF($AE$7,BJ85*MaxIncentive,Inventory!Z85),0),2)","v":0},0,0,0,0,0,{"$f":"IF(I85=\"\",\"\",IFERROR(VLOOKUP(I85,'Fixture Schedule'!$C$9:$D$58,2,0),I85))","v":""},{"$f":"10","v":10},{"$f":"IFERROR(VLOOKUP(IF(I85=\"REMOVED\",E85,AD85),'Fixture Descriptions'!A:J,10,FALSE),0)","v":0},{"$f":"IFERROR(INDEX('Buildings and Areas'!D$5:D$14,MATCH($C85,'Buildings and Areas'!$B$5:$B$14,0),1),\"\")","v":""},{"$f":"IFERROR(INDEX('Buildings and Areas'!C$5:C$14,MATCH($C85,'Buildings and Areas'!$B$5:$B$14,0),1),\"\")","v":""},{"$f":"IFERROR(INDEX('Buildings and Areas'!R$5:R$14,MATCH($C85,'Buildings and Areas'!$B$5:$B$14,0),1),0)","v":0},{"$f":"IFERROR(INDEX('Buildings and Areas'!S$5:S$14,MATCH($C85,'Buildings and Areas'!$B$5:$B$14,0),1),0)","v":0},{"$f":"IFERROR(INDEX('Buildings and Areas'!T$5:T$14,MATCH($C85,'Buildings and Areas'!$B$5:$B$14,0),1),0)","v":0},{"$f":"IFERROR(INDEX('Buildings and Areas'!O$5:O$14,MATCH($C85,'Buildings and Areas'!$B$5:$B$14,0),1),\"\")","v":""},{"$f":"IFERROR(INDEX('Buildings and Areas'!F$5:F$14,MATCH($C85,'Buildings and Areas'!$B$5:$B$14,0),1)&IF(AH85=\"Exterior\",\": \"&'Buildings and Areas'!$H$4,\"\"),\"\")","v":""},{"$f":"IFERROR(INDEX('Buildings and Areas'!H$5:H$14,MATCH($C85,'Buildings and Areas'!$B$5:$B$14,0),1),\"\")","v":""},{"$f":"IFERROR(IF(INDEX('Buildings and Areas'!L$5:L$14,MATCH($C85,'Buildings and Areas'!$B$5:$B$14,0),1)=\"\",\"Deemed\",INDEX('Buildings and Areas'!L$5:L$14,MATCH($C85,'Buildings and Areas'!$B$5:$B$14,0),1)),\"\")","v":""},{"$f":"IFERROR(IF(INDEX('Buildings and Areas'!M$5:M$14,MATCH($C85,'Buildings and Areas'!$B$5:$B$14,0),1)=\"\",\"Deemed\",INDEX('Buildings and Areas'!M$5:M$14,MATCH($C85,'Buildings and Areas'!$B$5:$B$14,0),1)),\"\")","v":""},{"$f":"IFERROR(INDEX('Buildings and Areas'!P$5:P$14,MATCH($C85,'Buildings and Areas'!$B$5:$B$14,0),1),0)","v":0},{"$f":"IFERROR(INDEX('Buildings and Areas'!Q$5:Q$14,MATCH($C85,'Buildings and Areas'!$B$5:$B$14,0),1),0)","v":0},{"$f":"IF(OR($AG85=\"\",$E85=\"\",$F85=\"\"),0,IF($F$124>0.1,(VLOOKUP($E85,'Fixture Descriptions'!$A:$I,8,0)/1000)*(1-$G$124),(VLOOKUP($E85,'Fixture Descriptions'!$A:$I,8,0)/1000)))","v":0},0,0,0,0,{"$f":"IFERROR(IF(OR('Buildings and Areas'!$D$2=\"New Construction\",$AG85=\"\",$H85=\"\",AH85=\"Exterior\"),1,INDEX('Factor Tables'!C$46:C$51,MATCH(Inventory!$H85,'Factor Tables'!$B$46:$B$51,0))),1)","v":1},{"$f":"IF(OR('Buildings and Areas'!$D$2=\"New Construction\",$AG85=\"\",$H85=\"\",AH85=\"Exterior\"),1,INDEX('Factor Tables'!D$46:D$51,MATCH(Inventory!$H85,'Factor Tables'!$B$46:$B$51,0)))","v":1},{"$f":"IF(I85=\"REMOVED\",0,IF($AD85<>\"\",VLOOKUP($AD85,'Fixture Descriptions'!$A:$I,8,0)/1000,0))","v":0},0,0,0,0,0,0,0,{"$f":"IFERROR(IF(OR($AG85=\"\",$K85=\"\",AH85=\"Exterior\"),1,INDEX('Factor Tables'!C$46:C$51,MATCH(Inventory!$K85,'Factor Tables'!$B$46:$B$51,0))),1)","v":1},{"$f":"IFERROR(IF(OR($AG85=\"\",$K85=\"\",AH85=\"Exterior\"),1,INDEX('Factor Tables'!D$46:D$51,MATCH(Inventory!$K85,'Factor Tables'!$B$46:$B$51,0))),1)","v":1},0,0,0,0,0,0,0,0,0,0,0,0,0,0,0,0,{"$f":"IFERROR(VLOOKUP(IF($AD85=\"Removed\",E85,$AD85),'Fixture Descriptions'!$A:$I,9,0),\"\")","v":0},{"$f":"IF($AD85=\"\",\"\",VLOOKUP($AD85,'Fixture Descriptions'!$A:$I,2,0))","v":""},{"$f":"IF(I85=\"\",\"\",IF(I85=\"Removed\",\"N/A\",IF(IFERROR(VLOOKUP(I85,'Fixture Schedule'!$C$9:$G$58,5,0),L85)=\"\",\"Not Qualified\",IFERROR(VLOOKUP(I85,'Fixture Schedule'!$C$9:$G$58,5,0),L85))))","v":""},{"$f":"IFERROR(INDEX('Utility Admin'!$F$3:$AW$3,1,MATCH(1,(CC$8='Utility Admin'!$F$1:$AW$1)*(Inventory!$AH85='Utility Admin'!$F$2:$AW$2)*(Inventory!$BZ85=('Utility Admin'!$F$4:$AW$4)),0)),0)","v":0},{"$f":"IFERROR(INDEX('Utility Admin'!$F$3:$AW$3,1,MATCH(1,(CD$8='Utility Admin'!$F$1:$AW$1)*(Inventory!$AH85='Utility Admin'!$F$2:$AW$2)*(Inventory!$BZ85=('Utility Admin'!$F$4:$AW$4)),0)),0)","v":0},{"$f":"IFERROR(INDEX('Utility Admin'!$F$3:$AW$3,1,MATCH(1,(CC$8='Utility Admin'!$F$1:$AW$1)*(Inventory!$AH85='Utility Admin'!$F$2:$AW$2)*(\"Lighting Controls\"=('Utility Admin'!$F$4:$AW$4)),0)),0)","v":0},{"$f":"IFERROR(INDEX('Utility Admin'!$F$3:$AW$3,1,MATCH(1,(CD$8='Utility Admin'!$F$1:$AW$1)*(Inventory!$AH85='Utility Admin'!$F$2:$AW$2)*(\"Lighting Controls\"=('Utility Admin'!$F$4:$AW$4)),0)),0)","v":0},false]
[null,78,null,null,null,null,null,null,null,null,null,null,null,{"$f":"IF(OR(I86=\"\",J86=\"\",AND(ProjectType=\"Retrofit\",OR(E86=\"\",F86=\"\"))),\"-\",IF(OR(CB86=0,CB86=\"Not Qualified\"),\"N\",IFERROR(INDEX('Fixture Descriptions'!K:K,MATCH(AD86,'Fixture Descriptions'!A:A,0)),\"N\")))","v":"-"},0,0,0,0,0,0,0,0,0,{"$f":"ROUND(IFERROR(IF($AE$7,BJ86*MaxIncentive,Inventory!Z86),0),2)","v":0},0,0,0,0,0,{"$f":"IF(I86=\"\",\"\",IFERROR(VLOOKUP(I86,'Fixture Schedule'!$C$9:$D$58,2,0),I86))","v":""},{"$f":"10","v":10},{"$f":"IFERROR(VLOOKUP(IF(I86=\"REMOVED\",E86,AD86),'Fixture Descriptions'!A:J,10,FALSE),0)","v":0},{"$f":"IFERROR(INDEX('Buildings and Areas'!D$5:D$14,MATCH($C86,'Buildings and Areas'!$B$5:$B$14,0),1),\"\")","v":""},{"$f":"IFERROR(INDEX('Buildings and Areas'!C$5:C$14,MATCH($C86,'Buildings and Areas'!$B$5:$B$14,0),1),\"\")","v":""},{"$f":"IFERROR(INDEX('Buildings and Areas'!R$5:R$14,MATCH($C86,'Buildings and Areas'!$B$5:$B$14,0),1),0)","v":0},{"$f":"IFERROR(INDEX('Buildings and Areas'!S$5:S$14,MATCH($C86,'Buildings and Areas'!$B$5:$B$14,0),1),0)","v":0},{"$f":"IFERROR(INDEX('Buildings and Areas'!T$5:T$14,MATCH($C86,'Buildings and Areas'!$B$5:$B$14,0),1),0)","v":0},{"$f":"IFERROR(INDEX('Buildings and Areas'!O$5:O$14,MATCH($C86,'Buildings and Areas'!$B$5:$B$14,0),1),\"\")","v":""},{"$f":"IFERROR(INDEX('Buildings and Areas'!F$5:F$14,MATCH($C86,'Buildings and Areas'!$B$5:$B$14,0),1)&IF(AH86=\"Exterior\",\": \"&'Buildings and Areas'!$H$4,\"\"),\"\")","v":""},{"$f":"IFERROR(INDEX('Buildings and Areas'!H$5:H$14,MATCH($C86,'Buildings and Areas'!$B$5:$B$14,0),1),\"\")","v":""},{"$f":"IFERROR(IF(INDEX('Buildings and Areas'!L$5:L$14,MATCH($C86,'Buildings and Areas'!$B$5:$B$14,0),1)=\"\",\"Deemed\",INDEX('Buildings and Areas'!L$5:L$14,MATCH($C86,'Buildings and Areas'!$B$5:$B$14,0),1)),\"\")","v":""},{"$f":"IFERROR(IF(INDEX('Buildings and Areas'!M$5:M$14,MATCH($C86,'Buildings and Areas'!$B$5:$B$14,0),1)=\"\",\"Deemed\",INDEX('Buildings and Areas'!M$5:M$14,MATCH($C86,'Buildings and Areas'!$B$5:$B$14,0),1)),\"\")","v":""},{"$f":"IFERROR(INDEX('Buildings and Areas'!P$5:P$14,MATCH($C86,'Buildings and Areas'!$B$5:$B$14,0),1),0)","v":0},{"$f":"IFERROR(INDEX('Buildings and Areas'!Q$5:Q$14,MATCH($C86,'Buildings and Areas'!$B$5:$B$14,0),1),0)","v":0},{"$f":"IF(OR($AG86=\"\",$E86=\"\",$F86=\"\"),0,IF($F$124>0.1,(VLOOKUP($E86,'Fixture Descriptions'!$A:$I,8,0)/1000)*(1-$G$124),(VLOOKUP($E86,'Fixture Descriptions'!$A:$I,8,0)/1000)))","v":0},0,0,0,0,{"$f":"IFERROR(IF(OR('Buildings and Areas'!$D$2=\"New Construction\",$AG86=\"\",$H86=\"\",AH86=\"Exterior\"),1,INDEX('Factor Tables'!C$46:C$51,MATCH(Inventory!$H86,'Factor Tables'!$B$46:$B$51,0))),1)","v":1},{"$f":"IF(OR('Buildings and Areas'!$D$2=\"New Construction\",$AG86=\"\",$H86=\"\",AH86=\"Exterior\"),1,INDEX('Factor Tables'!D$46:D$51,MATCH(Inventory!$H86,'Factor Tables'!$B$46:$B$51,0)))","v":1},{"$f":"IF(I86=\"REMOVED\",0,IF($AD86<>\"\",VLOOKUP($AD86,'Fixture Descriptions'!$A:$I,8,0)/1000,0))","v":0},0,0,0,0,0,0,0,{"$f":"IFERROR(IF(OR($AG86=\"\",$K86=\"\",AH86=\"Exterior\"),1,INDEX('Factor Tables'!C$46:C$51,MATCH(Inventory!$K86,'Factor Tables'!$B$46:$B$51,0))),1)","v":1},{"$f":"IFERROR(IF(OR($AG86=\"\",$K86=\"\",AH86=\"Exterior\"),1,INDEX('Factor Tables'!D$46:D$51,MATCH(Inventory!$K86,'Factor Tables'!$B$46:$B$51,0))),1)","v":1},0,0,0,0,0,0,0,0,0,0,0,0,0,0,0,0,{"$f":"IFERROR(VLOOKUP(IF($AD86=\"Removed\",E86,$AD86),'Fixture Descriptions'!$A:$I,9,0),\"\")","v":0},{"$f":"IF($AD86=\"\",\"\",VLOOKUP($AD86,'Fixture Descriptions'!$A:$I,2,0))","v":""},{"$f":"IF(I86=\"\",\"\",IF(I86=\"Removed\",\"N/A\",IF(IFERROR(VLOOKUP(I86,'Fixture Schedule'!$C$9:$G$58,5,0),L86)=\"\",\"Not Qualified\",IFERROR(VLOOKUP(I86,'Fixture Schedule'!$C$9:$G$58,5,0),L86))))","v":""},{"$f":"IFERROR(INDEX('Utility Admin'!$F$3:$AW$3,1,MATCH(1,(CC$8='Utility Admin'!$F$1:$AW$1)*(Inventory!$AH86='Utility Admin'!$F$2:$AW$2)*(Inventory!$BZ86=('Utility Admin'!$F$4:$AW$4)),0)),0)","v":0},{"$f":"IFERROR(INDEX('Utility Admin'!$F$3:$AW$3,1,MATCH(1,(CD$8='Utility Admin'!$F$1:$AW$1)*(Inventory!$AH86='Utility Admin'!$F$2:$AW$2)*(Inventory!$BZ86=('Utility Admin'!$F$4:$AW$4)),0)),0)","v":0},{"$f":"IFERROR(INDEX('Utility Admin'!$F$3:$AW$3,1,MATCH(1,(CC$8='Utility Admin'!$F$1:$AW$1)*(Inventory!$AH86='Utility Admin'!$F$2:$AW$2)*(\"Lighting Controls\"=('Utility Admin'!$F$4:$AW$4)),0)),0)","v":0},{"$f":"IFERROR(INDEX('Utility Admin'!$F$3:$AW$3,1,MATCH(1,(CD$8='Utility Admin'!$F$1:$AW$1)*(Inventory!$AH86='Utility Admin'!$F$2:$AW$2)*(\"Lighting Controls\"=('Utility Admin'!$F$4:$AW$4)),0)),0)","v":0},false]
[null,79,null,null,null,null,null,null,null,null,null,null,null,{"$f":"IF(OR(I87=\"\",J87=\"\",AND(ProjectType=\"Retrofit\",OR(E87=\"\",F87=\"\"))),\"-\",IF(OR(CB87=0,CB87=\"Not Qualified\"),\"N\",IFERROR(INDEX('Fixture Descriptions'!K:K,MATCH(AD87,'Fixture Descriptions'!A:A,0)),\"N\")))","v":"-"},0,0,0,0,0,0,0,0,0,{"$f":"ROUND(IFERROR(IF($AE$7,BJ87*MaxIncentive,Inventory!Z87),0),2)","v":0},0,0,0,0,0,{"$f":"IF(I87=\"\",\"\",IFERROR(VLOOKUP(I87,'Fixture Schedule'!$C$9:$D$58,2,0),I87))","v":""},{"$f":"10","v":10},{"$f":"IFERROR(VLOOKUP(IF(I87=\"REMOVED\",E87,AD87),'Fixture Descriptions'!A:J,10,FALSE),0)","v":0},{"$f":"IFERROR(INDEX('Buildings and Areas'!D$5:D$14,MATCH($C87,'Buildings and Areas'!$B$5:$B$14,0),1),\"\")","v":""},{"$f":"IFERROR(INDEX('Buildings and Areas'!C$5:C$14,MATCH($C87,'Buildings and Areas'!$B$5:$B$14,0),1),\"\")","v":""},{"$f":"IFERROR(INDEX('Buildings and Areas'!R$5:R$14,MATCH($C87,'Buildings and Areas'!$B$5:$B$14,0),1),0)","v":0},{"$f":"IFERROR(INDEX('Buildings and Areas'!S$5:S$14,MATCH($C87,'Buildings and Areas'!$B$5:$B$14,0),1),0)","v":0},{"$f":"IFERROR(INDEX('Buildings and Areas'!T$5:T$14,MATCH($C87,'Buildings and Areas'!$B$5:$B$14,0),1),0)","v":0},{"$f":"IFERROR(INDEX('Buildings and Areas'!O$5:O$14,MATCH($C87,'Buildings and Areas'!$B$5:$B$14,0),1),\"\")","v":""},{"$f":"IFERROR(INDEX('Buildings and Areas'!F$5:F$14,MATCH($C87,'Buildings and Areas'!$B$5:$B$14,0),1)&IF(AH87=\"Exterior\",\": \"&'Buildings and Areas'!$H$4,\"\"),\"\")","v":""},{"$f":"IFERROR(INDEX('Buildings and Areas'!H$5:H$14,MATCH($C87,'Buildings and Areas'!$B$5:$B$14,0),1),\"\")","v":""},{"$f":"IFERROR(IF(INDEX('Buildings and Areas'!L$5:L$14,MATCH($C87,'Buildings and Areas'!$B$5:$B$14,0),1)=\"\",\"Deemed\",INDEX('Buildings and Areas'!L$5:L$14,MATCH($C87,'Buildings and Areas'!$B$5:$B$14,0),1)),\"\")","v":""},{"$f":"IFERROR(IF(INDEX('Buildings and Areas'!M$5:M$14,MATCH($C87,'Buildings and Areas'!$B$5:$B$14,0),1)=\"\",\"Deemed\",INDEX('Buildings and Areas'!M$5:M$14,MATCH($C87,'Buildings and Areas'!$B$5:$B$14,0),1)),\"\")","v":""},{"$f":"IFERROR(INDEX('Buildings and Areas'!P$5:P$14,MATCH($C87,'Buildings and Areas'!$B$5:$B$14,0),1),0)","v":0},{"$f":"IFERROR(INDEX('Buildings and Areas'!Q$5:Q$14,MATCH($C87,'Buildings and Areas'!$B$5:$B$14,0),1),0)","v":0},{"$f":"IF(OR($AG87=\"\",$E87=\"\",$F87=\"\"),0,IF($F$124>0.1,(VLOOKUP($E87,'Fixture Descriptions'!$A:$I,8,0)/1000)*(1-$G$124),(VLOOKUP($E87,'Fixture Descriptions'!$A:$I,8,0)/1000)))","v":0},0,0,0,0,{"$f":"IFERROR(IF(OR('Buildings and Areas'!$D$2=\"New Construction\",$AG87=\"\",$H87=\"\",AH87=\"Exterior\"),1,INDEX('Factor Tables'!C$46:C$51,MATCH(Inventory!$H87,'Factor Tables'!$B$46:$B$51,0))),1)","v":1},{"$f":"IF(OR('Buildings and Areas'!$D$2=\"New Construction\",$AG87=\"\",$H87=\"\",AH87=\"Exterior\"),1,INDEX('Factor Tables'!D$46:D$51,MATCH(Inventory!$H87,'Factor Tables'!$B$46:$B$51,0)))","v":1},{"$f":"IF(I87=\"REMOVED\",0,IF($AD87<>\"\",VLOOKUP($AD87,'Fixture Descriptions'!$A:$I,8,0)/1000,0))","v":0},0,0,0,0,0,0,0,{"$f":"IFERROR(IF(OR($AG87=\"\",$K87=\"\",AH87=\"Exterior\"),1,INDEX('Factor Tables'!C$46:C$51,MATCH(Inventory!$K87,'Factor Tables'!$B$46:$B$51,0))),1)","v":1},{"$f":"IFERROR(IF(OR($AG87=\"\",$K87=\"\",AH87=\"Exterior\"),1,INDEX('Factor Tables'!D$46:D$51,MATCH(Inventory!$K87,'Factor Tables'!$B$46:$B$51,0))),1)","v":1},0,0,0,0,0,0,0,0,0,0,0,0,0,0,0,0,{"$f":"IFERROR(VLOOKUP(IF($AD87=\"Removed\",E87,$AD87),'Fixture Descriptions'!$A:$I,9,0),\"\")","v":0},{"$f":"IF($AD87=\"\",\"\",VLOOKUP($AD87,'Fixture Descriptions'!$A:$I,2,0))","v":""},{"$f":"IF(I87=\"\",\"\",IF(I87=\"Removed\",\"N/A\",IF(IFERROR(VLOOKUP(I87,'Fixture Schedule'!$C$9:$G$58,5,0),L87)=\"\",\"Not Qualified\",IFERROR(VLOOKUP(I87,'Fixture Schedule'!$C$9:$G$58,5,0),L87))))","v":""},{"$f":"IFERROR(INDEX('Utility Admin'!$F$3:$AW$3,1,MATCH(1,(CC$8='Utility Admin'!$F$1:$AW$1)*(Inventory!$AH87='Utility Admin'!$F$2:$AW$2)*(Inventory!$BZ87=('Utility Admin'!$F$4:$AW$4)),0)),0)","v":0},{"$f":"IFERROR(INDEX('Utility Admin'!$F$3:$AW$3,1,MATCH(1,(CD$8='Utility Admin'!$F$1:$AW$1)*(Inventory!$AH87='Utility Admin'!$F$2:$AW$2)*(Inventory!$BZ87=('Utility Admin'!$F$4:$AW$4)),0)),0)","v":0},{"$f":"IFERROR(INDEX('Utility Admin'!$F$3:$AW$3,1,MATCH(1,(CC$8='Utility Admin'!$F$1:$AW$1)*(Inventory!$AH87='Utility Admin'!$F$2:$AW$2)*(\"Lighting Controls\"=('Utility Admin'!$F$4:$AW$4)),0)),0)","v":0},{"$f":"IFERROR(INDEX('Utility Admin'!$F$3:$AW$3,1,MATCH(1,(CD$8='Utility Admin'!$F$1:$AW$1)*(Inventory!$AH87='Utility Admin'!$F$2:$AW$2)*(\"Lighting Controls\"=('Utility Admin'!$F$4:$AW$4)),0)),0)","v":0},false]
[null,80,null,null,null,null,null,null,null,null,null,null,null,{"$f":"IF(OR(I88=\"\",J88=\"\",AND(ProjectType=\"Retrofit\",OR(E88=\"\",F88=\"\"))),\"-\",IF(OR(CB88=0,CB88=\"Not Qualified\"),\"N\",IFERROR(INDEX('Fixture Descriptions'!K:K,MATCH(AD88,'Fixture Descriptions'!A:A,0)),\"N\")))","v":"-"},0,0,0,0,0,0,0,0,0,{"$f":"ROUND(IFERROR(IF($AE$7,BJ88*MaxIncentive,Inventory!Z88),0),2)","v":0},0,0,0,0,0,{"$f":"IF(I88=\"\",\"\",IFERROR(VLOOKUP(I88,'Fixture Schedule'!$C$9:$D$58,2,0),I88))","v":""},{"$f":"10","v":10},{"$f":"IFERROR(VLOOKUP(IF(I88=\"REMOVED\",E88,AD88),'Fixture Descriptions'!A:J,10,FALSE),0)","v":0},{"$f":"IFERROR(INDEX('Buildings and Areas'!D$5:D$14,MATCH($C88,'Buildings and Areas'!$B$5:$B$14,0),1),\"\")","v":""},{"$f":"IFERROR(INDEX('Buildings and Areas'!C$5:C$14,MATCH($C88,'Buildings and Areas'!$B$5:$B$14,0),1),\"\")","v":""},{"$f":"IFERROR(INDEX('Buildings and Areas'!R$5:R$14,MATCH($C88,'Buildings and Areas'!$B$5:$B$14,0),1),0)","v":0},{"$f":"IFERROR(INDEX('Buildings and Areas'!S$5:S$14,MATCH($C88,'Buildings and Areas'!$B$5:$B$14,0),1),0)","v":0},{"$f":"IFERROR(INDEX('Buildings and Areas'!T$5:T$14,MATCH($C88,'Buildings and Areas'!$B$5:$B$14,0),1),0)","v":0},{"$f":"IFERROR(INDEX('Buildings and Areas'!O$5:O$14,MATCH($C88,'Buildings and Areas'!$B$5:$B$14,0),1),\"\")","v":""},{"$f":"IFERROR(INDEX('Buildings and Areas'!F$5:F$14,MATCH($C88,'Buildings and Areas'!$B$5:$B$14,0),1)&IF(AH88=\"Exterior\",\": \"&'Buildings and Areas'!$H$4,\"\"),\"\")","v":""},{"$f":"IFERROR(INDEX('Buildings and Areas'!H$5:H$14,MATCH($C88,'Buildings and Areas'!$B$5:$B$14,0),1),\"\")","v":""},{"$f":"IFERROR(IF(INDEX('Buildings and Areas'!L$5:L$14,MATCH($C88,'Buildings and Areas'!$B$5:$B$14,0),1)=\"\",\"Deemed\",INDEX('Buildings and Areas'!L$5:L$14,MATCH($C88,'Buildings and Areas'!$B$5:$B$14,0),1)),\"\")","v":""},{"$f":"IFERROR(IF(INDEX('Buildings and Areas'!M$5:M$14,MATCH($C88,'Buildings and Areas'!$B$5:$B$14,0),1)=\"\",\"Deemed\",INDEX('Buildings and Areas'!M$5:M$14,MATCH($C88,'Buildings and Areas'!$B$5:$B$14,0),1)),\"\")","v":""},{"$f":"IFERROR(INDEX('Buildings and Areas'!P$5:P$14,MATCH($C88,'Buildings and Areas'!$B$5:$B$14,0),1),0)","v":0},{"$f":"IFERROR(INDEX('Buildings and Areas'!Q$5:Q$14,MATCH($C88,'Buildings and Areas'!$B$5:$B$14,0),1),0)","v":0},{"$f":"IF(OR($AG88=\"\",$E88=\"\",$F88=\"\"),0,IF($F$124>0.1,(VLOOKUP($E88,'Fixture Descriptions'!$A:$I,8,0)/1000)*(1-$G$124),(VLOOKUP($E88,'Fixture Descriptions'!$A:$I,8,0)/1000)))","v":0},0,0,0,0,{"$f":"IFERROR(IF(OR('Buildings and Areas'!$D$2=\"New Construction\",$AG88=\"\",$H88=\"\",AH88=\"Exterior\"),1,INDEX('Factor Tables'!C$46:C$51,MATCH(Inventory!$H88,'Factor Tables'!$B$46:$B$51,0))),1)","v":1},{"$f":"IF(OR('Buildings and Areas'!$D$2=\"New Construction\",$AG88=\"\",$H88=\"\",AH88=\"Exterior\"),1,INDEX('Factor Tables'!D$46:D$51,MATCH(Inventory!$H88,'Factor Tables'!$B$46:$B$51,0)))","v":1},{"$f":"IF(I88=\"REMOVED\",0,IF($AD88<>\"\",VLOOKUP($AD88,'Fixture Descriptions'!$A:$I,8,0)/1000,0))","v":0},0,0,0,0,0,0,0,{"$f":"IFERROR(IF(OR($AG88=\"\",$K88=\"\",AH88=\"Exterior\"),1,INDEX('Factor Tables'!C$46:C$51,MATCH(Inventory!$K88,'Factor Tables'!$B$46:$B$51,0))),1)","v":1},{"$f":"IFERROR(IF(OR($AG88=\"\",$K88=\"\",AH88=\"Exterior\"),1,INDEX('Factor Tables'!D$46:D$51,MATCH(Inventory!$K88,'Factor Tables'!$B$46:$B$51,0))),1)","v":1},0,0,0,0,0,0,0,0,0,0,0,0,0,0,0,0,{"$f":"IFERROR(VLOOKUP(IF($AD88=\"Removed\",E88,$AD88),'Fixture Descriptions'!$A:$I,9,0),\"\")","v":0},{"$f":"IF($AD88=\"\",\"\",VLOOKUP($AD88,'Fixture Descriptions'!$A:$I,2,0))","v":""},{"$f":"IF(I88=\"\",\"\",IF(I88=\"Removed\",\"N/A\",IF(IFERROR(VLOOKUP(I88,'Fixture Schedule'!$C$9:$G$58,5,0),L88)=\"\",\"Not Qualified\",IFERROR(VLOOKUP(I88,'Fixture Schedule'!$C$9:$G$58,5,0),L88))))","v":""},{"$f":"IFERROR(INDEX('Utility Admin'!$F$3:$AW$3,1,MATCH(1,(CC$8='Utility Admin'!$F$1:$AW$1)*(Inventory!$AH88='Utility Admin'!$F$2:$AW$2)*(Inventory!$BZ88=('Utility Admin'!$F$4:$AW$4)),0)),0)","v":0},{"$f":"IFERROR(INDEX('Utility Admin'!$F$3:$AW$3,1,MATCH(1,(CD$8='Utility Admin'!$F$1:$AW$1)*(Inventory!$AH88='Utility Admin'!$F$2:$AW$2)*(Inventory!$BZ88=('Utility Admin'!$F$4:$AW$4)),0)),0)","v":0},{"$f":"IFERROR(INDEX('Utility Admin'!$F$3:$AW$3,1,MATCH(1,(CC$8='Utility Admin'!$F$1:$AW$1)*(Inventory!$AH88='Utility Admin'!$F$2:$AW$2)*(\"Lighting Controls\"=('Utility Admin'!$F$4:$AW$4)),0)),0)","v":0},{"$f":"IFERROR(INDEX('Utility Admin'!$F$3:$AW$3,1,MATCH(1,(CD$8='Utility Admin'!$F$1:$AW$1)*(Inventory!$AH88='Utility Admin'!$F$2:$AW$2)*(\"Lighting Controls\"=('Utility Admin'!$F$4:$AW$4)),0)),0)","v":0},false]
[null,81,null,null,null,null,null,null,null,null,null,null,null,{"$f":"IF(OR(I89=\"\",J89=\"\",AND(ProjectType=\"Retrofit\",OR(E89=\"\",F89=\"\"))),\"-\",IF(OR(CB89=0,CB89=\"Not Qualified\"),\"N\",IFERROR(INDEX('Fixture Descriptions'!K:K,MATCH(AD89,'Fixture Descriptions'!A:A,0)),\"N\")))","v":"-"},0,0,0,0,0,0,0,0,0,{"$f":"ROUND(IFERROR(IF($AE$7,BJ89*MaxIncentive,Inventory!Z89),0),2)","v":0},0,0,0,0,0,{"$f":"IF(I89=\"\",\"\",IFERROR(VLOOKUP(I89,'Fixture Schedule'!$C$9:$D$58,2,0),I89))","v":""},{"$f":"10","v":10},{"$f":"IFERROR(VLOOKUP(IF(I89=\"REMOVED\",E89,AD89),'Fixture Descriptions'!A:J,10,FALSE),0)","v":0},{"$f":"IFERROR(INDEX('Buildings and Areas'!D$5:D$14,MATCH($C89,'Buildings and Areas'!$B$5:$B$14,0),1),\"\")","v":""},{"$f":"IFERROR(INDEX('Buildings and Areas'!C$5:C$14,MATCH($C89,'Buildings and Areas'!$B$5:$B$14,0),1),\"\")","v":""},{"$f":"IFERROR(INDEX('Buildings and Areas'!R$5:R$14,MATCH($C89,'Buildings and Areas'!$B$5:$B$14,0),1),0)","v":0},{"$f":"IFERROR(INDEX('Buildings and Areas'!S$5:S$14,MATCH($C89,'Buildings and Areas'!$B$5:$B$14,0),1),0)","v":0},{"$f":"IFERROR(INDEX('Buildings and Areas'!T$5:T$14,MATCH($C89,'Buildings and Areas'!$B$5:$B$14,0),1),0)","v":0},{"$f":"IFERROR(INDEX('Buildings and Areas'!O$5:O$14,MATCH($C89,'Buildings and Areas'!$B$5:$B$14,0),1),\"\")","v":""},{"$f":"IFERROR(INDEX('Buildings and Areas'!F$5:F$14,MATCH($C89,'Buildings and Areas'!$B$5:$B$14,0),1)&IF(AH89=\"Exterior\",\": \"&'Buildings and Areas'!$H$4,\"\"),\"\")","v":""},{"$f":"IFERROR(INDEX('Buildings and Areas'!H$5:H$14,MATCH($C89,'Buildings and Areas'!$B$5:$B$14,0),1),\"\")","v":""},{"$f":"IFERROR(IF(INDEX('Buildings and Areas'!L$5:L$14,MATCH($C89,'Buildings and Areas'!$B$5:$B$14,0),1)=\"\",\"Deemed\",INDEX('Buildings and Areas'!L$5:L$14,MATCH($C89,'Buildings and Areas'!$B$5:$B$14,0),1)),\"\")","v":""},{"$f":"IFERROR(IF(INDEX('Buildings and Areas'!M$5:M$14,MATCH($C89,'Buildings and Areas'!$B$5:$B$14,0),1)=\"\",\"Deemed\",INDEX('Buildings and Areas'!M$5:M$14,MATCH($C89,'Buildings and Areas'!$B$5:$B$14,0),1)),\"\")","v":""},{"$f":"IFERROR(INDEX('Buildings and Areas'!P$5:P$14,MATCH($C89,'Buildings and Areas'!$B$5:$B$14,0),1),0)","v":0},{"$f":"IFERROR(INDEX('Buildings and Areas'!Q$5:Q$14,MATCH($C89,'Buildings and Areas'!$B$5:$B$14,0),1),0)","v":0},{"$f":"IF(OR($AG89=\"\",$E89=\"\",$F89=\"\"),0,IF($F$124>0.1,(VLOOKUP($E89,'Fixture Descriptions'!$A:$I,8,0)/1000)*(1-$G$124),(VLOOKUP($E89,'Fixture Descriptions'!$A:$I,8,0)/1000)))","v":0},0,0,0,0,{"$f":"IFERROR(IF(OR('Buildings and Areas'!$D$2=\"New Construction\",$AG89=\"\",$H89=\"\",AH89=\"Exterior\"),1,INDEX('Factor Tables'!C$46:C$51,MATCH(Inventory!$H89,'Factor Tables'!$B$46:$B$51,0))),1)","v":1},{"$f":"IF(OR('Buildings and Areas'!$D$2=\"New Construction\",$AG89=\"\",$H89=\"\",AH89=\"Exterior\"),1,INDEX('Factor Tables'!D$46:D$51,MATCH(Inventory!$H89,'Factor Tables'!$B$46:$B$51,0)))","v":1},{"$f":"IF(I89=\"REMOVED\",0,IF($AD89<>\"\",VLOOKUP($AD89,'Fixture Descriptions'!$A:$I,8,0)/1000,0))","v":0},0,0,0,0,0,0,0,{"$f":"IFERROR(IF(OR($AG89=\"\",$K89=\"\",AH89=\"Exterior\"),1,INDEX('Factor Tables'!C$46:C$51,MATCH(Inventory!$K89,'Factor Tables'!$B$46:$B$51,0))),1)","v":1},{"$f":"IFERROR(IF(OR($AG89=\"\",$K89=\"\",AH89=\"Exterior\"),1,INDEX('Factor Tables'!D$46:D$51,MATCH(Inventory!$K89,'Factor Tables'!$B$46:$B$51,0))),1)","v":1},0,0,0,0,0,0,0,0,0,0,0,0,0,0,0,0,{"$f":"IFERROR(VLOOKUP(IF($AD89=\"Removed\",E89,$AD89),'Fixture Descriptions'!$A:$I,9,0),\"\")","v":0},{"$f":"IF($AD89=\"\",\"\",VLOOKUP($AD89,'Fixture Descriptions'!$A:$I,2,0))","v":""},{"$f":"IF(I89=\"\",\"\",IF(I89=\"Removed\",\"N/A\",IF(IFERROR(VLOOKUP(I89,'Fixture Schedule'!$C$9:$G$58,5,0),L89)=\"\",\"Not Qualified\",IFERROR(VLOOKUP(I89,'Fixture Schedule'!$C$9:$G$58,5,0),L89))))","v":""},{"$f":"IFERROR(INDEX('Utility Admin'!$F$3:$AW$3,1,MATCH(1,(CC$8='Utility Admin'!$F$1:$AW$1)*(Inventory!$AH89='Utility Admin'!$F$2:$AW$2)*(Inventory!$BZ89=('Utility Admin'!$F$4:$AW$4)),0)),0)","v":0},{"$f":"IFERROR(INDEX('Utility Admin'!$F$3:$AW$3,1,MATCH(1,(CD$8='Utility Admin'!$F$1:$AW$1)*(Inventory!$AH89='Utility Admin'!$F$2:$AW$2)*(Inventory!$BZ89=('Utility Admin'!$F$4:$AW$4)),0)),0)","v":0},{"$f":"IFERROR(INDEX('Utility Admin'!$F$3:$AW$3,1,MATCH(1,(CC$8='Utility Admin'!$F$1:$AW$1)*(Inventory!$AH89='Utility Admin'!$F$2:$AW$2)*(\"Lighting Controls\"=('Utility Admin'!$F$4:$AW$4)),0)),0)","v":0},{"$f":"IFERROR(INDEX('Utility Admin'!$F$3:$AW$3,1,MATCH(1,(CD$8='Utility Admin'!$F$1:$AW$1)*(Inventory!$AH89='Utility Admin'!$F$2:$AW$2)*(\"Lighting Controls\"=('Utility Admin'!$F$4:$AW$4)),0)),0)","v":0},false]
[null,82,null,null,null,null,null,null,null,null,null,null,null,{"$f":"IF(OR(I90=\"\",J90=\"\",AND(ProjectType=\"Retrofit\",OR(E90=\"\",F90=\"\"))),\"-\",IF(OR(CB90=0,CB90=\"Not Qualified\"),\"N\",IFERROR(INDEX('Fixture Descriptions'!K:K,MATCH(AD90,'Fixture Descriptions'!A:A,0)),\"N\")))","v":"-"},0,0,0,0,0,0,0,0,0,{"$f":"ROUND(IFERROR(IF($AE$7,BJ90*MaxIncentive,Inventory!Z90),0),2)","v":0},0,0,0,0,0,{"$f":"IF(I90=\"\",\"\",IFERROR(VLOOKUP(I90,'Fixture Schedule'!$C$9:$D$58,2,0),I90))","v":""},{"$f":"10","v":10},{"$f":"IFERROR(VLOOKUP(IF(I90=\"REMOVED\",E90,AD90),'Fixture Descriptions'!A:J,10,FALSE),0)","v":0},{"$f":"IFERROR(INDEX('Buildings and Areas'!D$5:D$14,MATCH($C90,'Buildings and Areas'!$B$5:$B$14,0),1),\"\")","v":""},{"$f":"IFERROR(INDEX('Buildings and Areas'!C$5:C$14,MATCH($C90,'Buildings and Areas'!$B$5:$B$14,0),1),\"\")","v":""},{"$f":"IFERROR(INDEX('Buildings and Areas'!R$5:R$14,MATCH($C90,'Buildings and Areas'!$B$5:$B$14,0),1),0)","v":0},{"$f":"IFERROR(INDEX('Buildings and Areas'!S$5:S$14,MATCH($C90,'Buildings and Areas'!$B$5:$B$14,0),1),0)","v":0},{"$f":"IFERROR(INDEX('Buildings and Areas'!T$5:T$14,MATCH($C90,'Buildings and Areas'!$B$5:$B$14,0),1),0)","v":0},{"$f":"IFERROR(INDEX('Buildings and Areas'!O$5:O$14,MATCH($C90,'Buildings and Areas'!$B$5:$B$14,0),1),\"\")","v":""},{"$f":"IFERROR(INDEX('Buildings and Areas'!F$5:F$14,MATCH($C90,'Buildings and Areas'!$B$5:$B$14,0),1)&IF(AH90=\"Exterior\",\": \"&'Buildings and Areas'!$H$4,\"\"),\"\")","v":""},{"$f":"IFERROR(INDEX('Buildings and Areas'!H$5:H$14,MATCH($C90,'Buildings and Areas'!$B$5:$B$14,0),1),\"\")","v":""},{"$f":"IFERROR(IF(INDEX('Buildings and Areas'!L$5:L$14,MATCH($C90,'Buildings and Areas'!$B$5:$B$14,0),1)=\"\",\"Deemed\",INDEX('Buildings and Areas'!L$5:L$14,MATCH($C90,'Buildings and Areas'!$B$5:$B$14,0),1)),\"\")","v":""},{"$f":"IFERROR(IF(INDEX('Buildings and Areas'!M$5:M$14,MATCH($C90,'Buildings and Areas'!$B$5:$B$14,0),1)=\"\",\"Deemed\",INDEX('Buildings and Areas'!M$5:M$14,MATCH($C90,'Buildings and Areas'!$B$5:$B$14,0),1)),\"\")","v":""},{"$f":"IFERROR(INDEX('Buildings and Areas'!P$5:P$14,MATCH($C90,'Buildings and Areas'!$B$5:$B$14,0),1),0)","v":0},{"$f":"IFERROR(INDEX('Buildings and Areas'!Q$5:Q$14,MATCH($C90,'Buildings and Areas'!$B$5:$B$14,0),1),0)","v":0},{"$f":"IF(OR($AG90=\"\",$E90=\"\",$F90=\"\"),0,IF($F$124>0.1,(VLOOKUP($E90,'Fixture Descriptions'!$A:$I,8,0)/1000)*(1-$G$124),(VLOOKUP($E90,'Fixture Descriptions'!$A:$I,8,0)/1000)))","v":0},0,0,0,0,{"$f":"IFERROR(IF(OR('Buildings and Areas'!$D$2=\"New Construction\",$AG90=\"\",$H90=\"\",AH90=\"Exterior\"),1,INDEX('Factor Tables'!C$46:C$51,MATCH(Inventory!$H90,'Factor Tables'!$B$46:$B$51,0))),1)","v":1},{"$f":"IF(OR('Buildings and Areas'!$D$2=\"New Construction\",$AG90=\"\",$H90=\"\",AH90=\"Exterior\"),1,INDEX('Factor Tables'!D$46:D$51,MATCH(Inventory!$H90,'Factor Tables'!$B$46:$B$51,0)))","v":1},{"$f":"IF(I90=\"REMOVED\",0,IF($AD90<>\"\",VLOOKUP($AD90,'Fixture Descriptions'!$A:$I,8,0)/1000,0))","v":0},0,0,0,0,0,0,0,{"$f":"IFERROR(IF(OR($AG90=\"\",$K90=\"\",AH90=\"Exterior\"),1,INDEX('Factor Tables'!C$46:C$51,MATCH(Inventory!$K90,'Factor Tables'!$B$46:$B$51,0))),1)","v":1},{"$f":"IFERROR(IF(OR($AG90=\"\",$K90=\"\",AH90=\"Exterior\"),1,INDEX('Factor Tables'!D$46:D$51,MATCH(Inventory!$K90,'Factor Tables'!$B$46:$B$51,0))),1)","v":1},0,0,0,0,0,0,0,0,0,0,0,0,0,0,0,0,{"$f":"IFERROR(VLOOKUP(IF($AD90=\"Removed\",E90,$AD90),'Fixture Descriptions'!$A:$I,9,0),\"\")","v":0},{"$f":"IF($AD90=\"\",\"\",VLOOKUP($AD90,'Fixture Descriptions'!$A:$I,2,0))","v":""},{"$f":"IF(I90=\"\",\"\",IF(I90=\"Removed\",\"N/A\",IF(IFERROR(VLOOKUP(I90,'Fixture Schedule'!$C$9:$G$58,5,0),L90)=\"\",\"Not Qualified\",IFERROR(VLOOKUP(I90,'Fixture Schedule'!$C$9:$G$58,5,0),L90))))","v":""},{"$f":"IFERROR(INDEX('Utility Admin'!$F$3:$AW$3,1,MATCH(1,(CC$8='Utility Admin'!$F$1:$AW$1)*(Inventory!$AH90='Utility Admin'!$F$2:$AW$2)*(Inventory!$BZ90=('Utility Admin'!$F$4:$AW$4)),0)),0)","v":0},{"$f":"IFERROR(INDEX('Utility Admin'!$F$3:$AW$3,1,MATCH(1,(CD$8='Utility Admin'!$F$1:$AW$1)*(Inventory!$AH90='Utility Admin'!$F$2:$AW$2)*(Inventory!$BZ90=('Utility Admin'!$F$4:$AW$4)),0)),0)","v":0},{"$f":"IFERROR(INDEX('Utility Admin'!$F$3:$AW$3,1,MATCH(1,(CC$8='Utility Admin'!$F$1:$AW$1)*(Inventory!$AH90='Utility Admin'!$F$2:$AW$2)*(\"Lighting Controls\"=('Utility Admin'!$F$4:$AW$4)),0)),0)","v":0},{"$f":"IFERROR(INDEX('Utility Admin'!$F$3:$AW$3,1,MATCH(1,(CD$8='Utility Admin'!$F$1:$AW$1)*(Inventory!$AH90='Utility Admin'!$F$2:$AW$2)*(\"Lighting Controls\"=('Utility Admin'!$F$4:$AW$4)),0)),0)","v":0},false]
[null,83,null,null,null,null,null,null,null,null,null,null,null,{"$f":"IF(OR(I91=\"\",J91=\"\",AND(ProjectType=\"Retrofit\",OR(E91=\"\",F91=\"\"))),\"-\",IF(OR(CB91=0,CB91=\"Not Qualified\"),\"N\",IFERROR(INDEX('Fixture Descriptions'!K:K,MATCH(AD91,'Fixture Descriptions'!A:A,0)),\"N\")))","v":"-"},0,0,0,0,0,0,0,0,0,{"$f":"ROUND(IFERROR(IF($AE$7,BJ91*MaxIncentive,Inventory!Z91),0),2)","v":0},0,0,0,0,0,{"$f":"IF(I91=\"\",\"\",IFERROR(VLOOKUP(I91,'Fixture Schedule'!$C$9:$D$58,2,0),I91))","v":""},{"$f":"10","v":10},{"$f":"IFERROR(VLOOKUP(IF(I91=\"REMOVED\",E91,AD91),'Fixture Descriptions'!A:J,10,FALSE),0)","v":0},{"$f":"IFERROR(INDEX('Buildings and Areas'!D$5:D$14,MATCH($C91,'Buildings and Areas'!$B$5:$B$14,0),1),\"\")","v":""},{"$f":"IFERROR(INDEX('Buildings and Areas'!C$5:C$14,MATCH($C91,'Buildings and Areas'!$B$5:$B$14,0),1),\"\")","v":""},{"$f":"IFERROR(INDEX('Buildings and Areas'!R$5:R$14,MATCH($C91,'Buildings and Areas'!$B$5:$B$14,0),1),0)","v":0},{"$f":"IFERROR(INDEX('Buildings and Areas'!S$5:S$14,MATCH($C91,'Buildings and Areas'!$B$5:$B$14,0),1),0)","v":0},{"$f":"IFERROR(INDEX('Buildings and Areas'!T$5:T$14,MATCH($C91,'Buildings and Areas'!$B$5:$B$14,0),1),0)","v":0},{"$f":"IFERROR(INDEX('Buildings and Areas'!O$5:O$14,MATCH($C91,'Buildings and Areas'!$B$5:$B$14,0),1),\"\")","v":""},{"$f":"IFERROR(INDEX('Buildings and Areas'!F$5:F$14,MATCH($C91,'Buildings and Areas'!$B$5:$B$14,0),1)&IF(AH91=\"Exterior\",\": \"&'Buildings and Areas'!$H$4,\"\"),\"\")","v":""},{"$f":"IFERROR(INDEX('Buildings and Areas'!H$5:H$14,MATCH($C91,'Buildings and Areas'!$B$5:$B$14,0),1),\"\")","v":""},{"$f":"IFERROR(IF(INDEX('Buildings and Areas'!L$5:L$14,MATCH($C91,'Buildings and Areas'!$B$5:$B$14,0),1)=\"\",\"Deemed\",INDEX('Buildings and Areas'!L$5:L$14,MATCH($C91,'Buildings and Areas'!$B$5:$B$14,0),1)),\"\")","v":""},{"$f":"IFERROR(IF(INDEX('Buildings and Areas'!M$5:M$14,MATCH($C91,'Buildings and Areas'!$B$5:$B$14,0),1)=\"\",\"Deemed\",INDEX('Buildings and Areas'!M$5:M$14,MATCH($C91,'Buildings and Areas'!$B$5:$B$14,0),1)),\"\")","v":""},{"$f":"IFERROR(INDEX('Buildings and Areas'!P$5:P$14,MATCH($C91,'Buildings and Areas'!$B$5:$B$14,0),1),0)","v":0},{"$f":"IFERROR(INDEX('Buildings and Areas'!Q$5:Q$14,MATCH($C91,'Buildings and Areas'!$B$5:$B$14,0),1),0)","v":0},{"$f":"IF(OR($AG91=\"\",$E91=\"\",$F91=\"\"),0,IF($F$124>0.1,(VLOOKUP($E91,'Fixture Descriptions'!$A:$I,8,0)/1000)*(1-$G$124),(VLOOKUP($E91,'Fixture Descriptions'!$A:$I,8,0)/1000)))","v":0},0,0,0,0,{"$f":"IFERROR(IF(OR('Buildings and Areas'!$D$2=\"New Construction\",$AG91=\"\",$H91=\"\",AH91=\"Exterior\"),1,INDEX('Factor Tables'!C$46:C$51,MATCH(Inventory!$H91,'Factor Tables'!$B$46:$B$51,0))),1)","v":1},{"$f":"IF(OR('Buildings and Areas'!$D$2=\"New Construction\",$AG91=\"\",$H91=\"\",AH91=\"Exterior\"),1,INDEX('Factor Tables'!D$46:D$51,MATCH(Inventory!$H91,'Factor Tables'!$B$46:$B$51,0)))","v":1},{"$f":"IF(I91=\"REMOVED\",0,IF($AD91<>\"\",VLOOKUP($AD91,'Fixture Descriptions'!$A:$I,8,0)/1000,0))","v":0},0,0,0,0,0,0,0,{"$f":"IFERROR(IF(OR($AG91=\"\",$K91=\"\",AH91=\"Exterior\"),1,INDEX('Factor Tables'!C$46:C$51,MATCH(Inventory!$K91,'Factor Tables'!$B$46:$B$51,0))),1)","v":1},{"$f":"IFERROR(IF(OR($AG91=\"\",$K91=\"\",AH91=\"Exterior\"),1,INDEX('Factor Tables'!D$46:D$51,MATCH(Inventory!$K91,'Factor Tables'!$B$46:$B$51,0))),1)","v":1},0,0,0,0,0,0,0,0,0,0,0,0,0,0,0,0,{"$f":"IFERROR(VLOOKUP(IF($AD91=\"Removed\",E91,$AD91),'Fixture Descriptions'!$A:$I,9,0),\"\")","v":0},{"$f":"IF($AD91=\"\",\"\",VLOOKUP($AD91,'Fixture Descriptions'!$A:$I,2,0))","v":""},{"$f":"IF(I91=\"\",\"\",IF(I91=\"Removed\",\"N/A\",IF(IFERROR(VLOOKUP(I91,'Fixture Schedule'!$C$9:$G$58,5,0),L91)=\"\",\"Not Qualified\",IFERROR(VLOOKUP(I91,'Fixture Schedule'!$C$9:$G$58,5,0),L91))))","v":""},{"$f":"IFERROR(INDEX('Utility Admin'!$F$3:$AW$3,1,MATCH(1,(CC$8='Utility Admin'!$F$1:$AW$1)*(Inventory!$AH91='Utility Admin'!$F$2:$AW$2)*(Inventory!$BZ91=('Utility Admin'!$F$4:$AW$4)),0)),0)","v":0},{"$f":"IFERROR(INDEX('Utility Admin'!$F$3:$AW$3,1,MATCH(1,(CD$8='Utility Admin'!$F$1:$AW$1)*(Inventory!$AH91='Utility Admin'!$F$2:$AW$2)*(Inventory!$BZ91=('Utility Admin'!$F$4:$AW$4)),0)),0)","v":0},{"$f":"IFERROR(INDEX('Utility Admin'!$F$3:$AW$3,1,MATCH(1,(CC$8='Utility Admin'!$F$1:$AW$1)*(Inventory!$AH91='Utility Admin'!$F$2:$AW$2)*(\"Lighting Controls\"=('Utility Admin'!$F$4:$AW$4)),0)),0)","v":0},{"$f":"IFERROR(INDEX('Utility Admin'!$F$3:$AW$3,1,MATCH(1,(CD$8='Utility Admin'!$F$1:$AW$1)*(Inventory!$AH91='Utility Admin'!$F$2:$AW$2)*(\"Lighting Controls\"=('Utility Admin'!$F$4:$AW$4)),0)),0)","v":0},false]
[null,84,null,null,null,null,null,null,null,null,null,null,null,{"$f":"IF(OR(I92=\"\",J92=\"\",AND(ProjectType=\"Retrofit\",OR(E92=\"\",F92=\"\"))),\"-\",IF(OR(CB92=0,CB92=\"Not Qualified\"),\"N\",IFERROR(INDEX('Fixture Descriptions'!K:K,MATCH(AD92,'Fixture Descriptions'!A:A,0)),\"N\")))","v":"-"},0,0,0,0,0,0,0,0,0,{"$f":"ROUND(IFERROR(IF($AE$7,BJ92*MaxIncentive,Inventory!Z92),0),2)","v":0},0,0,0,0,0,{"$f":"IF(I92=\"\",\"\",IFERROR(VLOOKUP(I92,'Fixture Schedule'!$C$9:$D$58,2,0),I92))","v":""},{"$f":"10","v":10},{"$f":"IFERROR(VLOOKUP(IF(I92=\"REMOVED\",E92,AD92),'Fixture Descriptions'!A:J,10,FALSE),0)","v":0},{"$f":"IFERROR(INDEX('Buildings and Areas'!D$5:D$14,MATCH($C92,'Buildings and Areas'!$B$5:$B$14,0),1),\"\")","v":""},{"$f":"IFERROR(INDEX('Buildings and Areas'!C$5:C$14,MATCH($C92,'Buildings and Areas'!$B$5:$B$14,0),1),\"\")","v":""},{"$f":"IFERROR(INDEX('Buildings and Areas'!R$5:R$14,MATCH($C92,'Buildings and Areas'!$B$5:$B$14,0),1),0)","v":0},{"$f":"IFERROR(INDEX('Buildings and Areas'!S$5:S$14,MATCH($C92,'Buildings and Areas'!$B$5:$B$14,0),1),0)","v":0},{"$f":"IFERROR(INDEX('Buildings and Areas'!T$5:T$14,MATCH($C92,'Buildings and Areas'!$B$5:$B$14,0),1),0)","v":0},{"$f":"IFERROR(INDEX('Buildings and Areas'!O$5:O$14,MATCH($C92,'Buildings and Areas'!$B$5:$B$14,0),1),\"\")","v":""},{"$f":"IFERROR(INDEX('Buildings and Areas'!F$5:F$14,MATCH($C92,'Buildings and Areas'!$B$5:$B$14,0),1)&IF(AH92=\"Exterior\",\": \"&'Buildings and Areas'!$H$4,\"\"),\"\")","v":""},{"$f":"IFERROR(INDEX('Buildings and Areas'!H$5:H$14,MATCH($C92,'Buildings and Areas'!$B$5:$B$14,0),1),\"\")","v":""},{"$f":"IFERROR(IF(INDEX('Buildings and Areas'!L$5:L$14,MATCH($C92,'Buildings and Areas'!$B$5:$B$14,0),1)=\"\",\"Deemed\",INDEX('Buildings and Areas'!L$5:L$14,MATCH($C92,'Buildings and Areas'!$B$5:$B$14,0),1)),\"\")","v":""},{"$f":"IFERROR(IF(INDEX('Buildings and Areas'!M$5:M$14,MATCH($C92,'Buildings and Areas'!$B$5:$B$14,0),1)=\"\",\"Deemed\",INDEX('Buildings and Areas'!M$5:M$14,MATCH($C92,'Buildings and Areas'!$B$5:$B$14,0),1)),\"\")","v":""},{"$f":"IFERROR(INDEX('Buildings and Areas'!P$5:P$14,MATCH($C92,'Buildings and Areas'!$B$5:$B$14,0),1),0)","v":0},{"$f":"IFERROR(INDEX('Buildings and Areas'!Q$5:Q$14,MATCH($C92,'Buildings and Areas'!$B$5:$B$14,0),1),0)","v":0},{"$f":"IF(OR($AG92=\"\",$E92=\"\",$F92=\"\"),0,IF($F$124>0.1,(VLOOKUP($E92,'Fixture Descriptions'!$A:$I,8,0)/1000)*(1-$G$124),(VLOOKUP($E92,'Fixture Descriptions'!$A:$I,8,0)/1000)))","v":0},0,0,0,0,{"$f":"IFERROR(IF(OR('Buildings and Areas'!$D$2=\"New Construction\",$AG92=\"\",$H92=\"\",AH92=\"Exterior\"),1,INDEX('Factor Tables'!C$46:C$51,MATCH(Inventory!$H92,'Factor Tables'!$B$46:$B$51,0))),1)","v":1},{"$f":"IF(OR('Buildings and Areas'!$D$2=\"New Construction\",$AG92=\"\",$H92=\"\",AH92=\"Exterior\"),1,INDEX('Factor Tables'!D$46:D$51,MATCH(Inventory!$H92,'Factor Tables'!$B$46:$B$51,0)))","v":1},{"$f":"IF(I92=\"REMOVED\",0,IF($AD92<>\"\",VLOOKUP($AD92,'Fixture Descriptions'!$A:$I,8,0)/1000,0))","v":0},0,0,0,0,0,0,0,{"$f":"IFERROR(IF(OR($AG92=\"\",$K92=\"\",AH92=\"Exterior\"),1,INDEX('Factor Tables'!C$46:C$51,MATCH(Inventory!$K92,'Factor Tables'!$B$46:$B$51,0))),1)","v":1},{"$f":"IFERROR(IF(OR($AG92=\"\",$K92=\"\",AH92=\"Exterior\"),1,INDEX('Factor Tables'!D$46:D$51,MATCH(Inventory!$K92,'Factor Tables'!$B$46:$B$51,0))),1)","v":1},0,0,0,0,0,0,0,0,0,0,0,0,0,0,0,0,{"$f":"IFERROR(VLOOKUP(IF($AD92=\"Removed\",E92,$AD92),'Fixture Descriptions'!$A:$I,9,0),\"\")","v":0},{"$f":"IF($AD92=\"\",\"\",VLOOKUP($AD92,'Fixture Descriptions'!$A:$I,2,0))","v":""},{"$f":"IF(I92=\"\",\"\",IF(I92=\"Removed\",\"N/A\",IF(IFERROR(VLOOKUP(I92,'Fixture Schedule'!$C$9:$G$58,5,0),L92)=\"\",\"Not Qualified\",IFERROR(VLOOKUP(I92,'Fixture Schedule'!$C$9:$G$58,5,0),L92))))","v":""},{"$f":"IFERROR(INDEX('Utility Admin'!$F$3:$AW$3,1,MATCH(1,(CC$8='Utility Admin'!$F$1:$AW$1)*(Inventory!$AH92='Utility Admin'!$F$2:$AW$2)*(Inventory!$BZ92=('Utility Admin'!$F$4:$AW$4)),0)),0)","v":0},{"$f":"IFERROR(INDEX('Utility Admin'!$F$3:$AW$3,1,MATCH(1,(CD$8='Utility Admin'!$F$1:$AW$1)*(Inventory!$AH92='Utility Admin'!$F$2:$AW$2)*(Inventory!$BZ92=('Utility Admin'!$F$4:$AW$4)),0)),0)","v":0},{"$f":"IFERROR(INDEX('Utility Admin'!$F$3:$AW$3,1,MATCH(1,(CC$8='Utility Admin'!$F$1:$AW$1)*(Inventory!$AH92='Utility Admin'!$F$2:$AW$2)*(\"Lighting Controls\"=('Utility Admin'!$F$4:$AW$4)),0)),0)","v":0},{"$f":"IFERROR(INDEX('Utility Admin'!$F$3:$AW$3,1,MATCH(1,(CD$8='Utility Admin'!$F$1:$AW$1)*(Inventory!$AH92='Utility Admin'!$F$2:$AW$2)*(\"Lighting Controls\"=('Utility Admin'!$F$4:$AW$4)),0)),0)","v":0},false]
[null,85,null,null,null,null,null,null,null,null,null,null,null,{"$f":"IF(OR(I93=\"\",J93=\"\",AND(ProjectType=\"Retrofit\",OR(E93=\"\",F93=\"\"))),\"-\",IF(OR(CB93=0,CB93=\"Not Qualified\"),\"N\",IFERROR(INDEX('Fixture Descriptions'!K:K,MATCH(AD93,'Fixture Descriptions'!A:A,0)),\"N\")))","v":"-"},0,0,0,0,0,0,0,0,0,{"$f":"ROUND(IFERROR(IF($AE$7,BJ93*MaxIncentive,Inventory!Z93),0),2)","v":0},0,0,0,0,0,{"$f":"IF(I93=\"\",\"\",IFERROR(VLOOKUP(I93,'Fixture Schedule'!$C$9:$D$58,2,0),I93))","v":""},{"$f":"10","v":10},{"$f":"IFERROR(VLOOKUP(IF(I93=\"REMOVED\",E93,AD93),'Fixture Descriptions'!A:J,10,FALSE),0)","v":0},{"$f":"IFERROR(INDEX('Buildings and Areas'!D$5:D$14,MATCH($C93,'Buildings and Areas'!$B$5:$B$14,0),1),\"\")","v":""},{"$f":"IFERROR(INDEX('Buildings and Areas'!C$5:C$14,MATCH($C93,'Buildings and Areas'!$B$5:$B$14,0),1),\"\")","v":""},{"$f":"IFERROR(INDEX('Buildings and Areas'!R$5:R$14,MATCH($C93,'Buildings and Areas'!$B$5:$B$14,0),1),0)","v":0},{"$f":"IFERROR(INDEX('Buildings and Areas'!S$5:S$14,MATCH($C93,'Buildings and Areas'!$B$5:$B$14,0),1),0)","v":0},{"$f":"IFERROR(INDEX('Buildings and Areas'!T$5:T$14,MATCH($C93,'Buildings and Areas'!$B$5:$B$14,0),1),0)","v":0},{"$f":"IFERROR(INDEX('Buildings and Areas'!O$5:O$14,MATCH($C93,'Buildings and Areas'!$B$5:$B$14,0),1),\"\")","v":""},{"$f":"IFERROR(INDEX('Buildings and Areas'!F$5:F$14,MATCH($C93,'Buildings and Areas'!$B$5:$B$14,0),1)&IF(AH93=\"Exterior\",\": \"&'Buildings and Areas'!$H$4,\"\"),\"\")","v":""},{"$f":"IFERROR(INDEX('Buildings and Areas'!H$5:H$14,MATCH($C93,'Buildings and Areas'!$B$5:$B$14,0),1),\"\")","v":""},{"$f":"IFERROR(IF(INDEX('Buildings and Areas'!L$5:L$14,MATCH($C93,'Buildings and Areas'!$B$5:$B$14,0),1)=\"\",\"Deemed\",INDEX('Buildings and Areas'!L$5:L$14,MATCH($C93,'Buildings and Areas'!$B$5:$B$14,0),1)),\"\")","v":""},{"$f":"IFERROR(IF(INDEX('Buildings and Areas'!M$5:M$14,MATCH($C93,'Buildings and Areas'!$B$5:$B$14,0),1)=\"\",\"Deemed\",INDEX('Buildings and Areas'!M$5:M$14,MATCH($C93,'Buildings and Areas'!$B$5:$B$14,0),1)),\"\")","v":""},{"$f":"IFERROR(INDEX('Buildings and Areas'!P$5:P$14,MATCH($C93,'Buildings and Areas'!$B$5:$B$14,0),1),0)","v":0},{"$f":"IFERROR(INDEX('Buildings and Areas'!Q$5:Q$14,MATCH($C93,'Buildings and Areas'!$B$5:$B$14,0),1),0)","v":0},{"$f":"IF(OR($AG93=\"\",$E93=\"\",$F93=\"\"),0,IF($F$124>0.1,(VLOOKUP($E93,'Fixture Descriptions'!$A:$I,8,0)/1000)*(1-$G$124),(VLOOKUP($E93,'Fixture Descriptions'!$A:$I,8,0)/1000)))","v":0},0,0,0,0,{"$f":"IFERROR(IF(OR('Buildings and Areas'!$D$2=\"New Construction\",$AG93=\"\",$H93=\"\",AH93=\"Exterior\"),1,INDEX('Factor Tables'!C$46:C$51,MATCH(Inventory!$H93,'Factor Tables'!$B$46:$B$51,0))),1)","v":1},{"$f":"IF(OR('Buildings and Areas'!$D$2=\"New Construction\",$AG93=\"\",$H93=\"\",AH93=\"Exterior\"),1,INDEX('Factor Tables'!D$46:D$51,MATCH(Inventory!$H93,'Factor Tables'!$B$46:$B$51,0)))","v":1},{"$f":"IF(I93=\"REMOVED\",0,IF($AD93<>\"\",VLOOKUP($AD93,'Fixture Descriptions'!$A:$I,8,0)/1000,0))","v":0},0,0,0,0,0,0,0,{"$f":"IFERROR(IF(OR($AG93=\"\",$K93=\"\",AH93=\"Exterior\"),1,INDEX('Factor Tables'!C$46:C$51,MATCH(Inventory!$K93,'Factor Tables'!$B$46:$B$51,0))),1)","v":1},{"$f":"IFERROR(IF(OR($AG93=\"\",$K93=\"\",AH93=\"Exterior\"),1,INDEX('Factor Tables'!D$46:D$51,MATCH(Inventory!$K93,'Factor Tables'!$B$46:$B$51,0))),1)","v":1},0,0,0,0,0,0,0,0,0,0,0,0,0,0,0,0,{"$f":"IFERROR(VLOOKUP(IF($AD93=\"Removed\",E93,$AD93),'Fixture Descriptions'!$A:$I,9,0),\"\")","v":0},{"$f":"IF($AD93=\"\",\"\",VLOOKUP($AD93,'Fixture Descriptions'!$A:$I,2,0))","v":""},{"$f":"IF(I93=\"\",\"\",IF(I93=\"Removed\",\"N/A\",IF(IFERROR(VLOOKUP(I93,'Fixture Schedule'!$C$9:$G$58,5,0),L93)=\"\",\"Not Qualified\",IFERROR(VLOOKUP(I93,'Fixture Schedule'!$C$9:$G$58,5,0),L93))))","v":""},{"$f":"IFERROR(INDEX('Utility Admin'!$F$3:$AW$3,1,MATCH(1,(CC$8='Utility Admin'!$F$1:$AW$1)*(Inventory!$AH93='Utility Admin'!$F$2:$AW$2)*(Inventory!$BZ93=('Utility Admin'!$F$4:$AW$4)),0)),0)","v":0},{"$f":"IFERROR(INDEX('Utility Admin'!$F$3:$AW$3,1,MATCH(1,(CD$8='Utility Admin'!$F$1:$AW$1)*(Inventory!$AH93='Utility Admin'!$F$2:$AW$2)*(Inventory!$BZ93=('Utility Admin'!$F$4:$AW$4)),0)),0)","v":0},{"$f":"IFERROR(INDEX('Utility Admin'!$F$3:$AW$3,1,MATCH(1,(CC$8='Utility Admin'!$F$1:$AW$1)*(Inventory!$AH93='Utility Admin'!$F$2:$AW$2)*(\"Lighting Controls\"=('Utility Admin'!$F$4:$AW$4)),0)),0)","v":0},{"$f":"IFERROR(INDEX('Utility Admin'!$F$3:$AW$3,1,MATCH(1,(CD$8='Utility Admin'!$F$1:$AW$1)*(Inventory!$AH93='Utility Admin'!$F$2:$AW$2)*(\"Lighting Controls\"=('Utility Admin'!$F$4:$AW$4)),0)),0)","v":0},false]
[null,86,null,null,null,null,null,null,null,null,null,null,null,{"$f":"IF(OR(I94=\"\",J94=\"\",AND(ProjectType=\"Retrofit\",OR(E94=\"\",F94=\"\"))),\"-\",IF(OR(CB94=0,CB94=\"Not Qualified\"),\"N\",IFERROR(INDEX('Fixture Descriptions'!K:K,MATCH(AD94,'Fixture Descriptions'!A:A,0)),\"N\")))","v":"-"},0,0,0,0,0,0,0,0,0,{"$f":"ROUND(IFERROR(IF($AE$7,BJ94*MaxIncentive,Inventory!Z94),0),2)","v":0},0,0,0,0,0,{"$f":"IF(I94=\"\",\"\",IFERROR(VLOOKUP(I94,'Fixture Schedule'!$C$9:$D$58,2,0),I94))","v":""},{"$f":"10","v":10},{"$f":"IFERROR(VLOOKUP(IF(I94=\"REMOVED\",E94,AD94),'Fixture Descriptions'!A:J,10,FALSE),0)","v":0},{"$f":"IFERROR(INDEX('Buildings and Areas'!D$5:D$14,MATCH($C94,'Buildings and Areas'!$B$5:$B$14,0),1),\"\")","v":""},{"$f":"IFERROR(INDEX('Buildings and Areas'!C$5:C$14,MATCH($C94,'Buildings and Areas'!$B$5:$B$14,0),1),\"\")","v":""},{"$f":"IFERROR(INDEX('Buildings and Areas'!R$5:R$14,MATCH($C94,'Buildings and Areas'!$B$5:$B$14,0),1),0)","v":0},{"$f":"IFERROR(INDEX('Buildings and Areas'!S$5:S$14,MATCH($C94,'Buildings and Areas'!$B$5:$B$14,0),1),0)","v":0},{"$f":"IFERROR(INDEX('Buildings and Areas'!T$5:T$14,MATCH($C94,'Buildings and Areas'!$B$5:$B$14,0),1),0)","v":0},{"$f":"IFERROR(INDEX('Buildings and Areas'!O$5:O$14,MATCH($C94,'Buildings and Areas'!$B$5:$B$14,0),1),\"\")","v":""},{"$f":"IFERROR(INDEX('Buildings and Areas'!F$5:F$14,MATCH($C94,'Buildings and Areas'!$B$5:$B$14,0),1)&IF(AH94=\"Exterior\",\": \"&'Buildings and Areas'!$H$4,\"\"),\"\")","v":""},{"$f":"IFERROR(INDEX('Buildings and Areas'!H$5:H$14,MATCH($C94,'Buildings and Areas'!$B$5:$B$14,0),1),\"\")","v":""},{"$f":"IFERROR(IF(INDEX('Buildings and Areas'!L$5:L$14,MATCH($C94,'Buildings and Areas'!$B$5:$B$14,0),1)=\"\",\"Deemed\",INDEX('Buildings and Areas'!L$5:L$14,MATCH($C94,'Buildings and Areas'!$B$5:$B$14,0),1)),\"\")","v":""},{"$f":"IFERROR(IF(INDEX('Buildings and Areas'!M$5:M$14,MATCH($C94,'Buildings and Areas'!$B$5:$B$14,0),1)=\"\",\"Deemed\",INDEX('Buildings and Areas'!M$5:M$14,MATCH($C94,'Buildings and Areas'!$B$5:$B$14,0),1)),\"\")","v":""},{"$f":"IFERROR(INDEX('Buildings and Areas'!P$5:P$14,MATCH($C94,'Buildings and Areas'!$B$5:$B$14,0),1),0)","v":0},{"$f":"IFERROR(INDEX('Buildings and Areas'!Q$5:Q$14,MATCH($C94,'Buildings and Areas'!$B$5:$B$14,0),1),0)","v":0},{"$f":"IF(OR($AG94=\"\",$E94=\"\",$F94=\"\"),0,IF($F$124>0.1,(VLOOKUP($E94,'Fixture Descriptions'!$A:$I,8,0)/1000)*(1-$G$124),(VLOOKUP($E94,'Fixture Descriptions'!$A:$I,8,0)/1000)))","v":0},0,0,0,0,{"$f":"IFERROR(IF(OR('Buildings and Areas'!$D$2=\"New Construction\",$AG94=\"\",$H94=\"\",AH94=\"Exterior\"),1,INDEX('Factor Tables'!C$46:C$51,MATCH(Inventory!$H94,'Factor Tables'!$B$46:$B$51,0))),1)","v":1},{"$f":"IF(OR('Buildings and Areas'!$D$2=\"New Construction\",$AG94=\"\",$H94=\"\",AH94=\"Exterior\"),1,INDEX('Factor Tables'!D$46:D$51,MATCH(Inventory!$H94,'Factor Tables'!$B$46:$B$51,0)))","v":1},{"$f":"IF(I94=\"REMOVED\",0,IF($AD94<>\"\",VLOOKUP($AD94,'Fixture Descriptions'!$A:$I,8,0)/1000,0))","v":0},0,0,0,0,0,0,0,{"$f":"IFERROR(IF(OR($AG94=\"\",$K94=\"\",AH94=\"Exterior\"),1,INDEX('Factor Tables'!C$46:C$51,MATCH(Inventory!$K94,'Factor Tables'!$B$46:$B$51,0))),1)","v":1},{"$f":"IFERROR(IF(OR($AG94=\"\",$K94=\"\",AH94=\"Exterior\"),1,INDEX('Factor Tables'!D$46:D$51,MATCH(Inventory!$K94,'Factor Tables'!$B$46:$B$51,0))),1)","v":1},0,0,0,0,0,0,0,0,0,0,0,0,0,0,0,0,{"$f":"IFERROR(VLOOKUP(IF($AD94=\"Removed\",E94,$AD94),'Fixture Descriptions'!$A:$I,9,0),\"\")","v":0},{"$f":"IF($AD94=\"\",\"\",VLOOKUP($AD94,'Fixture Descriptions'!$A:$I,2,0))","v":""},{"$f":"IF(I94=\"\",\"\",IF(I94=\"Removed\",\"N/A\",IF(IFERROR(VLOOKUP(I94,'Fixture Schedule'!$C$9:$G$58,5,0),L94)=\"\",\"Not Qualified\",IFERROR(VLOOKUP(I94,'Fixture Schedule'!$C$9:$G$58,5,0),L94))))","v":""},{"$f":"IFERROR(INDEX('Utility Admin'!$F$3:$AW$3,1,MATCH(1,(CC$8='Utility Admin'!$F$1:$AW$1)*(Inventory!$AH94='Utility Admin'!$F$2:$AW$2)*(Inventory!$BZ94=('Utility Admin'!$F$4:$AW$4)),0)),0)","v":0},{"$f":"IFERROR(INDEX('Utility Admin'!$F$3:$AW$3,1,MATCH(1,(CD$8='Utility Admin'!$F$1:$AW$1)*(Inventory!$AH94='Utility Admin'!$F$2:$AW$2)*(Inventory!$BZ94=('Utility Admin'!$F$4:$AW$4)),0)),0)","v":0},{"$f":"IFERROR(INDEX('Utility Admin'!$F$3:$AW$3,1,MATCH(1,(CC$8='Utility Admin'!$F$1:$AW$1)*(Inventory!$AH94='Utility Admin'!$F$2:$AW$2)*(\"Lighting Controls\"=('Utility Admin'!$F$4:$AW$4)),0)),0)","v":0},{"$f":"IFERROR(INDEX('Utility Admin'!$F$3:$AW$3,1,MATCH(1,(CD$8='Utility Admin'!$F$1:$AW$1)*(Inventory!$AH94='Utility Admin'!$F$2:$AW$2)*(\"Lighting Controls\"=('Utility Admin'!$F$4:$AW$4)),0)),0)","v":0},false]
[null,87,null,null,null,null,null,null,null,null,null,null,null,{"$f":"IF(OR(I95=\"\",J95=\"\",AND(ProjectType=\"Retrofit\",OR(E95=\"\",F95=\"\"))),\"-\",IF(OR(CB95=0,CB95=\"Not Qualified\"),\"N\",IFERROR(INDEX('Fixture Descriptions'!K:K,MATCH(AD95,'Fixture Descriptions'!A:A,0)),\"N\")))","v":"-"},0,0,0,0,0,0,0,0,0,{"$f":"ROUND(IFERROR(IF($AE$7,BJ95*MaxIncentive,Inventory!Z95),0),2)","v":0},0,0,0,0,0,{"$f":"IF(I95=\"\",\"\",IFERROR(VLOOKUP(I95,'Fixture Schedule'!$C$9:$D$58,2,0),I95))","v":""},{"$f":"10","v":10},{"$f":"IFERROR(VLOOKUP(IF(I95=\"REMOVED\",E95,AD95),'Fixture Descriptions'!A:J,10,FALSE),0)","v":0},{"$f":"IFERROR(INDEX('Buildings and Areas'!D$5:D$14,MATCH($C95,'Buildings and Areas'!$B$5:$B$14,0),1),\"\")","v":""},{"$f":"IFERROR(INDEX('Buildings and Areas'!C$5:C$14,MATCH($C95,'Buildings and Areas'!$B$5:$B$14,0),1),\"\")","v":""},{"$f":"IFERROR(INDEX('Buildings and Areas'!R$5:R$14,MATCH($C95,'Buildings and Areas'!$B$5:$B$14,0),1),0)","v":0},{"$f":"IFERROR(INDEX('Buildings and Areas'!S$5:S$14,MATCH($C95,'Buildings and Areas'!$B$5:$B$14,0),1),0)","v":0},{"$f":"IFERROR(INDEX('Buildings and Areas'!T$5:T$14,MATCH($C95,'Buildings and Areas'!$B$5:$B$14,0),1),0)","v":0},{"$f":"IFERROR(INDEX('Buildings and Areas'!O$5:O$14,MATCH($C95,'Buildings and Areas'!$B$5:$B$14,0),1),\"\")","v":""},{"$f":"IFERROR(INDEX('Buildings and Areas'!F$5:F$14,MATCH($C95,'Buildings and Areas'!$B$5:$B$14,0),1)&IF(AH95=\"Exterior\",\": \"&'Buildings and Areas'!$H$4,\"\"),\"\")","v":""},{"$f":"IFERROR(INDEX('Buildings and Areas'!H$5:H$14,MATCH($C95,'Buildings and Areas'!$B$5:$B$14,0),1),\"\")","v":""},{"$f":"IFERROR(IF(INDEX('Buildings and Areas'!L$5:L$14,MATCH($C95,'Buildings and Areas'!$B$5:$B$14,0),1)=\"\",\"Deemed\",INDEX('Buildings and Areas'!L$5:L$14,MATCH($C95,'Buildings and Areas'!$B$5:$B$14,0),1)),\"\")","v":""},{"$f":"IFERROR(IF(INDEX('Buildings and Areas'!M$5:M$14,MATCH($C95,'Buildings and Areas'!$B$5:$B$14,0),1)=\"\",\"Deemed\",INDEX('Buildings and Areas'!M$5:M$14,MATCH($C95,'Buildings and Areas'!$B$5:$B$14,0),1)),\"\")","v":""},{"$f":"IFERROR(INDEX('Buildings and Areas'!P$5:P$14,MATCH($C95,'Buildings and Areas'!$B$5:$B$14,0),1),0)","v":0},{"$f":"IFERROR(INDEX('Buildings and Areas'!Q$5:Q$14,MATCH($C95,'Buildings and Areas'!$B$5:$B$14,0),1),0)","v":0},{"$f":"IF(OR($AG95=\"\",$E95=\"\",$F95=\"\"),0,IF($F$124>0.1,(VLOOKUP($E95,'Fixture Descriptions'!$A:$I,8,0)/1000)*(1-$G$124),(VLOOKUP($E95,'Fixture Descriptions'!$A:$I,8,0)/1000)))","v":0},0,0,0,0,{"$f":"IFERROR(IF(OR('Buildings and Areas'!$D$2=\"New Construction\",$AG95=\"\",$H95=\"\",AH95=\"Exterior\"),1,INDEX('Factor Tables'!C$46:C$51,MATCH(Inventory!$H95,'Factor Tables'!$B$46:$B$51,0))),1)","v":1},{"$f":"IF(OR('Buildings and Areas'!$D$2=\"New Construction\",$AG95=\"\",$H95=\"\",AH95=\"Exterior\"),1,INDEX('Factor Tables'!D$46:D$51,MATCH(Inventory!$H95,'Factor Tables'!$B$46:$B$51,0)))","v":1},{"$f":"IF(I95=\"REMOVED\",0,IF($AD95<>\"\",VLOOKUP($AD95,'Fixture Descriptions'!$A:$I,8,0)/1000,0))","v":0},0,0,0,0,0,0,0,{"$f":"IFERROR(IF(OR($AG95=\"\",$K95=\"\",AH95=\"Exterior\"),1,INDEX('Factor Tables'!C$46:C$51,MATCH(Inventory!$K95,'Factor Tables'!$B$46:$B$51,0))),1)","v":1},{"$f":"IFERROR(IF(OR($AG95=\"\",$K95=\"\",AH95=\"Exterior\"),1,INDEX('Factor Tables'!D$46:D$51,MATCH(Inventory!$K95,'Factor Tables'!$B$46:$B$51,0))),1)","v":1},0,0,0,0,0,0,0,0,0,0,0,0,0,0,0,0,{"$f":"IFERROR(VLOOKUP(IF($AD95=\"Removed\",E95,$AD95),'Fixture Descriptions'!$A:$I,9,0),\"\")","v":0},{"$f":"IF($AD95=\"\",\"\",VLOOKUP($AD95,'Fixture Descriptions'!$A:$I,2,0))","v":""},{"$f":"IF(I95=\"\",\"\",IF(I95=\"Removed\",\"N/A\",IF(IFERROR(VLOOKUP(I95,'Fixture Schedule'!$C$9:$G$58,5,0),L95)=\"\",\"Not Qualified\",IFERROR(VLOOKUP(I95,'Fixture Schedule'!$C$9:$G$58,5,0),L95))))","v":""},{"$f":"IFERROR(INDEX('Utility Admin'!$F$3:$AW$3,1,MATCH(1,(CC$8='Utility Admin'!$F$1:$AW$1)*(Inventory!$AH95='Utility Admin'!$F$2:$AW$2)*(Inventory!$BZ95=('Utility Admin'!$F$4:$AW$4)),0)),0)","v":0},{"$f":"IFERROR(INDEX('Utility Admin'!$F$3:$AW$3,1,MATCH(1,(CD$8='Utility Admin'!$F$1:$AW$1)*(Inventory!$AH95='Utility Admin'!$F$2:$AW$2)*(Inventory!$BZ95=('Utility Admin'!$F$4:$AW$4)),0)),0)","v":0},{"$f":"IFERROR(INDEX('Utility Admin'!$F$3:$AW$3,1,MATCH(1,(CC$8='Utility Admin'!$F$1:$AW$1)*(Inventory!$AH95='Utility Admin'!$F$2:$AW$2)*(\"Lighting Controls\"=('Utility Admin'!$F$4:$AW$4)),0)),0)","v":0},{"$f":"IFERROR(INDEX('Utility Admin'!$F$3:$AW$3,1,MATCH(1,(CD$8='Utility Admin'!$F$1:$AW$1)*(Inventory!$AH95='Utility Admin'!$F$2:$AW$2)*(\"Lighting Controls\"=('Utility Admin'!$F$4:$AW$4)),0)),0)","v":0},false]
[null,88,null,null,null,null,null,null,null,null,null,null,null,{"$f":"IF(OR(I96=\"\",J96=\"\",AND(ProjectType=\"Retrofit\",OR(E96=\"\",F96=\"\"))),\"-\",IF(OR(CB96=0,CB96=\"Not Qualified\"),\"N\",IFERROR(INDEX('Fixture Descriptions'!K:K,MATCH(AD96,'Fixture Descriptions'!A:A,0)),\"N\")))","v":"-"},0,0,0,0,0,0,0,0,0,{"$f":"ROUND(IFERROR(IF($AE$7,BJ96*MaxIncentive,Inventory!Z96),0),2)","v":0},0,0,0,0,0,{"$f":"IF(I96=\"\",\"\",IFERROR(VLOOKUP(I96,'Fixture Schedule'!$C$9:$D$58,2,0),I96))","v":""},{"$f":"10","v":10},{"$f":"IFERROR(VLOOKUP(IF(I96=\"REMOVED\",E96,AD96),'Fixture Descriptions'!A:J,10,FALSE),0)","v":0},{"$f":"IFERROR(INDEX('Buildings and Areas'!D$5:D$14,MATCH($C96,'Buildings and Areas'!$B$5:$B$14,0),1),\"\")","v":""},{"$f":"IFERROR(INDEX('Buildings and Areas'!C$5:C$14,MATCH($C96,'Buildings and Areas'!$B$5:$B$14,0),1),\"\")","v":""},{"$f":"IFERROR(INDEX('Buildings and Areas'!R$5:R$14,MATCH($C96,'Buildings and Areas'!$B$5:$B$14,0),1),0)","v":0},{"$f":"IFERROR(INDEX('Buildings and Areas'!S$5:S$14,MATCH($C96,'Buildings and Areas'!$B$5:$B$14,0),1),0)","v":0},{"$f":"IFERROR(INDEX('Buildings and Areas'!T$5:T$14,MATCH($C96,'Buildings and Areas'!$B$5:$B$14,0),1),0)","v":0},{"$f":"IFERROR(INDEX('Buildings and Areas'!O$5:O$14,MATCH($C96,'Buildings and Areas'!$B$5:$B$14,0),1),\"\")","v":""},{"$f":"IFERROR(INDEX('Buildings and Areas'!F$5:F$14,MATCH($C96,'Buildings and Areas'!$B$5:$B$14,0),1)&IF(AH96=\"Exterior\",\": \"&'Buildings and Areas'!$H$4,\"\"),\"\")","v":""},{"$f":"IFERROR(INDEX('Buildings and Areas'!H$5:H$14,MATCH($C96,'Buildings and Areas'!$B$5:$B$14,0),1),\"\")","v":""},{"$f":"IFERROR(IF(INDEX('Buildings and Areas'!L$5:L$14,MATCH($C96,'Buildings and Areas'!$B$5:$B$14,0),1)=\"\",\"Deemed\",INDEX('Buildings and Areas'!L$5:L$14,MATCH($C96,'Buildings and Areas'!$B$5:$B$14,0),1)),\"\")","v":""},{"$f":"IFERROR(IF(INDEX('Buildings and Areas'!M$5:M$14,MATCH($C96,'Buildings and Areas'!$B$5:$B$14,0),1)=\"\",\"Deemed\",INDEX('Buildings and Areas'!M$5:M$14,MATCH($C96,'Buildings and Areas'!$B$5:$B$14,0),1)),\"\")","v":""},{"$f":"IFERROR(INDEX('Buildings and Areas'!P$5:P$14,MATCH($C96,'Buildings and Areas'!$B$5:$B$14,0),1),0)","v":0},{"$f":"IFERROR(INDEX('Buildings and Areas'!Q$5:Q$14,MATCH($C96,'Buildings and Areas'!$B$5:$B$14,0),1),0)","v":0},{"$f":"IF(OR($AG96=\"\",$E96=\"\",$F96=\"\"),0,IF($F$124>0.1,(VLOOKUP($E96,'Fixture Descriptions'!$A:$I,8,0)/1000)*(1-$G$124),(VLOOKUP($E96,'Fixture Descriptions'!$A:$I,8,0)/1000)))","v":0},0,0,0,0,{"$f":"IFERROR(IF(OR('Buildings and Areas'!$D$2=\"New Construction\",$AG96=\"\",$H96=\"\",AH96=\"Exterior\"),1,INDEX('Factor Tables'!C$46:C$51,MATCH(Inventory!$H96,'Factor Tables'!$B$46:$B$51,0))),1)","v":1},{"$f":"IF(OR('Buildings and Areas'!$D$2=\"New Construction\",$AG96=\"\",$H96=\"\",AH96=\"Exterior\"),1,INDEX('Factor Tables'!D$46:D$51,MATCH(Inventory!$H96,'Factor Tables'!$B$46:$B$51,0)))","v":1},{"$f":"IF(I96=\"REMOVED\",0,IF($AD96<>\"\",VLOOKUP($AD96,'Fixture Descriptions'!$A:$I,8,0)/1000,0))","v":0},0,0,0,0,0,0,0,{"$f":"IFERROR(IF(OR($AG96=\"\",$K96=\"\",AH96=\"Exterior\"),1,INDEX('Factor Tables'!C$46:C$51,MATCH(Inventory!$K96,'Factor Tables'!$B$46:$B$51,0))),1)","v":1},{"$f":"IFERROR(IF(OR($AG96=\"\",$K96=\"\",AH96=\"Exterior\"),1,INDEX('Factor Tables'!D$46:D$51,MATCH(Inventory!$K96,'Factor Tables'!$B$46:$B$51,0))),1)","v":1},0,0,0,0,0,0,0,0,0,0,0,0,0,0,0,0,{"$f":"IFERROR(VLOOKUP(IF($AD96=\"Removed\",E96,$AD96),'Fixture Descriptions'!$A:$I,9,0),\"\")","v":0},{"$f":"IF($AD96=\"\",\"\",VLOOKUP($AD96,'Fixture Descriptions'!$A:$I,2,0))","v":""},{"$f":"IF(I96=\"\",\"\",IF(I96=\"Removed\",\"N/A\",IF(IFERROR(VLOOKUP(I96,'Fixture Schedule'!$C$9:$G$58,5,0),L96)=\"\",\"Not Qualified\",IFERROR(VLOOKUP(I96,'Fixture Schedule'!$C$9:$G$58,5,0),L96))))","v":""},{"$f":"IFERROR(INDEX('Utility Admin'!$F$3:$AW$3,1,MATCH(1,(CC$8='Utility Admin'!$F$1:$AW$1)*(Inventory!$AH96='Utility Admin'!$F$2:$AW$2)*(Inventory!$BZ96=('Utility Admin'!$F$4:$AW$4)),0)),0)","v":0},{"$f":"IFERROR(INDEX('Utility Admin'!$F$3:$AW$3,1,MATCH(1,(CD$8='Utility Admin'!$F$1:$AW$1)*(Inventory!$AH96='Utility Admin'!$F$2:$AW$2)*(Inventory!$BZ96=('Utility Admin'!$F$4:$AW$4)),0)),0)","v":0},{"$f":"IFERROR(INDEX('Utility Admin'!$F$3:$AW$3,1,MATCH(1,(CC$8='Utility Admin'!$F$1:$AW$1)*(Inventory!$AH96='Utility Admin'!$F$2:$AW$2)*(\"Lighting Controls\"=('Utility Admin'!$F$4:$AW$4)),0)),0)","v":0},{"$f":"IFERROR(INDEX('Utility Admin'!$F$3:$AW$3,1,MATCH(1,(CD$8='Utility Admin'!$F$1:$AW$1)*(Inventory!$AH96='Utility Admin'!$F$2:$AW$2)*(\"Lighting Controls\"=('Utility Admin'!$F$4:$AW$4)),0)),0)","v":0},false]
[null,89,null,null,null,null,null,null,null,null,null,null,null,{"$f":"IF(OR(I97=\"\",J97=\"\",AND(ProjectType=\"Retrofit\",OR(E97=\"\",F97=\"\"))),\"-\",IF(OR(CB97=0,CB97=\"Not Qualified\"),\"N\",IFERROR(INDEX('Fixture Descriptions'!K:K,MATCH(AD97,'Fixture Descriptions'!A:A,0)),\"N\")))","v":"-"},0,0,0,0,0,0,0,0,0,{"$f":"ROUND(IFERROR(IF($AE$7,BJ97*MaxIncentive,Inventory!Z97),0),2)","v":0},0,0,0,0,0,{"$f":"IF(I97=\"\",\"\",IFERROR(VLOOKUP(I97,'Fixture Schedule'!$C$9:$D$58,2,0),I97))","v":""},{"$f":"10","v":10},{"$f":"IFERROR(VLOOKUP(IF(I97=\"REMOVED\",E97,AD97),'Fixture Descriptions'!A:J,10,FALSE),0)","v":0},{"$f":"IFERROR(INDEX('Buildings and Areas'!D$5:D$14,MATCH($C97,'Buildings and Areas'!$B$5:$B$14,0),1),\"\")","v":""},{"$f":"IFERROR(INDEX('Buildings and Areas'!C$5:C$14,MATCH($C97,'Buildings and Areas'!$B$5:$B$14,0),1),\"\")","v":""},{"$f":"IFERROR(INDEX('Buildings and Areas'!R$5:R$14,MATCH($C97,'Buildings and Areas'!$B$5:$B$14,0),1),0)","v":0},{"$f":"IFERROR(INDEX('Buildings and Areas'!S$5:S$14,MATCH($C97,'Buildings and Areas'!$B$5:$B$14,0),1),0)","v":0},{"$f":"IFERROR(INDEX('Buildings and Areas'!T$5:T$14,MATCH($C97,'Buildings and Areas'!$B$5:$B$14,0),1),0)","v":0},{"$f":"IFERROR(INDEX('Buildings and Areas'!O$5:O$14,MATCH($C97,'Buildings and Areas'!$B$5:$B$14,0),1),\"\")","v":""},{"$f":"IFERROR(INDEX('Buildings and Areas'!F$5:F$14,MATCH($C97,'Buildings and Areas'!$B$5:$B$14,0),1)&IF(AH97=\"Exterior\",\": \"&'Buildings and Areas'!$H$4,\"\"),\"\")","v":""},{"$f":"IFERROR(INDEX('Buildings and Areas'!H$5:H$14,MATCH($C97,'Buildings and Areas'!$B$5:$B$14,0),1),\"\")","v":""},{"$f":"IFERROR(IF(INDEX('Buildings and Areas'!L$5:L$14,MATCH($C97,'Buildings and Areas'!$B$5:$B$14,0),1)=\"\",\"Deemed\",INDEX('Buildings and Areas'!L$5:L$14,MATCH($C97,'Buildings and Areas'!$B$5:$B$14,0),1)),\"\")","v":""},{"$f":"IFERROR(IF(INDEX('Buildings and Areas'!M$5:M$14,MATCH($C97,'Buildings and Areas'!$B$5:$B$14,0),1)=\"\",\"Deemed\",INDEX('Buildings and Areas'!M$5:M$14,MATCH($C97,'Buildings and Areas'!$B$5:$B$14,0),1)),\"\")","v":""},{"$f":"IFERROR(INDEX('Buildings and Areas'!P$5:P$14,MATCH($C97,'Buildings and Areas'!$B$5:$B$14,0),1),0)","v":0},{"$f":"IFERROR(INDEX('Buildings and Areas'!Q$5:Q$14,MATCH($C97,'Buildings and Areas'!$B$5:$B$14,0),1),0)","v":0},{"$f":"IF(OR($AG97=\"\",$E97=\"\",$F97=\"\"),0,IF($F$124>0.1,(VLOOKUP($E97,'Fixture Descriptions'!$A:$I,8,0)/1000)*(1-$G$124),(VLOOKUP($E97,'Fixture Descriptions'!$A:$I,8,0)/1000)))","v":0},0,0,0,0,{"$f":"IFERROR(IF(OR('Buildings and Areas'!$D$2=\"New Construction\",$AG97=\"\",$H97=\"\",AH97=\"Exterior\"),1,INDEX('Factor Tables'!C$46:C$51,MATCH(Inventory!$H97,'Factor Tables'!$B$46:$B$51,0))),1)","v":1},{"$f":"IF(OR('Buildings and Areas'!$D$2=\"New Construction\",$AG97=\"\",$H97=\"\",AH97=\"Exterior\"),1,INDEX('Factor Tables'!D$46:D$51,MATCH(Inventory!$H97,'Factor Tables'!$B$46:$B$51,0)))","v":1},{"$f":"IF(I97=\"REMOVED\",0,IF($AD97<>\"\",VLOOKUP($AD97,'Fixture Descriptions'!$A:$I,8,0)/1000,0))","v":0},0,0,0,0,0,0,0,{"$f":"IFERROR(IF(OR($AG97=\"\",$K97=\"\",AH97=\"Exterior\"),1,INDEX('Factor Tables'!C$46:C$51,MATCH(Inventory!$K97,'Factor Tables'!$B$46:$B$51,0))),1)","v":1},{"$f":"IFERROR(IF(OR($AG97=\"\",$K97=\"\",AH97=\"Exterior\"),1,INDEX('Factor Tables'!D$46:D$51,MATCH(Inventory!$K97,'Factor Tables'!$B$46:$B$51,0))),1)","v":1},0,0,0,0,0,0,0,0,0,0,0,0,0,0,0,0,{"$f":"IFERROR(VLOOKUP(IF($AD97=\"Removed\",E97,$AD97),'Fixture Descriptions'!$A:$I,9,0),\"\")","v":0},{"$f":"IF($AD97=\"\",\"\",VLOOKUP($AD97,'Fixture Descriptions'!$A:$I,2,0))","v":""},{"$f":"IF(I97=\"\",\"\",IF(I97=\"Removed\",\"N/A\",IF(IFERROR(VLOOKUP(I97,'Fixture Schedule'!$C$9:$G$58,5,0),L97)=\"\",\"Not Qualified\",IFERROR(VLOOKUP(I97,'Fixture Schedule'!$C$9:$G$58,5,0),L97))))","v":""},{"$f":"IFERROR(INDEX('Utility Admin'!$F$3:$AW$3,1,MATCH(1,(CC$8='Utility Admin'!$F$1:$AW$1)*(Inventory!$AH97='Utility Admin'!$F$2:$AW$2)*(Inventory!$BZ97=('Utility Admin'!$F$4:$AW$4)),0)),0)","v":0},{"$f":"IFERROR(INDEX('Utility Admin'!$F$3:$AW$3,1,MATCH(1,(CD$8='Utility Admin'!$F$1:$AW$1)*(Inventory!$AH97='Utility Admin'!$F$2:$AW$2)*(Inventory!$BZ97=('Utility Admin'!$F$4:$AW$4)),0)),0)","v":0},{"$f":"IFERROR(INDEX('Utility Admin'!$F$3:$AW$3,1,MATCH(1,(CC$8='Utility Admin'!$F$1:$AW$1)*(Inventory!$AH97='Utility Admin'!$F$2:$AW$2)*(\"Lighting Controls\"=('Utility Admin'!$F$4:$AW$4)),0)),0)","v":0},{"$f":"IFERROR(INDEX('Utility Admin'!$F$3:$AW$3,1,MATCH(1,(CD$8='Utility Admin'!$F$1:$AW$1)*(Inventory!$AH97='Utility Admin'!$F$2:$AW$2)*(\"Lighting Controls\"=('Utility Admin'!$F$4:$AW$4)),0)),0)","v":0},false]
[null,90,null,null,null,null,null,null,null,null,null,null,null,{"$f":"IF(OR(I98=\"\",J98=\"\",AND(ProjectType=\"Retrofit\",OR(E98=\"\",F98=\"\"))),\"-\",IF(OR(CB98=0,CB98=\"Not Qualified\"),\"N\",IFERROR(INDEX('Fixture Descriptions'!K:K,MATCH(AD98,'Fixture Descriptions'!A:A,0)),\"N\")))","v":"-"},0,0,0,0,0,0,0,0,0,{"$f":"ROUND(IFERROR(IF($AE$7,BJ98*MaxIncentive,Inventory!Z98),0),2)","v":0},0,0,0,0,0,{"$f":"IF(I98=\"\",\"\",IFERROR(VLOOKUP(I98,'Fixture Schedule'!$C$9:$D$58,2,0),I98))","v":""},{"$f":"10","v":10},{"$f":"IFERROR(VLOOKUP(IF(I98=\"REMOVED\",E98,AD98),'Fixture Descriptions'!A:J,10,FALSE),0)","v":0},{"$f":"IFERROR(INDEX('Buildings and Areas'!D$5:D$14,MATCH($C98,'Buildings and Areas'!$B$5:$B$14,0),1),\"\")","v":""},{"$f":"IFERROR(INDEX('Buildings and Areas'!C$5:C$14,MATCH($C98,'Buildings and Areas'!$B$5:$B$14,0),1),\"\")","v":""},{"$f":"IFERROR(INDEX('Buildings and Areas'!R$5:R$14,MATCH($C98,'Buildings and Areas'!$B$5:$B$14,0),1),0)","v":0},{"$f":"IFERROR(INDEX('Buildings and Areas'!S$5:S$14,MATCH($C98,'Buildings and Areas'!$B$5:$B$14,0),1),0)","v":0},{"$f":"IFERROR(INDEX('Buildings and Areas'!T$5:T$14,MATCH($C98,'Buildings and Areas'!$B$5:$B$14,0),1),0)","v":0},{"$f":"IFERROR(INDEX('Buildings and Areas'!O$5:O$14,MATCH($C98,'Buildings and Areas'!$B$5:$B$14,0),1),\"\")","v":""},{"$f":"IFERROR(INDEX('Buildings and Areas'!F$5:F$14,MATCH($C98,'Buildings and Areas'!$B$5:$B$14,0),1)&IF(AH98=\"Exterior\",\": \"&'Buildings and Areas'!$H$4,\"\"),\"\")","v":""},{"$f":"IFERROR(INDEX('Buildings and Areas'!H$5:H$14,MATCH($C98,'Buildings and Areas'!$B$5:$B$14,0),1),\"\")","v":""},{"$f":"IFERROR(IF(INDEX('Buildings and Areas'!L$5:L$14,MATCH($C98,'Buildings and Areas'!$B$5:$B$14,0),1)=\"\",\"Deemed\",INDEX('Buildings and Areas'!L$5:L$14,MATCH($C98,'Buildings and Areas'!$B$5:$B$14,0),1)),\"\")","v":""},{"$f":"IFERROR(IF(INDEX('Buildings and Areas'!M$5:M$14,MATCH($C98,'Buildings and Areas'!$B$5:$B$14,0),1)=\"\",\"Deemed\",INDEX('Buildings and Areas'!M$5:M$14,MATCH($C98,'Buildings and Areas'!$B$5:$B$14,0),1)),\"\")","v":""},{"$f":"IFERROR(INDEX('Buildings and Areas'!P$5:P$14,MATCH($C98,'Buildings and Areas'!$B$5:$B$14,0),1),0)","v":0},{"$f":"IFERROR(INDEX('Buildings and Areas'!Q$5:Q$14,MATCH($C98,'Buildings and Areas'!$B$5:$B$14,0),1),0)","v":0},{"$f":"IF(OR($AG98=\"\",$E98=\"\",$F98=\"\"),0,IF($F$124>0.1,(VLOOKUP($E98,'Fixture Descriptions'!$A:$I,8,0)/1000)*(1-$G$124),(VLOOKUP($E98,'Fixture Descriptions'!$A:$I,8,0)/1000)))","v":0},0,0,0,0,{"$f":"IFERROR(IF(OR('Buildings and Areas'!$D$2=\"New Construction\",$AG98=\"\",$H98=\"\",AH98=\"Exterior\"),1,INDEX('Factor Tables'!C$46:C$51,MATCH(Inventory!$H98,'Factor Tables'!$B$46:$B$51,0))),1)","v":1},{"$f":"IF(OR('Buildings and Areas'!$D$2=\"New Construction\",$AG98=\"\",$H98=\"\",AH98=\"Exterior\"),1,INDEX('Factor Tables'!D$46:D$51,MATCH(Inventory!$H98,'Factor Tables'!$B$46:$B$51,0)))","v":1},{"$f":"IF(I98=\"REMOVED\",0,IF($AD98<>\"\",VLOOKUP($AD98,'Fixture Descriptions'!$A:$I,8,0)/1000,0))","v":0},0,0,0,0,0,0,0,{"$f":"IFERROR(IF(OR($AG98=\"\",$K98=\"\",AH98=\"Exterior\"),1,INDEX('Factor Tables'!C$46:C$51,MATCH(Inventory!$K98,'Factor Tables'!$B$46:$B$51,0))),1)","v":1},{"$f":"IFERROR(IF(OR($AG98=\"\",$K98=\"\",AH98=\"Exterior\"),1,INDEX('Factor Tables'!D$46:D$51,MATCH(Inventory!$K98,'Factor Tables'!$B$46:$B$51,0))),1)","v":1},0,0,0,0,0,0,0,0,0,0,0,0,0,0,0,0,{"$f":"IFERROR(VLOOKUP(IF($AD98=\"Removed\",E98,$AD98),'Fixture Descriptions'!$A:$I,9,0),\"\")","v":0},{"$f":"IF($AD98=\"\",\"\",VLOOKUP($AD98,'Fixture Descriptions'!$A:$I,2,0))","v":""},{"$f":"IF(I98=\"\",\"\",IF(I98=\"Removed\",\"N/A\",IF(IFERROR(VLOOKUP(I98,'Fixture Schedule'!$C$9:$G$58,5,0),L98)=\"\",\"Not Qualified\",IFERROR(VLOOKUP(I98,'Fixture Schedule'!$C$9:$G$58,5,0),L98))))","v":""},{"$f":"IFERROR(INDEX('Utility Admin'!$F$3:$AW$3,1,MATCH(1,(CC$8='Utility Admin'!$F$1:$AW$1)*(Inventory!$AH98='Utility Admin'!$F$2:$AW$2)*(Inventory!$BZ98=('Utility Admin'!$F$4:$AW$4)),0)),0)","v":0},{"$f":"IFERROR(INDEX('Utility Admin'!$F$3:$AW$3,1,MATCH(1,(CD$8='Utility Admin'!$F$1:$AW$1)*(Inventory!$AH98='Utility Admin'!$F$2:$AW$2)*(Inventory!$BZ98=('Utility Admin'!$F$4:$AW$4)),0)),0)","v":0},{"$f":"IFERROR(INDEX('Utility Admin'!$F$3:$AW$3,1,MATCH(1,(CC$8='Utility Admin'!$F$1:$AW$1)*(Inventory!$AH98='Utility Admin'!$F$2:$AW$2)*(\"Lighting Controls\"=('Utility Admin'!$F$4:$AW$4)),0)),0)","v":0},{"$f":"IFERROR(INDEX('Utility Admin'!$F$3:$AW$3,1,MATCH(1,(CD$8='Utility Admin'!$F$1:$AW$1)*(Inventory!$AH98='Utility Admin'!$F$2:$AW$2)*(\"Lighting Controls\"=('Utility Admin'!$F$4:$AW$4)),0)),0)","v":0},false]
[null,91,null,null,null,null,null,null,null,null,null,null,null,{"$f":"IF(OR(I99=\"\",J99=\"\",AND(ProjectType=\"Retrofit\",OR(E99=\"\",F99=\"\"))),\"-\",IF(OR(CB99=0,CB99=\"Not Qualified\"),\"N\",IFERROR(INDEX('Fixture Descriptions'!K:K,MATCH(AD99,'Fixture Descriptions'!A:A,0)),\"N\")))","v":"-"},0,0,0,0,0,0,0,0,0,{"$f":"ROUND(IFERROR(IF($AE$7,BJ99*MaxIncentive,Inventory!Z99),0),2)","v":0},0,0,0,0,0,{"$f":"IF(I99=\"\",\"\",IFERROR(VLOOKUP(I99,'Fixture Schedule'!$C$9:$D$58,2,0),I99))","v":""},{"$f":"10","v":10},{"$f":"IFERROR(VLOOKUP(IF(I99=\"REMOVED\",E99,AD99),'Fixture Descriptions'!A:J,10,FALSE),0)","v":0},{"$f":"IFERROR(INDEX('Buildings and Areas'!D$5:D$14,MATCH($C99,'Buildings and Areas'!$B$5:$B$14,0),1),\"\")","v":""},{"$f":"IFERROR(INDEX('Buildings and Areas'!C$5:C$14,MATCH($C99,'Buildings and Areas'!$B$5:$B$14,0),1),\"\")","v":""},{"$f":"IFERROR(INDEX('Buildings and Areas'!R$5:R$14,MATCH($C99,'Buildings and Areas'!$B$5:$B$14,0),1),0)","v":0},{"$f":"IFERROR(INDEX('Buildings and Areas'!S$5:S$14,MATCH($C99,'Buildings and Areas'!$B$5:$B$14,0),1),0)","v":0},{"$f":"IFERROR(INDEX('Buildings and Areas'!T$5:T$14,MATCH($C99,'Buildings and Areas'!$B$5:$B$14,0),1),0)","v":0},{"$f":"IFERROR(INDEX('Buildings and Areas'!O$5:O$14,MATCH($C99,'Buildings and Areas'!$B$5:$B$14,0),1),\"\")","v":""},{"$f":"IFERROR(INDEX('Buildings and Areas'!F$5:F$14,MATCH($C99,'Buildings and Areas'!$B$5:$B$14,0),1)&IF(AH99=\"Exterior\",\": \"&'Buildings and Areas'!$H$4,\"\"),\"\")","v":""},{"$f":"IFERROR(INDEX('Buildings and Areas'!H$5:H$14,MATCH($C99,'Buildings and Areas'!$B$5:$B$14,0),1),\"\")","v":""},{"$f":"IFERROR(IF(INDEX('Buildings and Areas'!L$5:L$14,MATCH($C99,'Buildings and Areas'!$B$5:$B$14,0),1)=\"\",\"Deemed\",INDEX('Buildings and Areas'!L$5:L$14,MATCH($C99,'Buildings and Areas'!$B$5:$B$14,0),1)),\"\")","v":""},{"$f":"IFERROR(IF(INDEX('Buildings and Areas'!M$5:M$14,MATCH($C99,'Buildings and Areas'!$B$5:$B$14,0),1)=\"\",\"Deemed\",INDEX('Buildings and Areas'!M$5:M$14,MATCH($C99,'Buildings and Areas'!$B$5:$B$14,0),1)),\"\")","v":""},{"$f":"IFERROR(INDEX('Buildings and Areas'!P$5:P$14,MATCH($C99,'Buildings and Areas'!$B$5:$B$14,0),1),0)","v":0},{"$f":"IFERROR(INDEX('Buildings and Areas'!Q$5:Q$14,MATCH($C99,'Buildings and Areas'!$B$5:$B$14,0),1),0)","v":0},{"$f":"IF(OR($AG99=\"\",$E99=\"\",$F99=\"\"),0,IF($F$124>0.1,(VLOOKUP($E99,'Fixture Descriptions'!$A:$I,8,0)/1000)*(1-$G$124),(VLOOKUP($E99,'Fixture Descriptions'!$A:$I,8,0)/1000)))","v":0},0,0,0,0,{"$f":"IFERROR(IF(OR('Buildings and Areas'!$D$2=\"New Construction\",$AG99=\"\",$H99=\"\",AH99=\"Exterior\"),1,INDEX('Factor Tables'!C$46:C$51,MATCH(Inventory!$H99,'Factor Tables'!$B$46:$B$51,0))),1)","v":1},{"$f":"IF(OR('Buildings and Areas'!$D$2=\"New Construction\",$AG99=\"\",$H99=\"\",AH99=\"Exterior\"),1,INDEX('Factor Tables'!D$46:D$51,MATCH(Inventory!$H99,'Factor Tables'!$B$46:$B$51,0)))","v":1},{"$f":"IF(I99=\"REMOVED\",0,IF($AD99<>\"\",VLOOKUP($AD99,'Fixture Descriptions'!$A:$I,8,0)/1000,0))","v":0},0,0,0,0,0,0,0,{"$f":"IFERROR(IF(OR($AG99=\"\",$K99=\"\",AH99=\"Exterior\"),1,INDEX('Factor Tables'!C$46:C$51,MATCH(Inventory!$K99,'Factor Tables'!$B$46:$B$51,0))),1)","v":1},{"$f":"IFERROR(IF(OR($AG99=\"\",$K99=\"\",AH99=\"Exterior\"),1,INDEX('Factor Tables'!D$46:D$51,MATCH(Inventory!$K99,'Factor Tables'!$B$46:$B$51,0))),1)","v":1},0,0,0,0,0,0,0,0,0,0,0,0,0,0,0,0,{"$f":"IFERROR(VLOOKUP(IF($AD99=\"Removed\",E99,$AD99),'Fixture Descriptions'!$A:$I,9,0),\"\")","v":0},{"$f":"IF($AD99=\"\",\"\",VLOOKUP($AD99,'Fixture Descriptions'!$A:$I,2,0))","v":""},{"$f":"IF(I99=\"\",\"\",IF(I99=\"Removed\",\"N/A\",IF(IFERROR(VLOOKUP(I99,'Fixture Schedule'!$C$9:$G$58,5,0),L99)=\"\",\"Not Qualified\",IFERROR(VLOOKUP(I99,'Fixture Schedule'!$C$9:$G$58,5,0),L99))))","v":""},{"$f":"IFERROR(INDEX('Utility Admin'!$F$3:$AW$3,1,MATCH(1,(CC$8='Utility Admin'!$F$1:$AW$1)*(Inventory!$AH99='Utility Admin'!$F$2:$AW$2)*(Inventory!$BZ99=('Utility Admin'!$F$4:$AW$4)),0)),0)","v":0},{"$f":"IFERROR(INDEX('Utility Admin'!$F$3:$AW$3,1,MATCH(1,(CD$8='Utility Admin'!$F$1:$AW$1)*(Inventory!$AH99='Utility Admin'!$F$2:$AW$2)*(Inventory!$BZ99=('Utility Admin'!$F$4:$AW$4)),0)),0)","v":0},{"$f":"IFERROR(INDEX('Utility Admin'!$F$3:$AW$3,1,MATCH(1,(CC$8='Utility Admin'!$F$1:$AW$1)*(Inventory!$AH99='Utility Admin'!$F$2:$AW$2)*(\"Lighting Controls\"=('Utility Admin'!$F$4:$AW$4)),0)),0)","v":0},{"$f":"IFERROR(INDEX('Utility Admin'!$F$3:$AW$3,1,MATCH(1,(CD$8='Utility Admin'!$F$1:$AW$1)*(Inventory!$AH99='Utility Admin'!$F$2:$AW$2)*(\"Lighting Controls\"=('Utility Admin'!$F$4:$AW$4)),0)),0)","v":0},false]
[null,92,null,null,null,null,null,null,null,null,null,null,null,{"$f":"IF(OR(I100=\"\",J100=\"\",AND(ProjectType=\"Retrofit\",OR(E100=\"\",F100=\"\"))),\"-\",IF(OR(CB100=0,CB100=\"Not Qualified\"),\"N\",IFERROR(INDEX('Fixture Descriptions'!K:K,MATCH(AD100,'Fixture Descriptions'!A:A,0)),\"N\")))","v":"-"},0,0,0,0,0,0,0,0,0,{"$f":"ROUND(IFERROR(IF($AE$7,BJ100*MaxIncentive,Inventory!Z100),0),2)","v":0},0,0,0,0,0,{"$f":"IF(I100=\"\",\"\",IFERROR(VLOOKUP(I100,'Fixture Schedule'!$C$9:$D$58,2,0),I100))","v":""},{"$f":"10","v":10},{"$f":"IFERROR(VLOOKUP(IF(I100=\"REMOVED\",E100,AD100),'Fixture Descriptions'!A:J,10,FALSE),0)","v":0},{"$f":"IFERROR(INDEX('Buildings and Areas'!D$5:D$14,MATCH($C100,'Buildings and Areas'!$B$5:$B$14,0),1),\"\")","v":""},{"$f":"IFERROR(INDEX('Buildings and Areas'!C$5:C$14,MATCH($C100,'Buildings and Areas'!$B$5:$B$14,0),1),\"\")","v":""},{"$f":"IFERROR(INDEX('Buildings and Areas'!R$5:R$14,MATCH($C100,'Buildings and Areas'!$B$5:$B$14,0),1),0)","v":0},{"$f":"IFERROR(INDEX('Buildings and Areas'!S$5:S$14,MATCH($C100,'Buildings and Areas'!$B$5:$B$14,0),1),0)","v":0},{"$f":"IFERROR(INDEX('Buildings and Areas'!T$5:T$14,MATCH($C100,'Buildings and Areas'!$B$5:$B$14,0),1),0)","v":0},{"$f":"IFERROR(INDEX('Buildings and Areas'!O$5:O$14,MATCH($C100,'Buildings and Areas'!$B$5:$B$14,0),1),\"\")","v":""},{"$f":"IFERROR(INDEX('Buildings and Areas'!F$5:F$14,MATCH($C100,'Buildings and Areas'!$B$5:$B$14,0),1)&IF(AH100=\"Exterior\",\": \"&'Buildings and Areas'!$H$4,\"\"),\"\")","v":""},{"$f":"IFERROR(INDEX('Buildings and Areas'!H$5:H$14,MATCH($C100,'Buildings and Areas'!$B$5:$B$14,0),1),\"\")","v":""},{"$f":"IFERROR(IF(INDEX('Buildings and Areas'!L$5:L$14,MATCH($C100,'Buildings and Areas'!$B$5:$B$14,0),1)=\"\",\"Deemed\",INDEX('Buildings and Areas'!L$5:L$14,MATCH($C100,'Buildings and Areas'!$B$5:$B$14,0),1)),\"\")","v":""},{"$f":"IFERROR(IF(INDEX('Buildings and Areas'!M$5:M$14,MATCH($C100,'Buildings and Areas'!$B$5:$B$14,0),1)=\"\",\"Deemed\",INDEX('Buildings and Areas'!M$5:M$14,MATCH($C100,'Buildings and Areas'!$B$5:$B$14,0),1)),\"\")","v":""},{"$f":"IFERROR(INDEX('Buildings and Areas'!P$5:P$14,MATCH($C100,'Buildings and Areas'!$B$5:$B$14,0),1),0)","v":0},{"$f":"IFERROR(INDEX('Buildings and Areas'!Q$5:Q$14,MATCH($C100,'Buildings and Areas'!$B$5:$B$14,0),1),0)","v":0},{"$f":"IF(OR($AG100=\"\",$E100=\"\",$F100=\"\"),0,IF($F$124>0.1,(VLOOKUP($E100,'Fixture Descriptions'!$A:$I,8,0)/1000)*(1-$G$124),(VLOOKUP($E100,'Fixture Descriptions'!$A:$I,8,0)/1000)))","v":0},0,0,0,0,{"$f":"IFERROR(IF(OR('Buildings and Areas'!$D$2=\"New Construction\",$AG100=\"\",$H100=\"\",AH100=\"Exterior\"),1,INDEX('Factor Tables'!C$46:C$51,MATCH(Inventory!$H100,'Factor Tables'!$B$46:$B$51,0))),1)","v":1},{"$f":"IF(OR('Buildings and Areas'!$D$2=\"New Construction\",$AG100=\"\",$H100=\"\",AH100=\"Exterior\"),1,INDEX('Factor Tables'!D$46:D$51,MATCH(Inventory!$H100,'Factor Tables'!$B$46:$B$51,0)))","v":1},{"$f":"IF(I100=\"REMOVED\",0,IF($AD100<>\"\",VLOOKUP($AD100,'Fixture Descriptions'!$A:$I,8,0)/1000,0))","v":0},0,0,0,0,0,0,0,{"$f":"IFERROR(IF(OR($AG100=\"\",$K100=\"\",AH100=\"Exterior\"),1,INDEX('Factor Tables'!C$46:C$51,MATCH(Inventory!$K100,'Factor Tables'!$B$46:$B$51,0))),1)","v":1},{"$f":"IFERROR(IF(OR($AG100=\"\",$K100=\"\",AH100=\"Exterior\"),1,INDEX('Factor Tables'!D$46:D$51,MATCH(Inventory!$K100,'Factor Tables'!$B$46:$B$51,0))),1)","v":1},0,0,0,0,0,0,0,0,0,0,0,0,0,0,0,0,{"$f":"IFERROR(VLOOKUP(IF($AD100=\"Removed\",E100,$AD100),'Fixture Descriptions'!$A:$I,9,0),\"\")","v":0},{"$f":"IF($AD100=\"\",\"\",VLOOKUP($AD100,'Fixture Descriptions'!$A:$I,2,0))","v":""},{"$f":"IF(I100=\"\",\"\",IF(I100=\"Removed\",\"N/A\",IF(IFERROR(VLOOKUP(I100,'Fixture Schedule'!$C$9:$G$58,5,0),L100)=\"\",\"Not Qualified\",IFERROR(VLOOKUP(I100,'Fixture Schedule'!$C$9:$G$58,5,0),L100))))","v":""},{"$f":"IFERROR(INDEX('Utility Admin'!$F$3:$AW$3,1,MATCH(1,(CC$8='Utility Admin'!$F$1:$AW$1)*(Inventory!$AH100='Utility Admin'!$F$2:$AW$2)*(Inventory!$BZ100=('Utility Admin'!$F$4:$AW$4)),0)),0)","v":0},{"$f":"IFERROR(INDEX('Utility Admin'!$F$3:$AW$3,1,MATCH(1,(CD$8='Utility Admin'!$F$1:$AW$1)*(Inventory!$AH100='Utility Admin'!$F$2:$AW$2)*(Inventory!$BZ100=('Utility Admin'!$F$4:$AW$4)),0)),0)","v":0},{"$f":"IFERROR(INDEX('Utility Admin'!$F$3:$AW$3,1,MATCH(1,(CC$8='Utility Admin'!$F$1:$AW$1)*(Inventory!$AH100='Utility Admin'!$F$2:$AW$2)*(\"Lighting Controls\"=('Utility Admin'!$F$4:$AW$4)),0)),0)","v":0},{"$f":"IFERROR(INDEX('Utility Admin'!$F$3:$AW$3,1,MATCH(1,(CD$8='Utility Admin'!$F$1:$AW$1)*(Inventory!$AH100='Utility Admin'!$F$2:$AW$2)*(\"Lighting Controls\"=('Utility Admin'!$F$4:$AW$4)),0)),0)","v":0},false]
[null,93,null,null,null,null,null,null,null,null,null,null,null,{"$f":"IF(OR(I101=\"\",J101=\"\",AND(ProjectType=\"Retrofit\",OR(E101=\"\",F101=\"\"))),\"-\",IF(OR(CB101=0,CB101=\"Not Qualified\"),\"N\",IFERROR(INDEX('Fixture Descriptions'!K:K,MATCH(AD101,'Fixture Descriptions'!A:A,0)),\"N\")))","v":"-"},0,0,0,0,0,0,0,0,0,{"$f":"ROUND(IFERROR(IF($AE$7,BJ101*MaxIncentive,Inventory!Z101),0),2)","v":0},0,0,0,0,0,{"$f":"IF(I101=\"\",\"\",IFERROR(VLOOKUP(I101,'Fixture Schedule'!$C$9:$D$58,2,0),I101))","v":""},{"$f":"10","v":10},{"$f":"IFERROR(VLOOKUP(IF(I101=\"REMOVED\",E101,AD101),'Fixture Descriptions'!A:J,10,FALSE),0)","v":0},{"$f":"IFERROR(INDEX('Buildings and Areas'!D$5:D$14,MATCH($C101,'Buildings and Areas'!$B$5:$B$14,0),1),\"\")","v":""},{"$f":"IFERROR(INDEX('Buildings and Areas'!C$5:C$14,MATCH($C101,'Buildings and Areas'!$B$5:$B$14,0),1),\"\")","v":""},{"$f":"IFERROR(INDEX('Buildings and Areas'!R$5:R$14,MATCH($C101,'Buildings and Areas'!$B$5:$B$14,0),1),0)","v":0},{"$f":"IFERROR(INDEX('Buildings and Areas'!S$5:S$14,MATCH($C101,'Buildings and Areas'!$B$5:$B$14,0),1),0)","v":0},{"$f":"IFERROR(INDEX('Buildings and Areas'!T$5:T$14,MATCH($C101,'Buildings and Areas'!$B$5:$B$14,0),1),0)","v":0},{"$f":"IFERROR(INDEX('Buildings and Areas'!O$5:O$14,MATCH($C101,'Buildings and Areas'!$B$5:$B$14,0),1),\"\")","v":""},{"$f":"IFERROR(INDEX('Buildings and Areas'!F$5:F$14,MATCH($C101,'Buildings and Areas'!$B$5:$B$14,0),1)&IF(AH101=\"Exterior\",\": \"&'Buildings and Areas'!$H$4,\"\"),\"\")","v":""},{"$f":"IFERROR(INDEX('Buildings and Areas'!H$5:H$14,MATCH($C101,'Buildings and Areas'!$B$5:$B$14,0),1),\"\")","v":""},{"$f":"IFERROR(IF(INDEX('Buildings and Areas'!L$5:L$14,MATCH($C101,'Buildings and Areas'!$B$5:$B$14,0),1)=\"\",\"Deemed\",INDEX('Buildings and Areas'!L$5:L$14,MATCH($C101,'Buildings and Areas'!$B$5:$B$14,0),1)),\"\")","v":""},{"$f":"IFERROR(IF(INDEX('Buildings and Areas'!M$5:M$14,MATCH($C101,'Buildings and Areas'!$B$5:$B$14,0),1)=\"\",\"Deemed\",INDEX('Buildings and Areas'!M$5:M$14,MATCH($C101,'Buildings and Areas'!$B$5:$B$14,0),1)),\"\")","v":""},{"$f":"IFERROR(INDEX('Buildings and Areas'!P$5:P$14,MATCH($C101,'Buildings and Areas'!$B$5:$B$14,0),1),0)","v":0},{"$f":"IFERROR(INDEX('Buildings and Areas'!Q$5:Q$14,MATCH($C101,'Buildings and Areas'!$B$5:$B$14,0),1),0)","v":0},{"$f":"IF(OR($AG101=\"\",$E101=\"\",$F101=\"\"),0,IF($F$124>0.1,(VLOOKUP($E101,'Fixture Descriptions'!$A:$I,8,0)/1000)*(1-$G$124),(VLOOKUP($E101,'Fixture Descriptions'!$A:$I,8,0)/1000)))","v":0},0,0,0,0,{"$f":"IFERROR(IF(OR('Buildings and Areas'!$D$2=\"New Construction\",$AG101=\"\",$H101=\"\",AH101=\"Exterior\"),1,INDEX('Factor Tables'!C$46:C$51,MATCH(Inventory!$H101,'Factor Tables'!$B$46:$B$51,0))),1)","v":1},{"$f":"IF(OR('Buildings and Areas'!$D$2=\"New Construction\",$AG101=\"\",$H101=\"\",AH101=\"Exterior\"),1,INDEX('Factor Tables'!D$46:D$51,MATCH(Inventory!$H101,'Factor Tables'!$B$46:$B$51,0)))","v":1},{"$f":"IF(I101=\"REMOVED\",0,IF($AD101<>\"\",VLOOKUP($AD101,'Fixture Descriptions'!$A:$I,8,0)/1000,0))","v":0},0,0,0,0,0,0,0,{"$f":"IFERROR(IF(OR($AG101=\"\",$K101=\"\",AH101=\"Exterior\"),1,INDEX('Factor Tables'!C$46:C$51,MATCH(Inventory!$K101,'Factor Tables'!$B$46:$B$51,0))),1)","v":1},{"$f":"IFERROR(IF(OR($AG101=\"\",$K101=\"\",AH101=\"Exterior\"),1,INDEX('Factor Tables'!D$46:D$51,MATCH(Inventory!$K101,'Factor Tables'!$B$46:$B$51,0))),1)","v":1},0,0,0,0,0,0,0,0,0,0,0,0,0,0,0,0,{"$f":"IFERROR(VLOOKUP(IF($AD101=\"Removed\",E101,$AD101),'Fixture Descriptions'!$A:$I,9,0),\"\")","v":0},{"$f":"IF($AD101=\"\",\"\",VLOOKUP($AD101,'Fixture Descriptions'!$A:$I,2,0))","v":""},{"$f":"IF(I101=\"\",\"\",IF(I101=\"Removed\",\"N/A\",IF(IFERROR(VLOOKUP(I101,'Fixture Schedule'!$C$9:$G$58,5,0),L101)=\"\",\"Not Qualified\",IFERROR(VLOOKUP(I101,'Fixture Schedule'!$C$9:$G$58,5,0),L101))))","v":""},{"$f":"IFERROR(INDEX('Utility Admin'!$F$3:$AW$3,1,MATCH(1,(CC$8='Utility Admin'!$F$1:$AW$1)*(Inventory!$AH101='Utility Admin'!$F$2:$AW$2)*(Inventory!$BZ101=('Utility Admin'!$F$4:$AW$4)),0)),0)","v":0},{"$f":"IFERROR(INDEX('Utility Admin'!$F$3:$AW$3,1,MATCH(1,(CD$8='Utility Admin'!$F$1:$AW$1)*(Inventory!$AH101='Utility Admin'!$F$2:$AW$2)*(Inventory!$BZ101=('Utility Admin'!$F$4:$AW$4)),0)),0)","v":0},{"$f":"IFERROR(INDEX('Utility Admin'!$F$3:$AW$3,1,MATCH(1,(CC$8='Utility Admin'!$F$1:$AW$1)*(Inventory!$AH101='Utility Admin'!$F$2:$AW$2)*(\"Lighting Controls\"=('Utility Admin'!$F$4:$AW$4)),0)),0)","v":0},{"$f":"IFERROR(INDEX('Utility Admin'!$F$3:$AW$3,1,MATCH(1,(CD$8='Utility Admin'!$F$1:$AW$1)*(Inventory!$AH101='Utility Admin'!$F$2:$AW$2)*(\"Lighting Controls\"=('Utility Admin'!$F$4:$AW$4)),0)),0)","v":0},false]
[null,94,null,null,null,null,null,null,null,null,null,null,null,{"$f":"IF(OR(I102=\"\",J102=\"\",AND(ProjectType=\"Retrofit\",OR(E102=\"\",F102=\"\"))),\"-\",IF(OR(CB102=0,CB102=\"Not Qualified\"),\"N\",IFERROR(INDEX('Fixture Descriptions'!K:K,MATCH(AD102,'Fixture Descriptions'!A:A,0)),\"N\")))","v":"-"},0,0,0,0,0,0,0,0,0,{"$f":"ROUND(IFERROR(IF($AE$7,BJ102*MaxIncentive,Inventory!Z102),0),2)","v":0},0,0,0,0,0,{"$f":"IF(I102=\"\",\"\",IFERROR(VLOOKUP(I102,'Fixture Schedule'!$C$9:$D$58,2,0),I102))","v":""},{"$f":"10","v":10},{"$f":"IFERROR(VLOOKUP(IF(I102=\"REMOVED\",E102,AD102),'Fixture Descriptions'!A:J,10,FALSE),0)","v":0},{"$f":"IFERROR(INDEX('Buildings and Areas'!D$5:D$14,MATCH($C102,'Buildings and Areas'!$B$5:$B$14,0),1),\"\")","v":""},{"$f":"IFERROR(INDEX('Buildings and Areas'!C$5:C$14,MATCH($C102,'Buildings and Areas'!$B$5:$B$14,0),1),\"\")","v":""},{"$f":"IFERROR(INDEX('Buildings and Areas'!R$5:R$14,MATCH($C102,'Buildings and Areas'!$B$5:$B$14,0),1),0)","v":0},{"$f":"IFERROR(INDEX('Buildings and Areas'!S$5:S$14,MATCH($C102,'Buildings and Areas'!$B$5:$B$14,0),1),0)","v":0},{"$f":"IFERROR(INDEX('Buildings and Areas'!T$5:T$14,MATCH($C102,'Buildings and Areas'!$B$5:$B$14,0),1),0)","v":0},{"$f":"IFERROR(INDEX('Buildings and Areas'!O$5:O$14,MATCH($C102,'Buildings and Areas'!$B$5:$B$14,0),1),\"\")","v":""},{"$f":"IFERROR(INDEX('Buildings and Areas'!F$5:F$14,MATCH($C102,'Buildings and Areas'!$B$5:$B$14,0),1)&IF(AH102=\"Exterior\",\": \"&'Buildings and Areas'!$H$4,\"\"),\"\")","v":""},{"$f":"IFERROR(INDEX('Buildings and Areas'!H$5:H$14,MATCH($C102,'Buildings and Areas'!$B$5:$B$14,0),1),\"\")","v":""},{"$f":"IFERROR(IF(INDEX('Buildings and Areas'!L$5:L$14,MATCH($C102,'Buildings and Areas'!$B$5:$B$14,0),1)=\"\",\"Deemed\",INDEX('Buildings and Areas'!L$5:L$14,MATCH($C102,'Buildings and Areas'!$B$5:$B$14,0),1)),\"\")","v":""},{"$f":"IFERROR(IF(INDEX('Buildings and Areas'!M$5:M$14,MATCH($C102,'Buildings and Areas'!$B$5:$B$14,0),1)=\"\",\"Deemed\",INDEX('Buildings and Areas'!M$5:M$14,MATCH($C102,'Buildings and Areas'!$B$5:$B$14,0),1)),\"\")","v":""},{"$f":"IFERROR(INDEX('Buildings and Areas'!P$5:P$14,MATCH($C102,'Buildings and Areas'!$B$5:$B$14,0),1),0)","v":0},{"$f":"IFERROR(INDEX('Buildings and Areas'!Q$5:Q$14,MATCH($C102,'Buildings and Areas'!$B$5:$B$14,0),1),0)","v":0},{"$f":"IF(OR($AG102=\"\",$E102=\"\",$F102=\"\"),0,IF($F$124>0.1,(VLOOKUP($E102,'Fixture Descriptions'!$A:$I,8,0)/1000)*(1-$G$124),(VLOOKUP($E102,'Fixture Descriptions'!$A:$I,8,0)/1000)))","v":0},0,0,0,0,{"$f":"IFERROR(IF(OR('Buildings and Areas'!$D$2=\"New Construction\",$AG102=\"\",$H102=\"\",AH102=\"Exterior\"),1,INDEX('Factor Tables'!C$46:C$51,MATCH(Inventory!$H102,'Factor Tables'!$B$46:$B$51,0))),1)","v":1},{"$f":"IF(OR('Buildings and Areas'!$D$2=\"New Construction\",$AG102=\"\",$H102=\"\",AH102=\"Exterior\"),1,INDEX('Factor Tables'!D$46:D$51,MATCH(Inventory!$H102,'Factor Tables'!$B$46:$B$51,0)))","v":1},{"$f":"IF(I102=\"REMOVED\",0,IF($AD102<>\"\",VLOOKUP($AD102,'Fixture Descriptions'!$A:$I,8,0)/1000,0))","v":0},0,0,0,0,0,0,0,{"$f":"IFERROR(IF(OR($AG102=\"\",$K102=\"\",AH102=\"Exterior\"),1,INDEX('Factor Tables'!C$46:C$51,MATCH(Inventory!$K102,'Factor Tables'!$B$46:$B$51,0))),1)","v":1},{"$f":"IFERROR(IF(OR($AG102=\"\",$K102=\"\",AH102=\"Exterior\"),1,INDEX('Factor Tables'!D$46:D$51,MATCH(Inventory!$K102,'Factor Tables'!$B$46:$B$51,0))),1)","v":1},0,0,0,0,0,0,0,0,0,0,0,0,0,0,0,0,{"$f":"IFERROR(VLOOKUP(IF($AD102=\"Removed\",E102,$AD102),'Fixture Descriptions'!$A:$I,9,0),\"\")","v":0},{"$f":"IF($AD102=\"\",\"\",VLOOKUP($AD102,'Fixture Descriptions'!$A:$I,2,0))","v":""},{"$f":"IF(I102=\"\",\"\",IF(I102=\"Removed\",\"N/A\",IF(IFERROR(VLOOKUP(I102,'Fixture Schedule'!$C$9:$G$58,5,0),L102)=\"\",\"Not Qualified\",IFERROR(VLOOKUP(I102,'Fixture Schedule'!$C$9:$G$58,5,0),L102))))","v":""},{"$f":"IFERROR(INDEX('Utility Admin'!$F$3:$AW$3,1,MATCH(1,(CC$8='Utility Admin'!$F$1:$AW$1)*(Inventory!$AH102='Utility Admin'!$F$2:$AW$2)*(Inventory!$BZ102=('Utility Admin'!$F$4:$AW$4)),0)),0)","v":0},{"$f":"IFERROR(INDEX('Utility Admin'!$F$3:$AW$3,1,MATCH(1,(CD$8='Utility Admin'!$F$1:$AW$1)*(Inventory!$AH102='Utility Admin'!$F$2:$AW$2)*(Inventory!$BZ102=('Utility Admin'!$F$4:$AW$4)),0)),0)","v":0},{"$f":"IFERROR(INDEX('Utility Admin'!$F$3:$AW$3,1,MATCH(1,(CC$8='Utility Admin'!$F$1:$AW$1)*(Inventory!$AH102='Utility Admin'!$F$2:$AW$2)*(\"Lighting Controls\"=('Utility Admin'!$F$4:$AW$4)),0)),0)","v":0},{"$f":"IFERROR(INDEX('Utility Admin'!$F$3:$AW$3,1,MATCH(1,(CD$8='Utility Admin'!$F$1:$AW$1)*(Inventory!$AH102='Utility Admin'!$F$2:$AW$2)*(\"Lighting Controls\"=('Utility Admin'!$F$4:$AW$4)),0)),0)","v":0},false]
[null,95,null,null,null,null,null,null,null,null,null,null,null,{"$f":"IF(OR(I103=\"\",J103=\"\",AND(ProjectType=\"Retrofit\",OR(E103=\"\",F103=\"\"))),\"-\",IF(OR(CB103=0,CB103=\"Not Qualified\"),\"N\",IFERROR(INDEX('Fixture Descriptions'!K:K,MATCH(AD103,'Fixture Descriptions'!A:A,0)),\"N\")))","v":"-"},0,0,0,0,0,0,0,0,0,{"$f":"ROUND(IFERROR(IF($AE$7,BJ103*MaxIncentive,Inventory!Z103),0),2)","v":0},0,0,0,0,0,{"$f":"IF(I103=\"\",\"\",IFERROR(VLOOKUP(I103,'Fixture Schedule'!$C$9:$D$58,2,0),I103))","v":""},{"$f":"10","v":10},{"$f":"IFERROR(VLOOKUP(IF(I103=\"REMOVED\",E103,AD103),'Fixture Descriptions'!A:J,10,FALSE),0)","v":0},{"$f":"IFERROR(INDEX('Buildings and Areas'!D$5:D$14,MATCH($C103,'Buildings and Areas'!$B$5:$B$14,0),1),\"\")","v":""},{"$f":"IFERROR(INDEX('Buildings and Areas'!C$5:C$14,MATCH($C103,'Buildings and Areas'!$B$5:$B$14,0),1),\"\")","v":""},{"$f":"IFERROR(INDEX('Buildings and Areas'!R$5:R$14,MATCH($C103,'Buildings and Areas'!$B$5:$B$14,0),1),0)","v":0},{"$f":"IFERROR(INDEX('Buildings and Areas'!S$5:S$14,MATCH($C103,'Buildings and Areas'!$B$5:$B$14,0),1),0)","v":0},{"$f":"IFERROR(INDEX('Buildings and Areas'!T$5:T$14,MATCH($C103,'Buildings and Areas'!$B$5:$B$14,0),1),0)","v":0},{"$f":"IFERROR(INDEX('Buildings and Areas'!O$5:O$14,MATCH($C103,'Buildings and Areas'!$B$5:$B$14,0),1),\"\")","v":""},{"$f":"IFERROR(INDEX('Buildings and Areas'!F$5:F$14,MATCH($C103,'Buildings and Areas'!$B$5:$B$14,0),1)&IF(AH103=\"Exterior\",\": \"&'Buildings and Areas'!$H$4,\"\"),\"\")","v":""},{"$f":"IFERROR(INDEX('Buildings and Areas'!H$5:H$14,MATCH($C103,'Buildings and Areas'!$B$5:$B$14,0),1),\"\")","v":""},{"$f":"IFERROR(IF(INDEX('Buildings and Areas'!L$5:L$14,MATCH($C103,'Buildings and Areas'!$B$5:$B$14,0),1)=\"\",\"Deemed\",INDEX('Buildings and Areas'!L$5:L$14,MATCH($C103,'Buildings and Areas'!$B$5:$B$14,0),1)),\"\")","v":""},{"$f":"IFERROR(IF(INDEX('Buildings and Areas'!M$5:M$14,MATCH($C103,'Buildings and Areas'!$B$5:$B$14,0),1)=\"\",\"Deemed\",INDEX('Buildings and Areas'!M$5:M$14,MATCH($C103,'Buildings and Areas'!$B$5:$B$14,0),1)),\"\")","v":""},{"$f":"IFERROR(INDEX('Buildings and Areas'!P$5:P$14,MATCH($C103,'Buildings and Areas'!$B$5:$B$14,0),1),0)","v":0},{"$f":"IFERROR(INDEX('Buildings and Areas'!Q$5:Q$14,MATCH($C103,'Buildings and Areas'!$B$5:$B$14,0),1),0)","v":0},{"$f":"IF(OR($AG103=\"\",$E103=\"\",$F103=\"\"),0,IF($F$124>0.1,(VLOOKUP($E103,'Fixture Descriptions'!$A:$I,8,0)/1000)*(1-$G$124),(VLOOKUP($E103,'Fixture Descriptions'!$A:$I,8,0)/1000)))","v":0},0,0,0,0,{"$f":"IFERROR(IF(OR('Buildings and Areas'!$D$2=\"New Construction\",$AG103=\"\",$H103=\"\",AH103=\"Exterior\"),1,INDEX('Factor Tables'!C$46:C$51,MATCH(Inventory!$H103,'Factor Tables'!$B$46:$B$51,0))),1)","v":1},{"$f":"IF(OR('Buildings and Areas'!$D$2=\"New Construction\",$AG103=\"\",$H103=\"\",AH103=\"Exterior\"),1,INDEX('Factor Tables'!D$46:D$51,MATCH(Inventory!$H103,'Factor Tables'!$B$46:$B$51,0)))","v":1},{"$f":"IF(I103=\"REMOVED\",0,IF($AD103<>\"\",VLOOKUP($AD103,'Fixture Descriptions'!$A:$I,8,0)/1000,0))","v":0},0,0,0,0,0,0,0,{"$f":"IFERROR(IF(OR($AG103=\"\",$K103=\"\",AH103=\"Exterior\"),1,INDEX('Factor Tables'!C$46:C$51,MATCH(Inventory!$K103,'Factor Tables'!$B$46:$B$51,0))),1)","v":1},{"$f":"IFERROR(IF(OR($AG103=\"\",$K103=\"\",AH103=\"Exterior\"),1,INDEX('Factor Tables'!D$46:D$51,MATCH(Inventory!$K103,'Factor Tables'!$B$46:$B$51,0))),1)","v":1},0,0,0,0,0,0,0,0,0,0,0,0,0,0,0,0,{"$f":"IFERROR(VLOOKUP(IF($AD103=\"Removed\",E103,$AD103),'Fixture Descriptions'!$A:$I,9,0),\"\")","v":0},{"$f":"IF($AD103=\"\",\"\",VLOOKUP($AD103,'Fixture Descriptions'!$A:$I,2,0))","v":""},{"$f":"IF(I103=\"\",\"\",IF(I103=\"Removed\",\"N/A\",IF(IFERROR(VLOOKUP(I103,'Fixture Schedule'!$C$9:$G$58,5,0),L103)=\"\",\"Not Qualified\",IFERROR(VLOOKUP(I103,'Fixture Schedule'!$C$9:$G$58,5,0),L103))))","v":""},{"$f":"IFERROR(INDEX('Utility Admin'!$F$3:$AW$3,1,MATCH(1,(CC$8='Utility Admin'!$F$1:$AW$1)*(Inventory!$AH103='Utility Admin'!$F$2:$AW$2)*(Inventory!$BZ103=('Utility Admin'!$F$4:$AW$4)),0)),0)","v":0},{"$f":"IFERROR(INDEX('Utility Admin'!$F$3:$AW$3,1,MATCH(1,(CD$8='Utility Admin'!$F$1:$AW$1)*(Inventory!$AH103='Utility Admin'!$F$2:$AW$2)*(Inventory!$BZ103=('Utility Admin'!$F$4:$AW$4)),0)),0)","v":0},{"$f":"IFERROR(INDEX('Utility Admin'!$F$3:$AW$3,1,MATCH(1,(CC$8='Utility Admin'!$F$1:$AW$1)*(Inventory!$AH103='Utility Admin'!$F$2:$AW$2)*(\"Lighting Controls\"=('Utility Admin'!$F$4:$AW$4)),0)),0)","v":0},{"$f":"IFERROR(INDEX('Utility Admin'!$F$3:$AW$3,1,MATCH(1,(CD$8='Utility Admin'!$F$1:$AW$1)*(Inventory!$AH103='Utility Admin'!$F$2:$AW$2)*(\"Lighting Controls\"=('Utility Admin'!$F$4:$AW$4)),0)),0)","v":0},false]
[null,96,null,null,null,null,null,null,null,null,null,null,null,{"$f":"IF(OR(I104=\"\",J104=\"\",AND(ProjectType=\"Retrofit\",OR(E104=\"\",F104=\"\"))),\"-\",IF(OR(CB104=0,CB104=\"Not Qualified\"),\"N\",IFERROR(INDEX('Fixture Descriptions'!K:K,MATCH(AD104,'Fixture Descriptions'!A:A,0)),\"N\")))","v":"-"},0,0,0,0,0,0,0,0,0,{"$f":"ROUND(IFERROR(IF($AE$7,BJ104*MaxIncentive,Inventory!Z104),0),2)","v":0},0,0,0,0,0,{"$f":"IF(I104=\"\",\"\",IFERROR(VLOOKUP(I104,'Fixture Schedule'!$C$9:$D$58,2,0),I104))","v":""},{"$f":"10","v":10},{"$f":"IFERROR(VLOOKUP(IF(I104=\"REMOVED\",E104,AD104),'Fixture Descriptions'!A:J,10,FALSE),0)","v":0},{"$f":"IFERROR(INDEX('Buildings and Areas'!D$5:D$14,MATCH($C104,'Buildings and Areas'!$B$5:$B$14,0),1),\"\")","v":""},{"$f":"IFERROR(INDEX('Buildings and Areas'!C$5:C$14,MATCH($C104,'Buildings and Areas'!$B$5:$B$14,0),1),\"\")","v":""},{"$f":"IFERROR(INDEX('Buildings and Areas'!R$5:R$14,MATCH($C104,'Buildings and Areas'!$B$5:$B$14,0),1),0)","v":0},{"$f":"IFERROR(INDEX('Buildings and Areas'!S$5:S$14,MATCH($C104,'Buildings and Areas'!$B$5:$B$14,0),1),0)","v":0},{"$f":"IFERROR(INDEX('Buildings and Areas'!T$5:T$14,MATCH($C104,'Buildings and Areas'!$B$5:$B$14,0),1),0)","v":0},{"$f":"IFERROR(INDEX('Buildings and Areas'!O$5:O$14,MATCH($C104,'Buildings and Areas'!$B$5:$B$14,0),1),\"\")","v":""},{"$f":"IFERROR(INDEX('Buildings and Areas'!F$5:F$14,MATCH($C104,'Buildings and Areas'!$B$5:$B$14,0),1)&IF(AH104=\"Exterior\",\": \"&'Buildings and Areas'!$H$4,\"\"),\"\")","v":""},{"$f":"IFERROR(INDEX('Buildings and Areas'!H$5:H$14,MATCH($C104,'Buildings and Areas'!$B$5:$B$14,0),1),\"\")","v":""},{"$f":"IFERROR(IF(INDEX('Buildings and Areas'!L$5:L$14,MATCH($C104,'Buildings and Areas'!$B$5:$B$14,0),1)=\"\",\"Deemed\",INDEX('Buildings and Areas'!L$5:L$14,MATCH($C104,'Buildings and Areas'!$B$5:$B$14,0),1)),\"\")","v":""},{"$f":"IFERROR(IF(INDEX('Buildings and Areas'!M$5:M$14,MATCH($C104,'Buildings and Areas'!$B$5:$B$14,0),1)=\"\",\"Deemed\",INDEX('Buildings and Areas'!M$5:M$14,MATCH($C104,'Buildings and Areas'!$B$5:$B$14,0),1)),\"\")","v":""},{"$f":"IFERROR(INDEX('Buildings and Areas'!P$5:P$14,MATCH($C104,'Buildings and Areas'!$B$5:$B$14,0),1),0)","v":0},{"$f":"IFERROR(INDEX('Buildings and Areas'!Q$5:Q$14,MATCH($C104,'Buildings and Areas'!$B$5:$B$14,0),1),0)","v":0},{"$f":"IF(OR($AG104=\"\",$E104=\"\",$F104=\"\"),0,IF($F$124>0.1,(VLOOKUP($E104,'Fixture Descriptions'!$A:$I,8,0)/1000)*(1-$G$124),(VLOOKUP($E104,'Fixture Descriptions'!$A:$I,8,0)/1000)))","v":0},0,0,0,0,{"$f":"IFERROR(IF(OR('Buildings and Areas'!$D$2=\"New Construction\",$AG104=\"\",$H104=\"\",AH104=\"Exterior\"),1,INDEX('Factor Tables'!C$46:C$51,MATCH(Inventory!$H104,'Factor Tables'!$B$46:$B$51,0))),1)","v":1},{"$f":"IF(OR('Buildings and Areas'!$D$2=\"New Construction\",$AG104=\"\",$H104=\"\",AH104=\"Exterior\"),1,INDEX('Factor Tables'!D$46:D$51,MATCH(Inventory!$H104,'Factor Tables'!$B$46:$B$51,0)))","v":1},{"$f":"IF(I104=\"REMOVED\",0,IF($AD104<>\"\",VLOOKUP($AD104,'Fixture Descriptions'!$A:$I,8,0)/1000,0))","v":0},0,0,0,0,0,0,0,{"$f":"IFERROR(IF(OR($AG104=\"\",$K104=\"\",AH104=\"Exterior\"),1,INDEX('Factor Tables'!C$46:C$51,MATCH(Inventory!$K104,'Factor Tables'!$B$46:$B$51,0))),1)","v":1},{"$f":"IFERROR(IF(OR($AG104=\"\",$K104=\"\",AH104=\"Exterior\"),1,INDEX('Factor Tables'!D$46:D$51,MATCH(Inventory!$K104,'Factor Tables'!$B$46:$B$51,0))),1)","v":1},0,0,0,0,0,0,0,0,0,0,0,0,0,0,0,0,{"$f":"IFERROR(VLOOKUP(IF($AD104=\"Removed\",E104,$AD104),'Fixture Descriptions'!$A:$I,9,0),\"\")","v":0},{"$f":"IF($AD104=\"\",\"\",VLOOKUP($AD104,'Fixture Descriptions'!$A:$I,2,0))","v":""},{"$f":"IF(I104=\"\",\"\",IF(I104=\"Removed\",\"N/A\",IF(IFERROR(VLOOKUP(I104,'Fixture Schedule'!$C$9:$G$58,5,0),L104)=\"\",\"Not Qualified\",IFERROR(VLOOKUP(I104,'Fixture Schedule'!$C$9:$G$58,5,0),L104))))","v":""},{"$f":"IFERROR(INDEX('Utility Admin'!$F$3:$AW$3,1,MATCH(1,(CC$8='Utility Admin'!$F$1:$AW$1)*(Inventory!$AH104='Utility Admin'!$F$2:$AW$2)*(Inventory!$BZ104=('Utility Admin'!$F$4:$AW$4)),0)),0)","v":0},{"$f":"IFERROR(INDEX('Utility Admin'!$F$3:$AW$3,1,MATCH(1,(CD$8='Utility Admin'!$F$1:$AW$1)*(Inventory!$AH104='Utility Admin'!$F$2:$AW$2)*(Inventory!$BZ104=('Utility Admin'!$F$4:$AW$4)),0)),0)","v":0},{"$f":"IFERROR(INDEX('Utility Admin'!$F$3:$AW$3,1,MATCH(1,(CC$8='Utility Admin'!$F$1:$AW$1)*(Inventory!$AH104='Utility Admin'!$F$2:$AW$2)*(\"Lighting Controls\"=('Utility Admin'!$F$4:$AW$4)),0)),0)","v":0},{"$f":"IFERROR(INDEX('Utility Admin'!$F$3:$AW$3,1,MATCH(1,(CD$8='Utility Admin'!$F$1:$AW$1)*(Inventory!$AH104='Utility Admin'!$F$2:$AW$2)*(\"Lighting Controls\"=('Utility Admin'!$F$4:$AW$4)),0)),0)","v":0},false]
[null,97,null,null,null,null,null,null,null,null,null,null,null,{"$f":"IF(OR(I105=\"\",J105=\"\",AND(ProjectType=\"Retrofit\",OR(E105=\"\",F105=\"\"))),\"-\",IF(OR(CB105=0,CB105=\"Not Qualified\"),\"N\",IFERROR(INDEX('Fixture Descriptions'!K:K,MATCH(AD105,'Fixture Descriptions'!A:A,0)),\"N\")))","v":"-"},0,0,0,0,0,0,0,0,0,{"$f":"ROUND(IFERROR(IF($AE$7,BJ105*MaxIncentive,Inventory!Z105),0),2)","v":0},0,0,0,0,0,{"$f":"IF(I105=\"\",\"\",IFERROR(VLOOKUP(I105,'Fixture Schedule'!$C$9:$D$58,2,0),I105))","v":""},{"$f":"10","v":10},{"$f":"IFERROR(VLOOKUP(IF(I105=\"REMOVED\",E105,AD105),'Fixture Descriptions'!A:J,10,FALSE),0)","v":0},{"$f":"IFERROR(INDEX('Buildings and Areas'!D$5:D$14,MATCH($C105,'Buildings and Areas'!$B$5:$B$14,0),1),\"\")","v":""},{"$f":"IFERROR(INDEX('Buildings and Areas'!C$5:C$14,MATCH($C105,'Buildings and Areas'!$B$5:$B$14,0),1),\"\")","v":""},{"$f":"IFERROR(INDEX('Buildings and Areas'!R$5:R$14,MATCH($C105,'Buildings and Areas'!$B$5:$B$14,0),1),0)","v":0},{"$f":"IFERROR(INDEX('Buildings and Areas'!S$5:S$14,MATCH($C105,'Buildings and Areas'!$B$5:$B$14,0),1),0)","v":0},{"$f":"IFERROR(INDEX('Buildings and Areas'!T$5:T$14,MATCH($C105,'Buildings and Areas'!$B$5:$B$14,0),1),0)","v":0},{"$f":"IFERROR(INDEX('Buildings and Areas'!O$5:O$14,MATCH($C105,'Buildings and Areas'!$B$5:$B$14,0),1),\"\")","v":""},{"$f":"IFERROR(INDEX('Buildings and Areas'!F$5:F$14,MATCH($C105,'Buildings and Areas'!$B$5:$B$14,0),1)&IF(AH105=\"Exterior\",\": \"&'Buildings and Areas'!$H$4,\"\"),\"\")","v":""},{"$f":"IFERROR(INDEX('Buildings and Areas'!H$5:H$14,MATCH($C105,'Buildings and Areas'!$B$5:$B$14,0),1),\"\")","v":""},{"$f":"IFERROR(IF(INDEX('Buildings and Areas'!L$5:L$14,MATCH($C105,'Buildings and Areas'!$B$5:$B$14,0),1)=\"\",\"Deemed\",INDEX('Buildings and Areas'!L$5:L$14,MATCH($C105,'Buildings and Areas'!$B$5:$B$14,0),1)),\"\")","v":""},{"$f":"IFERROR(IF(INDEX('Buildings and Areas'!M$5:M$14,MATCH($C105,'Buildings and Areas'!$B$5:$B$14,0),1)=\"\",\"Deemed\",INDEX('Buildings and Areas'!M$5:M$14,MATCH($C105,'Buildings and Areas'!$B$5:$B$14,0),1)),\"\")","v":""},{"$f":"IFERROR(INDEX('Buildings and Areas'!P$5:P$14,MATCH($C105,'Buildings and Areas'!$B$5:$B$14,0),1),0)","v":0},{"$f":"IFERROR(INDEX('Buildings and Areas'!Q$5:Q$14,MATCH($C105,'Buildings and Areas'!$B$5:$B$14,0),1),0)","v":0},{"$f":"IF(OR($AG105=\"\",$E105=\"\",$F105=\"\"),0,IF($F$124>0.1,(VLOOKUP($E105,'Fixture Descriptions'!$A:$I,8,0)/1000)*(1-$G$124),(VLOOKUP($E105,'Fixture Descriptions'!$A:$I,8,0)/1000)))","v":0},0,0,0,0,{"$f":"IFERROR(IF(OR('Buildings and Areas'!$D$2=\"New Construction\",$AG105=\"\",$H105=\"\",AH105=\"Exterior\"),1,INDEX('Factor Tables'!C$46:C$51,MATCH(Inventory!$H105,'Factor Tables'!$B$46:$B$51,0))),1)","v":1},{"$f":"IF(OR('Buildings and Areas'!$D$2=\"New Construction\",$AG105=\"\",$H105=\"\",AH105=\"Exterior\"),1,INDEX('Factor Tables'!D$46:D$51,MATCH(Inventory!$H105,'Factor Tables'!$B$46:$B$51,0)))","v":1},{"$f":"IF(I105=\"REMOVED\",0,IF($AD105<>\"\",VLOOKUP($AD105,'Fixture Descriptions'!$A:$I,8,0)/1000,0))","v":0},0,0,0,0,0,0,0,{"$f":"IFERROR(IF(OR($AG105=\"\",$K105=\"\",AH105=\"Exterior\"),1,INDEX('Factor Tables'!C$46:C$51,MATCH(Inventory!$K105,'Factor Tables'!$B$46:$B$51,0))),1)","v":1},{"$f":"IFERROR(IF(OR($AG105=\"\",$K105=\"\",AH105=\"Exterior\"),1,INDEX('Factor Tables'!D$46:D$51,MATCH(Inventory!$K105,'Factor Tables'!$B$46:$B$51,0))),1)","v":1},0,0,0,0,0,0,0,0,0,0,0,0,0,0,0,0,{"$f":"IFERROR(VLOOKUP(IF($AD105=\"Removed\",E105,$AD105),'Fixture Descriptions'!$A:$I,9,0),\"\")","v":0},{"$f":"IF($AD105=\"\",\"\",VLOOKUP($AD105,'Fixture Descriptions'!$A:$I,2,0))","v":""},{"$f":"IF(I105=\"\",\"\",IF(I105=\"Removed\",\"N/A\",IF(IFERROR(VLOOKUP(I105,'Fixture Schedule'!$C$9:$G$58,5,0),L105)=\"\",\"Not Qualified\",IFERROR(VLOOKUP(I105,'Fixture Schedule'!$C$9:$G$58,5,0),L105))))","v":""},{"$f":"IFERROR(INDEX('Utility Admin'!$F$3:$AW$3,1,MATCH(1,(CC$8='Utility Admin'!$F$1:$AW$1)*(Inventory!$AH105='Utility Admin'!$F$2:$AW$2)*(Inventory!$BZ105=('Utility Admin'!$F$4:$AW$4)),0)),0)","v":0},{"$f":"IFERROR(INDEX('Utility Admin'!$F$3:$AW$3,1,MATCH(1,(CD$8='Utility Admin'!$F$1:$AW$1)*(Inventory!$AH105='Utility Admin'!$F$2:$AW$2)*(Inventory!$BZ105=('Utility Admin'!$F$4:$AW$4)),0)),0)","v":0},{"$f":"IFERROR(INDEX('Utility Admin'!$F$3:$AW$3,1,MATCH(1,(CC$8='Utility Admin'!$F$1:$AW$1)*(Inventory!$AH105='Utility Admin'!$F$2:$AW$2)*(\"Lighting Controls\"=('Utility Admin'!$F$4:$AW$4)),0)),0)","v":0},{"$f":"IFERROR(INDEX('Utility Admin'!$F$3:$AW$3,1,MATCH(1,(CD$8='Utility Admin'!$F$1:$AW$1)*(Inventory!$AH105='Utility Admin'!$F$2:$AW$2)*(\"Lighting Controls\"=('Utility Admin'!$F$4:$AW$4)),0)),0)","v":0},false]
[null,98,null,null,null,null,null,null,null,null,null,null,null,{"$f":"IF(OR(I106=\"\",J106=\"\",AND(ProjectType=\"Retrofit\",OR(E106=\"\",F106=\"\"))),\"-\",IF(OR(CB106=0,CB106=\"Not Qualified\"),\"N\",IFERROR(INDEX('Fixture Descriptions'!K:K,MATCH(AD106,'Fixture Descriptions'!A:A,0)),\"N\")))","v":"-"},0,0,0,0,0,0,0,0,0,{"$f":"ROUND(IFERROR(IF($AE$7,BJ106*MaxIncentive,Inventory!Z106),0),2)","v":0},0,0,0,0,0,{"$f":"IF(I106=\"\",\"\",IFERROR(VLOOKUP(I106,'Fixture Schedule'!$C$9:$D$58,2,0),I106))","v":""},{"$f":"10","v":10},{"$f":"IFERROR(VLOOKUP(IF(I106=\"REMOVED\",E106,AD106),'Fixture Descriptions'!A:J,10,FALSE),0)","v":0},{"$f":"IFERROR(INDEX('Buildings and Areas'!D$5:D$14,MATCH($C106,'Buildings and Areas'!$B$5:$B$14,0),1),\"\")","v":""},{"$f":"IFERROR(INDEX('Buildings and Areas'!C$5:C$14,MATCH($C106,'Buildings and Areas'!$B$5:$B$14,0),1),\"\")","v":""},{"$f":"IFERROR(INDEX('Buildings and Areas'!R$5:R$14,MATCH($C106,'Buildings and Areas'!$B$5:$B$14,0),1),0)","v":0},{"$f":"IFERROR(INDEX('Buildings and Areas'!S$5:S$14,MATCH($C106,'Buildings and Areas'!$B$5:$B$14,0),1),0)","v":0},{"$f":"IFERROR(INDEX('Buildings and Areas'!T$5:T$14,MATCH($C106,'Buildings and Areas'!$B$5:$B$14,0),1),0)","v":0},{"$f":"IFERROR(INDEX('Buildings and Areas'!O$5:O$14,MATCH($C106,'Buildings and Areas'!$B$5:$B$14,0),1),\"\")","v":""},{"$f":"IFERROR(INDEX('Buildings and Areas'!F$5:F$14,MATCH($C106,'Buildings and Areas'!$B$5:$B$14,0),1)&IF(AH106=\"Exterior\",\": \"&'Buildings and Areas'!$H$4,\"\"),\"\")","v":""},{"$f":"IFERROR(INDEX('Buildings and Areas'!H$5:H$14,MATCH($C106,'Buildings and Areas'!$B$5:$B$14,0),1),\"\")","v":""},{"$f":"IFERROR(IF(INDEX('Buildings and Areas'!L$5:L$14,MATCH($C106,'Buildings and Areas'!$B$5:$B$14,0),1)=\"\",\"Deemed\",INDEX('Buildings and Areas'!L$5:L$14,MATCH($C106,'Buildings and Areas'!$B$5:$B$14,0),1)),\"\")","v":""},{"$f":"IFERROR(IF(INDEX('Buildings and Areas'!M$5:M$14,MATCH($C106,'Buildings and Areas'!$B$5:$B$14,0),1)=\"\",\"Deemed\",INDEX('Buildings and Areas'!M$5:M$14,MATCH($C106,'Buildings and Areas'!$B$5:$B$14,0),1)),\"\")","v":""},{"$f":"IFERROR(INDEX('Buildings and Areas'!P$5:P$14,MATCH($C106,'Buildings and Areas'!$B$5:$B$14,0),1),0)","v":0},{"$f":"IFERROR(INDEX('Buildings and Areas'!Q$5:Q$14,MATCH($C106,'Buildings and Areas'!$B$5:$B$14,0),1),0)","v":0},{"$f":"IF(OR($AG106=\"\",$E106=\"\",$F106=\"\"),0,IF($F$124>0.1,(VLOOKUP($E106,'Fixture Descriptions'!$A:$I,8,0)/1000)*(1-$G$124),(VLOOKUP($E106,'Fixture Descriptions'!$A:$I,8,0)/1000)))","v":0},0,0,0,0,{"$f":"IFERROR(IF(OR('Buildings and Areas'!$D$2=\"New Construction\",$AG106=\"\",$H106=\"\",AH106=\"Exterior\"),1,INDEX('Factor Tables'!C$46:C$51,MATCH(Inventory!$H106,'Factor Tables'!$B$46:$B$51,0))),1)","v":1},{"$f":"IF(OR('Buildings and Areas'!$D$2=\"New Construction\",$AG106=\"\",$H106=\"\",AH106=\"Exterior\"),1,INDEX('Factor Tables'!D$46:D$51,MATCH(Inventory!$H106,'Factor Tables'!$B$46:$B$51,0)))","v":1},{"$f":"IF(I106=\"REMOVED\",0,IF($AD106<>\"\",VLOOKUP($AD106,'Fixture Descriptions'!$A:$I,8,0)/1000,0))","v":0},0,0,0,0,0,0,0,{"$f":"IFERROR(IF(OR($AG106=\"\",$K106=\"\",AH106=\"Exterior\"),1,INDEX('Factor Tables'!C$46:C$51,MATCH(Inventory!$K106,'Factor Tables'!$B$46:$B$51,0))),1)","v":1},{"$f":"IFERROR(IF(OR($AG106=\"\",$K106=\"\",AH106=\"Exterior\"),1,INDEX('Factor Tables'!D$46:D$51,MATCH(Inventory!$K106,'Factor Tables'!$B$46:$B$51,0))),1)","v":1},0,0,0,0,0,0,0,0,0,0,0,0,0,0,0,0,{"$f":"IFERROR(VLOOKUP(IF($AD106=\"Removed\",E106,$AD106),'Fixture Descriptions'!$A:$I,9,0),\"\")","v":0},{"$f":"IF($AD106=\"\",\"\",VLOOKUP($AD106,'Fixture Descriptions'!$A:$I,2,0))","v":""},{"$f":"IF(I106=\"\",\"\",IF(I106=\"Removed\",\"N/A\",IF(IFERROR(VLOOKUP(I106,'Fixture Schedule'!$C$9:$G$58,5,0),L106)=\"\",\"Not Qualified\",IFERROR(VLOOKUP(I106,'Fixture Schedule'!$C$9:$G$58,5,0),L106))))","v":""},{"$f":"IFERROR(INDEX('Utility Admin'!$F$3:$AW$3,1,MATCH(1,(CC$8='Utility Admin'!$F$1:$AW$1)*(Inventory!$AH106='Utility Admin'!$F$2:$AW$2)*(Inventory!$BZ106=('Utility Admin'!$F$4:$AW$4)),0)),0)","v":0},{"$f":"IFERROR(INDEX('Utility Admin'!$F$3:$AW$3,1,MATCH(1,(CD$8='Utility Admin'!$F$1:$AW$1)*(Inventory!$AH106='Utility Admin'!$F$2:$AW$2)*(Inventory!$BZ106=('Utility Admin'!$F$4:$AW$4)),0)),0)","v":0},{"$f":"IFERROR(INDEX('Utility Admin'!$F$3:$AW$3,1,MATCH(1,(CC$8='Utility Admin'!$F$1:$AW$1)*(Inventory!$AH106='Utility Admin'!$F$2:$AW$2)*(\"Lighting Controls\"=('Utility Admin'!$F$4:$AW$4)),0)),0)","v":0},{"$f":"IFERROR(INDEX('Utility Admin'!$F$3:$AW$3,1,MATCH(1,(CD$8='Utility Admin'!$F$1:$AW$1)*(Inventory!$AH106='Utility Admin'!$F$2:$AW$2)*(\"Lighting Controls\"=('Utility Admin'!$F$4:$AW$4)),0)),0)","v":0},false]
[null,99,null,null,null,null,null,null,null,null,null,null,null,{"$f":"IF(OR(I107=\"\",J107=\"\",AND(ProjectType=\"Retrofit\",OR(E107=\"\",F107=\"\"))),\"-\",IF(OR(CB107=0,CB107=\"Not Qualified\"),\"N\",IFERROR(INDEX('Fixture Descriptions'!K:K,MATCH(AD107,'Fixture Descriptions'!A:A,0)),\"N\")))","v":"-"},0,0,0,0,0,0,0,0,0,{"$f":"ROUND(IFERROR(IF($AE$7,BJ107*MaxIncentive,Inventory!Z107),0),2)","v":0},0,0,0,0,0,{"$f":"IF(I107=\"\",\"\",IFERROR(VLOOKUP(I107,'Fixture Schedule'!$C$9:$D$58,2,0),I107))","v":""},{"$f":"10","v":10},{"$f":"IFERROR(VLOOKUP(IF(I107=\"REMOVED\",E107,AD107),'Fixture Descriptions'!A:J,10,FALSE),0)","v":0},{"$f":"IFERROR(INDEX('Buildings and Areas'!D$5:D$14,MATCH($C107,'Buildings and Areas'!$B$5:$B$14,0),1),\"\")","v":""},{"$f":"IFERROR(INDEX('Buildings and Areas'!C$5:C$14,MATCH($C107,'Buildings and Areas'!$B$5:$B$14,0),1),\"\")","v":""},{"$f":"IFERROR(INDEX('Buildings and Areas'!R$5:R$14,MATCH($C107,'Buildings and Areas'!$B$5:$B$14,0),1),0)","v":0},{"$f":"IFERROR(INDEX('Buildings and Areas'!S$5:S$14,MATCH($C107,'Buildings and Areas'!$B$5:$B$14,0),1),0)","v":0},{"$f":"IFERROR(INDEX('Buildings and Areas'!T$5:T$14,MATCH($C107,'Buildings and Areas'!$B$5:$B$14,0),1),0)","v":0},{"$f":"IFERROR(INDEX('Buildings and Areas'!O$5:O$14,MATCH($C107,'Buildings and Areas'!$B$5:$B$14,0),1),\"\")","v":""},{"$f":"IFERROR(INDEX('Buildings and Areas'!F$5:F$14,MATCH($C107,'Buildings and Areas'!$B$5:$B$14,0),1)&IF(AH107=\"Exterior\",\": \"&'Buildings and Areas'!$H$4,\"\"),\"\")","v":""},{"$f":"IFERROR(INDEX('Buildings and Areas'!H$5:H$14,MATCH($C107,'Buildings and Areas'!$B$5:$B$14,0),1),\"\")","v":""},{"$f":"IFERROR(IF(INDEX('Buildings and Areas'!L$5:L$14,MATCH($C107,'Buildings and Areas'!$B$5:$B$14,0),1)=\"\",\"Deemed\",INDEX('Buildings and Areas'!L$5:L$14,MATCH($C107,'Buildings and Areas'!$B$5:$B$14,0),1)),\"\")","v":""},{"$f":"IFERROR(IF(INDEX('Buildings and Areas'!M$5:M$14,MATCH($C107,'Buildings and Areas'!$B$5:$B$14,0),1)=\"\",\"Deemed\",INDEX('Buildings and Areas'!M$5:M$14,MATCH($C107,'Buildings and Areas'!$B$5:$B$14,0),1)),\"\")","v":""},{"$f":"IFERROR(INDEX('Buildings and Areas'!P$5:P$14,MATCH($C107,'Buildings and Areas'!$B$5:$B$14,0),1),0)","v":0},{"$f":"IFERROR(INDEX('Buildings and Areas'!Q$5:Q$14,MATCH($C107,'Buildings and Areas'!$B$5:$B$14,0),1),0)","v":0},{"$f":"IF(OR($AG107=\"\",$E107=\"\",$F107=\"\"),0,IF($F$124>0.1,(VLOOKUP($E107,'Fixture Descriptions'!$A:$I,8,0)/1000)*(1-$G$124),(VLOOKUP($E107,'Fixture Descriptions'!$A:$I,8,0)/1000)))","v":0},0,0,0,0,{"$f":"IFERROR(IF(OR('Buildings and Areas'!$D$2=\"New Construction\",$AG107=\"\",$H107=\"\",AH107=\"Exterior\"),1,INDEX('Factor Tables'!C$46:C$51,MATCH(Inventory!$H107,'Factor Tables'!$B$46:$B$51,0))),1)","v":1},{"$f":"IF(OR('Buildings and Areas'!$D$2=\"New Construction\",$AG107=\"\",$H107=\"\",AH107=\"Exterior\"),1,INDEX('Factor Tables'!D$46:D$51,MATCH(Inventory!$H107,'Factor Tables'!$B$46:$B$51,0)))","v":1},{"$f":"IF(I107=\"REMOVED\",0,IF($AD107<>\"\",VLOOKUP($AD107,'Fixture Descriptions'!$A:$I,8,0)/1000,0))","v":0},0,0,0,0,0,0,0,{"$f":"IFERROR(IF(OR($AG107=\"\",$K107=\"\",AH107=\"Exterior\"),1,INDEX('Factor Tables'!C$46:C$51,MATCH(Inventory!$K107,'Factor Tables'!$B$46:$B$51,0))),1)","v":1},{"$f":"IFERROR(IF(OR($AG107=\"\",$K107=\"\",AH107=\"Exterior\"),1,INDEX('Factor Tables'!D$46:D$51,MATCH(Inventory!$K107,'Factor Tables'!$B$46:$B$51,0))),1)","v":1},0,0,0,0,0,0,0,0,0,0,0,0,0,0,0,0,{"$f":"IFERROR(VLOOKUP(IF($AD107=\"Removed\",E107,$AD107),'Fixture Descriptions'!$A:$I,9,0),\"\")","v":0},{"$f":"IF($AD107=\"\",\"\",VLOOKUP($AD107,'Fixture Descriptions'!$A:$I,2,0))","v":""},{"$f":"IF(I107=\"\",\"\",IF(I107=\"Removed\",\"N/A\",IF(IFERROR(VLOOKUP(I107,'Fixture Schedule'!$C$9:$G$58,5,0),L107)=\"\",\"Not Qualified\",IFERROR(VLOOKUP(I107,'Fixture Schedule'!$C$9:$G$58,5,0),L107))))","v":""},{"$f":"IFERROR(INDEX('Utility Admin'!$F$3:$AW$3,1,MATCH(1,(CC$8='Utility Admin'!$F$1:$AW$1)*(Inventory!$AH107='Utility Admin'!$F$2:$AW$2)*(Inventory!$BZ107=('Utility Admin'!$F$4:$AW$4)),0)),0)","v":0},{"$f":"IFERROR(INDEX('Utility Admin'!$F$3:$AW$3,1,MATCH(1,(CD$8='Utility Admin'!$F$1:$AW$1)*(Inventory!$AH107='Utility Admin'!$F$2:$AW$2)*(Inventory!$BZ107=('Utility Admin'!$F$4:$AW$4)),0)),0)","v":0},{"$f":"IFERROR(INDEX('Utility Admin'!$F$3:$AW$3,1,MATCH(1,(CC$8='Utility Admin'!$F$1:$AW$1)*(Inventory!$AH107='Utility Admin'!$F$2:$AW$2)*(\"Lighting Controls\"=('Utility Admin'!$F$4:$AW$4)),0)),0)","v":0},{"$f":"IFERROR(INDEX('Utility Admin'!$F$3:$AW$3,1,MATCH(1,(CD$8='Utility Admin'!$F$1:$AW$1)*(Inventory!$AH107='Utility Admin'!$F$2:$AW$2)*(\"Lighting Controls\"=('Utility Admin'!$F$4:$AW$4)),0)),0)","v":0},false]
[null,100,null,null,null,null,null,null,null,null,null,null,null,{"$f":"IF(OR(I108=\"\",J108=\"\",AND(ProjectType=\"Retrofit\",OR(E108=\"\",F108=\"\"))),\"-\",IF(OR(CB108=0,CB108=\"Not Qualified\"),\"N\",IFERROR(INDEX('Fixture Descriptions'!K:K,MATCH(AD108,'Fixture Descriptions'!A:A,0)),\"N\")))","v":"-"},0,0,0,0,0,0,0,0,0,{"$f":"ROUND(IFERROR(IF($AE$7,BJ108*MaxIncentive,Inventory!Z108),0),2)","v":0},0,0,0,0,0,{"$f":"IF(I108=\"\",\"\",IFERROR(VLOOKUP(I108,'Fixture Schedule'!$C$9:$D$58,2,0),I108))","v":""},{"$f":"10","v":10},{"$f":"IFERROR(VLOOKUP(IF(I108=\"REMOVED\",E108,AD108),'Fixture Descriptions'!A:J,10,FALSE),0)","v":0},{"$f":"IFERROR(INDEX('Buildings and Areas'!D$5:D$14,MATCH($C108,'Buildings and Areas'!$B$5:$B$14,0),1),\"\")","v":""},{"$f":"IFERROR(INDEX('Buildings and Areas'!C$5:C$14,MATCH($C108,'Buildings and Areas'!$B$5:$B$14,0),1),\"\")","v":""},{"$f":"IFERROR(INDEX('Buildings and Areas'!R$5:R$14,MATCH($C108,'Buildings and Areas'!$B$5:$B$14,0),1),0)","v":0},{"$f":"IFERROR(INDEX('Buildings and Areas'!S$5:S$14,MATCH($C108,'Buildings and Areas'!$B$5:$B$14,0),1),0)","v":0},{"$f":"IFERROR(INDEX('Buildings and Areas'!T$5:T$14,MATCH($C108,'Buildings and Areas'!$B$5:$B$14,0),1),0)","v":0},{"$f":"IFERROR(INDEX('Buildings and Areas'!O$5:O$14,MATCH($C108,'Buildings and Areas'!$B$5:$B$14,0),1),\"\")","v":""},{"$f":"IFERROR(INDEX('Buildings and Areas'!F$5:F$14,MATCH($C108,'Buildings and Areas'!$B$5:$B$14,0),1)&IF(AH108=\"Exterior\",\": \"&'Buildings and Areas'!$H$4,\"\"),\"\")","v":""},{"$f":"IFERROR(INDEX('Buildings and Areas'!H$5:H$14,MATCH($C108,'Buildings and Areas'!$B$5:$B$14,0),1),\"\")","v":""},{"$f":"IFERROR(IF(INDEX('Buildings and Areas'!L$5:L$14,MATCH($C108,'Buildings and Areas'!$B$5:$B$14,0),1)=\"\",\"Deemed\",INDEX('Buildings and Areas'!L$5:L$14,MATCH($C108,'Buildings and Areas'!$B$5:$B$14,0),1)),\"\")","v":""},{"$f":"IFERROR(IF(INDEX('Buildings and Areas'!M$5:M$14,MATCH($C108,'Buildings and Areas'!$B$5:$B$14,0),1)=\"\",\"Deemed\",INDEX('Buildings and Areas'!M$5:M$14,MATCH($C108,'Buildings and Areas'!$B$5:$B$14,0),1)),\"\")","v":""},{"$f":"IFERROR(INDEX('Buildings and Areas'!P$5:P$14,MATCH($C108,'Buildings and Areas'!$B$5:$B$14,0),1),0)","v":0},{"$f":"IFERROR(INDEX('Buildings and Areas'!Q$5:Q$14,MATCH($C108,'Buildings and Areas'!$B$5:$B$14,0),1),0)","v":0},{"$f":"IF(OR($AG108=\"\",$E108=\"\",$F108=\"\"),0,IF($F$124>0.1,(VLOOKUP($E108,'Fixture Descriptions'!$A:$I,8,0)/1000)*(1-$G$124),(VLOOKUP($E108,'Fixture Descriptions'!$A:$I,8,0)/1000)))","v":0},0,0,0,0,{"$f":"IFERROR(IF(OR('Buildings and Areas'!$D$2=\"New Construction\",$AG108=\"\",$H108=\"\",AH108=\"Exterior\"),1,INDEX('Factor Tables'!C$46:C$51,MATCH(Inventory!$H108,'Factor Tables'!$B$46:$B$51,0))),1)","v":1},{"$f":"IF(OR('Buildings and Areas'!$D$2=\"New Construction\",$AG108=\"\",$H108=\"\",AH108=\"Exterior\"),1,INDEX('Factor Tables'!D$46:D$51,MATCH(Inventory!$H108,'Factor Tables'!$B$46:$B$51,0)))","v":1},{"$f":"IF(I108=\"REMOVED\",0,IF($AD108<>\"\",VLOOKUP($AD108,'Fixture Descriptions'!$A:$I,8,0)/1000,0))","v":0},0,0,0,0,0,0,0,{"$f":"IFERROR(IF(OR($AG108=\"\",$K108=\"\",AH108=\"Exterior\"),1,INDEX('Factor Tables'!C$46:C$51,MATCH(Inventory!$K108,'Factor Tables'!$B$46:$B$51,0))),1)","v":1},{"$f":"IFERROR(IF(OR($AG108=\"\",$K108=\"\",AH108=\"Exterior\"),1,INDEX('Factor Tables'!D$46:D$51,MATCH(Inventory!$K108,'Factor Tables'!$B$46:$B$51,0))),1)","v":1},0,0,0,0,0,0,0,0,0,0,0,0,0,0,0,0,{"$f":"IFERROR(VLOOKUP(IF($AD108=\"Removed\",E108,$AD108),'Fixture Descriptions'!$A:$I,9,0),\"\")","v":0},{"$f":"IF($AD108=\"\",\"\",VLOOKUP($AD108,'Fixture Descriptions'!$A:$I,2,0))","v":""},{"$f":"IF(I108=\"\",\"\",IF(I108=\"Removed\",\"N/A\",IF(IFERROR(VLOOKUP(I108,'Fixture Schedule'!$C$9:$G$58,5,0),L108)=\"\",\"Not Qualified\",IFERROR(VLOOKUP(I108,'Fixture Schedule'!$C$9:$G$58,5,0),L108))))","v":""},{"$f":"IFERROR(INDEX('Utility Admin'!$F$3:$AW$3,1,MATCH(1,(CC$8='Utility Admin'!$F$1:$AW$1)*(Inventory!$AH108='Utility Admin'!$F$2:$AW$2)*(Inventory!$BZ108=('Utility Admin'!$F$4:$AW$4)),0)),0)","v":0},{"$f":"IFERROR(INDEX('Utility Admin'!$F$3:$AW$3,1,MATCH(1,(CD$8='Utility Admin'!$F$1:$AW$1)*(Inventory!$AH108='Utility Admin'!$F$2:$AW$2)*(Inventory!$BZ108=('Utility Admin'!$F$4:$AW$4)),0)),0)","v":0},{"$f":"IFERROR(INDEX('Utility Admin'!$F$3:$AW$3,1,MATCH(1,(CC$8='Utility Admin'!$F$1:$AW$1)*(Inventory!$AH108='Utility Admin'!$F$2:$AW$2)*(\"Lighting Controls\"=('Utility Admin'!$F$4:$AW$4)),0)),0)","v":0},{"$f":"IFERROR(INDEX('Utility Admin'!$F$3:$AW$3,1,MATCH(1,(CD$8='Utility Admin'!$F$1:$AW$1)*(Inventory!$AH108='Utility Admin'!$F$2:$AW$2)*(\"Lighting Controls\"=('Utility Admin'!$F$4:$AW$4)),0)),0)","v":0},false]
[null,"END"]
[]
[null,"Hide",null,null,null,null,null,null,null,null,null,null,null,null,null,null,null,null,null,null,null,null,null,null,null,null,null,null,null,null,null,null,null,null,null,null,null,null,null,"SqFt/LinFt",null,null,"Summer IEFd to use","IEFe to use","LPD","SqFt/LinFt (ADJ)","Base Allowed kW","Base kW + Site Allowance","Base kWh"]
[null,"Hide",{"$f":"IF('Buildings and Areas'!B5=\"\",\"\",'Buildings and Areas'!B5)","v":""},{"$f":"COUNTIF($C$9:$C$108,$C112)","v":100},null,null,null,null,null,{"$f":"SUMIF($C$9:$C$108,$C112,J$9:J$108)","v":0},null,null,null,null,{"$f":"ROUND(MAX(ABS(BQ112),ABS(BP112))*IF(BQ112<0,-1,1),3)","v":0},null,null,{"$f":"ROUND(BP112,3)","v":0},null,null,{"$f":"ROUND(BW112,0)","v":0},null,null,{"$f":"ROUND(IFERROR(IF($AE$7,BJ112*MaxIncentive,Inventory!Z112),0),2)","v":0},null,{"$f":"U112*IF(AH112=\"Interior\",'Utility Admin'!$AK$3,'Utility Admin'!$AV$3)+Inventory!O112*IF(AH112=\"Interior\",'Utility Admin'!$O$3,'Utility Admin'!$Z$3)","v":0},null,{"$f":"ROUND(IFERROR(Z112/$Z$7*ProjectCost,0),2)","v":0},null,null,null,{"$f":"AVERAGEIF($C$9:$C$108,$C112,AF$9:AF$108)","v":0},{"$f":"IFERROR(INDEX('Buildings and Areas'!D$5:D$14,MATCH($C112,'Buildings and Areas'!$B$5:$B$14,0),1),\"\")","v":""},{"$f":"IFERROR(INDEX('Buildings and Areas'!C$5:C$14,MATCH($C112,'Buildings and Areas'!$B$5:$B$14,0),1),\"\")","v":""},{"$f":"IFERROR(INDEX('Buildings and Areas'!R$5:R$14,MATCH($C112,'Buildings and Areas'!$B$5:$B$14,0),1),0)","v":0},{"$f":"IFERROR(INDEX('Buildings and Areas'!S$5:S$14,MATCH($C112,'Buildings and Areas'!$B$5:$B$14,0),1),0)","v":0},{"$f":"IFERROR(INDEX('Buildings and Areas'!T$5:T$14,MATCH($C112,'Buildings and Areas'!$B$5:$B$14,0),1),0)","v":0},{"$f":"IFERROR(INDEX('Buildings and Areas'!O$5:O$14,MATCH($C112,'Buildings and Areas'!$B$5:$B$14,0),1),\"\")","v":""},{"$f":"IFERROR(INDEX('Buildings and Areas'!F$5:F$14,MATCH($C112,'Buildings and Areas'!$B$5:$B$14,0),1)&IF(AH112=\"Exterior\",\"-\"&'Buildings and Areas'!$H$4,\"\"),\"\")","v":""},{"$f":"'Buildings and Areas'!$H5","v":0},{"$f":"IFERROR(INDEX('Buildings and Areas'!L$5:L$14,MATCH($C112,'Buildings and Areas'!$B$5:$B$14,0),1),\"\")","v":""},{"$f":"IFERROR(INDEX('Buildings and Areas'!M$5:M$14,MATCH($C112,'Buildings and Areas'!$B$5:$B$14,0),1),\"\")","v":""},{"$f":"IFERROR(INDEX('Buildings and Areas'!P$5:P$14,MATCH($C112,'Buildings and Areas'!$B$5:$B$14,0),1),0)","v":0},{"$f":"IFERROR(INDEX('Buildings and Areas'!Q$5:Q$14,MATCH($C112,'Buildings and Areas'!$B$5:$B$14,0),1),0)","v":0},{"$f":"'Buildings and Areas'!J5","v":""},{"$f":"IFERROR(AN112*BC112/BB112,0)","v":0},{"$f":"IFERROR((AS112*AT112)/1000,0)","v":0},{"$f":"AU112+IF(Inventory!AH112=\"Exterior\",'Buildings and Areas'!H$3*Inventory!AU112/SUMIF(Inventory!AH$112:AH$121,\"Exterior\",Inventory!AU$112:AU$121),0)/1000","v":0},{"$f":"AV112*AI112","v":0},"Base site allowance is distrubuted amongst all exterior building types by a ratio of base allowed kw for each area to total base allowed kW for all areas.",null,null,null,{"$f":"SUMIF($C$9:$C$108,$C112,BB$9:BB$108)","v":0},0,null,null,{"$f":"SUMIF($C$9:$C$108,$C112,BF$9:BF$108)","v":0},null,null,null,{"$f":"U112/$U$7","v":{"$error":"#DIV/0!"}},null,null,{"$f":"$AV112-$BC112","v":0},{"$f":"$BM112*AQ112","v":0},{"$f":"BN112*AJ112","v":0},{"$f":"BO112","v":0},{"$f":"BM112*AR112*AK112","v":0},null,null,null,null,{"$f":"$AW112-$BF112","v":0},{"$f":"BV112*AR112","v":0},null,null,null,{"$f":"IF($AD112=\"\",\"\",VLOOKUP($AD112,'Fixture Descriptions'!$A:$I,2,0))","v":""}]
[null,"Hide",{"$f":"'Buildings and Areas'!B6","v":0},0,null,null,null,null,null,0,null,null,null,null,{"$f":"ROUND(MAX(ABS(BQ113),ABS(BP113))*IF(BQ113<0,-1,1),3)","v":0},null,null,{"$f":"ROUND(BP113,3)","v":0},null,null,{"$f":"ROUND(BW113,0)","v":0},null,null,{"$f":"ROUND(IFERROR(IF($AE$7,BJ113*MaxIncentive,Inventory!Z113),0),2)","v":0},null,{"$f":"U113*IF(AH113=\"Interior\",'Utility Admin'!$AK$3,'Utility Admin'!$AV$3)+Inventory!O113*IF(AH113=\"Interior\",'Utility Admin'!$O$3,'Utility Admin'!$Z$3)","v":0},null,0,null,null,null,{"$error":"#DIV/0!"},{"$f":"IFERROR(INDEX('Buildings and Areas'!D$5:D$14,MATCH($C113,'Buildings and Areas'!$B$5:$B$14,0),1),\"\")","v":""},{"$f":"IFERROR(INDEX('Buildings and Areas'!C$5:C$14,MATCH($C113,'Buildings and Areas'!$B$5:$B$14,0),1),\"\")","v":""},{"$f":"IFERROR(INDEX('Buildings and Areas'!R$5:R$14,MATCH($C113,'Buildings and Areas'!$B$5:$B$14,0),1),0)","v":0},{"$f":"IFERROR(INDEX('Buildings and Areas'!S$5:S$14,MATCH($C113,'Buildings and Areas'!$B$5:$B$14,0),1),0)","v":0},{"$f":"IFERROR(INDEX('Buildings and Areas'!T$5:T$14,MATCH($C113,'Buildings and Areas'!$B$5:$B$14,0),1),0)","v":0},{"$f":"IFERROR(INDEX('Buildings and Areas'!O$5:O$14,MATCH($C113,'Buildings and Areas'!$B$5:$B$14,0),1),\"\")","v":""},{"$f":"IFERROR(INDEX('Buildings and Areas'!F$5:F$14,MATCH($C113,'Buildings and Areas'!$B$5:$B$14,0),1)&IF(AH113=\"Exterior\",\"-\"&'Buildings and Areas'!$H$4,\"\"),\"\")","v":""},{"$f":"'Buildings and Areas'!$H6","v":0},{"$f":"IFERROR(INDEX('Buildings and Areas'!L$5:L$14,MATCH($C113,'Buildings and Areas'!$B$5:$B$14,0),1),\"\")","v":""},{"$f":"IFERROR(INDEX('Buildings and Areas'!M$5:M$14,MATCH($C113,'Buildings and Areas'!$B$5:$B$14,0),1),\"\")","v":""},{"$f":"IFERROR(INDEX('Buildings and Areas'!P$5:P$14,MATCH($C113,'Buildings and Areas'!$B$5:$B$14,0),1),0)","v":0},{"$f":"IFERROR(INDEX('Buildings and Areas'!Q$5:Q$14,MATCH($C113,'Buildings and Areas'!$B$5:$B$14,0),1),0)","v":0},{"$f":"'Buildings and Areas'!J6","v":""},0,{"$f":"IFERROR((AS113*AT113)/1000,0)","v":0},{"$f":"AU113+IF(Inventory!AH113=\"Exterior\",'Buildings and Areas'!H$3*Inventory!AU113/SUMIF(Inventory!AH$112:AH$121,\"Exterior\",Inventory!AU$112:AU$121),0)/1000","v":0},0,null,null,null,null,0,0,null,null,0,null,null,null,{"$f":"U113/$U$7","v":{"$error":"#DIV/0!"}},null,null,0,0,0,{"$f":"BO113","v":0},0,null,null,null,null,0,0,null,null,null,{"$f":"IF($AD113=\"\",\"\",VLOOKUP($AD113,'Fixture Descriptions'!$A:$I,2,0))","v":""}]
[null,"Hide",{"$f":"'Buildings and Areas'!B7","v":0},0,null,null,null,null,null,0,null,null,null,null,0,null,null,0,null,null,0,null,null,{"$f":"ROUND(IFERROR(IF($AE$7,BJ114*MaxIncentive,Inventory!Z114),0),2)","v":0},null,{"$f":"U114*IF(AH114=\"Interior\",'Utility Admin'!$AK$3,'Utility Admin'!$AV$3)+Inventory!O114*IF(AH114=\"Interior\",'Utility Admin'!$O$3,'Utility Admin'!$Z$3)","v":0},null,0,null,null,null,{"$error":"#DIV/0!"},{"$f":"IFERROR(INDEX('Buildings and Areas'!D$5:D$14,MATCH($C114,'Buildings and Areas'!$B$5:$B$14,0),1),\"\")","v":""},{"$f":"IFERROR(INDEX('Buildings and Areas'!C$5:C$14,MATCH($C114,'Buildings and Areas'!$B$5:$B$14,0),1),\"\")","v":""},{"$f":"IFERROR(INDEX('Buildings and Areas'!R$5:R$14,MATCH($C114,'Buildings and Areas'!$B$5:$B$14,0),1),0)","v":0},{"$f":"IFERROR(INDEX('Buildings and Areas'!S$5:S$14,MATCH($C114,'Buildings and Areas'!$B$5:$B$14,0),1),0)","v":0},{"$f":"IFERROR(INDEX('Buildings and Areas'!T$5:T$14,MATCH($C114,'Buildings and Areas'!$B$5:$B$14,0),1),0)","v":0},{"$f":"IFERROR(INDEX('Buildings and Areas'!O$5:O$14,MATCH($C114,'Buildings and Areas'!$B$5:$B$14,0),1),\"\")","v":""},{"$f":"IFERROR(INDEX('Buildings and Areas'!F$5:F$14,MATCH($C114,'Buildings and Areas'!$B$5:$B$14,0),1)&IF(AH114=\"Exterior\",\"-\"&'Buildings and Areas'!$H$4,\"\"),\"\")","v":""},{"$f":"'Buildings and Areas'!$H7","v":0},{"$f":"IFERROR(INDEX('Buildings and Areas'!L$5:L$14,MATCH($C114,'Buildings and Areas'!$B$5:$B$14,0),1),\"\")","v":""},{"$f":"IFERROR(INDEX('Buildings and Areas'!M$5:M$14,MATCH($C114,'Buildings and Areas'!$B$5:$B$14,0),1),\"\")","v":""},{"$f":"IFERROR(INDEX('Buildings and Areas'!P$5:P$14,MATCH($C114,'Buildings and Areas'!$B$5:$B$14,0),1),0)","v":0},{"$f":"IFERROR(INDEX('Buildings and Areas'!Q$5:Q$14,MATCH($C114,'Buildings and Areas'!$B$5:$B$14,0),1),0)","v":0},{"$f":"'Buildings and Areas'!J7","v":""},0,0,{"$f":"AU114+IF(Inventory!AH114=\"Exterior\",'Buildings and Areas'!H$3*Inventory!AU114/SUMIF(Inventory!AH$112:AH$121,\"Exterior\",Inventory!AU$112:AU$121),0)/1000","v":0},0,null,null,null,null,0,0,null,null,0,null,null,null,{"$error":"#DIV/0!"},null,null,0,0,0,0,0,null,null,null,null,0,0,null,null,null,{"$f":"IF($AD114=\"\",\"\",VLOOKUP($AD114,'Fixture Descriptions'!$A:$I,2,0))","v":""}]
[null,"Hide",{"$f":"'Buildings and Areas'!B8","v":0},0,null,null,null,null,null,0,null,null,null,null,0,null,null,0,null,null,0,null,null,{"$f":"ROUND(IFERROR(IF($AE$7,BJ115*MaxIncentive,Inventory!Z115),0),2)","v":0},null,{"$f":"U115*IF(AH115=\"Interior\",'Utility Admin'!$AK$3,'Utility Admin'!$AV$3)+Inventory!O115*IF(AH115=\"Interior\",'Utility Admin'!$O$3,'Utility Admin'!$Z$3)","v":0},null,0,null,null,null,{"$error":"#DIV/0!"},{"$f":"IFERROR(INDEX('Buildings and Areas'!D$5:D$14,MATCH($C115,'Buildings and Areas'!$B$5:$B$14,0),1),\"\")","v":""},{"$f":"IFERROR(INDEX('Buildings and Areas'!C$5:C$14,MATCH($C115,'Buildings and Areas'!$B$5:$B$14,0),1),\"\")","v":""},{"$f":"IFERROR(INDEX('Buildings and Areas'!R$5:R$14,MATCH($C115,'Buildings and Areas'!$B$5:$B$14,0),1),0)","v":0},{"$f":"IFERROR(INDEX('Buildings and Areas'!S$5:S$14,MATCH($C115,'Buildings and Areas'!$B$5:$B$14,0),1),0)","v":0},{"$f":"IFERROR(INDEX('Buildings and Areas'!T$5:T$14,MATCH($C115,'Buildings and Areas'!$B$5:$B$14,0),1),0)","v":0},{"$f":"IFERROR(INDEX('Buildings and Areas'!O$5:O$14,MATCH($C115,'Buildings and Areas'!$B$5:$B$14,0),1),\"\")","v":""},{"$f":"IFERROR(INDEX('Buildings and Areas'!F$5:F$14,MATCH($C115,'Buildings and Areas'!$B$5:$B$14,0),1)&IF(AH115=\"Exterior\",\"-\"&'Buildings and Areas'!$H$4,\"\"),\"\")","v":""},{"$f":"'Buildings and Areas'!$H8","v":0},{"$f":"IFERROR(INDEX('Buildings and Areas'!L$5:L$14,MATCH($C115,'Buildings and Areas'!$B$5:$B$14,0),1),\"\")","v":""},{"$f":"IFERROR(INDEX('Buildings and Areas'!M$5:M$14,MATCH($C115,'Buildings and Areas'!$B$5:$B$14,0),1),\"\")","v":""},{"$f":"IFERROR(INDEX('Buildings and Areas'!P$5:P$14,MATCH($C115,'Buildings and Areas'!$B$5:$B$14,0),1),0)","v":0},{"$f":"IFERROR(INDEX('Buildings and Areas'!Q$5:Q$14,MATCH($C115,'Buildings and Areas'!$B$5:$B$14,0),1),0)","v":0},{"$f":"'Buildings and Areas'!J8","v":""},0,0,{"$f":"AU115+IF(Inventory!AH115=\"Exterior\",'Buildings and Areas'!H$3*Inventory!AU115/SUMIF(Inventory!AH$112:AH$121,\"Exterior\",Inventory!AU$112:AU$121),0)/1000","v":0},0,null,null,null,null,0,0,null,null,0,null,null,null,{"$error":"#DIV/0!"},null,null,0,0,0,0,0,null,null,null,null,0,0,null,null,null,{"$f":"IF($AD115=\"\",\"\",VLOOKUP($AD115,'Fixture Descriptions'!$A:$I,2,0))","v":""}]
[null,"Hide",{"$f":"'Buildings and Areas'!B9","v":0},0,null,null,null,null,null,0,null,null,null,null,0,null,null,0,null,null,0,null,null,{"$f":"ROUND(IFERROR(IF($AE$7,BJ116*MaxIncentive,Inventory!Z116),0),2)","v":0},null,{"$f":"U116*IF(AH116=\"Interior\",'Utility Admin'!$AK$3,'Utility Admin'!$AV$3)+Inventory!O116*IF(AH116=\"Interior\",'Utility Admin'!$O$3,'Utility Admin'!$Z$3)","v":0},null,0,null,null,null,{"$error":"#DIV/0!"},{"$f":"IFERROR(INDEX('Buildings and Areas'!D$5:D$14,MATCH($C116,'Buildings and Areas'!$B$5:$B$14,0),1),\"\")","v":""},{"$f":"IFERROR(INDEX('Buildings and Areas'!C$5:C$14,MATCH($C116,'Buildings and Areas'!$B$5:$B$14,0),1),\"\")","v":""},{"$f":"IFERROR(INDEX('Buildings and Areas'!R$5:R$14,MATCH($C116,'Buildings and Areas'!$B$5:$B$14,0),1),0)","v":0},{"$f":"IFERROR(INDEX('Buildings and Areas'!S$5:S$14,MATCH($C116,'Buildings and Areas'!$B$5:$B$14,0),1),0)","v":0},{"$f":"IFERROR(INDEX('Buildings and Areas'!T$5:T$14,MATCH($C116,'Buildings and Areas'!$B$5:$B$14,0),1),0)","v":0},{"$f":"IFERROR(INDEX('Buildings and Areas'!O$5:O$14,MATCH($C116,'Buildings and Areas'!$B$5:$B$14,0),1),\"\")","v":""},{"$f":"IFERROR(INDEX('Buildings and Areas'!F$5:F$14,MATCH($C116,'Buildings and Areas'!$B$5:$B$14,0),1)&IF(AH116=\"Exterior\",\"-\"&'Buildings and Areas'!$H$4,\"\"),\"\")","v":""},{"$f":"'Buildings and Areas'!$H9","v":0},{"$f":"IFERROR(INDEX('Buildings and Areas'!L$5:L$14,MATCH($C116,'Buildings and Areas'!$B$5:$B$14,0),1),\"\")","v":""},{"$f":"IFERROR(INDEX('Buildings and Areas'!M$5:M$14,MATCH($C116,'Buildings and Areas'!$B$5:$B$14,0),1),\"\")","v":""},{"$f":"IFERROR(INDEX('Buildings and Areas'!P$5:P$14,MATCH($C116,'Buildings and Areas'!$B$5:$B$14,0),1),0)","v":0},{"$f":"IFERROR(INDEX('Buildings and Areas'!Q$5:Q$14,MATCH($C116,'Buildings and Areas'!$B$5:$B$14,0),1),0)","v":0},{"$f":"'Buildings and Areas'!J9","v":""},0,0,{"$f":"AU116+IF(Inventory!AH116=\"Exterior\",'Buildings and Areas'!H$3*Inventory!AU116/SUMIF(Inventory!AH$112:AH$121,\"Exterior\",Inventory!AU$112:AU$121),0)/1000","v":0},0,null,null,null,null,0,0,null,null,0,null,null,null,{"$error":"#DIV/0!"},null,null,0,0,0,0,0,null,null,null,null,0,0,null,null,null,{"$f":"IF($AD116=\"\",\"\",VLOOKUP($AD116,'Fixture Descriptions'!$A:$I,2,0))","v":""}]
[null,"Hide",{"$f":"'Buildings and Areas'!B10","v":0},0,null,null,null,null,null,0,null,null,null,null,0,null,null,0,null,null,0,null,null,{"$f":"ROUND(IFERROR(IF($AE$7,BJ117*MaxIncentive,Inventory!Z117),0),2)","v":0},null,{"$f":"U117*IF(AH117=\"Interior\",'Utility Admin'!$AK$3,'Utility Admin'!$AV$3)+Inventory!O117*IF(AH117=\"Interior\",'Utility Admin'!$O$3,'Utility Admin'!$Z$3)","v":0},null,0,null,null,null,{"$error":"#DIV/0!"},{"$f":"IFERROR(INDEX('Buildings and Areas'!D$5:D$14,MATCH($C117,'Buildings and Areas'!$B$5:$B$14,0),1),\"\")","v":""},{"$f":"IFERROR(INDEX('Buildings and Areas'!C$5:C$14,MATCH($C117,'Buildings and Areas'!$B$5:$B$14,0),1),\"\")","v":""},{"$f":"IFERROR(INDEX('Buildings and Areas'!R$5:R$14,MATCH($C117,'Buildings and Areas'!$B$5:$B$14,0),1),0)","v":0},{"$f":"IFERROR(INDEX('Buildings and Areas'!S$5:S$14,MATCH($C117,'Buildings and Areas'!$B$5:$B$14,0),1),0)","v":0},{"$f":"IFERROR(INDEX('Buildings and Areas'!T$5:T$14,MATCH($C117,'Buildings and Areas'!$B$5:$B$14,0),1),0)","v":0},{"$f":"IFERROR(INDEX('Buildings and Areas'!O$5:O$14,MATCH($C117,'Buildings and Areas'!$B$5:$B$14,0),1),\"\")","v":""},{"$f":"IFERROR(INDEX('Buildings and Areas'!F$5:F$14,MATCH($C117,'Buildings and Areas'!$B$5:$B$14,0),1)&IF(AH117=\"Exterior\",\"-\"&'Buildings and Areas'!$H$4,\"\"),\"\")","v":""},{"$f":"'Buildings and Areas'!$H10","v":0},{"$f":"IFERROR(INDEX('Buildings and Areas'!L$5:L$14,MATCH($C117,'Buildings and Areas'!$B$5:$B$14,0),1),\"\")","v":""},{"$f":"IFERROR(INDEX('Buildings and Areas'!M$5:M$14,MATCH($C117,'Buildings and Areas'!$B$5:$B$14,0),1),\"\")","v":""},{"$f":"IFERROR(INDEX('Buildings and Areas'!P$5:P$14,MATCH($C117,'Buildings and Areas'!$B$5:$B$14,0),1),0)","v":0},{"$f":"IFERROR(INDEX('Buildings and Areas'!Q$5:Q$14,MATCH($C117,'Buildings and Areas'!$B$5:$B$14,0),1),0)","v":0},{"$f":"'Buildings and Areas'!J10","v":""},0,0,{"$f":"AU117+IF(Inventory!AH117=\"Exterior\",'Buildings and Areas'!H$3*Inventory!AU117/SUMIF(Inventory!AH$112:AH$121,\"Exterior\",Inventory!AU$112:AU$121),0)/1000","v":0},0,null,null,null,null,0,0,null,null,0,null,null,null,{"$error":"#DIV/0!"},null,null,0,0,0,0,0,null,null,null,null,0,0,null,null,null,{"$f":"IF($AD117=\"\",\"\",VLOOKUP($AD117,'Fixture Descriptions'!$A:$I,2,0))","v":""}]
[null,"Hide",{"$f":"'Buildings and Areas'!B11","v":0},0,null,null,null,null,null,0,null,null,null,null,0,null,null,0,null,null,0,null,null,{"$f":"ROUND(IFERROR(IF($AE$7,BJ118*MaxIncentive,Inventory!Z118),0),2)","v":0},null,{"$f":"U118*IF(AH118=\"Interior\",'Utility Admin'!$AK$3,'Utility Admin'!$AV$3)+Inventory!O118*IF(AH118=\"Interior\",'Utility Admin'!$O$3,'Utility Admin'!$Z$3)","v":0},null,0,null,null,null,{"$error":"#DIV/0!"},{"$f":"IFERROR(INDEX('Buildings and Areas'!D$5:D$14,MATCH($C118,'Buildings and Areas'!$B$5:$B$14,0),1),\"\")","v":""},{"$f":"IFERROR(INDEX('Buildings and Areas'!C$5:C$14,MATCH($C118,'Buildings and Areas'!$B$5:$B$14,0),1),\"\")","v":""},{"$f":"IFERROR(INDEX('Buildings and Areas'!R$5:R$14,MATCH($C118,'Buildings and Areas'!$B$5:$B$14,0),1),0)","v":0},{"$f":"IFERROR(INDEX('Buildings and Areas'!S$5:S$14,MATCH($C118,'Buildings and Areas'!$B$5:$B$14,0),1),0)","v":0},{"$f":"IFERROR(INDEX('Buildings and Areas'!T$5:T$14,MATCH($C118,'Buildings and Areas'!$B$5:$B$14,0),1),0)","v":0},{"$f":"IFERROR(INDEX('Buildings and Areas'!O$5:O$14,MATCH($C118,'Buildings and Areas'!$B$5:$B$14,0),1),\"\")","v":""},{"$f":"IFERROR(INDEX('Buildings and Areas'!F$5:F$14,MATCH($C118,'Buildings and Areas'!$B$5:$B$14,0),1)&IF(AH118=\"Exterior\",\"-\"&'Buildings and Areas'!$H$4,\"\"),\"\")","v":""},{"$f":"'Buildings and Areas'!$H11","v":0},{"$f":"IFERROR(INDEX('Buildings and Areas'!L$5:L$14,MATCH($C118,'Buildings and Areas'!$B$5:$B$14,0),1),\"\")","v":""},{"$f":"IFERROR(INDEX('Buildings and Areas'!M$5:M$14,MATCH($C118,'Buildings and Areas'!$B$5:$B$14,0),1),\"\")","v":""},{"$f":"IFERROR(INDEX('Buildings and Areas'!P$5:P$14,MATCH($C118,'Buildings and Areas'!$B$5:$B$14,0),1),0)","v":0},{"$f":"IFERROR(INDEX('Buildings and Areas'!Q$5:Q$14,MATCH($C118,'Buildings and Areas'!$B$5:$B$14,0),1),0)","v":0},{"$f":"'Buildings and Areas'!J11","v":""},0,0,{"$f":"AU118+IF(Inventory!AH118=\"Exterior\",'Buildings and Areas'!H$3*Inventory!AU118/SUMIF(Inventory!AH$112:AH$121,\"Exterior\",Inventory!AU$112:AU$121),0)/1000","v":0},0,null,null,null,null,0,0,null,null,0,null,null,null,{"$error":"#DIV/0!"},null,null,0,0,0,0,0,null,null,null,null,0,0,null,null,null,{"$f":"IF($AD118=\"\",\"\",VLOOKUP($AD118,'Fixture Descriptions'!$A:$I,2,0))","v":""}]
[null,"Hide",{"$f":"'Buildings and Areas'!B12","v":0},0,null,null,null,null,null,0,null,null,null,null,0,null,null,0,null,null,0,null,null,{"$f":"ROUND(IFERROR(IF($AE$7,BJ119*MaxIncentive,Inventory!Z119),0),2)","v":0},null,{"$f":"U119*IF(AH119=\"Interior\",'Utility Admin'!$AK$3,'Utility Admin'!$AV$3)+Inventory!O119*IF(AH119=\"Interior\",'Utility Admin'!$O$3,'Utility Admin'!$Z$3)","v":0},null,0,null,null,null,{"$error":"#DIV/0!"},{"$f":"IFERROR(INDEX('Buildings and Areas'!D$5:D$14,MATCH($C119,'Buildings and Areas'!$B$5:$B$14,0),1),\"\")","v":""},{"$f":"IFERROR(INDEX('Buildings and Areas'!C$5:C$14,MATCH($C119,'Buildings and Areas'!$B$5:$B$14,0),1),\"\")","v":""},{"$f":"IFERROR(INDEX('Buildings and Areas'!R$5:R$14,MATCH($C119,'Buildings and Areas'!$B$5:$B$14,0),1),0)","v":0},{"$f":"IFERROR(INDEX('Buildings and Areas'!S$5:S$14,MATCH($C119,'Buildings and Areas'!$B$5:$B$14,0),1),0)","v":0},{"$f":"IFERROR(INDEX('Buildings and Areas'!T$5:T$14,MATCH($C119,'Buildings and Areas'!$B$5:$B$14,0),1),0)","v":0},{"$f":"IFERROR(INDEX('Buildings and Areas'!O$5:O$14,MATCH($C119,'Buildings and Areas'!$B$5:$B$14,0),1),\"\")","v":""},{"$f":"IFERROR(INDEX('Buildings and Areas'!F$5:F$14,MATCH($C119,'Buildings and Areas'!$B$5:$B$14,0),1)&IF(AH119=\"Exterior\",\"-\"&'Buildings and Areas'!$H$4,\"\"),\"\")","v":""},{"$f":"'Buildings and Areas'!$H12","v":0},{"$f":"IFERROR(INDEX('Buildings and Areas'!L$5:L$14,MATCH($C119,'Buildings and Areas'!$B$5:$B$14,0),1),\"\")","v":""},{"$f":"IFERROR(INDEX('Buildings and Areas'!M$5:M$14,MATCH($C119,'Buildings and Areas'!$B$5:$B$14,0),1),\"\")","v":""},{"$f":"IFERROR(INDEX('Buildings and Areas'!P$5:P$14,MATCH($C119,'Buildings and Areas'!$B$5:$B$14,0),1),0)","v":0},{"$f":"IFERROR(INDEX('Buildings and Areas'!Q$5:Q$14,MATCH($C119,'Buildings and Areas'!$B$5:$B$14,0),1),0)","v":0},{"$f":"'Buildings and Areas'!J12","v":""},0,0,{"$f":"AU119+IF(Inventory!AH119=\"Exterior\",'Buildings and Areas'!H$3*Inventory!AU119/SUMIF(Inventory!AH$112:AH$121,\"Exterior\",Inventory!AU$112:AU$121),0)/1000","v":0},0,null,null,null,null,0,0,null,null,0,null,null,null,{"$error":"#DIV/0!"},null,null,0,0,0,0,0,null,null,null,null,0,0,null,null,null,{"$f":"IF($AD119=\"\",\"\",VLOOKUP($AD119,'Fixture Descriptions'!$A:$I,2,0))","v":""}]
[null,"Hide",{"$f":"'Buildings and Areas'!B13","v":0},0,null,null,null,null,null,0,null,null,null,null,0,null,null,0,null,null,0,null,null,{"$f":"ROUND(IFERROR(IF($AE$7,BJ120*MaxIncentive,Inventory!Z120),0),2)","v":0},null,{"$f":"U120*IF(AH120=\"Interior\",'Utility Admin'!$AK$3,'Utility Admin'!$AV$3)+Inventory!O120*IF(AH120=\"Interior\",'Utility Admin'!$O$3,'Utility Admin'!$Z$3)","v":0},null,0,null,null,null,{"$error":"#DIV/0!"},{"$f":"IFERROR(INDEX('Buildings and Areas'!D$5:D$14,MATCH($C120,'Buildings and Areas'!$B$5:$B$14,0),1),\"\")","v":""},{"$f":"IFERROR(INDEX('Buildings and Areas'!C$5:C$14,MATCH($C120,'Buildings and Areas'!$B$5:$B$14,0),1),\"\")","v":""},{"$f":"IFERROR(INDEX('Buildings and Areas'!R$5:R$14,MATCH($C120,'Buildings and Areas'!$B$5:$B$14,0),1),0)","v":0},{"$f":"IFERROR(INDEX('Buildings and Areas'!S$5:S$14,MATCH($C120,'Buildings and Areas'!$B$5:$B$14,0),1),0)","v":0},{"$f":"IFERROR(INDEX('Buildings and Areas'!T$5:T$14,MATCH($C120,'Buildings and Areas'!$B$5:$B$14,0),1),0)","v":0},{"$f":"IFERROR(INDEX('Buildings and Areas'!O$5:O$14,MATCH($C120,'Buildings and Areas'!$B$5:$B$14,0),1),\"\")","v":""},{"$f":"IFERROR(INDEX('Buildings and Areas'!F$5:F$14,MATCH($C120,'Buildings and Areas'!$B$5:$B$14,0),1)&IF(AH120=\"Exterior\",\"-\"&'Buildings and Areas'!$H$4,\"\"),\"\")","v":""},{"$f":"'Buildings and Areas'!$H13","v":0},{"$f":"IFERROR(INDEX('Buildings and Areas'!L$5:L$14,MATCH($C120,'Buildings and Areas'!$B$5:$B$14,0),1),\"\")","v":""},{"$f":"IFERROR(INDEX('Buildings and Areas'!M$5:M$14,MATCH($C120,'Buildings and Areas'!$B$5:$B$14,0),1),\"\")","v":""},{"$f":"IFERROR(INDEX('Buildings and Areas'!P$5:P$14,MATCH($C120,'Buildings and Areas'!$B$5:$B$14,0),1),0)","v":0},{"$f":"IFERROR(INDEX('Buildings and Areas'!Q$5:Q$14,MATCH($C120,'Buildings and Areas'!$B$5:$B$14,0),1),0)","v":0},{"$f":"'Buildings and Areas'!J13","v":""},0,0,{"$f":"AU120+IF(Inventory!AH120=\"Exterior\",'Buildings and Areas'!H$3*Inventory!AU120/SUMIF(Inventory!AH$112:AH$121,\"Exterior\",Inventory!AU$112:AU$121),0)/1000","v":0},0,null,null,null,null,0,0,null,null,0,null,null,null,{"$error":"#DIV/0!"},null,null,0,0,0,0,0,null,null,null,null,0,0,null,null,null,{"$f":"IF($AD120=\"\",\"\",VLOOKUP($AD120,'Fixture Descriptions'!$A:$I,2,0))","v":""}]
[null,"Hide",{"$f":"'Buildings and Areas'!B14","v":0},0,null,null,null,null,null,0,null,null,null,null,0,null,null,0,null,null,0,null,null,{"$f":"ROUND(IFERROR(IF($AE$7,BJ121*MaxIncentive,Inventory!Z121),0),2)","v":0},null,{"$f":"U121*IF(AH121=\"Interior\",'Utility Admin'!$AK$3,'Utility Admin'!$AV$3)+Inventory!O121*IF(AH121=\"Interior\",'Utility Admin'!$O$3,'Utility Admin'!$Z$3)","v":0},null,0,null,null,null,{"$error":"#DIV/0!"},{"$f":"IFERROR(INDEX('Buildings and Areas'!D$5:D$14,MATCH($C121,'Buildings and Areas'!$B$5:$B$14,0),1),\"\")","v":""},{"$f":"IFERROR(INDEX('Buildings and Areas'!C$5:C$14,MATCH($C121,'Buildings and Areas'!$B$5:$B$14,0),1),\"\")","v":""},{"$f":"IFERROR(INDEX('Buildings and Areas'!R$5:R$14,MATCH($C121,'Buildings and Areas'!$B$5:$B$14,0),1),0)","v":0},{"$f":"IFERROR(INDEX('Buildings and Areas'!S$5:S$14,MATCH($C121,'Buildings and Areas'!$B$5:$B$14,0),1),0)","v":0},{"$f":"IFERROR(INDEX('Buildings and Areas'!T$5:T$14,MATCH($C121,'Buildings and Areas'!$B$5:$B$14,0),1),0)","v":0},{"$f":"IFERROR(INDEX('Buildings and Areas'!O$5:O$14,MATCH($C121,'Buildings and Areas'!$B$5:$B$14,0),1),\"\")","v":""},{"$f":"IFERROR(INDEX('Buildings and Areas'!F$5:F$14,MATCH($C121,'Buildings and Areas'!$B$5:$B$14,0),1)&IF(AH121=\"Exterior\",\"-\"&'Buildings and Areas'!$H$4,\"\"),\"\")","v":""},{"$f":"'Buildings and Areas'!$H14","v":0},{"$f":"IFERROR(INDEX('Buildings and Areas'!L$5:L$14,MATCH($C121,'Buildings and Areas'!$B$5:$B$14,0),1),\"\")","v":""},{"$f":"IFERROR(INDEX('Buildings and Areas'!M$5:M$14,MATCH($C121,'Buildings and Areas'!$B$5:$B$14,0),1),\"\")","v":""},{"$f":"IFERROR(INDEX('Buildings and Areas'!P$5:P$14,MATCH($C121,'Buildings and Areas'!$B$5:$B$14,0),1),0)","v":0},{"$f":"IFERROR(INDEX('Buildings and Areas'!Q$5:Q$14,MATCH($C121,'Buildings and Areas'!$B$5:$B$14,0),1),0)","v":0},{"$f":"'Buildings and Areas'!J14","v":""},0,0,{"$f":"AU121+IF(Inventory!AH121=\"Exterior\",'Buildings and Areas'!H$3*Inventory!AU121/SUMIF(Inventory!AH$112:AH$121,\"Exterior\",Inventory!AU$112:AU$121),0)/1000","v":0},0,null,null,null,null,0,0,null,null,0,null,null,null,{"$error":"#DIV/0!"},null,null,0,0,0,0,0,null,null,null,null,0,0,null,null,null,{"$f":"IF($AD121=\"\",\"\",VLOOKUP($AD121,'Fixture Descriptions'!$A:$I,2,0))","v":""}]
[null,"Hide",null,null,null,{"$f":"SUM(F9:F108)","v":0},{"$f":"SUM(G9:G108)","v":0}]
[null,"Hide",null,"* If the number of non-operating fixtures is greater than 10%, the savings calculation shall be reduced accordingly.",null,"% NO","% Over 10%",null,null,{"$f":"SUM(J9:J108)","v":0}]
[null,"Hide",null,null,null,{"$f":"IF(ISERROR($G$122/$F$122),\"-\",$G$122/$F$122)","v":"-"},{"$f":"IF($F$124<=0.1,0,IF(ISERROR($F$124-0.1),\"-\",$F$124-0.1))","v":"-"}]
[null,"Hide"]
[null,"Hide"]
[null,"Hide"]
[null,"Hide","The cells below are used by the \"Remove Blank Rows\" macro as a template to repair formatting."]
[null,"Hide"]
[null,"Hide"]
[null,"Hide"]
[null,"Hide"]
[null,"Hide"]
[null,"Hide"]

{"sheet":"Summary","index":4,"n_rows":24,"n_cols":13,"rows_kept":24,"cut":false,"hidden":false,"merged":[[23,4,23,5],[5,9,5,10],[5,11,5,12],[6,9,6,10],[6,11,6,12]]}
[]
[null,"CPS Energy Commercial Lighting Calculator"]
[]
[null,"Project Name:",{"$f":"IF('Project Info'!$D$4=\"\",\"\",'Project Info'!$D$4)","v":""}]
[]
[null,null,null,{"$f":"\"Total \"&D10","v":"Total Non-Coinc kW"},"Total Peak kW","Total kWh","Total Incentive","Total Est Cost",null,"% Savings of Annual Energy Use",null,"% Savings of Peak Demand"]
[null,null,null,{"$f":"SUM(D11:D21,I11:I21)-D16-I16","v":0},{"$f":"SUM(E11:E21,J11:J21)-E16-J16","v":0},{"$f":"SUM(F11:F21,K11:K21)-F16-K16","v":0},{"$f":"SUM(G11:G21,L11:L21)-G16-L16","v":0},{"$f":"SUM(H11:H21,M11:M21)-H16-M16","v":0},null,{"$f":"IF('Project Info'!I18=\"\",\"N/A\",F7/'Project Info'!I18)","v":"N/A"},null,{"$f":"IF('Project Info'!I19=\"\",\"N/A\",E7/'Project Info'!I19)","v":"N/A"}]
[]
[null,null,null,"Interior Savings",null,null,null,null,"Exterior Savings"]
[null,null,"EUL","Non-Coinc kW","Summer Peak kW","kWh","Incentive","Est Cost","Non-Coinc kW","Winter Peak kW","kWh","Incentive","Est Cost"]
[null,"Halogen",1.5,{"$f":"SUMIFS(Inventory!$O$9:$O$108,Inventory!$AH$9:$AH$108,\"Interior\",Inventory!$BZ$9:$BZ$108,$B11)","v":0},{"$f":"SUMIFS(Inventory!$R$9:$R$108,Inventory!$AH$9:$AH$108,\"Interior\",Inventory!$BZ$9:$BZ$108,$B11)","v":0},{"$f":"SUMIFS(Inventory!$U$9:$U$108,Inventory!$AH$9:$AH$108,\"Interior\",Inventory!$BZ$9:$BZ$108,$B11)","v":0},{"$f":"SUMIFS(Inventory!$X$9:$X$108,Inventory!$AH$9:$AH$108,\"Interior\",Inventory!$BZ$9:$BZ$108,$B11)","v":0},{"$f":"SUMIFS(Inventory!$AB$9:$AB$108,Inventory!$AH$9:$AH$108,\"Interior\",Inventory!$BZ$9:$BZ$108,$B11)","v":0},{"$f":"SUMIFS(Inventory!$O$9:$O$108,Inventory!$AH$9:$AH$108,\"Exterior\",Inventory!$BZ$9:$BZ$108,$B11)","v":0},0,{"$f":"SUMIFS(Inventory!$U$9:$U$108,Inventory!$AH$9:$AH$108,\"Exterior\",Inventory!$BZ$9:$BZ$108,$B11)","v":0},{"$f":"SUMIFS(Inventory!$X$9:$X$108,Inventory!$AH$9:$AH$108,\"Exterior\",Inventory!$BZ$9:$BZ$108,$B11)","v":0},{"$f":"SUMIFS(Inventory!$AB$9:$AB$108,Inventory!$AH$9:$AH$108,\"Exterior\",Inventory!$BZ$9:$BZ$108,$B11)","v":0}]
[null,"High Intensity Discharge (HID)",15,{"$f":"SUMIFS(Inventory!$O$9:$O$108,Inventory!$AH$9:$AH$108,\"Interior\",Inventory!$BZ$9:$BZ$108,$B12)","v":0},{"$f":"SUMIFS(Inventory!$R$9:$R$108,Inventory!$AH$9:$AH$108,\"Interior\",Inventory!$BZ$9:$BZ$108,$B12)","v":0},{"$f":"SUMIFS(Inventory!$U$9:$U$108,Inventory!$AH$9:$AH$108,\"Interior\",Inventory!$BZ$9:$BZ$108,$B12)","v":0},{"$f":"SUMIFS(Inventory!$X$9:$X$108,Inventory!$AH$9:$AH$108,\"Interior\",Inventory!$BZ$9:$BZ$108,$B12)","v":0},{"$f":"SUMIFS(Inventory!$AB$9:$AB$108,Inventory!$AH$9:$AH$108,\"Interior\",Inventory!$BZ$9:$BZ$108,$B12)","v":0},{"$f":"SUMIFS(Inventory!$O$9:$O$108,Inventory!$AH$9:$AH$108,\"Exterior\",Inventory!$BZ$9:$BZ$108,$B12)","v":0},0,{"$f":"SUMIFS(Inventory!$U$9:$U$108,Inventory!$AH$9:$AH$108,\"Exterior\",Inventory!$BZ$9:$BZ$108,$B12)","v":0},{"$f":"SUMIFS(Inventory!$X$9:$X$108,Inventory!$AH$9:$AH$108,\"Exterior\",Inventory!$BZ$9:$BZ$108,$B12)","v":0},{"$f":"SUMIFS(Inventory!$AB$9:$AB$108,Inventory!$AH$9:$AH$108,\"Exterior\",Inventory!$BZ$9:$BZ$108,$B12)","v":0}]
[null,"Integrated-ballast CFL Lamps",2.5,{"$f":"SUMIFS(Inventory!$O$9:$O$108,Inventory!$AH$9:$AH$108,\"Interior\",Inventory!$BZ$9:$BZ$108,$B13)","v":0},{"$f":"SUMIFS(Inventory!$R$9:$R$108,Inventory!$AH$9:$AH$108,\"Interior\",Inventory!$BZ$9:$BZ$108,$B13)","v":0},{"$f":"SUMIFS(Inventory!$U$9:$U$108,Inventory!$AH$9:$AH$108,\"Interior\",Inventory!$BZ$9:$BZ$108,$B13)","v":0},{"$f":"SUMIFS(Inventory!$X$9:$X$108,Inventory!$AH$9:$AH$108,\"Interior\",Inventory!$BZ$9:$BZ$108,$B13)","v":0},{"$f":"SUMIFS(Inventory!$AB$9:$AB$108,Inventory!$AH$9:$AH$108,\"Interior\",Inventory!$BZ$9:$BZ$108,$B13)","v":0},{"$f":"SUMIFS(Inventory!$O$9:$O$108,Inventory!$AH$9:$AH$108,\"Exterior\",Inventory!$BZ$9:$BZ$108,$B13)","v":0},0,{"$f":"SUMIFS(Inventory!$U$9:$U$108,Inventory!$AH$9:$AH$108,\"Exterior\",Inventory!$BZ$9:$BZ$108,$B13)","v":0},{"$f":"SUMIFS(Inventory!$X$9:$X$108,Inventory!$AH$9:$AH$108,\"Exterior\",Inventory!$BZ$9:$BZ$108,$B13)","v":0},{"$f":"SUMIFS(Inventory!$AB$9:$AB$108,Inventory!$AH$9:$AH$108,\"Exterior\",Inventory!$BZ$9:$BZ$108,$B13)","v":0}]
[null,"Modular CFL Fixtures",15,{"$f":"SUMIFS(Inventory!$O$9:$O$108,Inventory!$AH$9:$AH$108,\"Interior\",Inventory!$BZ$9:$BZ$108,$B14)","v":0},{"$f":"SUMIFS(Inventory!$R$9:$R$108,Inventory!$AH$9:$AH$108,\"Interior\",Inventory!$BZ$9:$BZ$108,$B14)","v":0},{"$f":"SUMIFS(Inventory!$U$9:$U$108,Inventory!$AH$9:$AH$108,\"Interior\",Inventory!$BZ$9:$BZ$108,$B14)","v":0},{"$f":"SUMIFS(Inventory!$X$9:$X$108,Inventory!$AH$9:$AH$108,\"Interior\",Inventory!$BZ$9:$BZ$108,$B14)","v":0},{"$f":"SUMIFS(Inventory!$AB$9:$AB$108,Inventory!$AH$9:$AH$108,\"Interior\",Inventory!$BZ$9:$BZ$108,$B14)","v":0},{"$f":"SUMIFS(Inventory!$O$9:$O$108,Inventory!$AH$9:$AH$108,\"Exterior\",Inventory!$BZ$9:$BZ$108,$B14)","v":0},0,{"$f":"SUMIFS(Inventory!$U$9:$U$108,Inventory!$AH$9:$AH$108,\"Exterior\",Inventory!$BZ$9:$BZ$108,$B14)","v":0},{"$f":"SUMIFS(Inventory!$X$9:$X$108,Inventory!$AH$9:$AH$108,\"Exterior\",Inventory!$BZ$9:$BZ$108,$B14)","v":0},{"$f":"SUMIFS(Inventory!$AB$9:$AB$108,Inventory!$AH$9:$AH$108,\"Exterior\",Inventory!$BZ$9:$BZ$108,$B14)","v":0}]
[null,"Integrated-ballast LED Lamps",9,{"$f":"SUMIFS(Inventory!$O$9:$O$108,Inventory!$AH$9:$AH$108,\"Interior\",Inventory!$BZ$9:$BZ$108,$B15)","v":0},{"$f":"SUMIFS(Inventory!$R$9:$R$108,Inventory!$AH$9:$AH$108,\"Interior\",Inventory!$BZ$9:$BZ$108,$B15)","v":0},{"$f":"SUMIFS(Inventory!$U$9:$U$108,Inventory!$AH$9:$AH$108,\"Interior\",Inventory!$BZ$9:$BZ$108,$B15)","v":0},{"$f":"SUMIFS(Inventory!$X$9:$X$108,Inventory!$AH$9:$AH$108,\"Interior\",Inventory!$BZ$9:$BZ$108,$B15)","v":0},{"$f":"SUMIFS(Inventory!$AB$9:$AB$108,Inventory!$AH$9:$AH$108,\"Interior\",Inventory!$BZ$9:$BZ$108,$B15)","v":0},{"$f":"SUMIFS(Inventory!$O$9:$O$108,Inventory!$AH$9:$AH$108,\"Exterior\",Inventory!$BZ$9:$BZ$108,$B15)","v":0},0,{"$f":"SUMIFS(Inventory!$U$9:$U$108,Inventory!$AH$9:$AH$108,\"Exterior\",Inventory!$BZ$9:$BZ$108,$B15)","v":0},{"$f":"SUMIFS(Inventory!$X$9:$X$108,Inventory!$AH$9:$AH$108,\"Exterior\",Inventory!$BZ$9:$BZ$108,$B15)","v":0},{"$f":"SUMIFS(Inventory!$AB$9:$AB$108,Inventory!$AH$9:$AH$108,\"Exterior\",Inventory!$BZ$9:$BZ$108,$B15)","v":0}]
[null,"Light Emitting Diode (LED)",15,{"$f":"D17+D18","v":0},0,0,0,0,0,0,0,0,0]
[null,"LED Fixtures",15,{"$f":"SUMIFS(Inventory!$O$9:$O$108,Inventory!$AH$9:$AH$108,\"Interior\",Inventory!$BZ$9:$BZ$108,$B16)","v":0},{"$f":"SUMIFS(Inventory!$R$9:$R$108,Inventory!$AH$9:$AH$108,\"Interior\",Inventory!$BZ$9:$BZ$108,$B16)","v":0},{"$f":"SUMIFS(Inventory!$U$9:$U$108,Inventory!$AH$9:$AH$108,\"Interior\",Inventory!$BZ$9:$BZ$108,$B16)","v":0},{"$f":"SUMIFS(Inventory!$X$9:$X$108,Inventory!$AH$9:$AH$108,\"Interior\",Inventory!$BZ$9:$BZ$108,$B16)","v":0},{"$f":"SUMIFS(Inventory!$AB$9:$AB$108,Inventory!$AH$9:$AH$108,\"Interior\",Inventory!$BZ$9:$BZ$108,$B16)","v":0},{"$f":"SUMIFS(Inventory!$O$9:$O$108,Inventory!$AH$9:$AH$108,\"Exterior\",Inventory!$BZ$9:$BZ$108,$B16)","v":0},0,{"$f":"SUMIFS(Inventory!$U$9:$U$108,Inventory!$AH$9:$AH$108,\"Exterior\",Inventory!$BZ$9:$BZ$108,$B16)","v":0},{"$f":"SUMIFS(Inventory!$X$9:$X$108,Inventory!$AH$9:$AH$108,\"Exterior\",Inventory!$BZ$9:$BZ$108,$B16)","v":0},{"$f":"SUMIFS(Inventory!$AB$9:$AB$108,Inventory!$AH$9:$AH$108,\"Exterior\",Inventory!$BZ$9:$BZ$108,$B16)","v":0}]
[null,"LED Replacement Tubes",15,{"$f":"SUMIFS(Inventory!$O$9:$O$108,Inventory!$AH$9:$AH$108,\"Interior\",Inventory!$BZ$9:$BZ$108,$B18)","v":0},{"$f":"SUMIFS(Inventory!$R$9:$R$108,Inventory!$AH$9:$AH$108,\"Interior\",Inventory!$BZ$9:$BZ$108,$B18)","v":0},{"$f":"SUMIFS(Inventory!$U$9:$U$108,Inventory!$AH$9:$AH$108,\"Interior\",Inventory!$BZ$9:$BZ$108,$B18)","v":0},{"$f":"SUMIFS(Inventory!$X$9:$X$108,Inventory!$AH$9:$AH$108,\"Interior\",Inventory!$BZ$9:$BZ$108,$B18)","v":0},{"$f":"SUMIFS(Inventory!$AB$9:$AB$108,Inventory!$AH$9:$AH$108,\"Interior\",Inventory!$BZ$9:$BZ$108,$B18)","v":0},{"$f":"SUMIFS(Inventory!$O$9:$O$108,Inventory!$AH$9:$AH$108,\"Exterior\",Inventory!$BZ$9:$BZ$108,$B18)","v":0},0,{"$f":"SUMIFS(Inventory!$U$9:$U$108,Inventory!$AH$9:$AH$108,\"Exterior\",Inventory!$BZ$9:$BZ$108,$B18)","v":0},{"$f":"SUMIFS(Inventory!$X$9:$X$108,Inventory!$AH$9:$AH$108,\"Exterior\",Inventory!$BZ$9:$BZ$108,$B18)","v":0},{"$f":"SUMIFS(Inventory!$AB$9:$AB$108,Inventory!$AH$9:$AH$108,\"Exterior\",Inventory!$BZ$9:$BZ$108,$B18)","v":0}]
[null,"Linear Fluorescent",15,{"$f":"SUMIFS(Inventory!$O$9:$O$108,Inventory!$AH$9:$AH$108,\"Interior\",Inventory!$BZ$9:$BZ$108,$B19)","v":0},{"$f":"SUMIFS(Inventory!$R$9:$R$108,Inventory!$AH$9:$AH$108,\"Interior\",Inventory!$BZ$9:$BZ$108,$B19)","v":0},{"$f":"SUMIFS(Inventory!$U$9:$U$108,Inventory!$AH$9:$AH$108,\"Interior\",Inventory!$BZ$9:$BZ$108,$B19)","v":0},{"$f":"SUMIFS(Inventory!$X$9:$X$108,Inventory!$AH$9:$AH$108,\"Interior\",Inventory!$BZ$9:$BZ$108,$B19)","v":0},{"$f":"SUMIFS(Inventory!$AB$9:$AB$108,Inventory!$AH$9:$AH$108,\"Interior\",Inventory!$BZ$9:$BZ$108,$B19)","v":0},{"$f":"SUMIFS(Inventory!$O$9:$O$108,Inventory!$AH$9:$AH$108,\"Exterior\",Inventory!$BZ$9:$BZ$108,$B19)","v":0},0,{"$f":"SUMIFS(Inventory!$U$9:$U$108,Inventory!$AH$9:$AH$108,\"Exterior\",Inventory!$BZ$9:$BZ$108,$B19)","v":0},{"$f":"SUMIFS(Inventory!$X$9:$X$108,Inventory!$AH$9:$AH$108,\"Exterior\",Inventory!$BZ$9:$BZ$108,$B19)","v":0},{"$f":"SUMIFS(Inventory!$AB$9:$AB$108,Inventory!$AH$9:$AH$108,\"Exterior\",Inventory!$BZ$9:$BZ$108,$B19)","v":0}]
[null,"Lighting New Construction","14.0 (Int) / 15.0 (Ext)",{"$f":"IF(ProjectType=\"New Construction\",SUMIF(Inventory!AH$112:AH$121,\"Interior\",Inventory!O$112:O$121),0)","v":0},{"$f":"IF(ProjectType=\"New Construction\",SUMIF(Inventory!AH$112:AH$121,\"Interior\",Inventory!R$112:R$121),0)","v":0},{"$f":"IF(ProjectType=\"New Construction\",SUMIF(Inventory!AH$112:AH$121,\"Interior\",Inventory!U$112:U$121),0)","v":0},{"$f":"IF(ProjectType=\"New Construction\",SUMIF(Inventory!AH$112:AH$121,\"Interior\",Inventory!X$112:X$121),0)","v":0},{"$f":"IF(ProjectType=\"New Construction\",SUMIF(Inventory!AH$112:AH$121,\"Interior\",Inventory!AB$112:AB$121),0)","v":0},{"$f":"IF(ProjectType=\"New Construction\",SUMIF(Inventory!AH$112:AH$121,\"Exterior\",Inventory!O$112:O$121),0)","v":0},0,{"$f":"IF(ProjectType=\"New Construction\",SUMIF(Inventory!AH$112:AH$121,\"Exterior\",Inventory!U$112:U$121),0)","v":0},{"$f":"IF(ProjectType=\"New Construction\",SUMIF(Inventory!AH$112:AH$121,\"Exterior\",Inventory!X$112:X$121),0)","v":0},{"$f":"IF(ProjectType=\"New Construction\",SUMIF(Inventory!AH$112:AH$121,\"Exterior\",Inventory!AB$112:AB$121),0)","v":0}]
[null,"Lighting Controls",10,{"$f":"SUMIFS(Inventory!$P$9:$P$108,Inventory!$AH$9:$AH$108,\"Interior\")","v":0},{"$f":"SUMIFS(Inventory!$S$9:$S$108,Inventory!$AH$9:$AH$108,\"Interior\")","v":0},{"$f":"SUMIFS(Inventory!$V$9:$V$108,Inventory!$AH$9:$AH$108,\"Interior\")","v":0},{"$f":"SUMIFS(Inventory!$Y$9:$Y$108,Inventory!$AH$9:$AH$108,\"Interior\")","v":0},{"$f":"SUMIFS(Inventory!$AC$9:$AC$108,Inventory!$AH$9:$AH$108,\"Interior\")","v":0},{"$f":"SUMIFS(Inventory!$P$9:$P$108,Inventory!$AH$9:$AH$108,\"Exterior\")","v":0},0,{"$f":"SUMIFS(Inventory!$V$9:$V$108,Inventory!$AH$9:$AH$108,\"Exterior\")","v":0},{"$f":"SUMIFS(Inventory!$Y$9:$Y$108,Inventory!$AH$9:$AH$108,\"Exterior\")","v":0},{"$f":"SUMIFS(Inventory!$AC$9:$AC$108,Inventory!$AH$9:$AH$108,\"Exterior\")","v":0}]
[]
[]
[null,"Version:",{"$f":"Version","v":"v23.1.0 CPS"},null,"Incentive Cap?",null,{"$f":"IFERROR(IF(Inventory!AD7>'Utility Admin'!E3,\"Yes\",\"No\"),\"\")","v":"No"}]

{"sheet":"Report","index":5,"n_rows":114,"n_cols":13,"rows_kept":114,"cut":false,"hidden":false,"merged":[[109,7,109,8],[43,1,43,5],[41,1,41,5],[24,1,24,5],[103,7,103,8],[104,7,104,8],[105,7,105,8],[106,7,106,8],[107,7,107,8],[108,7,108,8],[13,1,14,5],[17,1,17,2],[18,1,18,2],[53,9,53,10],[53,7,53,8],[22,1,22,5],[44,1,44,2],[44,4,44,5],[15,1,16,2],[20,1,20,5],[53,1,53,5],[15,3,16,5],[113,1,113,5],[115,1,115,5],[73,1,73,5],[98,1,98,5],[99,1,99,5],[114,0,114,6],[7,1,7,5],[1,1,1,5],[2,1,2,5],[4,1,4,5],[5,1,5,5],[6,1,6,5]]}
[]
[null,"Energy Efficiency Assessment"]
[null,{"$f":"\"CPS Energy - \"&'Project Info'!D8","v":"CPS Energy - "}]
[]
[null,{"$f":"IF('Project Info'!$D$4=\"\",\"Prepared for: [Company Name]\",CONCATENATE(\"Prepared for: \",'Project Info'!$D$4))","v":"Prepared for: [Company Name]"}]
[null,{"$f":"IF('Project Info'!$D$9=\"\",\"Contact Name:\",CONCATENATE(\"Contact Name: \",'Project Info'!$D$9))","v":"Contact Name:"}]
[null,{"$f":"IF('Project Info'!$D$10=\"\",\"Contact Phone:\",CONCATENATE(\"Contact Phone: \",'Project Info'!$D$10))","v":"Contact Phone:"}]
[null,{"$f":"IF('Project Info'!$I$10=\"\",\"Contact Email:\",CONCATENATE(\"Contact Email: \",'Project Info'!$I$10))","v":"Contact Email:"}]
[]
[null,"Est. Project Cost",{"$f":"ROUND('Project Info'!$D$16,0)","v":0},null,"Est. Annual Energy Savings",{"$f":"ROUND(($B$27*$F$46)+($E$27*F47),0)","v":0}]
[null,"Est. Utility Incentive Rate/kWh",{"$f":"IFERROR(Inventory!AD7/Inventory!W7,0)","v":0},null,"Simple Payback (years)",{"$f":"MAX(0,IF(ISERROR($C$48/F48),0,$C$48/F48))","v":0}]
[null,{"$f":"\"Est. Utility Incentive\"&IF(B13<>\"\",\"*\",\"\")","v":"Est. Utility Incentive"},{"$f":"ROUND(Summary!G7,0)","v":0},null,"Total # of Fixtures",{"$f":"Inventory!$J$123","v":0}]
[null,{"$f":"IF(Summary!G24=\"Yes\",\"*Incentive is capped at $\"&'Utility Admin'!$D$3*100&\"% of project cost.\",\"\")","v":""}]
[null,"The undersigned person hereby represents that he/she has received L.O.I. & Project Application and is authorized to commit the Customer to participate in the Program."]
[]
[null,"Incentive to be Paid to:",null,{"$f":"IF('Project Info'!D15=\"\",\"\",'Project Info'!D15)","v":""}]
[]
[]
[null,"Authorized Signature",null,null,"Printed Name","Date"]
[]
[null,"CLEAResult makes no warranties, whether expressed or implied, nor assumes any legal liability or responsibility for the accuracy, completeness, or usefulness of the contents of this Energy Efficiency Assessment. These calculations are based on the rates and estimated operating hours displayed above. These calculations are not exact and should only be used to formulate a decision on whether or not to pursue a lighting retrofit. Installing a sample of fixtures/lamps is recommended to verify acceptable light levels and performance prior to purchasing."]
[]
[null,{"$f":"TODAY()","v":"2023-08-15"}]
[]
[null,"Project Assumptions"]
[null,"Rate:"]
[null,{"$f":"'Project Info'!J16","v":0},"$/kW",null,{"$f":"'Project Info'!$I$16","v":7.5999999999999998E-2},"$/kWh"]
[]
[null,"Building Types:",null,null,"Operating Hours (Estimated):"]
[null,{"$f":"IF('Buildings and Areas'!D5=\"\",\"\",'Buildings and Areas'!D5)","v":""},null,null,{"$f":"IF('Buildings and Areas'!R5=0,\"\",'Buildings and Areas'!R5)","v":""}]
[null,{"$f":"IF('Buildings and Areas'!D6=\"\",\"\",'Buildings and Areas'!D6)","v":""},null,null,{"$f":"IF('Buildings and Areas'!R6=0,\"\",'Buildings and Areas'!R6)","v":""}]
[null,{"$f":"IF('Buildings and Areas'!D7=\"\",\"\",'Buildings and Areas'!D7)","v":""},null,null,{"$f":"IF('Buildings and Areas'!R7=0,\"\",'Buildings and Areas'!R7)","v":""}]
[null,{"$f":"IF('Buildings and Areas'!D8=\"\",\"\",'Buildings and Areas'!D8)","v":""},null,null,{"$f":"IF('Buildings and Areas'!R8=0,\"\",'Buildings and Areas'!R8)","v":""}]
[null,{"$f":"IF('Buildings and Areas'!D9=\"\",\"\",'Buildings and Areas'!D9)","v":""},null,null,{"$f":"IF('Buildings and Areas'!R9=0,\"\",'Buildings and Areas'!R9)","v":""}]
[null,{"$f":"IF('Buildings and Areas'!D10=\"\",\"\",'Buildings and Areas'!D10)","v":""},null,null,{"$f":"IF('Buildings and Areas'!R10=0,\"\",'Buildings and Areas'!R10)","v":""}]
[null,{"$f":"IF('Buildings and Areas'!D11=\"\",\"\",'Buildings and Areas'!D11)","v":""},null,null,{"$f":"IF('Buildings and Areas'!R11=0,\"\",'Buildings and Areas'!R11)","v":""}]
[null,{"$f":"IF('Buildings and Areas'!D12=\"\",\"\",'Buildings and Areas'!D12)","v":""},null,null,{"$f":"IF('Buildings and Areas'!R12=0,\"\",'Buildings and Areas'!R12)","v":""}]
[null,{"$f":"IF('Buildings and Areas'!D13=\"\",\"\",'Buildings and Areas'!D13)","v":""},null,null,{"$f":"IF('Buildings and Areas'!R13=0,\"\",'Buildings and Areas'!R13)","v":""}]
[null,{"$f":"IF('Buildings and Areas'!D14=\"\",\"\",'Buildings and Areas'!D14)","v":""},null,null,{"$f":"IF('Buildings and Areas'!R14=0,\"\",'Buildings and Areas'!R14)","v":""}]
[]
[null,"Project Description:"]
[null,{"$f":"IF('Project Info'!D21=\"\",\"\",'Project Info'!D21)","v":""}]
[]
[null,"Energy Savings Analysis"]
[null,"Estimated Project Cost",null,null,"Energy Savings"]
[null,"Est. Project Cost",{"$f":"ROUND(Summary!H7,2)","v":0},null,"Est. kW Savings",{"$f":"Inventory!$T$7","v":0}]
[null,"Est. Utility Incentive",{"$f":"ROUND(Summary!G7,2)","v":0},null,"Est. kWh Savings",{"$f":"Inventory!$W$7","v":0}]
[null,"Est. Project Cost after Incentive",{"$f":"$C$46-$C$47","v":0},null,"Est. Annual Energy Savings",{"$f":"($B$27*$F$46)+($E$27*$F$47)","v":0}]
[]
[null,"Payback & Return on Investment",null,null,"Cost of Waiting"]
[null,"Simple Payback (years)",{"$f":"MAX(0,IF(ISERROR($C$48/F48),0,$C$48/F48))","v":0},null,"Monthly",{"$f":"$F$52/12","v":0}]
[null,"Return on Investment",{"$f":"IF(ISERROR(1/$C$51),0,1/$C$51)","v":0},null,"Annually",{"$f":"F48","v":0}]
[]
[null,"CLEAResult makes this tool available to participants in our Energy Efficiency programs. CLEAResult makes no warranties, whether expressed or implied, nor assumes any legal liability or responsibility for the accuracy, completeness, or usefulness of the contents of this Energy Efficiency Assessment. These calculations are based on the rates and estimated operating hours displayed above. These calculations are not exact and should only be used to formulate a decision on whether or not to pursue a lighting retrofit.",null,null,null,null,null,"Existing",null,"Post-Retrofit",null,"Existing",{"$f":"($H$56*$B$27)+($I$56*$E$27)","v":0}]
[null,null,null,null,null,null,null,"kW","kWh","kW","kWh","Retrofit",{"$f":"($J$56*$B$27)+($K$56*$E$27)","v":0}]
[null,null,null,null,null,null,null,{"$f":"SUM(Inventory!AU9:AU108)","v":0},{"$f":"SUM(Inventory!AV9:AV108)","v":0},{"$f":"$H$56-$F$46","v":0},{"$f":"$I$56-F47","v":0},"Cost of Waiting",{"$f":"$M$54-$M$55","v":0}]
[]
[null,null,null,null,null,null,null,null,null,null,null,"Y-Axis","X-Axis"]
[null,null,null,null,null,null,null,null,null,null,null,"ANNUAL COST\nOF WAITING!",{"$f":"$M$56","v":0}]
[null,null,null,null,null,null,null,null,null,null,null,"Annual Cost\nafter Retrofit",{"$f":"$M$55","v":0}]
[null,null,null,null,null,null,null,null,null,null,null,"Annual Cost\nbefore Retrofit",{"$f":"$M$54","v":0}]
[]
[]
[]
[]
[]
[]
[]
[]
[]
[]
[]
[]
[null,{"$f":"CONCATENATE(\"The following values are based on estimated rates and operating hours detailed on page 2.\")","v":"The following values are based on estimated rates and operating hours detailed on page 2."}]
[null,null,"Totals:",null,null,"Totals:"]
[null,"Est. Demand Reduction (kW) :",{"$f":"$F$46","v":0},null,"Est. Total Year 1 Cash Flow :",{"$f":"$J$86","v":0}]
[null,"Est. Energy Reduction (kWh) :",{"$f":"F47","v":0},null,"Est. Total Year 5 Cash Flow :",{"$f":"$J$87","v":0}]
[null,"Est. Annual $ Savings :",{"$f":"F48","v":0},null,"Est. Total Year 10 Cash Flow :",{"$f":"$J$88","v":0}]
[null,"Est. Project Cost :",{"$f":"$C$46","v":0},null,"Est. Total Year 15 Cash Flow :",{"$f":"$J$89","v":0}]
[null,"Est. Program Incentive :",{"$f":"$C$47","v":0}]
[]
[]
[]
[]
[]
[null,null,null,null,null,null,null,"Year 1",{"$f":"F48","v":0},{"$f":"$I86-$C$48","v":0}]
[null,null,null,null,null,null,null,"Year 5",{"$f":"$I$86*5","v":0},{"$f":"$I87-$C$48","v":0}]
[null,null,null,null,null,null,null,"Year 10",{"$f":"$I$86*10","v":0},{"$f":"$I88-$C$48","v":0}]
[null,null,null,null,null,null,null,"Year 15",{"$f":"$I$86*15","v":0},{"$f":"$I89-$C$48","v":0}]
[]
[]
[]
[]
[]
[]
[]
[]
[]
[null,"Annual Carbon Impact"]
[null,{"$f":"\"Your energy efficiency opportunity's estimated energy savings equate to an annual carbon dioxide emissions reduction of \"&TEXT(J104,\"#,###.0\")&\" metric tons, which is roughly equivalent to:\"","v":"Your energy efficiency opportunity's estimated energy savings equate to an annual carbon dioxide emissions reduction of .0 metric tons, which is roughly equivalent to:"}]
[]
[]
[]
[null,null,null,null,null,null,null,"CO2 Reduction (Tons):",null,{"$f":"F$47*0.00068956","v":0}]
[null,null,null,null,null,null,null,"CO2 Equivalency Type",null,"Equivalency"]
[null,null,null,null,null,null,null,"Acres of Forest               ",null,{"$f":"$J$104/1.22","v":0}]
[null,null,null,null,null,null,null,"Recyc Tons of Waste               ",null,{"$f":"$J$104/2.67","v":0}]
[null,null,null,null,null,null,null,"Passenger Vehicles               ",null,{"$f":"$J$104/4.8","v":0}]
[null,null,null,null,null,null,null,"Homes Worth of Elec               ",null,{"$f":"$J$104/6.68","v":0}]
[null,null,null,null,null,null,null,"Tanker Trucks of Gas               ",null,{"$f":"$J$104/75.82","v":0}]
[]
[]
[]
[null,"Project Notes"]

{"sheet":"Fixture Schedule","index":6,"n_rows":58,"n_cols":8,"rows_kept":58,"cut":false,"hidden":false,"merged":[[1,1,1,7],[2,1,2,7],[3,2,3,3]]}
[]
[null,"South Lighting Calculator Fixture Schedule Form"]
[null,"Use this form to create custom \"Fixture Schedule ID's\" tied to a standard Fixture Code that can be used in the Inventory."]
[null,"Project Name:",{"$f":"IF('Project Info'!D4=\"\",\"\",'Project Info'!D4)","v":""}]
[null,null,null,null,"From Inventory","From Below"]
[null,null,null,"Total Number of Fixtures:",{"$f":"Inventory!J123","v":0},{"$f":"SUM(F9:F58)","v":0}]
[]
[null,"Line","Fixture Schedule ID","Utility Fixture Code","W per fixture","Total Qty","Qualification","Model Description"]
[null,1,null,null,{"$f":"_xlfn.XLOOKUP(D9,'Fixture Descriptions'!A:A,'Fixture Descriptions'!H:H,0)","v":0},{"$f":"SUMIF(Inventory!$I$9:$I$108,C9,Inventory!$J$9:$J$108)","v":0}]
[null,2,null,null,{"$f":"_xlfn.XLOOKUP(D10,'Fixture Descriptions'!A:A,'Fixture Descriptions'!H:H,0)","v":0},{"$f":"SUMIF(Inventory!$I$9:$I$108,C10,Inventory!$J$9:$J$108)","v":0}]
[null,3,null,null,{"$f":"_xlfn.XLOOKUP(D11,'Fixture Descriptions'!A:A,'Fixture Descriptions'!H:H,0)","v":0},{"$f":"SUMIF(Inventory!$I$9:$I$108,C11,Inventory!$J$9:$J$108)","v":0}]
[null,4,null,null,{"$f":"_xlfn.XLOOKUP(D12,'Fixture Descriptions'!A:A,'Fixture Descriptions'!H:H,0)","v":0},{"$f":"SUMIF(Inventory!$I$9:$I$108,C12,Inventory!$J$9:$J$108)","v":0}]
[null,5,null,null,{"$f":"_xlfn.XLOOKUP(D13,'Fixture Descriptions'!A:A,'Fixture Descriptions'!H:H,0)","v":0},{"$f":"SUMIF(Inventory!$I$9:$I$108,C13,Inventory!$J$9:$J$108)","v":0}]
[null,6,null,null,{"$f":"_xlfn.XLOOKUP(D14,'Fixture Descriptions'!A:A,'Fixture Descriptions'!H:H,0)","v":0},{"$f":"SUMIF(Inventory!$I$9:$I$108,C14,Inventory!$J$9:$J$108)","v":0}]
[null,7,null,null,{"$f":"_xlfn.XLOOKUP(D15,'Fixture Descriptions'!A:A,'Fixture Descriptions'!H:H,0)","v":0},{"$f":"SUMIF(Inventory!$I$9:$I$108,C15,Inventory!$J$9:$J$108)","v":0}]
[null,8,null,null,{"$f":"_xlfn.XLOOKUP(D16,'Fixture Descriptions'!A:A,'Fixture Descriptions'!H:H,0)","v":0},{"$f":"SUMIF(Inventory!$I$9:$I$108,C16,Inventory!$J$9:$J$108)","v":0}]
[null,9,null,null,{"$f":"_xlfn.XLOOKUP(D17,'Fixture Descriptions'!A:A,'Fixture Descriptions'!H:H,0)","v":0},{"$f":"SUMIF(Inventory!$I$9:$I$108,C17,Inventory!$J$9:$J$108)","v":0}]
[null,10,null,null,{"$f":"_xlfn.XLOOKUP(D18,'Fixture Descriptions'!A:A,'Fixture Descriptions'!H:H,0)","v":0},{"$f":"SUMIF(Inventory!$I$9:$I$108,C18,Inventory!$J$9:$J$108)","v":0}]
[null,11,null,null,{"$f":"_xlfn.XLOOKUP(D19,'Fixture Descriptions'!A:A,'Fixture Descriptions'!H:H,0)","v":0},{"$f":"SUMIF(Inventory!$I$9:$I$108,C19,Inventory!$J$9:$J$108)","v":0}]
[null,12,null,null,{"$f":"_xlfn.XLOOKUP(D20,'Fixture Descriptions'!A:A,'Fixture Descriptions'!H:H,0)","v":0},{"$f":"SUMIF(Inventory!$I$9:$I$108,C20,Inventory!$J$9:$J$108)","v":0}]
[null,13,null,null,{"$f":"_xlfn.XLOOKUP(D21,'Fixture Descriptions'!A:A,'Fixture Descriptions'!H:H,0)","v":0},{"$f":"SUMIF(Inventory!$I$9:$I$108,C21,Inventory!$J$9:$J$108)","v":0}]
[null,14,null,null,{"$f":"_xlfn.XLOOKUP(D22,'Fixture Descriptions'!A:A,'Fixture Descriptions'!H:H,0)","v":0},{"$f":"SUMIF(Inventory!$I$9:$I$108,C22,Inventory!$J$9:$J$108)","v":0}]
[null,15,null,null,{"$f":"_xlfn.XLOOKUP(D23,'Fixture Descriptions'!A:A,'Fixture Descriptions'!H:H,0)","v":0},{"$f":"SUMIF(Inventory!$I$9:$I$108,C23,Inventory!$J$9:$J$108)","v":0}]
[null,16,null,null,{"$f":"_xlfn.XLOOKUP(D24,'Fixture Descriptions'!A:A,'Fixture Descriptions'!H:H,0)","v":0},{"$f":"SUMIF(Inventory!$I$9:$I$108,C24,Inventory!$J$9:$J$108)","v":0}]
[null,17,null,null,{"$f":"_xlfn.XLOOKUP(D25,'Fixture Descriptions'!A:A,'Fixture Descriptions'!H:H,0)","v":0},{"$f":"SUMIF(Inventory!$I$9:$I$108,C25,Inventory!$J$9:$J$108)","v":0}]
[null,18,null,null,{"$f":"_xlfn.XLOOKUP(D26,'Fixture Descriptions'!A:A,'Fixture Descriptions'!H:H,0)","v":0},{"$f":"SUMIF(Inventory!$I$9:$I$108,C26,Inventory!$J$9:$J$108)","v":0}]
[null,19,null,null,{"$f":"_xlfn.XLOOKUP(D27,'Fixture Descriptions'!A:A,'Fixture Descriptions'!H:H,0)","v":0},{"$f":"SUMIF(Inventory!$I$9:$I$108,C27,Inventory!$J$9:$J$108)","v":0}]
[null,20,null,null,{"$f":"_xlfn.XLOOKUP(D28,'Fixture Descriptions'!A:A,'Fixture Descriptions'!H:H,0)","v":0},{"$f":"SUMIF(Inventory!$I$9:$I$108,C28,Inventory!$J$9:$J$108)","v":0}]
[null,21,null,null,{"$f":"_xlfn.XLOOKUP(D29,'Fixture Descriptions'!A:A,'Fixture Descriptions'!H:H,0)","v":0},{"$f":"SUMIF(Inventory!$I$9:$I$108,C29,Inventory!$J$9:$J$108)","v":0}]
[null,22,null,null,{"$f":"_xlfn.XLOOKUP(D30,'Fixture Descriptions'!A:A,'Fixture Descriptions'!H:H,0)","v":0},{"$f":"SUMIF(Inventory!$I$9:$I$108,C30,Inventory!$J$9:$J$108)","v":0}]
[null,23,null,null,{"$f":"_xlfn.XLOOKUP(D31,'Fixture Descriptions'!A:A,'Fixture Descriptions'!H:H,0)","v":0},{"$f":"SUMIF(Inventory!$I$9:$I$108,C31,Inventory!$J$9:$J$108)","v":0}]
[null,24,null,null,{"$f":"_xlfn.XLOOKUP(D32,'Fixture Descriptions'!A:A,'Fixture Descriptions'!H:H,0)","v":0},{"$f":"SUMIF(Inventory!$I$9:$I$108,C32,Inventory!$J$9:$J$108)","v":0}]
[null,25,null,null,{"$f":"_xlfn.XLOOKUP(D33,'Fixture Descriptions'!A:A,'Fixture Descriptions'!H:H,0)","v":0},{"$f":"SUMIF(Inventory!$I$9:$I$108,C33,Inventory!$J$9:$J$108)","v":0}]
[null,26,null,null,{"$f":"_xlfn.XLOOKUP(D34,'Fixture Descriptions'!A:A,'Fixture Descriptions'!H:H,0)","v":0},{"$f":"SUMIF(Inventory!$I$9:$I$108,C34,Inventory!$J$9:$J$108)","v":0}]
[null,27,null,null,{"$f":"_xlfn.XLOOKUP(D35,'Fixture Descriptions'!A:A,'Fixture Descriptions'!H:H,0)","v":0},{"$f":"SUMIF(Inventory!$I$9:$I$108,C35,Inventory!$J$9:$J$108)","v":0}]
[null,28,null,null,{"$f":"_xlfn.XLOOKUP(D36,'Fixture Descriptions'!A:A,'Fixture Descriptions'!H:H,0)","v":0},{"$f":"SUMIF(Inventory!$I$9:$I$108,C36,Inventory!$J$9:$J$108)","v":0}]
[null,29,null,null,{"$f":"_xlfn.XLOOKUP(D37,'Fixture Descriptions'!A:A,'Fixture Descriptions'!H:H,0)","v":0},{"$f":"SUMIF(Inventory!$I$9:$I$108,C37,Inventory!$J$9:$J$108)","v":0}]
[null,30,null,null,{"$f":"_xlfn.XLOOKUP(D38,'Fixture Descriptions'!A:A,'Fixture Descriptions'!H:H,0)","v":0},{"$f":"SUMIF(Inventory!$I$9:$I$108,C38,Inventory!$J$9:$J$108)","v":0}]
[null,31,null,null,{"$f":"_xlfn.XLOOKUP(D39,'Fixture Descriptions'!A:A,'Fixture Descriptions'!H:H,0)","v":0},{"$f":"SUMIF(Inventory!$I$9:$I$108,C39,Inventory!$J$9:$J$108)","v":0}]
[null,32,null,null,{"$f":"_xlfn.XLOOKUP(D40,'Fixture Descriptions'!A:A,'Fixture Descriptions'!H:H,0)","v":0},{"$f":"SUMIF(Inventory!$I$9:$I$108,C40,Inventory!$J$9:$J$108)","v":0}]
[null,33,null,null,{"$f":"_xlfn.XLOOKUP(D41,'Fixture Descriptions'!A:A,'Fixture Descriptions'!H:H,0)","v":0},{"$f":"SUMIF(Inventory!$I$9:$I$108,C41,Inventory!$J$9:$J$108)","v":0}]
[null,34,null,null,{"$f":"_xlfn.XLOOKUP(D42,'Fixture Descriptions'!A:A,'Fixture Descriptions'!H:H,0)","v":0},{"$f":"SUMIF(Inventory!$I$9:$I$108,C42,Inventory!$J$9:$J$108)","v":0}]
[null,35,null,null,{"$f":"_xlfn.XLOOKUP(D43,'Fixture Descriptions'!A:A,'Fixture Descriptions'!H:H,0)","v":0},{"$f":"SUMIF(Inventory!$I$9:$I$108,C43,Inventory!$J$9:$J$108)","v":0}]
[null,36,null,null,{"$f":"_xlfn.XLOOKUP(D44,'Fixture Descriptions'!A:A,'Fixture Descriptions'!H:H,0)","v":0},{"$f":"SUMIF(Inventory!$I$9:$I$108,C44,Inventory!$J$9:$J$108)","v":0}]
[null,37,null,null,{"$f":"_xlfn.XLOOKUP(D45,'Fixture Descriptions'!A:A,'Fixture Descriptions'!H:H,0)","v":0},{"$f":"SUMIF(Inventory!$I$9:$I$108,C45,Inventory!$J$9:$J$108)","v":0}]
[null,38,null,null,{"$f":"_xlfn.XLOOKUP(D46,'Fixture Descriptions'!A:A,'Fixture Descriptions'!H:H,0)","v":0},{"$f":"SUMIF(Inventory!$I$9:$I$108,C46,Inventory!$J$9:$J$108)","v":0}]
[null,39,null,null,{"$f":"_xlfn.XLOOKUP(D47,'Fixture Descriptions'!A:A,'Fixture Descriptions'!H:H,0)","v":0},{"$f":"SUMIF(Inventory!$I$9:$I$108,C47,Inventory!$J$9:$J$108)","v":0}]
[null,40,null,null,{"$f":"_xlfn.XLOOKUP(D48,'Fixture Descriptions'!A:A,'Fixture Descriptions'!H:H,0)","v":0},{"$f":"SUMIF(Inventory!$I$9:$I$108,C48,Inventory!$J$9:$J$108)","v":0}]
[null,41,null,null,{"$f":"_xlfn.XLOOKUP(D49,'Fixture Descriptions'!A:A,'Fixture Descriptions'!H:H,0)","v":0},{"$f":"SUMIF(Inventory!$I$9:$I$108,C49,Inventory!$J$9:$J$108)","v":0}]
[null,42,null,null,{"$f":"_xlfn.XLOOKUP(D50,'Fixture Descriptions'!A:A,'Fixture Descriptions'!H:H,0)","v":0},{"$f":"SUMIF(Inventory!$I$9:$I$108,C50,Inventory!$J$9:$J$108)","v":0}]
[null,43,null,null,{"$f":"_xlfn.XLOOKUP(D51,'Fixture Descriptions'!A:A,'Fixture Descriptions'!H:H,0)","v":0},{"$f":"SUMIF(Inventory!$I$9:$I$108,C51,Inventory!$J$9:$J$108)","v":0}]
[null,44,null,null,{"$f":"_xlfn.XLOOKUP(D52,'Fixture Descriptions'!A:A,'Fixture Descriptions'!H:H,0)","v":0},{"$f":"SUMIF(Inventory!$I$9:$I$108,C52,Inventory!$J$9:$J$108)","v":0}]
[null,45,null,null,{"$f":"_xlfn.XLOOKUP(D53,'Fixture Descriptions'!A:A,'Fixture Descriptions'!H:H,0)","v":0},{"$f":"SUMIF(Inventory!$I$9:$I$108,C53,Inventory!$J$9:$J$108)","v":0}]
[null,46,null,null,{"$f":"_xlfn.XLOOKUP(D54,'Fixture Descriptions'!A:A,'Fixture Descriptions'!H:H,0)","v":0},{"$f":"SUMIF(Inventory!$I$9:$I$108,C54,Inventory!$J$9:$J$108)","v":0}]
[null,47,null,null,{"$f":"_xlfn.XLOOKUP(D55,'Fixture Descriptions'!A:A,'Fixture Descriptions'!H:H,0)","v":0},{"$f":"SUMIF(Inventory!$I$9:$I$108,C55,Inventory!$J$9:$J$108)","v":0}]
[null,48,null,null,{"$f":"_xlfn.XLOOKUP(D56,'Fixture Descriptions'!A:A,'Fixture Descriptions'!H:H,0)","v":0},{"$f":"SUMIF(Inventory!$I$9:$I$108,C56,Inventory!$J$9:$J$108)","v":0}]
[null,49,null,null,{"$f":"_xlfn.XLOOKUP(D57,'Fixture Descriptions'!A:A,'Fixture Descriptions'!H:H,0)","v":0},{"$f":"SUMIF(Inventory!$I$9:$I$108,C57,Inventory!$J$9:$J$108)","v":0}]
[null,50,null,null,{"$f":"_xlfn.XLOOKUP(D58,'Fixture Descriptions'!A:A,'Fixture Descriptions'!H:H,0)","v":0},{"$f":"SUMIF(Inventory!$I$9:$I$108,C58,Inventory!$J$9:$J$108)","v":0}]

{"sheet":"Fixture Descriptions","index":7,"n_rows":2652,"n_cols":11,"rows_kept":2652,"cut":false,"hidden":false,"merged":[]}
["FIXTURE CODE","Label","LAMP/\nFIXT","WATT/\nLAMP","Lamp Length","BALLAST","DESCRIPTION","Regulation\nWATT/\nFIXT","LAMP TYPE","LAMP\nEUL","ELIGIBILITY"]
["CUSTOM1","Custom Fixture 1","-","-","-","-",null,null,null,{"$f":"IFERROR(INDEX(J$7:J$2329,MATCH(I2,I$7:I$2329,0)),\"\")","v":""},{"$f":"IF(OR(G2=\"\",H2=\"\",I2=\"\"),\"N\",\"Y\")","v":"N"}]
["CUSTOM2","Custom Fixture 2","-","-","-","-",null,null,null,{"$f":"IFERROR(INDEX(J$7:J$2329,MATCH(I3,I$7:I$2329,0)),\"\")","v":""},{"$f":"IF(OR(G3=\"\",H3=\"\",I3=\"\"),\"N\",\"Y\")","v":"N"}]
["CUSTOM3","Custom Fixture 3","-","-","-","-",null,null,null,{"$f":"IFERROR(INDEX(J$7:J$2329,MATCH(I4,I$7:I$2329,0)),\"\")","v":""},"N"]
["CUSTOM4","Custom Fixture 4","-","-","-","-",null,null,null,{"$f":"IFERROR(INDEX(J$7:J$2329,MATCH(I5,I$7:I$2329,0)),\"\")","v":""},"N"]
["CUSTOM5","Custom Fixture 5","-","-","-","-",null,null,null,{"$f":"IFERROR(INDEX(J$7:J$2329,MATCH(I6,I$7:I$2329,0)),\"\")","v":""},"N"]
["LED001-SCRW","LED Integrated Ballast Lamp",null,1,null,"Electronic","Integrated Ballast LED, (1) 1W screw-in lamp/base, any bulb shape",1,"Integrated-ballast LED Lamps",9,"Y"]
["LED001.5-SCRW","LED Integrated Ballast Lamp",null,1.5,null,"Electronic","Integrated Ballast LED, (1) 1.5W screw-in lamp/base, any bulb shape",1.5,"Integrated-ballast LED Lamps",9,"Y"]
["LED002-SCRW","LED Integrated Ballast Lamp",null,2,null,"Electronic","Integrated Ballast LED, (1) 2W screw-in lamp/base, any bulb shape",2,"Integrated-ballast LED Lamps",9,"Y"]
["LED002.5-SCRW","LED Integrated Ballast Lamp",null,2.5,null,"Electronic","Integrated Ballast LED, (1) 2.5W screw-in lamp/base, any bulb shape",2.5,"Integrated-ballast LED Lamps",9,"Y"]
["LED003-SCRW","LED Integrated Ballast Lamp",null,3,null,"Electronic","Integrated Ballast LED, (1) 3W screw-in lamp/base, any bulb shape",3,"Integrated-ballast LED Lamps",9,"Y"]
["LED003.5-SCRW","LED Integrated Ballast Lamp",null,3.5,null,"Electronic","Integrated Ballast LED, (1) 3.5W screw-in lamp/base, any bulb shape",3.5,"Integrated-ballast LED Lamps",9,"Y"]
["LED004-SCRW","LED Integrated Ballast Lamp",null,4,null,"Electronic","Integrated Ballast LED, (1) 4W screw-in lamp/base, any bulb shape",4,"Integrated-ballast LED Lamps",9,"Y"]
["LED004.5-SCRW","LED Integrated Ballast Lamp",null,4.5,null,"Electronic","Integrated Ballast LED, (1) 4.5W screw-in lamp/base, any bulb shape",4.5,"Integrated-ballast LED Lamps",9,"Y"]
["LED005-SCRW","LED Integrated Ballast Lamp",null,5,null,"Electronic","Integrated Ballast LED, (1) 5W screw-in lamp/base, any bulb shape",5,"Integrated-ballast LED Lamps",9,"Y"]
["LED005.5-SCRW","LED Integrated Ballast Lamp",null,5.5,null,"Electronic","Integrated Ballast LED, (1) 5.5W screw-in lamp/base, any bulb shape",5.5,"Integrated-ballast LED Lamps",9,"Y"]
["LED006-SCRW","LED Integrated Ballast Lamp",null,6,null,"Electronic","Integrated Ballast LED, (1) 6W screw-in lamp/base, any bulb shape",6,"Integrated-ballast LED Lamps",9,"Y"]
["LED006.5-SCRW","LED Integrated Ballast Lamp",null,6.5,null,"Electronic","Integrated Ballast LED, (1) 6.5W screw-in lamp/base, any bulb shape",6.5,"Integrated-ballast LED Lamps",9,"Y"]
["LED007-SCRW","LED Integrated Ballast Lamp",null,7,null,"Electronic","Integrated Ballast LED, (1) 7W screw-in lamp/base, any bulb shape",7,"Integrated-ballast LED Lamps",9,"Y"]
["LED007.5-SCRW","LED Integrated Ballast Lamp",null,7.5,null,"Electronic","Integrated Ballast LED, (1) 7.5W screw-in lamp/base, any bulb shape",7.5,"Integrated-ballast LED Lamps",9,"Y"]
["LED008-SCRW","LED Integrated Ballast Lamp",null,8,null,"Electronic","Integrated Ballast LED, (1) 8W screw-in lamp/base, any bulb shape",8,"Integrated-ballast LED Lamps",9,"Y"]
["LED008.5-SCRW","LED Integrated Ballast Lamp",null,8.5,null,"Electronic","Integrated Ballast LED, (1) 8.5W screw-in lamp/base, any bulb shape",8.5,"Integrated-ballast LED Lamps",9,"Y"]
["LED009-SCRW","LED Integrated Ballast Lamp",null,9,null,"Electronic","Integrated Ballast LED, (1) 9W screw-in lamp/base, any bulb shape",9,"Integrated-ballast LED Lamps",9,"Y"]
["LED009.5-SCRW","LED Integrated Ballast Lamp",null,9.5,null,"Electronic","Integrated Ballast LED, (1) 9.5W screw-in lamp/base, any bulb shape",9.5,"Integrated-ballast LED Lamps",9,"Y"]
["LED010-SCRW","LED Integrated Ballast Lamp",null,10,null,"Electronic","Integrated Ballast LED, (1) 10W screw-in lamp/base, any bulb shape",10,"Integrated-ballast LED Lamps",9,"Y"]
["LED010.5-SCRW","LED Integrated Ballast Lamp",null,10.5,null,"Electronic","Integrated Ballast LED, (1) 10.5W screw-in lamp/base, any bulb shape",10.5,"Integrated-ballast LED Lamps",9,"Y"]
["LED011-SCRW","LED Integrated Ballast Lamp",null,11,null,"Electronic","Integrated Ballast LED, (1) 11W screw-in lamp/base, any bulb shape",11,"Integrated-ballast LED Lamps",9,"Y"]
["LED011.5-SCRW","LED Integrated Ballast Lamp",null,11.5,null,"Electronic","Integrated Ballast LED, (1) 11.5W screw-in lamp/base, any bulb shape",11.5,"Integrated-ballast LED Lamps",9,"Y"]
["LED012-SCRW","LED Integrated Ballast Lamp",null,12,null,"Electronic","Integrated Ballast LED, (1) 12W screw-in lamp/base, any bulb shape",12,"Integrated-ballast LED Lamps",9,"Y"]
["LED012.5-SCRW","LED Integrated Ballast Lamp",null,12.5,null,"Electronic","Integrated Ballast LED, (1) 12.5W screw-in lamp/base, any bulb shape",12.5,"Integrated-ballast LED Lamps",9,"Y"]
["LED013-SCRW","LED Integrated Ballast Lamp",null,13,null,"Electronic","Integrated Ballast LED, (1) 13W screw-in lamp/base, any bulb shape",13,"Integrated-ballast LED Lamps",9,"Y"]
["LED013.5-SCRW","LED Integrated Ballast Lamp",null,13.5,null,"Electronic","Integrated Ballast LED, (1) 13.5W screw-in lamp/base, any bulb shape",13.5,"Integrated-ballast LED Lamps",9,"Y"]
["LED014-SCRW","LED Integrated Ballast Lamp",null,14,null,"Electronic","Integrated Ballast LED, (1) 14W screw-in lamp/base, any bulb shape",14,"Integrated-ballast LED Lamps",9,"Y"]
["LED014.5-SCRW","LED Integrated Ballast Lamp",null,14.5,null,"Electronic","Integrated Ballast LED, (1) 14.5W screw-in lamp/base, any bulb shape",14.5,"Integrated-ballast LED Lamps",9,"Y"]
["LED015-SCRW","LED Integrated Ballast Lamp",null,15,null,"Electronic","Integrated Ballast LED, (1) 15W screw-in lamp/base, any bulb shape",15,"Integrated-ballast LED Lamps",9,"Y"]
["LED015.5-SCRW","LED Integrated Ballast Lamp",null,15.5,null,"Electronic","Integrated Ballast LED, (1) 15.5W screw-in lamp/base, any bulb shape",15.5,"Integrated-ballast LED Lamps",9,"Y"]
["LED016-SCRW","LED Integrated Ballast Lamp",null,16,null,"Electronic","Integrated Ballast LED, (1) 16W screw-in lamp/base, any bulb shape",16,"Integrated-ballast LED Lamps",9,"Y"]
["LED016.5-SCRW","LED Integrated Ballast Lamp",null,16.5,null,"Electronic","Integrated Ballast LED, (1) 16.5W screw-in lamp/base, any bulb shape",16.5,"Integrated-ballast LED Lamps",9,"Y"]
["LED017-SCRW","LED Integrated Ballast Lamp",null,17,null,"Electronic","Integrated Ballast LED, (1) 17W screw-in lamp/base, any bulb shape",17,"Integrated-ballast LED Lamps",9,"Y"]
["LED017.5-SCRW","LED Integrated Ballast Lamp",null,17.5,null,"Electronic","Integrated Ballast LED, (1) 17.5W screw-in lamp/base, any bulb shape",17.5,"Integrated-ballast LED Lamps",9,"Y"]
["LED018-SCRW","LED Integrated Ballast Lamp",null,18,null,"Electronic","Integrated Ballast LED, (1) 18W screw-in lamp/base, any bulb shape",18,"Integrated-ballast LED Lamps",9,"Y"]
["LED018.5-SCRW","LED Integrated Ballast Lamp",null,18.5,null,"Electronic","Integrated Ballast LED, (1) 18.5W screw-in lamp/base, any bulb shape",18.5,"Integrated-ballast LED Lamps",9,"Y"]
["LED019-SCRW","LED Integrated Ballast Lamp",null,19,null,"Electronic","Integrated Ballast LED, (1) 19W screw-in lamp/base, any bulb shape",19,"Integrated-ballast LED Lamps",9,"Y"]
["LED019.5-SCRW","LED Integrated Ballast Lamp",null,19.5,null,"Electronic","Integrated Ballast LED, (1) 19.5W screw-in lamp/base, any bulb shape",19.5,"Integrated-ballast LED Lamps",9,"Y"]
["LED020-SCRW","LED Integrated Ballast Lamp",null,20,null,"Electronic","Integrated Ballast LED, (1) 20W screw-in lamp/base, any bulb shape",20,"Integrated-ballast LED Lamps",9,"Y"]
["LED020.5-SCRW","LED Integrated Ballast Lamp",null,20.5,null,"Electronic","Integrated Ballast LED, (1) 20.5W screw-in lamp/base, any bulb shape",20.5,"Integrated-ballast LED Lamps",9,"Y"]
["LED021-SCRW","LED Integrated Ballast Lamp",null,21,null,"Electronic","Integrated Ballast LED, (1) 21W screw-in lamp/base, any bulb shape",21,"Integrated-ballast LED Lamps",9,"Y"]
["LED021.5-SCRW","LED Integrated Ballast Lamp",null,21.5,null,"Electronic","Integrated Ballast LED, (1) 21.5W screw-in lamp/base, any bulb shape",21.5,"Integrated-ballast LED Lamps",9,"Y"]
["LED022-SCRW","LED Integrated Ballast Lamp",null,22,null,"Electronic","Integrated Ballast LED, (1) 22W screw-in lamp/base, any bulb shape",22,"Integrated-ballast LED Lamps",9,"Y"]
["LED022.5-SCRW","LED Integrated Ballast Lamp",null,22.5,null,"Electronic","Integrated Ballast LED, (1) 22.5W screw-in lamp/base, any bulb shape",22.5,"Integrated-ballast LED Lamps",9,"Y"]
["LED023-SCRW","LED Integrated Ballast Lamp",null,23,null,"Electronic","Integrated Ballast LED, (1) 23W screw-in lamp/base, any bulb shape",23,"Integrated-ballast LED Lamps",9,"Y"]
["LED023.5-SCRW","LED Integrated Ballast Lamp",null,23.5,null,"Electronic","Integrated Ballast LED, (1) 23.5W screw-in lamp/base, any bulb shape",23.5,"Integrated-ballast LED Lamps",9,"Y"]
["LED024-SCRW","LED Integrated Ballast Lamp",null,24,null,"Electronic","Integrated Ballast LED, (1) 24W screw-in lamp/base, any bulb shape",24,"Integrated-ballast LED Lamps",9,"Y"]
["LED024.5-SCRW","LED Integrated Ballast Lamp",null,24.5,null,"Electronic","Integrated Ballast LED, (1) 24.5W screw-in lamp/base, any bulb shape",24.5,"Integrated-ballast LED Lamps",9,"Y"]
["LED025-SCRW","LED Integrated Ballast Lamp",null,25,null,"Electronic","Integrated Ballast LED, (1) 25W screw-in lamp/base, any bulb shape",25,"Integrated-ballast LED Lamps",9,"Y"]
["LED025.5-SCRW","LED Integrated Ballast Lamp",null,25.5,null,"Electronic","Integrated Ballast LED, (1) 25.5W screw-in lamp/base, any bulb shape",25.5,"Integrated-ballast LED Lamps",9,"Y"]
["LED026-SCRW","LED Integrated Ballast Lamp",null,26,null,"Electronic","Integrated Ballast LED, (1) 26W screw-in lamp/base, any bulb shape",26,"Integrated-ballast LED Lamps",9,"Y"]
["LED026.5-SCRW","LED Integrated Ballast Lamp",null,26.5,null,"Electronic","Integrated Ballast LED, (1) 26.5W screw-in lamp/base, any bulb shape",26.5,"Integrated-ballast LED Lamps",9,"Y"]
["LED027-SCRW","LED Integrated Ballast Lamp",null,27,null,"Electronic","Integrated Ballast LED, (1) 27W screw-in lamp/base, any bulb shape",27,"Integrated-ballast LED Lamps",9,"Y"]
["LED027.5-SCRW","LED Integrated Ballast Lamp",null,27.5,null,"Electronic","Integrated Ballast LED, (1) 27.5W screw-in lamp/base, any bulb shape",27.5,"Integrated-ballast LED Lamps",9,"Y"]
["LED028-SCRW","LED Integrated Ballast Lamp",null,28,null,"Electronic","Integrated Ballast LED, (1) 28W screw-in lamp/base, any bulb shape",28,"Integrated-ballast LED Lamps",9,"Y"]
["LED028.5-SCRW","LED Integrated Ballast Lamp",null,28.5,null,"Electronic","Integrated Ballast LED, (1) 28.5W screw-in lamp/base, any bulb shape",28.5,"Integrated-ballast LED Lamps",9,"Y"]
["LED029-SCRW","LED Integrated Ballast Lamp",null,29,null,"Electronic","Integrated Ballast LED, (1) 29W screw-in lamp/base, any bulb shape",29,"Integrated-ballast LED Lamps",9,"Y"]
["LED029.5-SCRW","LED Integrated Ballast Lamp",null,29.5,null,"Electronic","Integrated Ballast LED, (1) 29.5W screw-in lamp/base, any bulb shape",29.5,"Integrated-ballast LED Lamps",9,"Y"]
["LED030-SCRW","LED Integrated Ballast Lamp",null,30,null,"Electronic","Integrated Ballast LED, (1) 30W screw-in lamp/base, any bulb shape",30,"Integrated-ballast LED Lamps",9,"Y"]
["LED030.5-SCRW","LED Integrated Ballast Lamp",null,30.5,null,"Electronic","Integrated Ballast LED, (1) 30.5W screw-in lamp/base, any bulb shape",30.5,"Integrated-ballast LED Lamps",9,"Y"]
["LED031-SCRW","LED Integrated Ballast Lamp",null,31,null,"Electronic","Integrated Ballast LED, (1) 31W screw-in lamp/base, any bulb shape",31,"Integrated-ballast LED Lamps",9,"Y"]
["LED031.5-SCRW","LED Integrated Ballast Lamp",null,31.5,null,"Electronic","Integrated Ballast LED, (1) 31.5W screw-in lamp/base, any bulb shape",31.5,"Integrated-ballast LED Lamps",9,"Y"]
["LED032-SCRW","LED Integrated Ballast Lamp",null,32,null,"Electronic","Integrated Ballast LED, (1) 32W screw-in lamp/base, any bulb shape",32,"Integrated-ballast LED Lamps",9,"Y"]
["LED032.5-SCRW","LED Integrated Ballast Lamp",null,32.5,null,"Electronic","Integrated Ballast LED, (1) 32.5W screw-in lamp/base, any bulb shape",32.5,"Integrated-ballast LED Lamps",9,"Y"]
["LED033-SCRW","LED Integrated Ballast Lamp",null,33,null,"Electronic","Integrated Ballast LED, (1) 33W screw-in lamp/base, any bulb shape",33,"Integrated-ballast LED Lamps",9,"Y"]
["LED033.5-SCRW","LED Integrated Ballast Lamp",null,33.5,null,"Electronic","Integrated Ballast LED, (1) 33.5W screw-in lamp/base, any bulb shape",33.5,"Integrated-ballast LED Lamps",9,"Y"]
["LED034-SCRW","LED Integrated Ballast Lamp",null,34,null,"Electronic","Integrated Ballast LED, (1) 34W screw-in lamp/base, any bulb shape",34,"Integrated-ballast LED Lamps",9,"Y"]
["LED034.5-SCRW","LED Integrated Ballast Lamp",null,34.5,null,"Electronic","Integrated Ballast LED, (1) 34.5W screw-in lamp/base, any bulb shape",34.5,"Integrated-ballast LED Lamps",9,"Y"]
["LED035-SCRW","LED Integrated Ballast Lamp",null,35,null,"Electronic","Integrated Ballast LED, (1) 35W screw-in lamp/base, any bulb shape",35,"Integrated-ballast LED Lamps",9,"Y"]
["LED035.5-SCRW","LED Integrated Ballast Lamp",null,35.5,null,"Electronic","Integrated Ballast LED, (1) 35.5W screw-in lamp/base, any bulb shape",35.5,"Integrated-ballast LED Lamps",9,"Y"]
["LED036-SCRW","LED Integrated Ballast Lamp",null,36,null,"Electronic","Integrated Ballast LED, (1) 36W screw-in lamp/base, any bulb shape",36,"Integrated-ballast LED Lamps",9,"Y"]
["LED036.5-SCRW","LED Integrated Ballast Lamp",null,36.5,null,"Electronic","Integrated Ballast LED, (1) 36.5W screw-in lamp/base, any bulb shape",36.5,"Integrated-ballast LED Lamps",9,"Y"]
["LED037-SCRW","LED Integrated Ballast Lamp",null,37,null,"Electronic","Integrated Ballast LED, (1) 37W screw-in lamp/base, any bulb shape",37,"Integrated-ballast LED Lamps",9,"Y"]
["LED037.5-SCRW","LED Integrated Ballast Lamp",null,37.5,null,"Electronic","Integrated Ballast LED, (1) 37.5W screw-in lamp/base, any bulb shape",37.5,"Integrated-ballast LED Lamps",9,"Y"]
["LED038-SCRW","LED Integrated Ballast Lamp",null,38,null,"Electronic","Integrated Ballast LED, (1) 38W screw-in lamp/base, any bulb shape",38,"Integrated-ballast LED Lamps",9,"Y"]
["LED038.5-SCRW","LED Integrated Ballast Lamp",null,38.5,null,"Electronic","Integrated Ballast LED, (1) 38.5W screw-in lamp/base, any bulb shape",38.5,"Integrated-ballast LED Lamps",9,"Y"]
["LED039-SCRW","LED Integrated Ballast Lamp",null,39,null,"Electronic","Integrated Ballast LED, (1) 39W screw-in lamp/base, any bulb shape",39,"Integrated-ballast LED Lamps",9,"Y"]
["LED039.5-SCRW","LED Integrated Ballast Lamp",null,39.5,null,"Electronic","Integrated Ballast LED, (1) 39.5W screw-in lamp/base, any bulb shape",39.5,"Integrated-ballast LED Lamps",9,"Y"]
["LED040-SCRW","LED Integrated Ballast Lamp",null,40,null,"Electronic","Integrated Ballast LED, (1) 40W screw-in lamp/base, any bulb shape",40,"Integrated-ballast LED Lamps",9,"Y"]
["LED040.5-SCRW","LED Integrated Ballast Lamp",null,40.5,null,"Electronic","Integrated Ballast LED, (1) 40.5W screw-in lamp/base, any bulb shape",40.5,"Integrated-ballast LED Lamps",9,"Y"]
["LED041-SCRW","LED Integrated Ballast Lamp",null,41,null,"Electronic","Integrated Ballast LED, (1) 41W screw-in lamp/base, any bulb shape",41,"Integrated-ballast LED Lamps",9,"Y"]
["LED041.5-SCRW","LED Integrated Ballast Lamp",null,41.5,null,"Electronic","Integrated Ballast LED, (1) 41.5W screw-in lamp/base, any bulb shape",41.5,"Integrated-ballast LED Lamps",9,"Y"]
["LED042-SCRW","LED Integrated Ballast Lamp",null,42,null,"Electronic","Integrated Ballast LED, (1) 42W screw-in lamp/base, any bulb shape",42,"Integrated-ballast LED Lamps",9,"Y"]
["LED042.5-SCRW","LED Integrated Ballast Lamp",null,42.5,null,"Electronic","Integrated Ballast LED, (1) 42.5W screw-in lamp/base, any bulb shape",42.5,"Integrated-ballast LED Lamps",9,"Y"]
["LED043-SCRW","LED Integrated Ballast Lamp",null,43,null,"Electronic","Integrated Ballast LED, (1) 43W screw-in lamp/base, any bulb shape",43,"Integrated-ballast LED Lamps",9,"Y"]
["LED043.5-SCRW","LED Integrated Ballast Lamp",null,43.5,null,"Electronic","Integrated Ballast LED, (1) 43.5W screw-in lamp/base, any bulb shape",43.5,"Integrated-ballast LED Lamps",9,"Y"]
["LED044-SCRW","LED Integrated Ballast Lamp",null,44,null,"Electronic","Integrated Ballast LED, (1) 44W screw-in lamp/base, any bulb shape",44,"Integrated-ballast LED Lamps",9,"Y"]
["LED044.5-SCRW","LED Integrated Ballast Lamp",null,44.5,null,"Electronic","Integrated Ballast LED, (1) 44.5W screw-in lamp/base, any bulb shape",44.5,"Integrated-ballast LED Lamps",9,"Y"]
["LED045-SCRW","LED Integrated Ballast Lamp",null,45,null,"Electronic","Integrated Ballast LED, (1) 45W screw-in lamp/base, any bulb shape",45,"Integrated-ballast LED Lamps",9,"Y"]
["LED045.5-SCRW","LED Integrated Ballast Lamp",null,45.5,null,"Electronic","Integrated Ballast LED, (1) 45.5W screw-in lamp/base, any bulb shape",45.5,"Integrated-ballast LED Lamps",9,"Y"]
["LED046-SCRW","LED Integrated Ballast Lamp",null,46,null,"Electronic","Integrated Ballast LED, (1) 46W screw-in lamp/base, any bulb shape",46,"Integrated-ballast LED Lamps",9,"Y"]
["LED046.5-SCRW","LED Integrated Ballast Lamp",null,46.5,null,"Electronic","Integrated Ballast LED, (1) 46.5W screw-in lamp/base, any bulb shape",46.5,"Integrated-ballast LED Lamps",9,"Y"]
["LED047-SCRW","LED Integrated Ballast Lamp",null,47,null,"Electronic","Integrated Ballast LED, (1) 47W screw-in lamp/base, any bulb shape",47,"Integrated-ballast LED Lamps",9,"Y"]
["LED047.5-SCRW","LED Integrated Ballast Lamp",null,47.5,null,"Electronic","Integrated Ballast LED, (1) 47.5W screw-in lamp/base, any bulb shape",47.5,"Integrated-ballast LED Lamps",9,"Y"]
["LED048-SCRW","LED Integrated Ballast Lamp",null,48,null,"Electronic","Integrated Ballast LED, (1) 48W screw-in lamp/base, any bulb shape",48,"Integrated-ballast LED Lamps",9,"Y"]
["LED048.5-SCRW","LED Integrated Ballast Lamp",null,48.5,null,"Electronic","Integrated Ballast LED, (1) 48.5W screw-in lamp/base, any bulb shape",48.5,"Integrated-ballast LED Lamps",9,"Y"]
["LED049-SCRW","LED Integrated Ballast Lamp",null,49,null,"Electronic","Integrated Ballast LED, (1) 49W screw-in lamp/base, any bulb shape",49,"Integrated-ballast LED Lamps",9,"Y"]
["LED049.5-SCRW","LED Integrated Ballast Lamp",null,49.5,null,"Electronic","Integrated Ballast LED, (1) 49.5W screw-in lamp/base, any bulb shape",49.5,"Integrated-ballast LED Lamps",9,"Y"]
["LED050-SCRW","LED Integrated Ballast Lamp",null,50,null,"Electronic","Integrated Ballast LED, (1) 50W screw-in lamp/base, any bulb shape",50,"Integrated-ballast LED Lamps",9,"Y"]
["LED050.5-SCRW","LED Integrated Ballast Lamp",null,50.5,null,"Electronic","Integrated Ballast LED, (1) 50.5W screw-in lamp/base, any bulb shape",50.5,"Integrated-ballast LED Lamps",9,"Y"]
["LED051-SCRW","LED Integrated Ballast Lamp",null,51,null,"Electronic","Integrated Ballast LED, (1) 51W screw-in lamp/base, any bulb shape",51,"Integrated-ballast LED Lamps",9,"Y"]
["LED051.5-SCRW","LED Integrated Ballast Lamp",null,51.5,null,"Electronic","Integrated Ballast LED, (1) 51.5W screw-in lamp/base, any bulb shape",51.5,"Integrated-ballast LED Lamps",9,"Y"]
["LED052-SCRW","LED Integrated Ballast Lamp",null,52,null,"Electronic","Integrated Ballast LED, (1) 52W screw-in lamp/base, any bulb shape",52,"Integrated-ballast LED Lamps",9,"Y"]
["LED052.5-SCRW","LED Integrated Ballast Lamp",null,52.5,null,"Electronic","Integrated Ballast LED, (1) 52.5W screw-in lamp/base, any bulb shape",52.5,"Integrated-ballast LED Lamps",9,"Y"]
["LED053-SCRW","LED Integrated Ballast Lamp",null,53,null,"Electronic","Integrated Ballast LED, (1) 53W screw-in lamp/base, any bulb shape",53,"Integrated-ballast LED Lamps",9,"Y"]
["LED053.5-SCRW","LED Integrated Ballast Lamp",null,53.5,null,"Electronic","Integrated Ballast LED, (1) 53.5W screw-in lamp/base, any bulb shape",53.5,"Integrated-ballast LED Lamps",9,"Y"]
["LED054-SCRW","LED Integrated Ballast Lamp",null,54,null,"Electronic","Integrated Ballast LED, (1) 54W screw-in lamp/base, any bulb shape",54,"Integrated-ballast LED Lamps",9,"Y"]
["LED054.5-SCRW","LED Integrated Ballast Lamp",null,54.5,null,"Electronic","Integrated Ballast LED, (1) 54.5W screw-in lamp/base, any bulb shape",54.5,"Integrated-ballast LED Lamps",9,"Y"]
["LED055-SCRW","LED Integrated Ballast Lamp",null,55,null,"Electronic","Integrated Ballast LED, (1) 55W screw-in lamp/base, any bulb shape",55,"Integrated-ballast LED Lamps",9,"Y"]
["LED055.5-SCRW","LED Integrated Ballast Lamp",null,55.5,null,"Electronic","Integrated Ballast LED, (1) 55.5W screw-in lamp/base, any bulb shape",55.5,"Integrated-ballast LED Lamps",9,"Y"]
["LED056-SCRW","LED Integrated Ballast Lamp",null,56,null,"Electronic","Integrated Ballast LED, (1) 56W screw-in lamp/base, any bulb shape",56,"Integrated-ballast LED Lamps",9,"Y"]
["LED056.5-SCRW","LED Integrated Ballast Lamp",null,56.5,null,"Electronic","Integrated Ballast LED, (1) 56.5W screw-in lamp/base, any bulb shape",56.5,"Integrated-ballast LED Lamps",9,"Y"]
["LED057-SCRW","LED Integrated Ballast Lamp",null,57,null,"Electronic","Integrated Ballast LED, (1) 57W screw-in lamp/base, any bulb shape",57,"Integrated-ballast LED Lamps",9,"Y"]
["LED057.5-SCRW","LED Integrated Ballast Lamp",null,57.5,null,"Electronic","Integrated Ballast LED, (1) 57.5W screw-in lamp/base, any bulb shape",57.5,"Integrated-ballast LED Lamps",9,"Y"]
["LED058-SCRW","LED Integrated Ballast Lamp",null,58,null,"Electronic","Integrated Ballast LED, (1) 58W screw-in lamp/base, any bulb shape",58,"Integrated-ballast LED Lamps",9,"Y"]
["LED058.5-SCRW","LED Integrated Ballast Lamp",null,58.5,null,"Electronic","Integrated Ballast LED, (1) 58.5W screw-in lamp/base, any bulb shape",58.5,"Integrated-ballast LED Lamps",9,"Y"]
["LED059-SCRW","LED Integrated Ballast Lamp",null,59,null,"Electronic","Integrated Ballast LED, (1) 59W screw-in lamp/base, any bulb shape",59,"Integrated-ballast LED Lamps",9,"Y"]
["LED059.5-SCRW","LED Integrated Ballast Lamp",null,59.5,null,"Electronic","Integrated Ballast LED, (1) 59.5W screw-in lamp/base, any bulb shape",59.5,"Integrated-ballast LED Lamps",9,"Y"]
["LED060-SCRW","LED Integrated Ballast Lamp",null,60,null,"Electronic","Integrated Ballast LED, (1) 60W screw-in lamp/base, any bulb shape",60,"Integrated-ballast LED Lamps",9,"Y"]
["LED060.5-SCRW","LED Integrated Ballast Lamp",null,60.5,null,"Electronic","Integrated Ballast LED, (1) 60.5W screw-in lamp/base, any bulb shape",60.5,"Integrated-ballast LED Lamps",9,"Y"]
["LED061-SCRW","LED Integrated Ballast Lamp",null,61,null,"Electronic","Integrated Ballast LED, (1) 61W screw-in lamp/base, any bulb shape",61,"Integrated-ballast LED Lamps",9,"Y"]
["LED061.5-SCRW","LED Integrated Ballast Lamp",null,61.5,null,"Electronic","Integrated Ballast LED, (1) 61.5W screw-in lamp/base, any bulb shape",61.5,"Integrated-ballast LED Lamps",9,"Y"]
["LED062-SCRW","LED Integrated Ballast Lamp",null,62,null,"Electronic","Integrated Ballast LED, (1) 62W screw-in lamp/base, any bulb shape",62,"Integrated-ballast LED Lamps",9,"Y"]
["LED062.5-SCRW","LED Integrated Ballast Lamp",null,62.5,null,"Electronic","Integrated Ballast LED, (1) 62.5W screw-in lamp/base, any bulb shape",62.5,"Integrated-ballast LED Lamps",9,"Y"]
["LED063-SCRW","LED Integrated Ballast Lamp",null,63,null,"Electronic","Integrated Ballast LED, (1) 63W screw-in lamp/base, any bulb shape",63,"Integrated-ballast LED Lamps",9,"Y"]
["LED063.5-SCRW","LED Integrated Ballast Lamp",null,63.5,null,"Electronic","Integrated Ballast LED, (1) 63.5W screw-in lamp/base, any bulb shape",63.5,"Integrated-ballast LED Lamps",9,"Y"]
["LED064-SCRW","LED Integrated Ballast Lamp",null,64,null,"Electronic","Integrated Ballast LED, (1) 64W screw-in lamp/base, any bulb shape",64,"Integrated-ballast LED Lamps",9,"Y"]
["LED064.5-SCRW","LED Integrated Ballast Lamp",null,64.5,null,"Electronic","Integrated Ballast LED, (1) 64.5W screw-in lamp/base, any bulb shape",64.5,"Integrated-ballast LED Lamps",9,"Y"]
["LED065-SCRW","LED Integrated Ballast Lamp",null,65,null,"Electronic","Integrated Ballast LED, (1) 65W screw-in lamp/base, any bulb shape",65,"Integrated-ballast LED Lamps",9,"Y"]
["LED065.5-SCRW","LED Integrated Ballast Lamp",null,65.5,null,"Electronic","Integrated Ballast LED, (1) 65.5W screw-in lamp/base, any bulb shape",65.5,"Integrated-ballast LED Lamps",9,"Y"]
["LED066-SCRW","LED Integrated Ballast Lamp",null,66,null,"Electronic","Integrated Ballast LED, (1) 66W screw-in lamp/base, any bulb shape",66,"Integrated-ballast LED Lamps",9,"Y"]
["LED066.5-SCRW","LED Integrated Ballast Lamp",null,66.5,null,"Electronic","Integrated Ballast LED, (1) 66.5W screw-in lamp/base, any bulb shape",66.5,"Integrated-ballast LED Lamps",9,"Y"]
["LED067-SCRW","LED Integrated Ballast Lamp",null,67,null,"Electronic","Integrated Ballast LED, (1) 67W screw-in lamp/base, any bulb shape",67,"Integrated-ballast LED Lamps",9,"Y"]
["LED067.5-SCRW","LED Integrated Ballast Lamp",null,67.5,null,"Electronic","Integrated Ballast LED, (1) 67.5W screw-in lamp/base, any bulb shape",67.5,"Integrated-ballast LED Lamps",9,"Y"]
["LED068-SCRW","LED Integrated Ballast Lamp",null,68,null,"Electronic","Integrated Ballast LED, (1) 68W screw-in lamp/base, any bulb shape",68,"Integrated-ballast LED Lamps",9,"Y"]
["LED068.5-SCRW","LED Integrated Ballast Lamp",null,68.5,null,"Electronic","Integrated Ballast LED, (1) 68.5W screw-in lamp/base, any bulb shape",68.5,"Integrated-ballast LED Lamps",9,"Y"]
["LED069-SCRW","LED Integrated Ballast Lamp",null,69,null,"Electronic","Integrated Ballast LED, (1) 69W screw-in lamp/base, any bulb shape",69,"Integrated-ballast LED Lamps",9,"Y"]
["LED069.5-SCRW","LED Integrated Ballast Lamp",null,69.5,null,"Electronic","Integrated Ballast LED, (1) 69.5W screw-in lamp/base, any bulb shape",69.5,"Integrated-ballast LED Lamps",9,"Y"]
["LED070-SCRW","LED Integrated Ballast Lamp",null,70,null,"Electronic","Integrated Ballast LED, (1) 70W screw-in lamp/base, any bulb shape",70,"Integrated-ballast LED Lamps",9,"Y"]
["LED070.5-SCRW","LED Integrated Ballast Lamp",null,70.5,null,"Electronic","Integrated Ballast LED, (1) 70.5W screw-in lamp/base, any bulb shape",70.5,"Integrated-ballast LED Lamps",9,"Y"]
["LED071-SCRW","LED Integrated Ballast Lamp",null,71,null,"Electronic","Integrated Ballast LED, (1) 71W screw-in lamp/base, any bulb shape",71,"Integrated-ballast LED Lamps",9,"Y"]
["LED071.5-SCRW","LED Integrated Ballast Lamp",null,71.5,null,"Electronic","Integrated Ballast LED, (1) 71.5W screw-in lamp/base, any bulb shape",71.5,"Integrated-ballast LED Lamps",9,"Y"]
["LED072-SCRW","LED Integrated Ballast Lamp",null,72,null,"Electronic","Integrated Ballast LED, (1) 72W screw-in lamp/base, any bulb shape",72,"Integrated-ballast LED Lamps",9,"Y"]
["LED072.5-SCRW","LED Integrated Ballast Lamp",null,72.5,null,"Electronic","Integrated Ballast LED, (1) 72.5W screw-in lamp/base, any bulb shape",72.5,"Integrated-ballast LED Lamps",9,"Y"]
["LED073-SCRW","LED Integrated Ballast Lamp",null,73,null,"Electronic","Integrated Ballast LED, (1) 73W screw-in lamp/base, any bulb shape",73,"Integrated-ballast LED Lamps",9,"Y"]
["LED073.5-SCRW","LED Integrated Ballast Lamp",null,73.5,null,"Electronic","Integrated Ballast LED, (1) 73.5W screw-in lamp/base, any bulb shape",73.5,"Integrated-ballast LED Lamps",9,"Y"]
["LED074-SCRW","LED Integrated Ballast Lamp",null,74,null,"Electronic","Integrated Ballast LED, (1) 74W screw-in lamp/base, any bulb shape",74,"Integrated-ballast LED Lamps",9,"Y"]
["LED074.5-SCRW","LED Integrated Ballast Lamp",null,74.5,null,"Electronic","Integrated Ballast LED, (1) 74.5W screw-in lamp/base, any bulb shape",74.5,"Integrated-ballast LED Lamps",9,"Y"]
["LED075-SCRW","LED Integrated Ballast Lamp",null,75,null,"Electronic","Integrated Ballast LED, (1) 75W screw-in lamp/base, any bulb shape",75,"Integrated-ballast LED Lamps",9,"Y"]
["LED075.5-SCRW","LED Integrated Ballast Lamp",null,75.5,null,"Electronic","Integrated Ballast LED, (1) 75.5W screw-in lamp/base, any bulb shape",75.5,"Integrated-ballast LED Lamps",9,"Y"]
["LED076-SCRW","LED Integrated Ballast Lamp",null,76,null,"Electronic","Integrated Ballast LED, (1) 76W screw-in lamp/base, any bulb shape",76,"Integrated-ballast LED Lamps",9,"Y"]
["LED076.5-SCRW","LED Integrated Ballast Lamp",null,76.5,null,"Electronic","Integrated Ballast LED, (1) 76.5W screw-in lamp/base, any bulb shape",76.5,"Integrated-ballast LED Lamps",9,"Y"]
["LED077-SCRW","LED Integrated Ballast Lamp",null,77,null,"Electronic","Integrated Ballast LED, (1) 77W screw-in lamp/base, any bulb shape",77,"Integrated-ballast LED Lamps",9,"Y"]
["LED077.5-SCRW","LED Integrated Ballast Lamp",null,77.5,null,"Electronic","Integrated Ballast LED, (1) 77.5W screw-in lamp/base, any bulb shape",77.5,"Integrated-ballast LED Lamps",9,"Y"]
["LED078-SCRW","LED Integrated Ballast Lamp",null,78,null,"Electronic","Integrated Ballast LED, (1) 78W screw-in lamp/base, any bulb shape",78,"Integrated-ballast LED Lamps",9,"Y"]
["LED078.5-SCRW","LED Integrated Ballast Lamp",null,78.5,null,"Electronic","Integrated Ballast LED, (1) 78.5W screw-in lamp/base, any bulb shape",78.5,"Integrated-ballast LED Lamps",9,"Y"]
["LED079-SCRW","LED Integrated Ballast Lamp",null,79,null,"Electronic","Integrated Ballast LED, (1) 79W screw-in lamp/base, any bulb shape",79,"Integrated-ballast LED Lamps",9,"Y"]
["LED079.5-SCRW","LED Integrated Ballast Lamp",null,79.5,null,"Electronic","Integrated Ballast LED, (1) 79.5W screw-in lamp/base, any bulb shape",79.5,"Integrated-ballast LED Lamps",9,"Y"]
["LED080-SCRW","LED Integrated Ballast Lamp",null,80,null,"Electronic","Integrated Ballast LED, (1) 80W screw-in lamp/base, any bulb shape",80,"Integrated-ballast LED Lamps",9,"Y"]
["LED080.5-SCRW","LED Integrated Ballast Lamp",null,80.5,null,"Electronic","Integrated Ballast LED, (1) 80.5W screw-in lamp/base, any bulb shape",80.5,"Integrated-ballast LED Lamps",9,"Y"]
["LED081-SCRW","LED Integrated Ballast Lamp",null,81,null,"Electronic","Integrated Ballast LED, (1) 81W screw-in lamp/base, any bulb shape",81,"Integrated-ballast LED Lamps",9,"Y"]
["LED081.5-SCRW","LED Integrated Ballast Lamp",null,81.5,null,"Electronic","Integrated Ballast LED, (1) 81.5W screw-in lamp/base, any bulb shape",81.5,"Integrated-ballast LED Lamps",9,"Y"]
["LED082-SCRW","LED Integrated Ballast Lamp",null,82,null,"Electronic","Integrated Ballast LED, (1) 82W screw-in lamp/base, any bulb shape",82,"Integrated-ballast LED Lamps",9,"Y"]
["LED082.5-SCRW","LED Integrated Ballast Lamp",null,82.5,null,"Electronic","Integrated Ballast LED, (1) 82.5W screw-in lamp/base, any bulb shape",82.5,"Integrated-ballast LED Lamps",9,"Y"]
["LED083-SCRW","LED Integrated Ballast Lamp",null,83,null,"Electronic","Integrated Ballast LED, (1) 83W screw-in lamp/base, any bulb shape",83,"Integrated-ballast LED Lamps",9,"Y"]
["LED083.5-SCRW","LED Integrated Ballast Lamp",null,83.5,null,"Electronic","Integrated Ballast LED, (1) 83.5W screw-in lamp/base, any bulb shape",83.5,"Integrated-ballast LED Lamps",9,"Y"]
["LED084-SCRW","LED Integrated Ballast Lamp",null,84,null,"Electronic","Integrated Ballast LED, (1) 84W screw-in lamp/base, any bulb shape",84,"Integrated-ballast LED Lamps",9,"Y"]
["LED084.5-SCRW","LED Integrated Ballast Lamp",null,84.5,null,"Electronic","Integrated Ballast LED, (1) 84.5W screw-in lamp/base, any bulb shape",84.5,"Integrated-ballast LED Lamps",9,"Y"]
["LED085-SCRW","LED Integrated Ballast Lamp",null,85,null,"Electronic","Integrated Ballast LED, (1) 85W screw-in lamp/base, any bulb shape",85,"Integrated-ballast LED Lamps",9,"Y"]
["LED085.5-SCRW","LED Integrated Ballast Lamp",null,85.5,null,"Electronic","Integrated Ballast LED, (1) 85.5W screw-in lamp/base, any bulb shape",85.5,"Integrated-ballast LED Lamps",9,"Y"]
["LED086-SCRW","LED Integrated Ballast Lamp",null,86,null,"Electronic","Integrated Ballast LED, (1) 86W screw-in lamp/base, any bulb shape",86,"Integrated-ballast LED Lamps",9,"Y"]
["LED086.5-SCRW","LED Integrated Ballast Lamp",null,86.5,null,"Electronic","Integrated Ballast LED, (1) 86.5W screw-in lamp/base, any bulb shape",86.5,"Integrated-ballast LED Lamps",9,"Y"]
["LED087-SCRW","LED Integrated Ballast Lamp",null,87,null,"Electronic","Integrated Ballast LED, (1) 87W screw-in lamp/base, any bulb shape",87,"Integrated-ballast LED Lamps",9,"Y"]
["LED087.5-SCRW","LED Integrated Ballast Lamp",null,87.5,null,"Electronic","Integrated Ballast LED, (1) 87.5W screw-in lamp/base, any bulb shape",87.5,"Integrated-ballast LED Lamps",9,"Y"]
["LED088-SCRW","LED Integrated Ballast Lamp",null,88,null,"Electronic","Integrated Ballast LED, (1) 88W screw-in lamp/base, any bulb shape",88,"Integrated-ballast LED Lamps",9,"Y"]
["LED088.5-SCRW","LED Integrated Ballast Lamp",null,88.5,null,"Electronic","Integrated Ballast LED, (1) 88.5W screw-in lamp/base, any bulb shape",88.5,"Integrated-ballast LED Lamps",9,"Y"]
["LED089-SCRW","LED Integrated Ballast Lamp",null,89,null,"Electronic","Integrated Ballast LED, (1) 89W screw-in lamp/base, any bulb shape",89,"Integrated-ballast LED Lamps",9,"Y"]
["LED089.5-SCRW","LED Integrated Ballast Lamp",null,89.5,null,"Electronic","Integrated Ballast LED, (1) 89.5W screw-in lamp/base, any bulb shape",89.5,"Integrated-ballast LED Lamps",9,"Y"]
["LED090-SCRW","LED Integrated Ballast Lamp",null,90,null,"Electronic","Integrated Ballast LED, (1) 90W screw-in lamp/base, any bulb shape",90,"Integrated-ballast LED Lamps",9,"Y"]
["LED090.5-SCRW","LED Integrated Ballast Lamp",null,90.5,null,"Electronic","Integrated Ballast LED, (1) 90.5W screw-in lamp/base, any bulb shape",90.5,"Integrated-ballast LED Lamps",9,"Y"]
["LED091-SCRW","LED Integrated Ballast Lamp",null,91,null,"Electronic","Integrated Ballast LED, (1) 91W screw-in lamp/base, any bulb shape",91,"Integrated-ballast LED Lamps",9,"Y"]
["LED091.5-SCRW","LED Integrated Ballast Lamp",null,91.5,null,"Electronic","Integrated Ballast LED, (1) 91.5W screw-in lamp/base, any bulb shape",91.5,"Integrated-ballast LED Lamps",9,"Y"]
["LED092-SCRW","LED Integrated Ballast Lamp",null,92,null,"Electronic","Integrated Ballast LED, (1) 92W screw-in lamp/base, any bulb shape",92,"Integrated-ballast LED Lamps",9,"Y"]
["LED092.5-SCRW","LED Integrated Ballast Lamp",null,92.5,null,"Electronic","Integrated Ballast LED, (1) 92.5W screw-in lamp/base, any bulb shape",92.5,"Integrated-ballast LED Lamps",9,"Y"]
["LED093-SCRW","LED Integrated Ballast Lamp",null,93,null,"Electronic","Integrated Ballast LED, (1) 93W screw-in lamp/base, any bulb shape",93,"Integrated-ballast LED Lamps",9,"Y"]
["LED093.5-SCRW","LED Integrated Ballast Lamp",null,93.5,null,"Electronic","Integrated Ballast LED, (1) 93.5W screw-in lamp/base, any bulb shape",93.5,"Integrated-ballast LED Lamps",9,"Y"]
["LED094-SCRW","LED Integrated Ballast Lamp",null,94,null,"Electronic","Integrated Ballast LED, (1) 94W screw-in lamp/base, any bulb shape",94,"Integrated-ballast LED Lamps",9,"Y"]
["LED094.5-SCRW","LED Integrated Ballast Lamp",null,94.5,null,"Electronic","Integrated Ballast LED, (1) 94.5W screw-in lamp/base, any bulb shape",94.5,"Integrated-ballast LED Lamps",9,"Y"]
["LED095-SCRW","LED Integrated Ballast Lamp",null,95,null,"Electronic","Integrated Ballast LED, (1) 95W screw-in lamp/base, any bulb shape",95,"Integrated-ballast LED Lamps",9,"Y"]
["LED095.5-SCRW","LED Integrated Ballast Lamp",null,95.5,null,"Electronic","Integrated Ballast LED, (1) 95.5W screw-in lamp/base, any bulb shape",95.5,"Integrated-ballast LED Lamps",9,"Y"]
["LED096-SCRW","LED Integrated Ballast Lamp",null,96,null,"Electronic","Integrated Ballast LED, (1) 96W screw-in lamp/base, any bulb shape",96,"Integrated-ballast LED Lamps",9,"Y"]
["LED096.5-SCRW","LED Integrated Ballast Lamp",null,96.5,null,"Electronic","Integrated Ballast LED, (1) 96.5W screw-in lamp/base, any bulb shape",96.5,"Integrated-ballast LED Lamps",9,"Y"]
["LED097-SCRW","LED Integrated Ballast Lamp",null,97,null,"Electronic","Integrated Ballast LED, (1) 97W screw-in lamp/base, any bulb shape",97,"Integrated-ballast LED Lamps",9,"Y"]
["LED097.5-SCRW","LED Integrated Ballast Lamp",null,97.5,null,"Electronic","Integrated Ballast LED, (1) 97.5W screw-in lamp/base, any bulb shape",97.5,"Integrated-ballast LED Lamps",9,"Y"]
["LED098-SCRW","LED Integrated Ballast Lamp",null,98,null,"Electronic","Integrated Ballast LED, (1) 98W screw-in lamp/base, any bulb shape",98,"Integrated-ballast LED Lamps",9,"Y"]
["LED098.5-SCRW","LED Integrated Ballast Lamp",null,98.5,null,"Electronic","Integrated Ballast LED, (1) 98.5W screw-in lamp/base, any bulb shape",98.5,"Integrated-ballast LED Lamps",9,"Y"]
["LED099-SCRW","LED Integrated Ballast Lamp",null,99,null,"Electronic","Integrated Ballast LED, (1) 99W screw-in lamp/base, any bulb shape",99,"Integrated-ballast LED Lamps",9,"Y"]
["LED099.5-SCRW","LED Integrated Ballast Lamp",null,99.5,null,"Electronic","Integrated Ballast LED, (1) 99.5W screw-in lamp/base, any bulb shape",99.5,"Integrated-ballast LED Lamps",9,"Y"]
["LED100-SCRW","LED Integrated Ballast Lamp",null,100,null,"Electronic","Integrated Ballast LED, (1) 100W screw-in lamp/base, any bulb shape",100,"Integrated-ballast LED Lamps",9,"Y"]
["LED101-SCRW","LED Integrated Ballast Lamp",null,101,null,"Electronic","Integrated Ballast LED, (1) 101W screw-in lamp/base, any bulb shape",101,"Integrated-ballast LED Lamps",9,"Y"]
["LED102-SCRW","LED Integrated Ballast Lamp",null,102,null,"Electronic","Integrated Ballast LED, (1) 102W screw-in lamp/base, any bulb shape",102,"Integrated-ballast LED Lamps",9,"Y"]
["LED103-SCRW","LED Integrated Ballast Lamp",null,103,null,"Electronic","Integrated Ballast LED, (1) 103W screw-in lamp/base, any bulb shape",103,"Integrated-ballast LED Lamps",9,"Y"]
["LED104-SCRW","LED Integrated Ballast Lamp",null,104,null,"Electronic","Integrated Ballast LED, (1) 104W screw-in lamp/base, any bulb shape",104,"Integrated-ballast LED Lamps",9,"Y"]
["LED105-SCRW","LED Integrated Ballast Lamp",null,105,null,"Electronic","Integrated Ballast LED, (1) 105W screw-in lamp/base, any bulb shape",105,"Integrated-ballast LED Lamps",9,"Y"]
["LED106-SCRW","LED Integrated Ballast Lamp",null,106,null,"Electronic","Integrated Ballast LED, (1) 106W screw-in lamp/base, any bulb shape",106,"Integrated-ballast LED Lamps",9,"Y"]
["LED107-SCRW","LED Integrated Ballast Lamp",null,107,null,"Electronic","Integrated Ballast LED, (1) 107W screw-in lamp/base, any bulb shape",107,"Integrated-ballast LED Lamps",9,"Y"]
["LED108-SCRW","LED Integrated Ballast Lamp",null,108,null,"Electronic","Integrated Ballast LED, (1) 108W screw-in lamp/base, any bulb shape",108,"Integrated-ballast LED Lamps",9,"Y"]
["LED109-SCRW","LED Integrated Ballast Lamp",null,109,null,"Electronic","Integrated Ballast LED, (1) 109W screw-in lamp/base, any bulb shape",109,"Integrated-ballast LED Lamps",9,"Y"]
["LED110-SCRW","LED Integrated Ballast Lamp",null,110,null,"Electronic","Integrated Ballast LED, (1) 110W screw-in lamp/base, any bulb shape",110,"Integrated-ballast LED Lamps",9,"Y"]
["LED111-SCRW","LED Integrated Ballast Lamp",null,111,null,"Electronic","Integrated Ballast LED, (1) 111W screw-in lamp/base, any bulb shape",111,"Integrated-ballast LED Lamps",9,"Y"]
["LED112-SCRW","LED Integrated Ballast Lamp",null,112,null,"Electronic","Integrated Ballast LED, (1) 112W screw-in lamp/base, any bulb shape",112,"Integrated-ballast LED Lamps",9,"Y"]
["LED113-SCRW","LED Integrated Ballast Lamp",null,113,null,"Electronic","Integrated Ballast LED, (1) 113W screw-in lamp/base, any bulb shape",113,"Integrated-ballast LED Lamps",9,"Y"]
["LED114-SCRW","LED Integrated Ballast Lamp",null,114,null,"Electronic","Integrated Ballast LED, (1) 114W screw-in lamp/base, any bulb shape",114,"Integrated-ballast LED Lamps",9,"Y"]
["LED115-SCRW","LED Integrated Ballast Lamp",null,115,null,"Electronic","Integrated Ballast LED, (1) 115W screw-in lamp/base, any bulb shape",115,"Integrated-ballast LED Lamps",9,"Y"]
["LED116-SCRW","LED Integrated Ballast Lamp",null,116,null,"Electronic","Integrated Ballast LED, (1) 116W screw-in lamp/base, any bulb shape",116,"Integrated-ballast LED Lamps",9,"Y"]
["LED117-SCRW","LED Integrated Ballast Lamp",null,117,null,"Electronic","Integrated Ballast LED, (1) 117W screw-in lamp/base, any bulb shape",117,"Integrated-ballast LED Lamps",9,"Y"]
["LED118-SCRW","LED Integrated Ballast Lamp",null,118,null,"Electronic","Integrated Ballast LED, (1) 118W screw-in lamp/base, any bulb shape",118,"Integrated-ballast LED Lamps",9,"Y"]
["LED119-SCRW","LED Integrated Ballast Lamp",null,119,null,"Electronic","Integrated Ballast LED, (1) 119W screw-in lamp/base, any bulb shape",119,"Integrated-ballast LED Lamps",9,"Y"]
["LED120-SCRW","LED Integrated Ballast Lamp",null,120,null,"Electronic","Integrated Ballast LED, (1) 120W screw-in lamp/base, any bulb shape",120,"Integrated-ballast LED Lamps",9,"Y"]
["LED121-SCRW","LED Integrated Ballast Lamp",null,121,null,"Electronic","Integrated Ballast LED, (1) 121W screw-in lamp/base, any bulb shape",121,"Integrated-ballast LED Lamps",9,"Y"]
["LED122-SCRW","LED Integrated Ballast Lamp",null,122,null,"Electronic","Integrated Ballast LED, (1) 122W screw-in lamp/base, any bulb shape",122,"Integrated-ballast LED Lamps",9,"Y"]
["LED123-SCRW","LED Integrated Ballast Lamp",null,123,null,"Electronic","Integrated Ballast LED, (1) 123W screw-in lamp/base, any bulb shape",123,"Integrated-ballast LED Lamps",9,"Y"]
["LED124-SCRW","LED Integrated Ballast Lamp",null,124,null,"Electronic","Integrated Ballast LED, (1) 124W screw-in lamp/base, any bulb shape",124,"Integrated-ballast LED Lamps",9,"Y"]
["LED125-SCRW","LED Integrated Ballast Lamp",null,125,null,"Electronic","Integrated Ballast LED, (1) 125W screw-in lamp/base, any bulb shape",125,"Integrated-ballast LED Lamps",9,"Y"]
["LED126-SCRW","LED Integrated Ballast Lamp",null,126,null,"Electronic","Integrated Ballast LED, (1) 126W screw-in lamp/base, any bulb shape",126,"Integrated-ballast LED Lamps",9,"Y"]
["LED127-SCRW","LED Integrated Ballast Lamp",null,127,null,"Electronic","Integrated Ballast LED, (1) 127W screw-in lamp/base, any bulb shape",127,"Integrated-ballast LED Lamps",9,"Y"]
["LED128-SCRW","LED Integrated Ballast Lamp",null,128,null,"Electronic","Integrated Ballast LED, (1) 128W screw-in lamp/base, any bulb shape",128,"Integrated-ballast LED Lamps",9,"Y"]
["LED129-SCRW","LED Integrated Ballast Lamp",null,129,null,"Electronic","Integrated Ballast LED, (1) 129W screw-in lamp/base, any bulb shape",129,"Integrated-ballast LED Lamps",9,"Y"]
["LED130-SCRW","LED Integrated Ballast Lamp",null,130,null,"Electronic","Integrated Ballast LED, (1) 130W screw-in lamp/base, any bulb shape",130,"Integrated-ballast LED Lamps",9,"Y"]
["LED131-SCRW","LED Integrated Ballast Lamp",null,131,null,"Electronic","Integrated Ballast LED, (1) 131W screw-in lamp/base, any bulb shape",131,"Integrated-ballast LED Lamps",9,"Y"]
["LED132-SCRW","LED Integrated Ballast Lamp",null,132,null,"Electronic","Integrated Ballast LED, (1) 132W screw-in lamp/base, any bulb shape",132,"Integrated-ballast LED Lamps",9,"Y"]
["LED133-SCRW","LED Integrated Ballast Lamp",null,133,null,"Electronic","Integrated Ballast LED, (1) 133W screw-in lamp/base, any bulb shape",133,"Integrated-ballast LED Lamps",9,"Y"]
["LED134-SCRW","LED Integrated Ballast Lamp",null,134,null,"Electronic","Integrated Ballast LED, (1) 134W screw-in lamp/base, any bulb shape",134,"Integrated-ballast LED Lamps",9,"Y"]
["LED135-SCRW","LED Integrated Ballast Lamp",null,135,null,"Electronic","Integrated Ballast LED, (1) 135W screw-in lamp/base, any bulb shape",135,"Integrated-ballast LED Lamps",9,"Y"]
["LED136-SCRW","LED Integrated Ballast Lamp",null,136,null,"Electronic","Integrated Ballast LED, (1) 136W screw-in lamp/base, any bulb shape",136,"Integrated-ballast LED Lamps",9,"Y"]
["LED137-SCRW","LED Integrated Ballast Lamp",null,137,null,"Electronic","Integrated Ballast LED, (1) 137W screw-in lamp/base, any bulb shape",137,"Integrated-ballast LED Lamps",9,"Y"]
["LED138-SCRW","LED Integrated Ballast Lamp",null,138,null,"Electronic","Integrated Ballast LED, (1) 138W screw-in lamp/base, any bulb shape",138,"Integrated-ballast LED Lamps",9,"Y"]
["LED139-SCRW","LED Integrated Ballast Lamp",null,139,null,"Electronic","Integrated Ballast LED, (1) 139W screw-in lamp/base, any bulb shape",139,"Integrated-ballast LED Lamps",9,"Y"]
["LED140-SCRW","LED Integrated Ballast Lamp",null,140,null,"Electronic","Integrated Ballast LED, (1) 140W screw-in lamp/base, any bulb shape",140,"Integrated-ballast LED Lamps",9,"Y"]
["LED141-SCRW","LED Integrated Ballast Lamp",null,141,null,"Electronic","Integrated Ballast LED, (1) 141W screw-in lamp/base, any bulb shape",141,"Integrated-ballast LED Lamps",9,"Y"]
["LED142-SCRW","LED Integrated Ballast Lamp",null,142,null,"Electronic","Integrated Ballast LED, (1) 142W screw-in lamp/base, any bulb shape",142,"Integrated-ballast LED Lamps",9,"Y"]
["LED143-SCRW","LED Integrated Ballast Lamp",null,143,null,"Electronic","Integrated Ballast LED, (1) 143W screw-in lamp/base, any bulb shape",143,"Integrated-ballast LED Lamps",9,"Y"]
["LED144-SCRW","LED Integrated Ballast Lamp",null,144,null,"Electronic","Integrated Ballast LED, (1) 144W screw-in lamp/base, any bulb shape",144,"Integrated-ballast LED Lamps",9,"Y"]
["LED145-SCRW","LED Integrated Ballast Lamp",null,145,null,"Electronic","Integrated Ballast LED, (1) 145W screw-in lamp/base, any bulb shape",145,"Integrated-ballast LED Lamps",9,"Y"]
["LED146-SCRW","LED Integrated Ballast Lamp",null,146,null,"Electronic","Integrated Ballast LED, (1) 146W screw-in lamp/base, any bulb shape",146,"Integrated-ballast LED Lamps",9,"Y"]
["LED147-SCRW","LED Integrated Ballast Lamp",null,147,null,"Electronic","Integrated Ballast LED, (1) 147W screw-in lamp/base, any bulb shape",147,"Integrated-ballast LED Lamps",9,"Y"]
["LED148-SCRW","LED Integrated Ballast Lamp",null,148,null,"Electronic","Integrated Ballast LED, (1) 148W screw-in lamp/base, any bulb shape",148,"Integrated-ballast LED Lamps",9,"Y"]
["LED149-SCRW","LED Integrated Ballast Lamp",null,149,null,"Electronic","Integrated Ballast LED, (1) 149W screw-in lamp/base, any bulb shape",149,"Integrated-ballast LED Lamps",9,"Y"]
["LED150-SCRW","LED Integrated Ballast Lamp",null,150,null,"Electronic","Integrated Ballast LED, (1) 150W screw-in lamp/base, any bulb shape",150,"Integrated-ballast LED Lamps",9,"Y"]
["LED151-SCRW","LED Integrated Ballast Lamp",null,151,null,"Electronic","Integrated Ballast LED, (1) 151W screw-in lamp/base, any bulb shape",151,"Integrated-ballast LED Lamps",9,"Y"]
["LED152-SCRW","LED Integrated Ballast Lamp",null,152,null,"Electronic","Integrated Ballast LED, (1) 152W screw-in lamp/base, any bulb shape",152,"Integrated-ballast LED Lamps",9,"Y"]
["LED153-SCRW","LED Integrated Ballast Lamp",null,153,null,"Electronic","Integrated Ballast LED, (1) 153W screw-in lamp/base, any bulb shape",153,"Integrated-ballast LED Lamps",9,"Y"]
["LED154-SCRW","LED Integrated Ballast Lamp",null,154,null,"Electronic","Integrated Ballast LED, (1) 154W screw-in lamp/base, any bulb shape",154,"Integrated-ballast LED Lamps",9,"Y"]
["LED155-SCRW","LED Integrated Ballast Lamp",null,155,null,"Electronic","Integrated Ballast LED, (1) 155W screw-in lamp/base, any bulb shape",155,"Integrated-ballast LED Lamps",9,"Y"]
["LED156-SCRW","LED Integrated Ballast Lamp",null,156,null,"Electronic","Integrated Ballast LED, (1) 156W screw-in lamp/base, any bulb shape",156,"Integrated-ballast LED Lamps",9,"Y"]
["LED157-SCRW","LED Integrated Ballast Lamp",null,157,null,"Electronic","Integrated Ballast LED, (1) 157W screw-in lamp/base, any bulb shape",157,"Integrated-ballast LED Lamps",9,"Y"]
["LED158-SCRW","LED Integrated Ballast Lamp",null,158,null,"Electronic","Integrated Ballast LED, (1) 158W screw-in lamp/base, any bulb shape",158,"Integrated-ballast LED Lamps",9,"Y"]
["LED159-SCRW","LED Integrated Ballast Lamp",null,159,null,"Electronic","Integrated Ballast LED, (1) 159W screw-in lamp/base, any bulb shape",159,"Integrated-ballast LED Lamps",9,"Y"]
["LED160-SCRW","LED Integrated Ballast Lamp",null,160,null,"Electronic","Integrated Ballast LED, (1) 160W screw-in lamp/base, any bulb shape",160,"Integrated-ballast LED Lamps",9,"Y"]
["LED161-SCRW","LED Integrated Ballast Lamp",null,161,null,"Electronic","Integrated Ballast LED, (1) 161W screw-in lamp/base, any bulb shape",161,"Integrated-ballast LED Lamps",9,"Y"]
["LED162-SCRW","LED Integrated Ballast Lamp",null,162,null,"Electronic","Integrated Ballast LED, (1) 162W screw-in lamp/base, any bulb shape",162,"Integrated-ballast LED Lamps",9,"Y"]
["LED163-SCRW","LED Integrated Ballast Lamp",null,163,null,"Electronic","Integrated Ballast LED, (1) 163W screw-in lamp/base, any bulb shape",163,"Integrated-ballast LED Lamps",9,"Y"]
["LED164-SCRW","LED Integrated Ballast Lamp",null,164,null,"Electronic","Integrated Ballast LED, (1) 164W screw-in lamp/base, any bulb shape",164,"Integrated-ballast LED Lamps",9,"Y"]
["LED165-SCRW","LED Integrated Ballast Lamp",null,165,null,"Electronic","Integrated Ballast LED, (1) 165W screw-in lamp/base, any bulb shape",165,"Integrated-ballast LED Lamps",9,"Y"]
["LED166-SCRW","LED Integrated Ballast Lamp",null,166,null,"Electronic","Integrated Ballast LED, (1) 166W screw-in lamp/base, any bulb shape",166,"Integrated-ballast LED Lamps",9,"Y"]
["LED167-SCRW","LED Integrated Ballast Lamp",null,167,null,"Electronic","Integrated Ballast LED, (1) 167W screw-in lamp/base, any bulb shape",167,"Integrated-ballast LED Lamps",9,"Y"]
["LED168-SCRW","LED Integrated Ballast Lamp",null,168,null,"Electronic","Integrated Ballast LED, (1) 168W screw-in lamp/base, any bulb shape",168,"Integrated-ballast LED Lamps",9,"Y"]
["LED169-SCRW","LED Integrated Ballast Lamp",null,169,null,"Electronic","Integrated Ballast LED, (1) 169W screw-in lamp/base, any bulb shape",169,"Integrated-ballast LED Lamps",9,"Y"]
["LED170-SCRW","LED Integrated Ballast Lamp",null,170,null,"Electronic","Integrated Ballast LED, (1) 170W screw-in lamp/base, any bulb shape",170,"Integrated-ballast LED Lamps",9,"Y"]
["LED171-SCRW","LED Integrated Ballast Lamp",null,171,null,"Electronic","Integrated Ballast LED, (1) 171W screw-in lamp/base, any bulb shape",171,"Integrated-ballast LED Lamps",9,"Y"]
["LED172-SCRW","LED Integrated Ballast Lamp",null,172,null,"Electronic","Integrated Ballast LED, (1) 172W screw-in lamp/base, any bulb shape",172,"Integrated-ballast LED Lamps",9,"Y"]
["LED173-SCRW","LED Integrated Ballast Lamp",null,173,null,"Electronic","Integrated Ballast LED, (1) 173W screw-in lamp/base, any bulb shape",173,"Integrated-ballast LED Lamps",9,"Y"]
["LED174-SCRW","LED Integrated Ballast Lamp",null,174,null,"Electronic","Integrated Ballast LED, (1) 174W screw-in lamp/base, any bulb shape",174,"Integrated-ballast LED Lamps",9,"Y"]
["LED175-SCRW","LED Integrated Ballast Lamp",null,175,null,"Electronic","Integrated Ballast LED, (1) 175W screw-in lamp/base, any bulb shape",175,"Integrated-ballast LED Lamps",9,"Y"]
["LED176-SCRW","LED Integrated Ballast Lamp",null,176,null,"Electronic","Integrated Ballast LED, (1) 176W screw-in lamp/base, any bulb shape",176,"Integrated-ballast LED Lamps",9,"Y"]
["LED177-SCRW","LED Integrated Ballast Lamp",null,177,null,"Electronic","Integrated Ballast LED, (1) 177W screw-in lamp/base, any bulb shape",177,"Integrated-ballast LED Lamps",9,"Y"]
["LED178-SCRW","LED Integrated Ballast Lamp",null,178,null,"Electronic","Integrated Ballast LED, (1) 178W screw-in lamp/base, any bulb shape",178,"Integrated-ballast LED Lamps",9,"Y"]
["LED179-SCRW","LED Integrated Ballast Lamp",null,179,null,"Electronic","Integrated Ballast LED, (1) 179W screw-in lamp/base, any bulb shape",179,"Integrated-ballast LED Lamps",9,"Y"]
["LED180-SCRW","LED Integrated Ballast Lamp",null,180,null,"Electronic","Integrated Ballast LED, (1) 180W screw-in lamp/base, any bulb shape",180,"Integrated-ballast LED Lamps",9,"Y"]
["LED181-SCRW","LED Integrated Ballast Lamp",null,181,null,"Electronic","Integrated Ballast LED, (1) 181W screw-in lamp/base, any bulb shape",181,"Integrated-ballast LED Lamps",9,"Y"]
["LED182-SCRW","LED Integrated Ballast Lamp",null,182,null,"Electronic","Integrated Ballast LED, (1) 182W screw-in lamp/base, any bulb shape",182,"Integrated-ballast LED Lamps",9,"Y"]
["LED183-SCRW","LED Integrated Ballast Lamp",null,183,null,"Electronic","Integrated Ballast LED, (1) 183W screw-in lamp/base, any bulb shape",183,"Integrated-ballast LED Lamps",9,"Y"]
["LED184-SCRW","LED Integrated Ballast Lamp",null,184,null,"Electronic","Integrated Ballast LED, (1) 184W screw-in lamp/base, any bulb shape",184,"Integrated-ballast LED Lamps",9,"Y"]
["LED185-SCRW","LED Integrated Ballast Lamp",null,185,null,"Electronic","Integrated Ballast LED, (1) 185W screw-in lamp/base, any bulb shape",185,"Integrated-ballast LED Lamps",9,"Y"]
["LED186-SCRW","LED Integrated Ballast Lamp",null,186,null,"Electronic","Integrated Ballast LED, (1) 186W screw-in lamp/base, any bulb shape",186,"Integrated-ballast LED Lamps",9,"Y"]
["LED187-SCRW","LED Integrated Ballast Lamp",null,187,null,"Electronic","Integrated Ballast LED, (1) 187W screw-in lamp/base, any bulb shape",187,"Integrated-ballast LED Lamps",9,"Y"]
["LED188-SCRW","LED Integrated Ballast Lamp",null,188,null,"Electronic","Integrated Ballast LED, (1) 188W screw-in lamp/base, any bulb shape",188,"Integrated-ballast LED Lamps",9,"Y"]
["LED189-SCRW","LED Integrated Ballast Lamp",null,189,null,"Electronic","Integrated Ballast LED, (1) 189W screw-in lamp/base, any bulb shape",189,"Integrated-ballast LED Lamps",9,"Y"]
["LED190-SCRW","LED Integrated Ballast Lamp",null,190,null,"Electronic","Integrated Ballast LED, (1) 190W screw-in lamp/base, any bulb shape",190,"Integrated-ballast LED Lamps",9,"Y"]
["LED191-SCRW","LED Integrated Ballast Lamp",null,191,null,"Electronic","Integrated Ballast LED, (1) 191W screw-in lamp/base, any bulb shape",191,"Integrated-ballast LED Lamps",9,"Y"]
["LED192-SCRW","LED Integrated Ballast Lamp",null,192,null,"Electronic","Integrated Ballast LED, (1) 192W screw-in lamp/base, any bulb shape",192,"Integrated-ballast LED Lamps",9,"Y"]
["LED193-SCRW","LED Integrated Ballast Lamp",null,193,null,"Electronic","Integrated Ballast LED, (1) 193W screw-in lamp/base, any bulb shape",193,"Integrated-ballast LED Lamps",9,"Y"]
["LED194-SCRW","LED Integrated Ballast Lamp",null,194,null,"Electronic","Integrated Ballast LED, (1) 194W screw-in lamp/base, any bulb shape",194,"Integrated-ballast LED Lamps",9,"Y"]
["LED195-SCRW","LED Integrated Ballast Lamp",null,195,null,"Electronic","Integrated Ballast LED, (1) 195W screw-in lamp/base, any bulb shape",195,"Integrated-ballast LED Lamps",9,"Y"]
["LED196-SCRW","LED Integrated Ballast Lamp",null,196,null,"Electronic","Integrated Ballast LED, (1) 196W screw-in lamp/base, any bulb shape",196,"Integrated-ballast LED Lamps",9,"Y"]
["LED197-SCRW","LED Integrated Ballast Lamp",null,197,null,"Electronic","Integrated Ballast LED, (1) 197W screw-in lamp/base, any bulb shape",197,"Integrated-ballast LED Lamps",9,"Y"]
["LED198-SCRW","LED Integrated Ballast Lamp",null,198,null,"Electronic","Integrated Ballast LED, (1) 198W screw-in lamp/base, any bulb shape",198,"Integrated-ballast LED Lamps",9,"Y"]
["LED199-SCRW","LED Integrated Ballast Lamp",null,199,null,"Electronic","Integrated Ballast LED, (1) 199W screw-in lamp/base, any bulb shape",199,"Integrated-ballast LED Lamps",9,"Y"]
["LED200-SCRW","LED Integrated Ballast Lamp",null,200,null,"Electronic","Integrated Ballast LED, (1) 200W screw-in lamp/base, any bulb shape",200,"Integrated-ballast LED Lamps",9,"Y"]
["LED201-SCRW","LED Integrated Ballast Lamp",null,201,null,"Electronic","Integrated Ballast LED, (1) 201W screw-in lamp/base, any bulb shape",201,"Integrated-ballast LED Lamps",9,"Y"]
["LED202-SCRW","LED Integrated Ballast Lamp",null,202,null,"Electronic","Integrated Ballast LED, (1) 202W screw-in lamp/base, any bulb shape",202,"Integrated-ballast LED Lamps",9,"Y"]
["LED203-SCRW","LED Integrated Ballast Lamp",null,203,null,"Electronic","Integrated Ballast LED, (1) 203W screw-in lamp/base, any bulb shape",203,"Integrated-ballast LED Lamps",9,"Y"]
["LED204-SCRW","LED Integrated Ballast Lamp",null,204,null,"Electronic","Integrated Ballast LED, (1) 204W screw-in lamp/base, any bulb shape",204,"Integrated-ballast LED Lamps",9,"Y"]
["LED205-SCRW","LED Integrated Ballast Lamp",null,205,null,"Electronic","Integrated Ballast LED, (1) 205W screw-in lamp/base, any bulb shape",205,"Integrated-ballast LED Lamps",9,"Y"]
["LED206-SCRW","LED Integrated Ballast Lamp",null,206,null,"Electronic","Integrated Ballast LED, (1) 206W screw-in lamp/base, any bulb shape",206,"Integrated-ballast LED Lamps",9,"Y"]
["LED207-SCRW","LED Integrated Ballast Lamp",null,207,null,"Electronic","Integrated Ballast LED, (1) 207W screw-in lamp/base, any bulb shape",207,"Integrated-ballast LED Lamps",9,"Y"]
["LED208-SCRW","LED Integrated Ballast Lamp",null,208,null,"Electronic","Integrated Ballast LED, (1) 208W screw-in lamp/base, any bulb shape",208,"Integrated-ballast LED Lamps",9,"Y"]
["LED209-SCRW","LED Integrated Ballast Lamp",null,209,null,"Electronic","Integrated Ballast LED, (1) 209W screw-in lamp/base, any bulb shape",209,"Integrated-ballast LED Lamps",9,"Y"]
["LED210-SCRW","LED Integrated Ballast Lamp",null,210,null,"Electronic","Integrated Ballast LED, (1) 210W screw-in lamp/base, any bulb shape",210,"Integrated-ballast LED Lamps",9,"Y"]
["LED211-SCRW","LED Integrated Ballast Lamp",null,211,null,"Electronic","Integrated Ballast LED, (1) 211W screw-in lamp/base, any bulb shape",211,"Integrated-ballast LED Lamps",9,"Y"]
["LED212-SCRW","LED Integrated Ballast Lamp",null,212,null,"Electronic","Integrated Ballast LED, (1) 212W screw-in lamp/base, any bulb shape",212,"Integrated-ballast LED Lamps",9,"Y"]
["LED213-SCRW","LED Integrated Ballast Lamp",null,213,null,"Electronic","Integrated Ballast LED, (1) 213W screw-in lamp/base, any bulb shape",213,"Integrated-ballast LED Lamps",9,"Y"]
["LED214-SCRW","LED Integrated Ballast Lamp",null,214,null,"Electronic","Integrated Ballast LED, (1) 214W screw-in lamp/base, any bulb shape",214,"Integrated-ballast LED Lamps",9,"Y"]
["LED215-SCRW","LED Integrated Ballast Lamp",null,215,null,"Electronic","Integrated Ballast LED, (1) 215W screw-in lamp/base, any bulb shape",215,"Integrated-ballast LED Lamps",9,"Y"]
["LED216-SCRW","LED Integrated Ballast Lamp",null,216,null,"Electronic","Integrated Ballast LED, (1) 216W screw-in lamp/base, any bulb shape",216,"Integrated-ballast LED Lamps",9,"Y"]
["LED217-SCRW","LED Integrated Ballast Lamp",null,217,null,"Electronic","Integrated Ballast LED, (1) 217W screw-in lamp/base, any bulb shape",217,"Integrated-ballast LED Lamps",9,"Y"]
["LED218-SCRW","LED Integrated Ballast Lamp",null,218,null,"Electronic","Integrated Ballast LED, (1) 218W screw-in lamp/base, any bulb shape",218,"Integrated-ballast LED Lamps",9,"Y"]
["LED219-SCRW","LED Integrated Ballast Lamp",null,219,null,"Electronic","Integrated Ballast LED, (1) 219W screw-in lamp/base, any bulb shape",219,"Integrated-ballast LED Lamps",9,"Y"]
["LED220-SCRW","LED Integrated Ballast Lamp",null,220,null,"Electronic","Integrated Ballast LED, (1) 220W screw-in lamp/base, any bulb shape",220,"Integrated-ballast LED Lamps",9,"Y"]
["LED221-SCRW","LED Integrated Ballast Lamp",null,221,null,"Electronic","Integrated Ballast LED, (1) 221W screw-in lamp/base, any bulb shape",221,"Integrated-ballast LED Lamps",9,"Y"]
["LED222-SCRW","LED Integrated Ballast Lamp",null,222,null,"Electronic","Integrated Ballast LED, (1) 222W screw-in lamp/base, any bulb shape",222,"Integrated-ballast LED Lamps",9,"Y"]
["LED223-SCRW","LED Integrated Ballast Lamp",null,223,null,"Electronic","Integrated Ballast LED, (1) 223W screw-in lamp/base, any bulb shape",223,"Integrated-ballast LED Lamps",9,"Y"]
["LED224-SCRW","LED Integrated Ballast Lamp",null,224,null,"Electronic","Integrated Ballast LED, (1) 224W screw-in lamp/base, any bulb shape",224,"Integrated-ballast LED Lamps",9,"Y"]
["LED225-SCRW","LED Integrated Ballast Lamp",null,225,null,"Electronic","Integrated Ballast LED, (1) 225W screw-in lamp/base, any bulb shape",225,"Integrated-ballast LED Lamps",9,"Y"]
["LED226-SCRW","LED Integrated Ballast Lamp",null,226,null,"Electronic","Integrated Ballast LED, (1) 226W screw-in lamp/base, any bulb shape",226,"Integrated-ballast LED Lamps",9,"Y"]
["LED227-SCRW","LED Integrated Ballast Lamp",null,227,null,"Electronic","Integrated Ballast LED, (1) 227W screw-in lamp/base, any bulb shape",227,"Integrated-ballast LED Lamps",9,"Y"]
["LED228-SCRW","LED Integrated Ballast Lamp",null,228,null,"Electronic","Integrated Ballast LED, (1) 228W screw-in lamp/base, any bulb shape",228,"Integrated-ballast LED Lamps",9,"Y"]
["LED229-SCRW","LED Integrated Ballast Lamp",null,229,null,"Electronic","Integrated Ballast LED, (1) 229W screw-in lamp/base, any bulb shape",229,"Integrated-ballast LED Lamps",9,"Y"]
["LED230-SCRW","LED Integrated Ballast Lamp",null,230,null,"Electronic","Integrated Ballast LED, (1) 230W screw-in lamp/base, any bulb shape",230,"Integrated-ballast LED Lamps",9,"Y"]
["LED231-SCRW","LED Integrated Ballast Lamp",null,231,null,"Electronic","Integrated Ballast LED, (1) 231W screw-in lamp/base, any bulb shape",231,"Integrated-ballast LED Lamps",9,"Y"]
["LED232-SCRW","LED Integrated Ballast Lamp",null,232,null,"Electronic","Integrated Ballast LED, (1) 232W screw-in lamp/base, any bulb shape",232,"Integrated-ballast LED Lamps",9,"Y"]
["LED233-SCRW","LED Integrated Ballast Lamp",null,233,null,"Electronic","Integrated Ballast LED, (1) 233W screw-in lamp/base, any bulb shape",233,"Integrated-ballast LED Lamps",9,"Y"]
["LED234-SCRW","LED Integrated Ballast Lamp",null,234,null,"Electronic","Integrated Ballast LED, (1) 234W screw-in lamp/base, any bulb shape",234,"Integrated-ballast LED Lamps",9,"Y"]
["LED235-SCRW","LED Integrated Ballast Lamp",null,235,null,"Electronic","Integrated Ballast LED, (1) 235W screw-in lamp/base, any bulb shape",235,"Integrated-ballast LED Lamps",9,"Y"]
["LED236-SCRW","LED Integrated Ballast Lamp",null,236,null,"Electronic","Integrated Ballast LED, (1) 236W screw-in lamp/base, any bulb shape",236,"Integrated-ballast LED Lamps",9,"Y"]
["LED237-SCRW","LED Integrated Ballast Lamp",null,237,null,"Electronic","Integrated Ballast LED, (1) 237W screw-in lamp/base, any bulb shape",237,"Integrated-ballast LED Lamps",9,"Y"]
["LED238-SCRW","LED Integrated Ballast Lamp",null,238,null,"Electronic","Integrated Ballast LED, (1) 238W screw-in lamp/base, any bulb shape",238,"Integrated-ballast LED Lamps",9,"Y"]
["LED239-SCRW","LED Integrated Ballast Lamp",null,239,null,"Electronic","Integrated Ballast LED, (1) 239W screw-in lamp/base, any bulb shape",239,"Integrated-ballast LED Lamps",9,"Y"]
["LED240-SCRW","LED Integrated Ballast Lamp",null,240,null,"Electronic","Integrated Ballast LED, (1) 240W screw-in lamp/base, any bulb shape",240,"Integrated-ballast LED Lamps",9,"Y"]
["LED241-SCRW","LED Integrated Ballast Lamp",null,241,null,"Electronic","Integrated Ballast LED, (1) 241W screw-in lamp/base, any bulb shape",241,"Integrated-ballast LED Lamps",9,"Y"]
["LED242-SCRW","LED Integrated Ballast Lamp",null,242,null,"Electronic","Integrated Ballast LED, (1) 242W screw-in lamp/base, any bulb shape",242,"Integrated-ballast LED Lamps",9,"Y"]
["LED243-SCRW","LED Integrated Ballast Lamp",null,243,null,"Electronic","Integrated Ballast LED, (1) 243W screw-in lamp/base, any bulb shape",243,"Integrated-ballast LED Lamps",9,"Y"]
["LED244-SCRW","LED Integrated Ballast Lamp",null,244,null,"Electronic","Integrated Ballast LED, (1) 244W screw-in lamp/base, any bulb shape",244,"Integrated-ballast LED Lamps",9,"Y"]
["LED245-SCRW","LED Integrated Ballast Lamp",null,245,null,"Electronic","Integrated Ballast LED, (1) 245W screw-in lamp/base, any bulb shape",245,"Integrated-ballast LED Lamps",9,"Y"]
["LED246-SCRW","LED Integrated Ballast Lamp",null,246,null,"Electronic","Integrated Ballast LED, (1) 246W screw-in lamp/base, any bulb shape",246,"Integrated-ballast LED Lamps",9,"Y"]
["LED247-SCRW","LED Integrated Ballast Lamp",null,247,null,"Electronic","Integrated Ballast LED, (1) 247W screw-in lamp/base, any bulb shape",247,"Integrated-ballast LED Lamps",9,"Y"]
["LED248-SCRW","LED Integrated Ballast Lamp",null,248,null,"Electronic","Integrated Ballast LED, (1) 248W screw-in lamp/base, any bulb shape",248,"Integrated-ballast LED Lamps",9,"Y"]
["LED249-SCRW","LED Integrated Ballast Lamp",null,249,null,"Electronic","Integrated Ballast LED, (1) 249W screw-in lamp/base, any bulb shape",249,"Integrated-ballast LED Lamps",9,"Y"]
["LED250-SCRW","LED Integrated Ballast Lamp",null,250,null,"Electronic","Integrated Ballast LED, (1) 250W screw-in lamp/base, any bulb shape",250,"Integrated-ballast LED Lamps",9,"Y"]
["LED001-TUBE","LED Replacement Tube",null,1,null,"Electronic","Non-Integrated Ballast LED, 1W, linear tube, any application",1,"LED Replacement Tubes",15,"Y"]
["LED001.5-TUBE","LED Replacement Tube",null,1.5,null,"Electronic","Non-Integrated Ballast LED, 1.5W, linear tube, any application",1.5,"LED Replacement Tubes",15,"Y"]
["LED002-TUBE","LED Replacement Tube",null,2,null,"Electronic","Non-Integrated Ballast LED, 2W, linear tube, any application",2,"LED Replacement Tubes",15,"Y"]
["LED002.5-TUBE","LED Replacement Tube",null,2.5,null,"Electronic","Non-Integrated Ballast LED, 2.5W, linear tube, any application",2.5,"LED Replacement Tubes",15,"Y"]
["LED003-TUBE","LED Replacement Tube",null,3,null,"Electronic","Non-Integrated Ballast LED, 3W, linear tube, any application",3,"LED Replacement Tubes",15,"Y"]
["LED003.5-TUBE","LED Replacement Tube",null,3.5,null,"Electronic","Non-Integrated Ballast LED, 3.5W, linear tube, any application",3.5,"LED Replacement Tubes",15,"Y"]
["LED004-TUBE","LED Replacement Tube",null,4,null,"Electronic","Non-Integrated Ballast LED, 4W, linear tube, any application",4,"LED Replacement Tubes",15,"Y"]
["LED004.5-TUBE","LED Replacement Tube",null,4.5,null,"Electronic","Non-Integrated Ballast LED, 4.5W, linear tube, any application",4.5,"LED Replacement Tubes",15,"Y"]
["LED005-TUBE","LED Replacement Tube",null,5,null,"Electronic","Non-Integrated Ballast LED, 5W, linear tube, any application",5,"LED Replacement Tubes",15,"Y"]
["LED005.5-TUBE","LED Replacement Tube",null,5.5,null,"Electronic","Non-Integrated Ballast LED, 5.5W, linear tube, any application",5.5,"LED Replacement Tubes",15,"Y"]
["LED006-TUBE","LED Replacement Tube",null,6,null,"Electronic","Non-Integrated Ballast LED, 6W, linear tube, any application",6,"LED Replacement Tubes",15,"Y"]
["LED006.5-TUBE","LED Replacement Tube",null,6.5,null,"Electronic","Non-Integrated Ballast LED, 6.5W, linear tube, any application",6.5,"LED Replacement Tubes",15,"Y"]
["LED007-TUBE","LED Replacement Tube",null,7,null,"Electronic","Non-Integrated Ballast LED, 7W, linear tube, any application",7,"LED Replacement Tubes",15,"Y"]
["LED007.5-TUBE","LED Replacement Tube",null,7.5,null,"Electronic","Non-Integrated Ballast LED, 7.5W, linear tube, any application",7.5,"LED Replacement Tubes",15,"Y"]
["LED008-TUBE","LED Replacement Tube",null,8,null,"Electronic","Non-Integrated Ballast LED, 8W, linear tube, any application",8,"LED Replacement Tubes",15,"Y"]
["LED008.5-TUBE","LED Replacement Tube",null,8.5,null,"Electronic","Non-Integrated Ballast LED, 8.5W, linear tube, any application",8.5,"LED Replacement Tubes",15,"Y"]
["LED009-TUBE","LED Replacement Tube",null,9,null,"Electronic","Non-Integrated Ballast LED, 9W, linear tube, any application",9,"LED Replacement Tubes",15,"Y"]
["LED009.5-TUBE","LED Replacement Tube",null,9.5,null,"Electronic","Non-Integrated Ballast LED, 9.5W, linear tube, any application",9.5,"LED Replacement Tubes",15,"Y"]
["LED010-TUBE","LED Replacement Tube",null,10,null,"Electronic","Non-Integrated Ballast LED, 10W, linear tube, any application",10,"LED Replacement Tubes",15,"Y"]
["LED010.5-TUBE","LED Replacement Tube",null,10.5,null,"Electronic","Non-Integrated Ballast LED, 10.5W, linear tube, any application",10.5,"LED Replacement Tubes",15,"Y"]
["LED011-TUBE","LED Replacement Tube",null,11,null,"Electronic","Non-Integrated Ballast LED, 11W, linear tube, any application",11,"LED Replacement Tubes",15,"Y"]
["LED011.5-TUBE","LED Replacement Tube",null,11.5,null,"Electronic","Non-Integrated Ballast LED, 11.5W, linear tube, any application",11.5,"LED Replacement Tubes",15,"Y"]
["LED012-TUBE","LED Replacement Tube",null,12,null,"Electronic","Non-Integrated Ballast LED, 12W, linear tube, any application",12,"LED Replacement Tubes",15,"Y"]
["LED012.5-TUBE","LED Replacement Tube",null,12.5,null,"Electronic","Non-Integrated Ballast LED, 12.5W, linear tube, any application",12.5,"LED Replacement Tubes",15,"Y"]
["LED013-TUBE","LED Replacement Tube",null,13,null,"Electronic","Non-Integrated Ballast LED, 13W, linear tube, any application",13,"LED Replacement Tubes",15,"Y"]
["LED013.5-TUBE","LED Replacement Tube",null,13.5,null,"Electronic","Non-Integrated Ballast LED, 13.5W, linear tube, any application",13.5,"LED Replacement Tubes",15,"Y"]
["LED014-TUBE","LED Replacement Tube",null,14,null,"Electronic","Non-Integrated Ballast LED, 14W, linear tube, any application",14,"LED Replacement Tubes",15,"Y"]
["LED014.5-TUBE","LED Replacement Tube",null,14.5,null,"Electronic","Non-Integrated Ballast LED, 14.5W, linear tube, any application",14.5,"LED Replacement Tubes",15,"Y"]
["LED015-TUBE","LED Replacement Tube",null,15,null,"Electronic","Non-Integrated Ballast LED, 15W, linear tube, any application",15,"LED Replacement Tubes",15,"Y"]
["LED015.5-TUBE","LED Replacement Tube",null,15.5,null,"Electronic","Non-Integrated Ballast LED, 15.5W, linear tube, any application",15.5,"LED Replacement Tubes",15,"Y"]
["LED016-TUBE","LED Replacement Tube",null,16,null,"Electronic","Non-Integrated Ballast LED, 16W, linear tube, any application",16,"LED Replacement Tubes",15,"Y"]
["LED016.5-TUBE","LED Replacement Tube",null,16.5,null,"Electronic","Non-Integrated Ballast LED, 16.5W, linear tube, any application",16.5,"LED Replacement Tubes",15,"Y"]
["LED017-TUBE","LED Replacement Tube",null,17,null,"Electronic","Non-Integrated Ballast LED, 17W, linear tube, any application",17,"LED Replacement Tubes",15,"Y"]
["LED017.5-TUBE","LED Replacement Tube",null,17.5,null,"Electronic","Non-Integrated Ballast LED, 17.5W, linear tube, any application",17.5,"LED Replacement Tubes",15,"Y"]
["LED018-TUBE","LED Replacement Tube",null,18,null,"Electronic","Non-Integrated Ballast LED, 18W, linear tube, any application",18,"LED Replacement Tubes",15,"Y"]
["LED018.5-TUBE","LED Replacement Tube",null,18.5,null,"Electronic","Non-Integrated Ballast LED, 18.5W, linear tube, any application",18.5,"LED Replacement Tubes",15,"Y"]
["LED019-TUBE","LED Replacement Tube",null,19,null,"Electronic","Non-Integrated Ballast LED, 19W, linear tube, any application",19,"LED Replacement Tubes",15,"Y"]
["LED019.5-TUBE","LED Replacement Tube",null,19.5,null,"Electronic","Non-Integrated Ballast LED, 19.5W, linear tube, any application",19.5,"LED Replacement Tubes",15,"Y"]
["LED020-TUBE","LED Replacement Tube",null,20,null,"Electronic","Non-Integrated Ballast LED, 20W, linear tube, any application",20,"LED Replacement Tubes",15,"Y"]
["LED020.5-TUBE","LED Replacement Tube",null,20.5,null,"Electronic","Non-Integrated Ballast LED, 20.5W, linear tube, any application",20.5,"LED Replacement Tubes",15,"Y"]
["LED021-TUBE","LED Replacement Tube",null,21,null,"Electronic","Non-Integrated Ballast LED, 21W, linear tube, any application",21,"LED Replacement Tubes",15,"Y"]
["LED021.5-TUBE","LED Replacement Tube",null,21.5,null,"Electronic","Non-Integrated Ballast LED, 21.5W, linear tube, any application",21.5,"LED Replacement Tubes",15,"Y"]
["LED022-TUBE","LED Replacement Tube",null,22,null,"Electronic","Non-Integrated Ballast LED, 22W, linear tube, any application",22,"LED Replacement Tubes",15,"Y"]
["LED022.5-TUBE","LED Replacement Tube",null,22.5,null,"Electronic","Non-Integrated Ballast LED, 22.5W, linear tube, any application",22.5,"LED Replacement Tubes",15,"Y"]
["LED023-TUBE","LED Replacement Tube",null,23,null,"Electronic","Non-Integrated Ballast LED, 23W, linear tube, any application",23,"LED Replacement Tubes",15,"Y"]
["LED0023.5-TUBE","LED Replacement Tube",null,23.5,null,"Electronic","Non-Integrated Ballast LED, 23.5W, linear tube, any application",23.5,"LED Replacement Tubes",15,"Y"]
["LED024-TUBE","LED Replacement Tube",null,24,null,"Electronic","Non-Integrated Ballast LED, 24W, linear tube, any application",24,"LED Replacement Tubes",15,"Y"]
["LED0024.5-TUBE","LED Replacement Tube",null,24.5,null,"Electronic","Non-Integrated Ballast LED, 24.5W, linear tube, any application",24.5,"LED Replacement Tubes",15,"Y"]
["LED025-TUBE","LED Replacement Tube",null,25,null,"Electronic","Non-Integrated Ballast LED, 25W, linear tube, any application",25,"LED Replacement Tubes",15,"Y"]
["LED025.5-TUBE","LED Replacement Tube",null,25.5,null,"Electronic","Non-Integrated Ballast LED, 25.5W, linear tube, any application",25.5,"LED Replacement Tubes",15,"Y"]
["LED026-TUBE","LED Replacement Tube",null,26,null,"Electronic","Non-Integrated Ballast LED, 26W, linear tube, any application",26,"LED Replacement Tubes",15,"Y"]
["LED026.5-TUBE","LED Replacement Tube",null,26.5,null,"Electronic","Non-Integrated Ballast LED, 26.5W, linear tube, any application",26.5,"LED Replacement Tubes",15,"Y"]
["LED027-TUBE","LED Replacement Tube",null,27,null,"Electronic","Non-Integrated Ballast LED, 27W, linear tube, any application",27,"LED Replacement Tubes",15,"Y"]
["LED027.5-TUBE","LED Replacement Tube",null,27.5,null,"Electronic","Non-Integrated Ballast LED, 27.5W, linear tube, any application",27.5,"LED Replacement Tubes",15,"Y"]
["LED028-TUBE","LED Replacement Tube",null,28,null,"Electronic","Non-Integrated Ballast LED, 28W, linear tube, any application",28,"LED Replacement Tubes",15,"Y"]
["LED028.5-TUBE","LED Replacement Tube",null,28.5,null,"Electronic","Non-Integrated Ballast LED, 28.5W, linear tube, any application",28.5,"LED Replacement Tubes",15,"Y"]
["LED029-TUBE","LED Replacement Tube",null,29,null,"Electronic","Non-Integrated Ballast LED, 29W, linear tube, any application",29,"LED Replacement Tubes",15,"Y"]
["LED029.5-TUBE","LED Replacement Tube",null,29.5,null,"Electronic","Non-Integrated Ballast LED, 29.5W, linear tube, any application",29.5,"LED Replacement Tubes",15,"Y"]
["LED030-TUBE","LED Replacement Tube",null,30,null,"Electronic","Non-Integrated Ballast LED, 30W, linear tube, any application",30,"LED Replacement Tubes",15,"Y"]
["LED030.5-TUBE","LED Replacement Tube",null,30.5,null,"Electronic","Non-Integrated Ballast LED, 30.5W, linear tube, any application",30.5,"LED Replacement Tubes",15,"Y"]
["LED031-TUBE","LED Replacement Tube",null,31,null,"Electronic","Non-Integrated Ballast LED, 31W, linear tube, any application",31,"LED Replacement Tubes",15,"Y"]
["LED031.5-TUBE","LED Replacement Tube",null,31.5,null,"Electronic","Non-Integrated Ballast LED, 31.5W, linear tube, any application",31.5,"LED Replacement Tubes",15,"Y"]
["LED032-TUBE","LED Replacement Tube",null,32,null,"Electronic","Non-Integrated Ballast LED, 32W, linear tube, any application",32,"LED Replacement Tubes",15,"Y"]
["LED032.5-TUBE","LED Replacement Tube",null,32.5,null,"Electronic","Non-Integrated Ballast LED, 32.5W, linear tube, any application",32.5,"LED Replacement Tubes",15,"Y"]
["LED033-TUBE","LED Replacement Tube",null,33,null,"Electronic","Non-Integrated Ballast LED, 33W, linear tube, any application",33,"LED Replacement Tubes",15,"Y"]
["LED033.5-TUBE","LED Replacement Tube",null,33.5,null,"Electronic","Non-Integrated Ballast LED, 33.5W, linear tube, any application",33.5,"LED Replacement Tubes",15,"Y"]
["LED034-TUBE","LED Replacement Tube",null,34,null,"Electronic","Non-Integrated Ballast LED, 34W, linear tube, any application",34,"LED Replacement Tubes",15,"Y"]
["LED034.5-TUBE","LED Replacement Tube",null,34.5,null,"Electronic","Non-Integrated Ballast LED, 34.5W, linear tube, any application",34.5,"LED Replacement Tubes",15,"Y"]
["LED035-TUBE","LED Replacement Tube",null,35,null,"Electronic","Non-Integrated Ballast LED, 35W, linear tube, any application",35,"LED Replacement Tubes",15,"Y"]
["LED035.5-TUBE","LED Replacement Tube",null,35.5,null,"Electronic","Non-Integrated Ballast LED, 35.5W, linear tube, any application",35.5,"LED Replacement Tubes",15,"Y"]
["LED036-TUBE","LED Replacement Tube",null,36,null,"Electronic","Non-Integrated Ballast LED, 36W, linear tube, any application",36,"LED Replacement Tubes",15,"Y"]
["LED036.5-TUBE","LED Replacement Tube",null,36.5,null,"Electronic","Non-Integrated Ballast LED, 36.5W, linear tube, any application",36.5,"LED Replacement Tubes",15,"Y"]
["LED037-TUBE","LED Replacement Tube",null,37,null,"Electronic","Non-Integrated Ballast LED, 37W, linear tube, any application",37,"LED Replacement Tubes",15,"Y"]
["LED037.5-TUBE","LED Replacement Tube",null,37.5,null,"Electronic","Non-Integrated Ballast LED, 37.5W, linear tube, any application",37.5,"LED Replacement Tubes",15,"Y"]
["LED038-TUBE","LED Replacement Tube",null,38,null,"Electronic","Non-Integrated Ballast LED, 38W, linear tube, any application",38,"LED Replacement Tubes",15,"Y"]
["LED038.5-TUBE","LED Replacement Tube",null,38.5,null,"Electronic","Non-Integrated Ballast LED, 38.5W, linear tube, any application",38.5,"LED Replacement Tubes",15,"Y"]
["LED039-TUBE","LED Replacement Tube",null,39,null,"Electronic","Non-Integrated Ballast LED, 39W, linear tube, any application",39,"LED Replacement Tubes",15,"Y"]
["LED039.5-TUBE","LED Replacement Tube",null,39.5,null,"Electronic","Non-Integrated Ballast LED, 39.5W, linear tube, any application",39.5,"LED Replacement Tubes",15,"Y"]
["LED040-TUBE","LED Replacement Tube",null,40,null,"Electronic","Non-Integrated Ballast LED, 40W, linear tube, any application",40,"LED Replacement Tubes",15,"Y"]
["LED040.5-TUBE","LED Replacement Tube",null,40.5,null,"Electronic","Non-Integrated Ballast LED, 40.5W, linear tube, any application",40.5,"LED Replacement Tubes",15,"Y"]
["LED041-TUBE","LED Replacement Tube",null,41,null,"Electronic","Non-Integrated Ballast LED, 41W, linear tube, any application",41,"LED Replacement Tubes",15,"Y"]
["LED041.5-TUBE","LED Replacement Tube",null,41.5,null,"Electronic","Non-Integrated Ballast LED, 41.5W, linear tube, any application",41.5,"LED Replacement Tubes",15,"Y"]
["LED042-TUBE","LED Replacement Tube",null,42,null,"Electronic","Non-Integrated Ballast LED, 42W, linear tube, any application",42,"LED Replacement Tubes",15,"Y"]
["LED042.5-TUBE","LED Replacement Tube",null,42.5,null,"Electronic","Non-Integrated Ballast LED, 42.5W, linear tube, any application",42.5,"LED Replacement Tubes",15,"Y"]
["LED043-TUBE","LED Replacement Tube",null,43,null,"Electronic","Non-Integrated Ballast LED, 43W, linear tube, any application",43,"LED Replacement Tubes",15,"Y"]
["LED043.5-TUBE","LED Replacement Tube",null,43.5,null,"Electronic","Non-Integrated Ballast LED, 43.5W, linear tube, any application",43.5,"LED Replacement Tubes",15,"Y"]
["LED044-TUBE","LED Replacement Tube",null,44,null,"Electronic","Non-Integrated Ballast LED, 44W, linear tube, any application",44,"LED Replacement Tubes",15,"Y"]
["LED044.5-TUBE","LED Replacement Tube",null,44.5,null,"Electronic","Non-Integrated Ballast LED, 44.5W, linear tube, any application",44.5,"LED Replacement Tubes",15,"Y"]
["LED045-TUBE","LED Replacement Tube",null,45,null,"Electronic","Non-Integrated Ballast LED, 45W, linear tube, any application",45,"LED Replacement Tubes",15,"Y"]
["LED045.5-TUBE","LED Replacement Tube",null,45.5,null,"Electronic","Non-Integrated Ballast LED, 45.5W, linear tube, any application",45.5,"LED Replacement Tubes",15,"Y"]
["LED046-TUBE","LED Replacement Tube",null,46,null,"Electronic","Non-Integrated Ballast LED, 46W, linear tube, any application",46,"LED Replacement Tubes",15,"Y"]
["LED046.5-TUBE","LED Replacement Tube",null,46.5,null,"Electronic","Non-Integrated Ballast LED, 46.5W, linear tube, any application",46.5,"LED Replacement Tubes",15,"Y"]
["LED047-TUBE","LED Replacement Tube",null,47,null,"Electronic","Non-Integrated Ballast LED, 47W, linear tube, any application",47,"LED Replacement Tubes",15,"Y"]
["LED047.5-TUBE","LED Replacement Tube",null,47.5,null,"Electronic","Non-Integrated Ballast LED, 47.5W, linear tube, any application",47.5,"LED Replacement Tubes",15,"Y"]
["LED048-TUBE","LED Replacement Tube",null,48,null,"Electronic","Non-Integrated Ballast LED, 48W, linear tube, any application",48,"LED Replacement Tubes",15,"Y"]
["LED048.5-TUBE","LED Replacement Tube",null,48.5,null,"Electronic","Non-Integrated Ballast LED, 48.5W, linear tube, any application",48.5,"LED Replacement Tubes",15,"Y"]
["LED049-TUBE","LED Replacement Tube",null,49,null,"Electronic","Non-Integrated Ballast LED, 49W, linear tube, any application",49,"LED Replacement Tubes",15,"Y"]
["LED049.5-TUBE","LED Replacement Tube",null,49.5,null,"Electronic","Non-Integrated Ballast LED, 49.5W, linear tube, any application",49.5,"LED Replacement Tubes",15,"Y"]
["LED050-TUBE","LED Replacement Tube",null,50,null,"Electronic","Non-Integrated Ballast LED, 50W, linear tube, any application",50,"LED Replacement Tubes",15,"Y"]
["LED051-TUBE","LED Replacement Tube",null,51,null,"Electronic","Non-Integrated Ballast LED, 51W, linear tube, any application",51,"LED Replacement Tubes",15,"Y"]
["LED052-TUBE","LED Replacement Tube",null,52,null,"Electronic","Non-Integrated Ballast LED, 52W, linear tube, any application",52,"LED Replacement Tubes",15,"Y"]
["LED053-TUBE","LED Replacement Tube",null,53,null,"Electronic","Non-Integrated Ballast LED, 53W, linear tube, any application",53,"LED Replacement Tubes",15,"Y"]
["LED054-TUBE","LED Replacement Tube",null,54,null,"Electronic","Non-Integrated Ballast LED, 54W, linear tube, any application",54,"LED Replacement Tubes",15,"Y"]
["LED055-TUBE","LED Replacement Tube",null,55,null,"Electronic","Non-Integrated Ballast LED, 55W, linear tube, any application",55,"LED Replacement Tubes",15,"Y"]
["LED056-TUBE","LED Replacement Tube",null,56,null,"Electronic","Non-Integrated Ballast LED, 56W, linear tube, any application",56,"LED Replacement Tubes",15,"Y"]
["LED057-TUBE","LED Replacement Tube",null,57,null,"Electronic","Non-Integrated Ballast LED, 57W, linear tube, any application",57,"LED Replacement Tubes",15,"Y"]
["LED058-TUBE","LED Replacement Tube",null,58,null,"Electronic","Non-Integrated Ballast LED, 58W, linear tube, any application",58,"LED Replacement Tubes",15,"Y"]
["LED059-TUBE","LED Replacement Tube",null,59,null,"Electronic","Non-Integrated Ballast LED, 59W, linear tube, any application",59,"LED Replacement Tubes",15,"Y"]
["LED060-TUBE","LED Replacement Tube",null,60,null,"Electronic","Non-Integrated Ballast LED, 60W, linear tube, any application",60,"LED Replacement Tubes",15,"Y"]
["LED061-TUBE","LED Replacement Tube",null,61,null,"Electronic","Non-Integrated Ballast LED, 61W, linear tube, any application",61,"LED Replacement Tubes",15,"Y"]
["LED062-TUBE","LED Replacement Tube",null,62,null,"Electronic","Non-Integrated Ballast LED, 62W, linear tube, any application",62,"LED Replacement Tubes",15,"Y"]
["LED063-TUBE","LED Replacement Tube",null,63,null,"Electronic","Non-Integrated Ballast LED, 63W, linear tube, any application",63,"LED Replacement Tubes",15,"Y"]
["LED064-TUBE","LED Replacement Tube",null,64,null,"Electronic","Non-Integrated Ballast LED, 64W, linear tube, any application",64,"LED Replacement Tubes",15,"Y"]
["LED065-TUBE","LED Replacement Tube",null,65,null,"Electronic","Non-Integrated Ballast LED, 65W, linear tube, any application",65,"LED Replacement Tubes",15,"Y"]
["LED066-TUBE","LED Replacement Tube",null,66,null,"Electronic","Non-Integrated Ballast LED, 66W, linear tube, any application",66,"LED Replacement Tubes",15,"Y"]
["LED067-TUBE","LED Replacement Tube",null,67,null,"Electronic","Non-Integrated Ballast LED, 67W, linear tube, any application",67,"LED Replacement Tubes",15,"Y"]
["LED068-TUBE","LED Replacement Tube",null,68,null,"Electronic","Non-Integrated Ballast LED, 68W, linear tube, any application",68,"LED Replacement Tubes",15,"Y"]
["LED069-TUBE","LED Replacement Tube",null,69,null,"Electronic","Non-Integrated Ballast LED, 69W, linear tube, any application",69,"LED Replacement Tubes",15,"Y"]
["LED070-TUBE","LED Replacement Tube",null,70,null,"Electronic","Non-Integrated Ballast LED, 70W, linear tube, any application",70,"LED Replacement Tubes",15,"Y"]
["LED071-TUBE","LED Replacement Tube",null,71,null,"Electronic","Non-Integrated Ballast LED, 71W, linear tube, any application",71,"LED Replacement Tubes",15,"Y"]
["LED072-TUBE","LED Replacement Tube",null,72,null,"Electronic","Non-Integrated Ballast LED, 72W, linear tube, any application",72,"LED Replacement Tubes",15,"Y"]
["LED073-TUBE","LED Replacement Tube",null,73,null,"Electronic","Non-Integrated Ballast LED, 73W, linear tube, any application",73,"LED Replacement Tubes",15,"Y"]
["LED074-TUBE","LED Replacement Tube",null,74,null,"Electronic","Non-Integrated Ballast LED, 74W, linear tube, any application",74,"LED Replacement Tubes",15,"Y"]
["LED075-TUBE","LED Replacement Tube",null,75,null,"Electronic","Non-Integrated Ballast LED, 75W, linear tube, any application",75,"LED Replacement Tubes",15,"Y"]
["LED076-TUBE","LED Replacement Tube",null,76,null,"Electronic","Non-Integrated Ballast LED, 76W, linear tube, any application",76,"LED Replacement Tubes",15,"Y"]
["LED077-TUBE","LED Replacement Tube",null,77,null,"Electronic","Non-Integrated Ballast LED, 77W, linear tube, any application",77,"LED Replacement Tubes",15,"Y"]
["LED078-TUBE","LED Replacement Tube",null,78,null,"Electronic","Non-Integrated Ballast LED, 78W, linear tube, any application",78,"LED Replacement Tubes",15,"Y"]
["LED079-TUBE","LED Replacement Tube",null,79,null,"Electronic","Non-Integrated Ballast LED, 79W, linear tube, any application",79,"LED Replacement Tubes",15,"Y"]
["LED080-TUBE","LED Replacement Tube",null,80,null,"Electronic","Non-Integrated Ballast LED, 80W, linear tube, any application",80,"LED Replacement Tubes",15,"Y"]
["LED081-TUBE","LED Replacement Tube",null,81,null,"Electronic","Non-Integrated Ballast LED, 81W, linear tube, any application",81,"LED Replacement Tubes",15,"Y"]
["LED082-TUBE","LED Replacement Tube",null,82,null,"Electronic","Non-Integrated Ballast LED, 82W, linear tube, any application",82,"LED Replacement Tubes",15,"Y"]
["LED083-TUBE","LED Replacement Tube",null,83,null,"Electronic","Non-Integrated Ballast LED, 83W, linear tube, any application",83,"LED Replacement Tubes",15,"Y"]
["LED084-TUBE","LED Replacement Tube",null,84,null,"Electronic","Non-Integrated Ballast LED, 84W, linear tube, any application",84,"LED Replacement Tubes",15,"Y"]
["LED085-TUBE","LED Replacement Tube",null,85,null,"Electronic","Non-Integrated Ballast LED, 85W, linear tube, any application",85,"LED Replacement Tubes",15,"Y"]
["LED086-TUBE","LED Replacement Tube",null,86,null,"Electronic","Non-Integrated Ballast LED, 86W, linear tube, any application",86,"LED Replacement Tubes",15,"Y"]
["LED087-TUBE","LED Replacement Tube",null,87,null,"Electronic","Non-Integrated Ballast LED, 87W, linear tube, any application",87,"LED Replacement Tubes",15,"Y"]
["LED088-TUBE","LED Replacement Tube",null,88,null,"Electronic","Non-Integrated Ballast LED, 88W, linear tube, any application",88,"LED Replacement Tubes",15,"Y"]
["LED089-TUBE","LED Replacement Tube",null,89,null,"Electronic","Non-Integrated Ballast LED, 89W, linear tube, any application",89,"LED Replacement Tubes",15,"Y"]
["LED090-TUBE","LED Replacement Tube",null,90,null,"Electronic","Non-Integrated Ballast LED, 90W, linear tube, any application",90,"LED Replacement Tubes",15,"Y"]
["LED091-TUBE","LED Replacement Tube",null,91,null,"Electronic","Non-Integrated Ballast LED, 91W, linear tube, any application",91,"LED Replacement Tubes",15,"Y"]
["LED092-TUBE","LED Replacement Tube",null,92,null,"Electronic","Non-Integrated Ballast LED, 92W, linear tube, any application",92,"LED Replacement Tubes",15,"Y"]
["LED093-TUBE","LED Replacement Tube",null,93,null,"Electronic","Non-Integrated Ballast LED, 93W, linear tube, any application",93,"LED Replacement Tubes",15,"Y"]
["LED094-TUBE","LED Replacement Tube",null,94,null,"Electronic","Non-Integrated Ballast LED, 94W, linear tube, any application",94,"LED Replacement Tubes",15,"Y"]
["LED095-TUBE","LED Replacement Tube",null,95,null,"Electronic","Non-Integrated Ballast LED, 95W, linear tube, any application",95,"LED Replacement Tubes",15,"Y"]
["LED096-TUBE","LED Replacement Tube",null,96,null,"Electronic","Non-Integrated Ballast LED, 96W, linear tube, any application",96,"LED Replacement Tubes",15,"Y"]
["LED097-TUBE","LED Replacement Tube",null,97,null,"Electronic","Non-Integrated Ballast LED, 97W, linear tube, any application",97,"LED Replacement Tubes",15,"Y"]
["LED098-TUBE","LED Replacement Tube",null,98,null,"Electronic","Non-Integrated Ballast LED, 98W, linear tube, any application",98,"LED Replacement Tubes",15,"Y"]
["LED099-TUBE","LED Replacement Tube",null,99,null,"Electronic","Non-Integrated Ballast LED, 99W, linear tube, any application",99,"LED Replacement Tubes",15,"Y"]
["LED100-TUBE","LED Replacement Tube",null,100,null,"Electronic","Non-Integrated Ballast LED, 100W, linear tube, any application",100,"LED Replacement Tubes",15,"Y"]
["LED001-FIXT","LED Non-Int Ballast",null,1,null,"Electronic","Non-Integrated Ballast LED, 1W, any bulb shape, any application",1,"Light Emitting Diode (LED)",15,"Y"]
["LED001.5-FIXT","LED Non-Int Ballast",null,1.5,null,"Electronic","Non-Integrated Ballast LED, 1.5W, any bulb shape, any application",1.5,"Light Emitting Diode (LED)",15,"Y"]
["LED002-FIXT","LED Non-Int Ballast",null,2,null,"Electronic","Non-Integrated Ballast LED, 2W, any bulb shape, any application",2,"Light Emitting Diode (LED)",15,"Y"]
["LED002.5-FIXT","LED Non-Int Ballast",null,2.5,null,"Electronic","Non-Integrated Ballast LED, 2.5W, any bulb shape, any application",2.5,"Light Emitting Diode (LED)",15,"Y"]
["LED003-FIXT","LED Non-Int Ballast",null,3,null,"Electronic","Non-Integrated Ballast LED, 3W, any bulb shape, any application",3,"Light Emitting Diode (LED)",15,"Y"]
["LED003.5-FIXT","LED Non-Int Ballast",null,3.5,null,"Electronic","Non-Integrated Ballast LED, 3.5W, any bulb shape, any application",3.5,"Light Emitting Diode (LED)",15,"Y"]
["LED004-FIXT","LED Non-Int Ballast",null,4,null,"Electronic","Non-Integrated Ballast LED, 4W, any bulb shape, any application",4,"Light Emitting Diode (LED)",15,"Y"]
["LED004.5-FIXT","LED Non-Int Ballast",null,4.5,null,"Electronic","Non-Integrated Ballast LED, 4.5W, any bulb shape, any application",4.5,"Light Emitting Diode (LED)",15,"Y"]
["LED005-FIXT","LED Non-Int Ballast",null,5,null,"Electronic","Non-Integrated Ballast LED, 5W, any bulb shape, any application",5,"Light Emitting Diode (LED)",15,"Y"]
["LED005.5-FIXT","LED Non-Int Ballast",null,5.5,null,"Electronic","Non-Integrated Ballast LED, 5.5W, any bulb shape, any application",5.5,"Light Emitting Diode (LED)",15,"Y"]
["LED006-FIXT","LED Non-Int Ballast",null,6,null,"Electronic","Non-Integrated Ballast LED, 6W, any bulb shape, any application",6,"Light Emitting Diode (LED)",15,"Y"]
["LED006.5-FIXT","LED Non-Int Ballast",null,6.5,null,"Electronic","Non-Integrated Ballast LED, 6.5W, any bulb shape, any application",6.5,"Light Emitting Diode (LED)",15,"Y"]
["LED007-FIXT","LED Non-Int Ballast",null,7,null,"Electronic","Non-Integrated Ballast LED, 7W, any bulb shape, any application",7,"Light Emitting Diode (LED)",15,"Y"]
["LED007.5-FIXT","LED Non-Int Ballast",null,7.5,null,"Electronic","Non-Integrated Ballast LED, 7.5W, any bulb shape, any application",7.5,"Light Emitting Diode (LED)",15,"Y"]
["LED008-FIXT","LED Non-Int Ballast",null,8,null,"Electronic","Non-Integrated Ballast LED, 8W, any bulb shape, any application",8,"Light Emitting Diode (LED)",15,"Y"]
["LED008.5-FIXT","LED Non-Int Ballast",null,8.5,null,"Electronic","Non-Integrated Ballast LED, 8.5W, any bulb shape, any application",8.5,"Light Emitting Diode (LED)",15,"Y"]
["LED009-FIXT","LED Non-Int Ballast",null,9,null,"Electronic","Non-Integrated Ballast LED, 9W, any bulb shape, any application",9,"Light Emitting Diode (LED)",15,"Y"]
["LED009.5-FIXT","LED Non-Int Ballast",null,9.5,null,"Electronic","Non-Integrated Ballast LED, 9.5W, any bulb shape, any application",9.5,"Light Emitting Diode (LED)",15,"Y"]
["LED010-FIXT","LED Non-Int Ballast",null,10,null,"Electronic","Non-Integrated Ballast LED, 10W, any bulb shape, any application",10,"Light Emitting Diode (LED)",15,"Y"]
["LED010.5-FIXT","LED Non-Int Ballast",null,10.5,null,"Electronic","Non-Integrated Ballast LED, 10.5W, any bulb shape, any application",10.5,"Light Emitting Diode (LED)",15,"Y"]
["LED011-FIXT","LED Non-Int Ballast",null,11,null,"Electronic","Non-Integrated Ballast LED, 11W, any bulb shape, any application",11,"Light Emitting Diode (LED)",15,"Y"]
["LED011.5-FIXT","LED Non-Int Ballast",null,11.5,null,"Electronic","Non-Integrated Ballast LED, 11.5W, any bulb shape, any application",11.5,"Light Emitting Diode (LED)",15,"Y"]
["LED012-FIXT","LED Non-Int Ballast",null,12,null,"Electronic","Non-Integrated Ballast LED, 12W, any bulb shape, any application",12,"Light Emitting Diode (LED)",15,"Y"]
["LED012.5-FIXT","LED Non-Int Ballast",null,12.5,null,"Electronic","Non-Integrated Ballast LED, 12.5W, any bulb shape, any application",12.5,"Light Emitting Diode (LED)",15,"Y"]
["LED013-FIXT","LED Non-Int Ballast",null,13,null,"Electronic","Non-Integrated Ballast LED, 13W, any bulb shape, any application",13,"Light Emitting Diode (LED)",15,"Y"]
["LED013.5-FIXT","LED Non-Int Ballast",null,13.5,null,"Electronic","Non-Integrated Ballast LED, 13.5W, any bulb shape, any application",13.5,"Light Emitting Diode (LED)",15,"Y"]
["LED014-FIXT","LED Non-Int Ballast",null,14,null,"Electronic","Non-Integrated Ballast LED, 14W, any bulb shape, any application",14,"Light Emitting Diode (LED)",15,"Y"]
["LED014.5-FIXT","LED Non-Int Ballast",null,14.5,null,"Electronic","Non-Integrated Ballast LED, 14.5W, any bulb shape, any application",14.5,"Light Emitting Diode (LED)",15,"Y"]
["LED015-FIXT","LED Non-Int Ballast",null,15,null,"Electronic","Non-Integrated Ballast LED, 15W, any bulb shape, any application",15,"Light Emitting Diode (LED)",15,"Y"]
["LED015.5-FIXT","LED Non-Int Ballast",null,15.5,null,"Electronic","Non-Integrated Ballast LED, 15.5W, any bulb shape, any application",15.5,"Light Emitting Diode (LED)",15,"Y"]
["LED016-FIXT","LED Non-Int Ballast",null,16,null,"Electronic","Non-Integrated Ballast LED, 16W, any bulb shape, any application",16,"Light Emitting Diode (LED)",15,"Y"]
["LED016.5-FIXT","LED Non-Int Ballast",null,16.5,null,"Electronic","Non-Integrated Ballast LED, 16.5W, any bulb shape, any application",16.5,"Light Emitting Diode (LED)",15,"Y"]
["LED017-FIXT","LED Non-Int Ballast",null,17,null,"Electronic","Non-Integrated Ballast LED, 17W, any bulb shape, any application",17,"Light Emitting Diode (LED)",15,"Y"]
["LED017.5-FIXT","LED Non-Int Ballast",null,17.5,null,"Electronic","Non-Integrated Ballast LED, 17.5W, any bulb shape, any application",17.5,"Light Emitting Diode (LED)",15,"Y"]
["LED018-FIXT","LED Non-Int Ballast",null,18,null,"Electronic","Non-Integrated Ballast LED, 18W, any bulb shape, any application",18,"Light Emitting Diode (LED)",15,"Y"]
["LED018.5-FIXT","LED Non-Int Ballast",null,18.5,null,"Electronic","Non-Integrated Ballast LED, 18.5W, any bulb shape, any application",18.5,"Light Emitting Diode (LED)",15,"Y"]
["LED019-FIXT","LED Non-Int Ballast",null,19,null,"Electronic","Non-Integrated Ballast LED, 19W, any bulb shape, any application",19,"Light Emitting Diode (LED)",15,"Y"]
["LED019.5-FIXT","LED Non-Int Ballast",null,19.5,null,"Electronic","Non-Integrated Ballast LED, 19.5W, any bulb shape, any application",19.5,"Light Emitting Diode (LED)",15,"Y"]
["LED020-FIXT","LED Non-Int Ballast",null,20,null,"Electronic","Non-Integrated Ballast LED, 20W, any bulb shape, any application",20,"Light Emitting Diode (LED)",15,"Y"]
["LED020.5-FIXT","LED Non-Int Ballast",null,20.5,null,"Electronic","Non-Integrated Ballast LED, 20.5W, any bulb shape, any application",20.5,"Light Emitting Diode (LED)",15,"Y"]
["LED021-FIXT","LED Non-Int Ballast",null,21,null,"Electronic","Non-Integrated Ballast LED, 21W, any bulb shape, any application",21,"Light Emitting Diode (LED)",15,"Y"]
["LED021.5-FIXT","LED Non-Int Ballast",null,21.5,null,"Electronic","Non-Integrated Ballast LED, 21.5W, any bulb shape, any application",21.5,"Light Emitting Diode (LED)",15,"Y"]
["LED022-FIXT","LED Non-Int Ballast",null,22,null,"Electronic","Non-Integrated Ballast LED, 22W, any bulb shape, any application",22,"Light Emitting Diode (LED)",15,"Y"]
["LED022.5-FIXT","LED Non-Int Ballast",null,22.5,null,"Electronic","Non-Integrated Ballast LED, 22.5W, any bulb shape, any application",22.5,"Light Emitting Diode (LED)",15,"Y"]
["LED023-FIXT","LED Non-Int Ballast",null,23,null,"Electronic","Non-Integrated Ballast LED, 23W, any bulb shape, any application",23,"Light Emitting Diode (LED)",15,"Y"]
["LED023.5-FIXT","LED Non-Int Ballast",null,23.5,null,"Electronic","Non-Integrated Ballast LED, 23.5W, any bulb shape, any application",23.5,"Light Emitting Diode (LED)",15,"Y"]
["LED024-FIXT","LED Non-Int Ballast",null,24,null,"Electronic","Non-Integrated Ballast LED, 24W, any bulb shape, any application",24,"Light Emitting Diode (LED)",15,"Y"]
["LED024.5-FIXT","LED Non-Int Ballast",null,24.5,null,"Electronic","Non-Integrated Ballast LED, 24.5W, any bulb shape, any application",24.5,"Light Emitting Diode (LED)",15,"Y"]
["LED025-FIXT","LED Non-Int Ballast",null,25,null,"Electronic","Non-Integrated Ballast LED, 25W, any bulb shape, any application",25,"Light Emitting Diode (LED)",15,"Y"]
["LED025.5-FIXT","LED Non-Int Ballast",null,25.5,null,"Electronic","Non-Integrated Ballast LED, 25.5W, any bulb shape, any application",25.5,"Light Emitting Diode (LED)",15,"Y"]
["LED026-FIXT","LED Non-Int Ballast",null,26,null,"Electronic","Non-Integrated Ballast LED, 26W, any bulb shape, any application",26,"Light Emitting Diode (LED)",15,"Y"]
["LED026.5-FIXT","LED Non-Int Ballast",null,26.5,null,"Electronic","Non-Integrated Ballast LED, 26.5W, any bulb shape, any application",26.5,"Light Emitting Diode (LED)",15,"Y"]
["LED027-FIXT","LED Non-Int Ballast",null,27,null,"Electronic","Non-Integrated Ballast LED, 27W, any bulb shape, any application",27,"Light Emitting Diode (LED)",15,"Y"]
["LED027.5-FIXT","LED Non-Int Ballast",null,27.5,null,"Electronic","Non-Integrated Ballast LED, 27.5W, any bulb shape, any application",27.5,"Light Emitting Diode (LED)",15,"Y"]
["LED028-FIXT","LED Non-Int Ballast",null,28,null,"Electronic","Non-Integrated Ballast LED, 28W, any bulb shape, any application",28,"Light Emitting Diode (LED)",15,"Y"]
["LED028.5-FIXT","LED Non-Int Ballast",null,28.5,null,"Electronic","Non-Integrated Ballast LED, 28.5W, any bulb shape, any application",28.5,"Light Emitting Diode (LED)",15,"Y"]
["LED029-FIXT","LED Non-Int Ballast",null,29,null,"Electronic","Non-Integrated Ballast LED, 29W, any bulb shape, any application",29,"Light Emitting Diode (LED)",15,"Y"]
["LED029.5-FIXT","LED Non-Int Ballast",null,29.5,null,"Electronic","Non-Integrated Ballast LED, 29.5W, any bulb shape, any application",29.5,"Light Emitting Diode (LED)",15,"Y"]
["LED030-FIXT","LED Non-Int Ballast",null,30,null,"Electronic","Non-Integrated Ballast LED, 30W, any bulb shape, any application",30,"Light Emitting Diode (LED)",15,"Y"]
["LED030.5-FIXT","LED Non-Int Ballast",null,30.5,null,"Electronic","Non-Integrated Ballast LED, 30.5W, any bulb shape, any application",30.5,"Light Emitting Diode (LED)",15,"Y"]
["LED031-FIXT","LED Non-Int Ballast",null,31,null,"Electronic","Non-Integrated Ballast LED, 31W, any bulb shape, any application",31,"Light Emitting Diode (LED)",15,"Y"]
["LED031.5-FIXT","LED Non-Int Ballast",null,31.5,null,"Electronic","Non-Integrated Ballast LED, 31.5W, any bulb shape, any application",31.5,"Light Emitting Diode (LED)",15,"Y"]
["LED032-FIXT","LED Non-Int Ballast",null,32,null,"Electronic","Non-Integrated Ballast LED, 32W, any bulb shape, any application",32,"Light Emitting Diode (LED)",15,"Y"]
["LED032.5-FIXT","LED Non-Int Ballast",null,32.5,null,"Electronic","Non-Integrated Ballast LED, 32.5W, any bulb shape, any application",32.5,"Light Emitting Diode (LED)",15,"Y"]
["LED033-FIXT","LED Non-Int Ballast",null,33,null,"Electronic","Non-Integrated Ballast LED, 33W, any bulb shape, any application",33,"Light Emitting Diode (LED)",15,"Y"]
["LED033.5-FIXT","LED Non-Int Ballast",null,33.5,null,"Electronic","Non-Integrated Ballast LED, 33.5W, any bulb shape, any application",33.5,"Light Emitting Diode (LED)",15,"Y"]
["LED034-FIXT","LED Non-Int Ballast",null,34,null,"Electronic","Non-Integrated Ballast LED, 34W, any bulb shape, any application",34,"Light Emitting Diode (LED)",15,"Y"]
["LED034.5-FIXT","LED Non-Int Ballast",null,34.5,null,"Electronic","Non-Integrated Ballast LED, 34.5W, any bulb shape, any application",34.5,"Light Emitting Diode (LED)",15,"Y"]
["LED035-FIXT","LED Non-Int Ballast",null,35,null,"Electronic","Non-Integrated Ballast LED, 35W, any bulb shape, any application",35,"Light Emitting Diode (LED)",15,"Y"]
["LED035.5-FIXT","LED Non-Int Ballast",null,35.5,null,"Electronic","Non-Integrated Ballast LED, 35.5W, any bulb shape, any application",35.5,"Light Emitting Diode (LED)",15,"Y"]
["LED036-FIXT","LED Non-Int Ballast",null,36,null,"Electronic","Non-Integrated Ballast LED, 36W, any bulb shape, any application",36,"Light Emitting Diode (LED)",15,"Y"]
["LED036.5-FIXT","LED Non-Int Ballast",null,36.5,null,"Electronic","Non-Integrated Ballast LED, 36.5W, any bulb shape, any application",36.5,"Light Emitting Diode (LED)",15,"Y"]
["LED037-FIXT","LED Non-Int Ballast",null,37,null,"Electronic","Non-Integrated Ballast LED, 37W, any bulb shape, any application",37,"Light Emitting Diode (LED)",15,"Y"]
["LED037.5-FIXT","LED Non-Int Ballast",null,37.5,null,"Electronic","Non-Integrated Ballast LED, 37.5W, any bulb shape, any application",37.5,"Light Emitting Diode (LED)",15,"Y"]
["LED038-FIXT","LED Non-Int Ballast",null,38,null,"Electronic","Non-Integrated Ballast LED, 38W, any bulb shape, any application",38,"Light Emitting Diode (LED)",15,"Y"]
["LED038.5-FIXT","LED Non-Int Ballast",null,38.5,null,"Electronic","Non-Integrated Ballast LED, 38.5W, any bulb shape, any application",38.5,"Light Emitting Diode (LED)",15,"Y"]
["LED039-FIXT","LED Non-Int Ballast",null,39,null,"Electronic","Non-Integrated Ballast LED, 39W, any bulb shape, any application",39,"Light Emitting Diode (LED)",15,"Y"]
["LED039.5-FIXT","LED Non-Int Ballast",null,39.5,null,"Electronic","Non-Integrated Ballast LED, 39.5W, any bulb shape, any application",39.5,"Light Emitting Diode (LED)",15,"Y"]
["LED040-FIXT","LED Non-Int Ballast",null,40,null,"Electronic","Non-Integrated Ballast LED, 40W, any bulb shape, any application",40,"Light Emitting Diode (LED)",15,"Y"]
["LED040.5-FIXT","LED Non-Int Ballast",null,40.5,null,"Electronic","Non-Integrated Ballast LED, 40.5W, any bulb shape, any application",40.5,"Light Emitting Diode (LED)",15,"Y"]
["LED041-FIXT","LED Non-Int Ballast",null,41,null,"Electronic","Non-Integrated Ballast LED, 41W, any bulb shape, any application",41,"Light Emitting Diode (LED)",15,"Y"]
["LED041.5-FIXT","LED Non-Int Ballast",null,41.5,null,"Electronic","Non-Integrated Ballast LED, 41.5W, any bulb shape, any application",41.5,"Light Emitting Diode (LED)",15,"Y"]
["LED042-FIXT","LED Non-Int Ballast",null,42,null,"Electronic","Non-Integrated Ballast LED, 42W, any bulb shape, any application",42,"Light Emitting Diode (LED)",15,"Y"]
["LED042.5-FIXT","LED Non-Int Ballast",null,42.5,null,"Electronic","Non-Integrated Ballast LED, 42.5W, any bulb shape, any application",42.5,"Light Emitting Diode (LED)",15,"Y"]
["LED043-FIXT","LED Non-Int Ballast",null,43,null,"Electronic","Non-Integrated Ballast LED, 43W, any bulb shape, any application",43,"Light Emitting Diode (LED)",15,"Y"]
["LED043.5-FIXT","LED Non-Int Ballast",null,43.5,null,"Electronic","Non-Integrated Ballast LED, 43.5W, any bulb shape, any application",43.5,"Light Emitting Diode (LED)",15,"Y"]
["LED044-FIXT","LED Non-Int Ballast",null,44,null,"Electronic","Non-Integrated Ballast LED, 44W, any bulb shape, any application",44,"Light Emitting Diode (LED)",15,"Y"]
["LED044.5-FIXT","LED Non-Int Ballast",null,44.5,null,"Electronic","Non-Integrated Ballast LED, 44.5W, any bulb shape, any application",44.5,"Light Emitting Diode (LED)",15,"Y"]
["LED045-FIXT","LED Non-Int Ballast",null,45,null,"Electronic","Non-Integrated Ballast LED, 45W, any bulb shape, any application",45,"Light Emitting Diode (LED)",15,"Y"]
["LED045.5-FIXT","LED Non-Int Ballast",null,45.5,null,"Electronic","Non-Integrated Ballast LED, 45.5W, any bulb shape, any application",45.5,"Light Emitting Diode (LED)",15,"Y"]
["LED046-FIXT","LED Non-Int Ballast",null,46,null,"Electronic","Non-Integrated Ballast LED, 46W, any bulb shape, any application",46,"Light Emitting Diode (LED)",15,"Y"]
["LED046.5-FIXT","LED Non-Int Ballast",null,46.5,null,"Electronic","Non-Integrated Ballast LED, 46.5W, any bulb shape, any application",46.5,"Light Emitting Diode (LED)",15,"Y"]
["LED047-FIXT","LED Non-Int Ballast",null,47,null,"Electronic","Non-Integrated Ballast LED, 47W, any bulb shape, any application",47,"Light Emitting Diode (LED)",15,"Y"]
["LED047.5-FIXT","LED Non-Int Ballast",null,47.5,null,"Electronic","Non-Integrated Ballast LED, 47.5W, any bulb shape, any application",47.5,"Light Emitting Diode (LED)",15,"Y"]
["LED048-FIXT","LED Non-Int Ballast",null,48,null,"Electronic","Non-Integrated Ballast LED, 48W, any bulb shape, any application",48,"Light Emitting Diode (LED)",15,"Y"]
["LED048.5-FIXT","LED Non-Int Ballast",null,48.5,null,"Electronic","Non-Integrated Ballast LED, 48.5W, any bulb shape, any application",48.5,"Light Emitting Diode (LED)",15,"Y"]
["LED049-FIXT","LED Non-Int Ballast",null,49,null,"Electronic","Non-Integrated Ballast LED, 49W, any bulb shape, any application",49,"Light Emitting Diode (LED)",15,"Y"]
["LED049.5-FIXT","LED Non-Int Ballast",null,49.5,null,"Electronic","Non-Integrated Ballast LED, 49.5W, any bulb shape, any application",49.5,"Light Emitting Diode (LED)",15,"Y"]
["LED050-FIXT","LED Non-Int Ballast",null,50,null,"Electronic","Non-Integrated Ballast LED, 50W, any bulb shape, any application",50,"Light Emitting Diode (LED)",15,"Y"]
["LED050.5-FIXT","LED Non-Int Ballast",null,50.5,null,"Electronic","Non-Integrated Ballast LED, 50.5W, any bulb shape, any application",50.5,"Light Emitting Diode (LED)",15,"Y"]
["LED051-FIXT","LED Non-Int Ballast",null,51,null,"Electronic","Non-Integrated Ballast LED, 51W, any bulb shape, any application",51,"Light Emitting Diode (LED)",15,"Y"]
["LED051.5-FIXT","LED Non-Int Ballast",null,51.5,null,"Electronic","Non-Integrated Ballast LED, 51.5W, any bulb shape, any application",51.5,"Light Emitting Diode (LED)",15,"Y"]
["LED052-FIXT","LED Non-Int Ballast",null,52,null,"Electronic","Non-Integrated Ballast LED, 52W, any bulb shape, any application",52,"Light Emitting Diode (LED)",15,"Y"]
["LED052.5-FIXT","LED Non-Int Ballast",null,52.5,null,"Electronic","Non-Integrated Ballast LED, 52.5W, any bulb shape, any application",52.5,"Light Emitting Diode (LED)",15,"Y"]
["LED053-FIXT","LED Non-Int Ballast",null,53,null,"Electronic","Non-Integrated Ballast LED, 53W, any bulb shape, any application",53,"Light Emitting Diode (LED)",15,"Y"]
["LED053.5-FIXT","LED Non-Int Ballast",null,53.5,null,"Electronic","Non-Integrated Ballast LED, 53.5W, any bulb shape, any application",53.5,"Light Emitting Diode (LED)",15,"Y"]
["LED054-FIXT","LED Non-Int Ballast",null,54,null,"Electronic","Non-Integrated Ballast LED, 54W, any bulb shape, any application",54,"Light Emitting Diode (LED)",15,"Y"]
["LED054.5-FIXT","LED Non-Int Ballast",null,54.5,null,"Electronic","Non-Integrated Ballast LED, 54.5W, any bulb shape, any application",54.5,"Light Emitting Diode (LED)",15,"Y"]
["LED055-FIXT","LED Non-Int Ballast",null,55,null,"Electronic","Non-Integrated Ballast LED, 55W, any bulb shape, any application",55,"Light Emitting Diode (LED)",15,"Y"]
["LED055.5-FIXT","LED Non-Int Ballast",null,55.5,null,"Electronic","Non-Integrated Ballast LED, 55.5W, any bulb shape, any application",55.5,"Light Emitting Diode (LED)",15,"Y"]
["LED056-FIXT","LED Non-Int Ballast",null,56,null,"Electronic","Non-Integrated Ballast LED, 56W, any bulb shape, any application",56,"Light Emitting Diode (LED)",15,"Y"]
["LED056.5-FIXT","LED Non-Int Ballast",null,56.5,null,"Electronic","Non-Integrated Ballast LED, 56.5W, any bulb shape, any application",56.5,"Light Emitting Diode (LED)",15,"Y"]
["LED057-FIXT","LED Non-Int Ballast",null,57,null,"Electronic","Non-Integrated Ballast LED, 57W, any bulb shape, any application",57,"Light Emitting Diode (LED)",15,"Y"]
["LED057.5-FIXT","LED Non-Int Ballast",null,57.5,null,"Electronic","Non-Integrated Ballast LED, 57.5W, any bulb shape, any application",57.5,"Light Emitting Diode (LED)",15,"Y"]
["LED058-FIXT","LED Non-Int Ballast",null,58,null,"Electronic","Non-Integrated Ballast LED, 58W, any bulb shape, any application",58,"Light Emitting Diode (LED)",15,"Y"]
["LED058.5-FIXT","LED Non-Int Ballast",null,58.5,null,"Electronic","Non-Integrated Ballast LED, 58.5W, any bulb shape, any application",58.5,"Light Emitting Diode (LED)",15,"Y"]
["LED059-FIXT","LED Non-Int Ballast",null,59,null,"Electronic","Non-Integrated Ballast LED, 59W, any bulb shape, any application",59,"Light Emitting Diode (LED)",15,"Y"]
["LED059.5-FIXT","LED Non-Int Ballast",null,59.5,null,"Electronic","Non-Integrated Ballast LED, 59.5W, any bulb shape, any application",59.5,"Light Emitting Diode (LED)",15,"Y"]
["LED060-FIXT","LED Non-Int Ballast",null,60,null,"Electronic","Non-Integrated Ballast LED, 60W, any bulb shape, any application",60,"Light Emitting Diode (LED)",15,"Y"]
["LED060.5-FIXT","LED Non-Int Ballast",null,60.5,null,"Electronic","Non-Integrated Ballast LED, 60.5W, any bulb shape, any application",60.5,"Light Emitting Diode (LED)",15,"Y"]
["LED061-FIXT","LED Non-Int Ballast",null,61,null,"Electronic","Non-Integrated Ballast LED, 61W, any bulb shape, any application",61,"Light Emitting Diode (LED)",15,"Y"]
["LED061.5-FIXT","LED Non-Int Ballast",null,61.5,null,"Electronic","Non-Integrated Ballast LED, 61.5W, any bulb shape, any application",61.5,"Light Emitting Diode (LED)",15,"Y"]
["LED062-FIXT","LED Non-Int Ballast",null,62,null,"Electronic","Non-Integrated Ballast LED, 62W, any bulb shape, any application",62,"Light Emitting Diode (LED)",15,"Y"]
["LED062.5-FIXT","LED Non-Int Ballast",null,62.5,null,"Electronic","Non-Integrated Ballast LED, 62.5W, any bulb shape, any application",62.5,"Light Emitting Diode (LED)",15,"Y"]
["LED063-FIXT","LED Non-Int Ballast",null,63,null,"Electronic","Non-Integrated Ballast LED, 63W, any bulb shape, any application",63,"Light Emitting Diode (LED)",15,"Y"]
["LED063.5-FIXT","LED Non-Int Ballast",null,63.5,null,"Electronic","Non-Integrated Ballast LED, 63.5W, any bulb shape, any application",63.5,"Light Emitting Diode (LED)",15,"Y"]
["LED064-FIXT","LED Non-Int Ballast",null,64,null,"Electronic","Non-Integrated Ballast LED, 64W, any bulb shape, any application",64,"Light Emitting Diode (LED)",15,"Y"]
["LED064.5-FIXT","LED Non-Int Ballast",null,64.5,null,"Electronic","Non-Integrated Ballast LED, 64.5W, any bulb shape, any application",64.5,"Light Emitting Diode (LED)",15,"Y"]
["LED065-FIXT","LED Non-Int Ballast",null,65,null,"Electronic","Non-Integrated Ballast LED, 65W, any bulb shape, any application",65,"Light Emitting Diode (LED)",15,"Y"]
["LED065.5-FIXT","LED Non-Int Ballast",null,65.5,null,"Electronic","Non-Integrated Ballast LED, 65.5W, any bulb shape, any application",65.5,"Light Emitting Diode (LED)",15,"Y"]
["LED066-FIXT","LED Non-Int Ballast",null,66,null,"Electronic","Non-Integrated Ballast LED, 66W, any bulb shape, any application",66,"Light Emitting Diode (LED)",15,"Y"]
["LED066.5-FIXT","LED Non-Int Ballast",null,66.5,null,"Electronic","Non-Integrated Ballast LED, 66.5W, any bulb shape, any application",66.5,"Light Emitting Diode (LED)",15,"Y"]
["LED067-FIXT","LED Non-Int Ballast",null,67,null,"Electronic","Non-Integrated Ballast LED, 67W, any bulb shape, any application",67,"Light Emitting Diode (LED)",15,"Y"]
["LED067.5-FIXT","LED Non-Int Ballast",null,67.5,null,"Electronic","Non-Integrated Ballast LED, 67.5W, any bulb shape, any application",67.5,"Light Emitting Diode (LED)",15,"Y"]
["LED068-FIXT","LED Non-Int Ballast",null,68,null,"Electronic","Non-Integrated Ballast LED, 68W, any bulb shape, any application",68,"Light Emitting Diode (LED)",15,"Y"]
["LED068.5-FIXT","LED Non-Int Ballast",null,68.5,null,"Electronic","Non-Integrated Ballast LED, 68.5W, any bulb shape, any application",68.5,"Light Emitting Diode (LED)",15,"Y"]
["LED069-FIXT","LED Non-Int Ballast",null,69,null,"Electronic","Non-Integrated Ballast LED, 69W, any bulb shape, any application",69,"Light Emitting Diode (LED)",15,"Y"]
["LED069.5-FIXT","LED Non-Int Ballast",null,69.5,null,"Electronic","Non-Integrated Ballast LED, 69.5W, any bulb shape, any application",69.5,"Light Emitting Diode (LED)",15,"Y"]
["LED070-FIXT","LED Non-Int Ballast",null,70,null,"Electronic","Non-Integrated Ballast LED, 70W, any bulb shape, any application",70,"Light Emitting Diode (LED)",15,"Y"]
["LED070.5-FIXT","LED Non-Int Ballast",null,70.5,null,"Electronic","Non-Integrated Ballast LED, 70.5W, any bulb shape, any application",70.5,"Light Emitting Diode (LED)",15,"Y"]
["LED071-FIXT","LED Non-Int Ballast",null,71,null,"Electronic","Non-Integrated Ballast LED, 71W, any bulb shape, any application",71,"Light Emitting Diode (LED)",15,"Y"]
["LED071.5-FIXT","LED Non-Int Ballast",null,71.5,null,"Electronic","Non-Integrated Ballast LED, 71.5W, any bulb shape, any application",71.5,"Light Emitting Diode (LED)",15,"Y"]
["LED072-FIXT","LED Non-Int Ballast",null,72,null,"Electronic","Non-Integrated Ballast LED, 72W, any bulb shape, any application",72,"Light Emitting Diode (LED)",15,"Y"]
["LED072.5-FIXT","LED Non-Int Ballast",null,72.5,null,"Electronic","Non-Integrated Ballast LED, 72.5W, any bulb shape, any application",72.5,"Light Emitting Diode (LED)",15,"Y"]
["LED073-FIXT","LED Non-Int Ballast",null,73,null,"Electronic","Non-Integrated Ballast LED, 73W, any bulb shape, any application",73,"Light Emitting Diode (LED)",15,"Y"]
["LED073.5-FIXT","LED Non-Int Ballast",null,73.5,null,"Electronic","Non-Integrated Ballast LED, 73.5W, any bulb shape, any application",73.5,"Light Emitting Diode (LED)",15,"Y"]
["LED074-FIXT","LED Non-Int Ballast",null,74,null,"Electronic","Non-Integrated Ballast LED, 74W, any bulb shape, any application",74,"Light Emitting Diode (LED)",15,"Y"]
["LED074.5-FIXT","LED Non-Int Ballast",null,74.5,null,"Electronic","Non-Integrated Ballast LED, 74.5W, any bulb shape, any application",74.5,"Light Emitting Diode (LED)",15,"Y"]
["LED075-FIXT","LED Non-Int Ballast",null,75,null,"Electronic","Non-Integrated Ballast LED, 75W, any bulb shape, any application",75,"Light Emitting Diode (LED)",15,"Y"]
["LED075.5-FIXT","LED Non-Int Ballast",null,75.5,null,"Electronic","Non-Integrated Ballast LED, 75.5W, any bulb shape, any application",75.5,"Light Emitting Diode (LED)",15,"Y"]
["LED076-FIXT","LED Non-Int Ballast",null,76,null,"Electronic","Non-Integrated Ballast LED, 76W, any bulb shape, any application",76,"Light Emitting Diode (LED)",15,"Y"]
["LED076.5-FIXT","LED Non-Int Ballast",null,76.5,null,"Electronic","Non-Integrated Ballast LED, 76.5W, any bulb shape, any application",76.5,"Light Emitting Diode (LED)",15,"Y"]
["LED077-FIXT","LED Non-Int Ballast",null,77,null,"Electronic","Non-Integrated Ballast LED, 77W, any bulb shape, any application",77,"Light Emitting Diode (LED)",15,"Y"]
["LED077.5-FIXT","LED Non-Int Ballast",null,77.5,null,"Electronic","Non-Integrated Ballast LED, 77.5W, any bulb shape, any application",77.5,"Light Emitting Diode (LED)",15,"Y"]
["LED078-FIXT","LED Non-Int Ballast",null,78,null,"Electronic","Non-Integrated Ballast LED, 78W, any bulb shape, any application",78,"Light Emitting Diode (LED)",15,"Y"]
["LED078.5-FIXT","LED Non-Int Ballast",null,78.5,null,"Electronic","Non-Integrated Ballast LED, 78.5W, any bulb shape, any application",78.5,"Light Emitting Diode (LED)",15,"Y"]
["LED079-FIXT","LED Non-Int Ballast",null,79,null,"Electronic","Non-Integrated Ballast LED, 79W, any bulb shape, any application",79,"Light Emitting Diode (LED)",15,"Y"]
["LED079.5-FIXT","LED Non-Int Ballast",null,79.5,null,"Electronic","Non-Integrated Ballast LED, 79.5W, any bulb shape, any application",79.5,"Light Emitting Diode (LED)",15,"Y"]
["LED080-FIXT","LED Non-Int Ballast",null,80,null,"Electronic","Non-Integrated Ballast LED, 80W, any bulb shape, any application",80,"Light Emitting Diode (LED)",15,"Y"]
["LED080.5-FIXT","LED Non-Int Ballast",null,80.5,null,"Electronic","Non-Integrated Ballast LED, 80.5W, any bulb shape, any application",80.5,"Light Emitting Diode (LED)",15,"Y"]
["LED081-FIXT","LED Non-Int Ballast",null,81,null,"Electronic","Non-Integrated Ballast LED, 81W, any bulb shape, any application",81,"Light Emitting Diode (LED)",15,"Y"]
["LED081.5-FIXT","LED Non-Int Ballast",null,81.5,null,"Electronic","Non-Integrated Ballast LED, 81.5W, any bulb shape, any application",81.5,"Light Emitting Diode (LED)",15,"Y"]
["LED082-FIXT","LED Non-Int Ballast",null,82,null,"Electronic","Non-Integrated Ballast LED, 82W, any bulb shape, any application",82,"Light Emitting Diode (LED)",15,"Y"]
["LED082.5-FIXT","LED Non-Int Ballast",null,82.5,null,"Electronic","Non-Integrated Ballast LED, 82.5W, any bulb shape, any application",82.5,"Light Emitting Diode (LED)",15,"Y"]
["LED083-FIXT","LED Non-Int Ballast",null,83,null,"Electronic","Non-Integrated Ballast LED, 83W, any bulb shape, any application",83,"Light Emitting Diode (LED)",15,"Y"]
["LED083.5-FIXT","LED Non-Int Ballast",null,83.5,null,"Electronic","Non-Integrated Ballast LED, 83.5W, any bulb shape, any application",83.5,"Light Emitting Diode (LED)",15,"Y"]
["LED084-FIXT","LED Non-Int Ballast",null,84,null,"Electronic","Non-Integrated Ballast LED, 84W, any bulb shape, any application",84,"Light Emitting Diode (LED)",15,"Y"]
["LED084.5-FIXT","LED Non-Int Ballast",null,84.5,null,"Electronic","Non-Integrated Ballast LED, 84.5W, any bulb shape, any application",84.5,"Light Emitting Diode (LED)",15,"Y"]
["LED085-FIXT","LED Non-Int Ballast",null,85,null,"Electronic","Non-Integrated Ballast LED, 85W, any bulb shape, any application",85,"Light Emitting Diode (LED)",15,"Y"]
["LED085.5-FIXT","LED Non-Int Ballast",null,85.5,null,"Electronic","Non-Integrated Ballast LED, 85.5W, any bulb shape, any application",85.5,"Light Emitting Diode (LED)",15,"Y"]
["LED086-FIXT","LED Non-Int Ballast",null,86,null,"Electronic","Non-Integrated Ballast LED, 86W, any bulb shape, any application",86,"Light Emitting Diode (LED)",15,"Y"]
["LED086.5-FIXT","LED Non-Int Ballast",null,86.5,null,"Electronic","Non-Integrated Ballast LED, 86.5W, any bulb shape, any application",86.5,"Light Emitting Diode (LED)",15,"Y"]
["LED087-FIXT","LED Non-Int Ballast",null,87,null,"Electronic","Non-Integrated Ballast LED, 87W, any bulb shape, any application",87,"Light Emitting Diode (LED)",15,"Y"]
["LED087.5-FIXT","LED Non-Int Ballast",null,87.5,null,"Electronic","Non-Integrated Ballast LED, 87.5W, any bulb shape, any application",87.5,"Light Emitting Diode (LED)",15,"Y"]
["LED088-FIXT","LED Non-Int Ballast",null,88,null,"Electronic","Non-Integrated Ballast LED, 88W, any bulb shape, any application",88,"Light Emitting Diode (LED)",15,"Y"]
["LED088.5-FIXT","LED Non-Int Ballast",null,88.5,null,"Electronic","Non-Integrated Ballast LED, 88.5W, any bulb shape, any application",88.5,"Light Emitting Diode (LED)",15,"Y"]
["LED089-FIXT","LED Non-Int Ballast",null,89,null,"Electronic","Non-Integrated Ballast LED, 89W, any bulb shape, any application",89,"Light Emitting Diode (LED)",15,"Y"]
["LED089.5-FIXT","LED Non-Int Ballast",null,89.5,null,"Electronic","Non-Integrated Ballast LED, 89.5W, any bulb shape, any application",89.5,"Light Emitting Diode (LED)",15,"Y"]
["LED090-FIXT","LED Non-Int Ballast",null,90,null,"Electronic","Non-Integrated Ballast LED, 90W, any bulb shape, any application",90,"Light Emitting Diode (LED)",15,"Y"]
["LED090.5-FIXT","LED Non-Int Ballast",null,90.5,null,"Electronic","Non-Integrated Ballast LED, 90.5W, any bulb shape, any application",90.5,"Light Emitting Diode (LED)",15,"Y"]
["LED091-FIXT","LED Non-Int Ballast",null,91,null,"Electronic","Non-Integrated Ballast LED, 91W, any bulb shape, any application",91,"Light Emitting Diode (LED)",15,"Y"]
["LED091.5-FIXT","LED Non-Int Ballast",null,91.5,null,"Electronic","Non-Integrated Ballast LED, 91.5W, any bulb shape, any application",91.5,"Light Emitting Diode (LED)",15,"Y"]
["LED092-FIXT","LED Non-Int Ballast",null,92,null,"Electronic","Non-Integrated Ballast LED, 92W, any bulb shape, any application",92,"Light Emitting Diode (LED)",15,"Y"]
["LED092.5-FIXT","LED Non-Int Ballast",null,92.5,null,"Electronic","Non-Integrated Ballast LED, 92.5W, any bulb shape, any application",92.5,"Light Emitting Diode (LED)",15,"Y"]
["LED093-FIXT","LED Non-Int Ballast",null,93,null,"Electronic","Non-Integrated Ballast LED, 93W, any bulb shape, any application",93,"Light Emitting Diode (LED)",15,"Y"]
["LED093.5-FIXT","LED Non-Int Ballast",null,93.5,null,"Electronic","Non-Integrated Ballast LED, 93.5W, any bulb shape, any application",93.5,"Light Emitting Diode (LED)",15,"Y"]
["LED094-FIXT","LED Non-Int Ballast",null,94,null,"Electronic","Non-Integrated Ballast LED, 94W, any bulb shape, any application",94,"Light Emitting Diode (LED)",15,"Y"]
["LED094.5-FIXT","LED Non-Int Ballast",null,94.5,null,"Electronic","Non-Integrated Ballast LED, 94.5W, any bulb shape, any application",94.5,"Light Emitting Diode (LED)",15,"Y"]
["LED095-FIXT","LED Non-Int Ballast",null,95,null,"Electronic","Non-Integrated Ballast LED, 95W, any bulb shape, any application",95,"Light Emitting Diode (LED)",15,"Y"]
["LED095.5-FIXT","LED Non-Int Ballast",null,95.5,null,"Electronic","Non-Integrated Ballast LED, 95.5W, any bulb shape, any application",95.5,"Light Emitting Diode (LED)",15,"Y"]
["LED096-FIXT","LED Non-Int Ballast",null,96,null,"Electronic","Non-Integrated Ballast LED, 96W, any bulb shape, any application",96,"Light Emitting Diode (LED)",15,"Y"]
["LED096.5-FIXT","LED Non-Int Ballast",null,96.5,null,"Electronic","Non-Integrated Ballast LED, 96.5W, any bulb shape, any application",96.5,"Light Emitting Diode (LED)",15,"Y"]
["LED097-FIXT","LED Non-Int Ballast",null,97,null,"Electronic","Non-Integrated Ballast LED, 97W, any bulb shape, any application",97,"Light Emitting Diode (LED)",15,"Y"]
["LED097.5-FIXT","LED Non-Int Ballast",null,97.5,null,"Electronic","Non-Integrated Ballast LED, 97.5W, any bulb shape, any application",97.5,"Light Emitting Diode (LED)",15,"Y"]
["LED098-FIXT","LED Non-Int Ballast",null,98,null,"Electronic","Non-Integrated Ballast LED, 98W, any bulb shape, any application",98,"Light Emitting Diode (LED)",15,"Y"]
["LED098.5-FIXT","LED Non-Int Ballast",null,98.5,null,"Electronic","Non-Integrated Ballast LED, 98.5W, any bulb shape, any application",98.5,"Light Emitting Diode (LED)",15,"Y"]
["LED099-FIXT","LED Non-Int Ballast",null,99,null,"Electronic","Non-Integrated Ballast LED, 99W, any bulb shape, any application",99,"Light Emitting Diode (LED)",15,"Y"]
["LED099.5-FIXT","LED Non-Int Ballast",null,99.5,null,"Electronic","Non-Integrated Ballast LED, 99.5W, any bulb shape, any application",99.5,"Light Emitting Diode (LED)",15,"Y"]
["LED100-FIXT","LED Non-Int Ballast",null,100,null,"Electronic","Non-Integrated Ballast LED, 100W, any bulb shape, any application",100,"Light Emitting Diode (LED)",15,"Y"]
["LED101-FIXT","LED Non-Int Ballast",null,101,null,"Electronic","Non-Integrated Ballast LED, 101W, any bulb shape, any application",101,"Light Emitting Diode (LED)",15,"Y"]
["LED102-FIXT","LED Non-Int Ballast",null,102,null,"Electronic","Non-Integrated Ballast LED, 102W, any bulb shape, any application",102,"Light Emitting Diode (LED)",15,"Y"]
["LED103-FIXT","LED Non-Int Ballast",null,103,null,"Electronic","Non-Integrated Ballast LED, 103W, any bulb shape, any application",103,"Light Emitting Diode (LED)",15,"Y"]
["LED104-FIXT","LED Non-Int Ballast",null,104,null,"Electronic","Non-Integrated Ballast LED, 104W, any bulb shape, any application",104,"Light Emitting Diode (LED)",15,"Y"]
["LED105-FIXT","LED Non-Int Ballast",null,105,null,"Electronic","Non-Integrated Ballast LED, 105W, any bulb shape, any application",105,"Light Emitting Diode (LED)",15,"Y"]
["LED106-FIXT","LED Non-Int Ballast",null,106,null,"Electronic","Non-Integrated Ballast LED, 106W, any bulb shape, any application",106,"Light Emitting Diode (LED)",15,"Y"]
["LED107-FIXT","LED Non-Int Ballast",null,107,null,"Electronic","Non-Integrated Ballast LED, 107W, any bulb shape, any application",107,"Light Emitting Diode (LED)",15,"Y"]
["LED108-FIXT","LED Non-Int Ballast",null,108,null,"Electronic","Non-Integrated Ballast LED, 108W, any bulb shape, any application",108,"Light Emitting Diode (LED)",15,"Y"]
["LED109-FIXT","LED Non-Int Ballast",null,109,null,"Electronic","Non-Integrated Ballast LED, 109W, any bulb shape, any application",109,"Light Emitting Diode (LED)",15,"Y"]
["LED110-FIXT","LED Non-Int Ballast",null,110,null,"Electronic","Non-Integrated Ballast LED, 110W, any bulb shape, any application",110,"Light Emitting Diode (LED)",15,"Y"]
["LED111-FIXT","LED Non-Int Ballast",null,111,null,"Electronic","Non-Integrated Ballast LED, 111W, any bulb shape, any application",111,"Light Emitting Diode (LED)",15,"Y"]
["LED112-FIXT","LED Non-Int Ballast",null,112,null,"Electronic","Non-Integrated Ballast LED, 112W, any bulb shape, any application",112,"Light Emitting Diode (LED)",15,"Y"]
["LED113-FIXT","LED Non-Int Ballast",null,113,null,"Electronic","Non-Integrated Ballast LED, 113W, any bulb shape, any application",113,"Light Emitting Diode (LED)",15,"Y"]
["LED114-FIXT","LED Non-Int Ballast",null,114,null,"Electronic","Non-Integrated Ballast LED, 114W, any bulb shape, any application",114,"Light Emitting Diode (LED)",15,"Y"]
["LED115-FIXT","LED Non-Int Ballast",null,115,null,"Electronic","Non-Integrated Ballast LED, 115W, any bulb shape, any application",115,"Light Emitting Diode (LED)",15,"Y"]
["LED116-FIXT","LED Non-Int Ballast",null,116,null,"Electronic","Non-Integrated Ballast LED, 116W, any bulb shape, any application",116,"Light Emitting Diode (LED)",15,"Y"]
["LED117-FIXT","LED Non-Int Ballast",null,117,null,"Electronic","Non-Integrated Ballast LED, 117W, any bulb shape, any application",117,"Light Emitting Diode (LED)",15,"Y"]
["LED118-FIXT","LED Non-Int Ballast",null,118,null,"Electronic","Non-Integrated Ballast LED, 118W, any bulb shape, any application",118,"Light Emitting Diode (LED)",15,"Y"]
["LED119-FIXT","LED Non-Int Ballast",null,119,null,"Electronic","Non-Integrated Ballast LED, 119W, any bulb shape, any application",119,"Light Emitting Diode (LED)",15,"Y"]
["LED120-FIXT","LED Non-Int Ballast",null,120,null,"Electronic","Non-Integrated Ballast LED, 120W, any bulb shape, any application",120,"Light Emitting Diode (LED)",15,"Y"]
["LED121-FIXT","LED Non-Int Ballast",null,121,null,"Electronic","Non-Integrated Ballast LED, 121W, any bulb shape, any application",121,"Light Emitting Diode (LED)",15,"Y"]
["LED122-FIXT","LED Non-Int Ballast",null,122,null,"Electronic","Non-Integrated Ballast LED, 122W, any bulb shape, any application",122,"Light Emitting Diode (LED)",15,"Y"]
["LED123-FIXT","LED Non-Int Ballast",null,123,null,"Electronic","Non-Integrated Ballast LED, 123W, any bulb shape, any application",123,"Light Emitting Diode (LED)",15,"Y"]
["LED124-FIXT","LED Non-Int Ballast",null,124,null,"Electronic","Non-Integrated Ballast LED, 124W, any bulb shape, any application",124,"Light Emitting Diode (LED)",15,"Y"]
["LED125-FIXT","LED Non-Int Ballast",null,125,null,"Electronic","Non-Integrated Ballast LED, 125W, any bulb shape, any application",125,"Light Emitting Diode (LED)",15,"Y"]
["LED126-FIXT","LED Non-Int Ballast",null,126,null,"Electronic","Non-Integrated Ballast LED, 126W, any bulb shape, any application",126,"Light Emitting Diode (LED)",15,"Y"]
["LED127-FIXT","LED Non-Int Ballast",null,127,null,"Electronic","Non-Integrated Ballast LED, 127W, any bulb shape, any application",127,"Light Emitting Diode (LED)",15,"Y"]
["LED128-FIXT","LED Non-Int Ballast",null,128,null,"Electronic","Non-Integrated Ballast LED, 128W, any bulb shape, any application",128,"Light Emitting Diode (LED)",15,"Y"]
["LED129-FIXT","LED Non-Int Ballast",null,129,null,"Electronic","Non-Integrated Ballast LED, 129W, any bulb shape, any application",129,"Light Emitting Diode (LED)",15,"Y"]
["LED130-FIXT","LED Non-Int Ballast",null,130,null,"Electronic","Non-Integrated Ballast LED, 130W, any bulb shape, any application",130,"Light Emitting Diode (LED)",15,"Y"]
["LED131-FIXT","LED Non-Int Ballast",null,131,null,"Electronic","Non-Integrated Ballast LED, 131W, any bulb shape, any application",131,"Light Emitting Diode (LED)",15,"Y"]
["LED132-FIXT","LED Non-Int Ballast",null,132,null,"Electronic","Non-Integrated Ballast LED, 132W, any bulb shape, any application",132,"Light Emitting Diode (LED)",15,"Y"]
["LED133-FIXT","LED Non-Int Ballast",null,133,null,"Electronic","Non-Integrated Ballast LED, 133W, any bulb shape, any application",133,"Light Emitting Diode (LED)",15,"Y"]
["LED134-FIXT","LED Non-Int Ballast",null,134,null,"Electronic","Non-Integrated Ballast LED, 134W, any bulb shape, any application",134,"Light Emitting Diode (LED)",15,"Y"]
["LED135-FIXT","LED Non-Int Ballast",null,135,null,"Electronic","Non-Integrated Ballast LED, 135W, any bulb shape, any application",135,"Light Emitting Diode (LED)",15,"Y"]
["LED136-FIXT","LED Non-Int Ballast",null,136,null,"Electronic","Non-Integrated Ballast LED, 136W, any bulb shape, any application",136,"Light Emitting Diode (LED)",15,"Y"]
["LED137-FIXT","LED Non-Int Ballast",null,137,null,"Electronic","Non-Integrated Ballast LED, 137W, any bulb shape, any application",137,"Light Emitting Diode (LED)",15,"Y"]
["LED138-FIXT","LED Non-Int Ballast",null,138,null,"Electronic","Non-Integrated Ballast LED, 138W, any bulb shape, any application",138,"Light Emitting Diode (LED)",15,"Y"]
["LED139-FIXT","LED Non-Int Ballast",null,139,null,"Electronic","Non-Integrated Ballast LED, 139W, any bulb shape, any application",139,"Light Emitting Diode (LED)",15,"Y"]
["LED140-FIXT","LED Non-Int Ballast",null,140,null,"Electronic","Non-Integrated Ballast LED, 140W, any bulb shape, any application",140,"Light Emitting Diode (LED)",15,"Y"]
["LED141-FIXT","LED Non-Int Ballast",null,141,null,"Electronic","Non-Integrated Ballast LED, 141W, any bulb shape, any application",141,"Light Emitting Diode (LED)",15,"Y"]
["LED142-FIXT","LED Non-Int Ballast",null,142,null,"Electronic","Non-Integrated Ballast LED, 142W, any bulb shape, any application",142,"Light Emitting Diode (LED)",15,"Y"]
["LED143-FIXT","LED Non-Int Ballast",null,143,null,"Electronic","Non-Integrated Ballast LED, 143W, any bulb shape, any application",143,"Light Emitting Diode (LED)",15,"Y"]
["LED144-FIXT","LED Non-Int Ballast",null,144,null,"Electronic","Non-Integrated Ballast LED, 144W, any bulb shape, any application",144,"Light Emitting Diode (LED)",15,"Y"]
["LED145-FIXT","LED Non-Int Ballast",null,145,null,"Electronic","Non-Integrated Ballast LED, 145W, any bulb shape, any application",145,"Light Emitting Diode (LED)",15,"Y"]
["LED146-FIXT","LED Non-Int Ballast",null,146,null,"Electronic","Non-Integrated Ballast LED, 146W, any bulb shape, any application",146,"Light Emitting Diode (LED)",15,"Y"]
["LED147-FIXT","LED Non-Int Ballast",null,147,null,"Electronic","Non-Integrated Ballast LED, 147W, any bulb shape, any application",147,"Light Emitting Diode (LED)",15,"Y"]
["LED148-FIXT","LED Non-Int Ballast",null,148,null,"Electronic","Non-Integrated Ballast LED, 148W, any bulb shape, any application",148,"Light Emitting Diode (LED)",15,"Y"]
["LED149-FIXT","LED Non-Int Ballast",null,149,null,"Electronic","Non-Integrated Ballast LED, 149W, any bulb shape, any application",149,"Light Emitting Diode (LED)",15,"Y"]
["LED150-FIXT","LED Non-Int Ballast",null,150,null,"Electronic","Non-Integrated Ballast LED, 150W, any bulb shape, any application",150,"Light Emitting Diode (LED)",15,"Y"]
["LED151-FIXT","LED Non-Int Ballast",null,151,null,"Electronic","Non-Integrated Ballast LED, 151W, any bulb shape, any application",151,"Light Emitting Diode (LED)",15,"Y"]
["LED152-FIXT","LED Non-Int Ballast",null,152,null,"Electronic","Non-Integrated Ballast LED, 152W, any bulb shape, any application",152,"Light Emitting Diode (LED)",15,"Y"]
["LED153-FIXT","LED Non-Int Ballast",null,153,null,"Electronic","Non-Integrated Ballast LED, 153W, any bulb shape, any application",153,"Light Emitting Diode (LED)",15,"Y"]
["LED154-FIXT","LED Non-Int Ballast",null,154,null,"Electronic","Non-Integrated Ballast LED, 154W, any bulb shape, any application",154,"Light Emitting Diode (LED)",15,"Y"]
["LED155-FIXT","LED Non-Int Ballast",null,155,null,"Electronic","Non-Integrated Ballast LED, 155W, any bulb shape, any application",155,"Light Emitting Diode (LED)",15,"Y"]
["LED156-FIXT","LED Non-Int Ballast",null,156,null,"Electronic","Non-Integrated Ballast LED, 156W, any bulb shape, any application",156,"Light Emitting Diode (LED)",15,"Y"]
["LED157-FIXT","LED Non-Int Ballast",null,157,null,"Electronic","Non-Integrated Ballast LED, 157W, any bulb shape, any application",157,"Light Emitting Diode (LED)",15,"Y"]
["LED158-FIXT","LED Non-Int Ballast",null,158,null,"Electronic","Non-Integrated Ballast LED, 158W, any bulb shape, any application",158,"Light Emitting Diode (LED)",15,"Y"]
["LED159-FIXT","LED Non-Int Ballast",null,159,null,"Electronic","Non-Integrated Ballast LED, 159W, any bulb shape, any application",159,"Light Emitting Diode (LED)",15,"Y"]
["LED160-FIXT","LED Non-Int Ballast",null,160,null,"Electronic","Non-Integrated Ballast LED, 160W, any bulb shape, any application",160,"Light Emitting Diode (LED)",15,"Y"]
["LED161-FIXT","LED Non-Int Ballast",null,161,null,"Electronic","Non-Integrated Ballast LED, 161W, any bulb shape, any application",161,"Light Emitting Diode (LED)",15,"Y"]
["LED162-FIXT","LED Non-Int Ballast",null,162,null,"Electronic","Non-Integrated Ballast LED, 162W, any bulb shape, any application",162,"Light Emitting Diode (LED)",15,"Y"]
["LED163-FIXT","LED Non-Int Ballast",null,163,null,"Electronic","Non-Integrated Ballast LED, 163W, any bulb shape, any application",163,"Light Emitting Diode (LED)",15,"Y"]
["LED164-FIXT","LED Non-Int Ballast",null,164,null,"Electronic","Non-Integrated Ballast LED, 164W, any bulb shape, any application",164,"Light Emitting Diode (LED)",15,"Y"]
["LED165-FIXT","LED Non-Int Ballast",null,165,null,"Electronic","Non-Integrated Ballast LED, 165W, any bulb shape, any application",165,"Light Emitting Diode (LED)",15,"Y"]
["LED166-FIXT","LED Non-Int Ballast",null,166,null,"Electronic","Non-Integrated Ballast LED, 166W, any bulb shape, any application",166,"Light Emitting Diode (LED)",15,"Y"]
["LED167-FIXT","LED Non-Int Ballast",null,167,null,"Electronic","Non-Integrated Ballast LED, 167W, any bulb shape, any application",167,"Light Emitting Diode (LED)",15,"Y"]
["LED168-FIXT","LED Non-Int Ballast",null,168,null,"Electronic","Non-Integrated Ballast LED, 168W, any bulb shape, any application",168,"Light Emitting Diode (LED)",15,"Y"]
["LED169-FIXT","LED Non-Int Ballast",null,169,null,"Electronic","Non-Integrated Ballast LED, 169W, any bulb shape, any application",169,"Light Emitting Diode (LED)",15,"Y"]
["LED170-FIXT","LED Non-Int Ballast",null,170,null,"Electronic","Non-Integrated Ballast LED, 170W, any bulb shape, any application",170,"Light Emitting Diode (LED)",15,"Y"]
["LED171-FIXT","LED Non-Int Ballast",null,171,null,"Electronic","Non-Integrated Ballast LED, 171W, any bulb shape, any application",171,"Light Emitting Diode (LED)",15,"Y"]
["LED172-FIXT","LED Non-Int Ballast",null,172,null,"Electronic","Non-Integrated Ballast LED, 172W, any bulb shape, any application",172,"Light Emitting Diode (LED)",15,"Y"]
["LED173-FIXT","LED Non-Int Ballast",null,173,null,"Electronic","Non-Integrated Ballast LED, 173W, any bulb shape, any application",173,"Light Emitting Diode (LED)",15,"Y"]
["LED174-FIXT","LED Non-Int Ballast",null,174,null,"Electronic","Non-Integrated Ballast LED, 174W, any bulb shape, any application",174,"Light Emitting Diode (LED)",15,"Y"]
["LED175-FIXT","LED Non-Int Ballast",null,175,null,"Electronic","Non-Integrated Ballast LED, 175W, any bulb shape, any application",175,"Light Emitting Diode (LED)",15,"Y"]
["LED176-FIXT","LED Non-Int Ballast",null,176,null,"Electronic","Non-Integrated Ballast LED, 176W, any bulb shape, any application",176,"Light Emitting Diode (LED)",15,"Y"]
["LED177-FIXT","LED Non-Int Ballast",null,177,null,"Electronic","Non-Integrated Ballast LED, 177W, any bulb shape, any application",177,"Light Emitting Diode (LED)",15,"Y"]
["LED178-FIXT","LED Non-Int Ballast",null,178,null,"Electronic","Non-Integrated Ballast LED, 178W, any bulb shape, any application",178,"Light Emitting Diode (LED)",15,"Y"]
["LED179-FIXT","LED Non-Int Ballast",null,179,null,"Electronic","Non-Integrated Ballast LED, 179W, any bulb shape, any application",179,"Light Emitting Diode (LED)",15,"Y"]
["LED180-FIXT","LED Non-Int Ballast",null,180,null,"Electronic","Non-Integrated Ballast LED, 180W, any bulb shape, any application",180,"Light Emitting Diode (LED)",15,"Y"]
["LED181-FIXT","LED Non-Int Ballast",null,181,null,"Electronic","Non-Integrated Ballast LED, 181W, any bulb shape, any application",181,"Light Emitting Diode (LED)",15,"Y"]
["LED182-FIXT","LED Non-Int Ballast",null,182,null,"Electronic","Non-Integrated Ballast LED, 182W, any bulb shape, any application",182,"Light Emitting Diode (LED)",15,"Y"]
["LED183-FIXT","LED Non-Int Ballast",null,183,null,"Electronic","Non-Integrated Ballast LED, 183W, any bulb shape, any application",183,"Light Emitting Diode (LED)",15,"Y"]
["LED184-FIXT","LED Non-Int Ballast",null,184,null,"Electronic","Non-Integrated Ballast LED, 184W, any bulb shape, any application",184,"Light Emitting Diode (LED)",15,"Y"]
["LED185-FIXT","LED Non-Int Ballast",null,185,null,"Electronic","Non-Integrated Ballast LED, 185W, any bulb shape, any application",185,"Light Emitting Diode (LED)",15,"Y"]
["LED186-FIXT","LED Non-Int Ballast",null,186,null,"Electronic","Non-Integrated Ballast LED, 186W, any bulb shape, any application",186,"Light Emitting Diode (LED)",15,"Y"]
["LED187-FIXT","LED Non-Int Ballast",null,187,null,"Electronic","Non-Integrated Ballast LED, 187W, any bulb shape, any application",187,"Light Emitting Diode (LED)",15,"Y"]
["LED188-FIXT","LED Non-Int Ballast",null,188,null,"Electronic","Non-Integrated Ballast LED, 188W, any bulb shape, any application",188,"Light Emitting Diode (LED)",15,"Y"]
["LED189-FIXT","LED Non-Int Ballast",null,189,null,"Electronic","Non-Integrated Ballast LED, 189W, any bulb shape, any application",189,"Light Emitting Diode (LED)",15,"Y"]
["LED190-FIXT","LED Non-Int Ballast",null,190,null,"Electronic","Non-Integrated Ballast LED, 190W, any bulb shape, any application",190,"Light Emitting Diode (LED)",15,"Y"]
["LED191-FIXT","LED Non-Int Ballast",null,191,null,"Electronic","Non-Integrated Ballast LED, 191W, any bulb shape, any application",191,"Light Emitting Diode (LED)",15,"Y"]
["LED192-FIXT","LED Non-Int Ballast",null,192,null,"Electronic","Non-Integrated Ballast LED, 192W, any bulb shape, any application",192,"Light Emitting Diode (LED)",15,"Y"]
["LED193-FIXT","LED Non-Int Ballast",null,193,null,"Electronic","Non-Integrated Ballast LED, 193W, any bulb shape, any application",193,"Light Emitting Diode (LED)",15,"Y"]
["LED194-FIXT","LED Non-Int Ballast",null,194,null,"Electronic","Non-Integrated Ballast LED, 194W, any bulb shape, any application",194,"Light Emitting Diode (LED)",15,"Y"]
["LED195-FIXT","LED Non-Int Ballast",null,195,null,"Electronic","Non-Integrated Ballast LED, 195W, any bulb shape, any application",195,"Light Emitting Diode (LED)",15,"Y"]
["LED196-FIXT","LED Non-Int Ballast",null,196,null,"Electronic","Non-Integrated Ballast LED, 196W, any bulb shape, any application",196,"Light Emitting Diode (LED)",15,"Y"]
["LED197-FIXT","LED Non-Int Ballast",null,197,null,"Electronic","Non-Integrated Ballast LED, 197W, any bulb shape, any application",197,"Light Emitting Diode (LED)",15,"Y"]
["LED198-FIXT","LED Non-Int Ballast",null,198,null,"Electronic","Non-Integrated Ballast LED, 198W, any bulb shape, any application",198,"Light Emitting Diode (LED)",15,"Y"]
["LED199-FIXT","LED Non-Int Ballast",null,199,null,"Electronic","Non-Integrated Ballast LED, 199W, any bulb shape, any application",199,"Light Emitting Diode (LED)",15,"Y"]
["LED200-FIXT","LED Non-Int Ballast",null,200,null,"Electronic","Non-Integrated Ballast LED, 200W, any bulb shape, any application",200,"Light Emitting Diode (LED)",15,"Y"]
["LED201-FIXT","LED Non-Int Ballast",null,201,null,"Electronic","Non-Integrated Ballast LED, 201W, any bulb shape, any application",201,"Light Emitting Diode (LED)",15,"Y"]
["LED202-FIXT","LED Non-Int Ballast",null,202,null,"Electronic","Non-Integrated Ballast LED, 202W, any bulb shape, any application",202,"Light Emitting Diode (LED)",15,"Y"]
["LED203-FIXT","LED Non-Int Ballast",null,203,null,"Electronic","Non-Integrated Ballast LED, 203W, any bulb shape, any application",203,"Light Emitting Diode (LED)",15,"Y"]
["LED204-FIXT","LED Non-Int Ballast",null,204,null,"Electronic","Non-Integrated Ballast LED, 204W, any bulb shape, any application",204,"Light Emitting Diode (LED)",15,"Y"]
["LED205-FIXT","LED Non-Int Ballast",null,205,null,"Electronic","Non-Integrated Ballast LED, 205W, any bulb shape, any application",205,"Light Emitting Diode (LED)",15,"Y"]
["LED206-FIXT","LED Non-Int Ballast",null,206,null,"Electronic","Non-Integrated Ballast LED, 206W, any bulb shape, any application",206,"Light Emitting Diode (LED)",15,"Y"]
["LED207-FIXT","LED Non-Int Ballast",null,207,null,"Electronic","Non-Integrated Ballast LED, 207W, any bulb shape, any application",207,"Light Emitting Diode (LED)",15,"Y"]
["LED208-FIXT","LED Non-Int Ballast",null,208,null,"Electronic","Non-Integrated Ballast LED, 208W, any bulb shape, any application",208,"Light Emitting Diode (LED)",15,"Y"]
["LED209-FIXT","LED Non-Int Ballast",null,209,null,"Electronic","Non-Integrated Ballast LED, 209W, any bulb shape, any application",209,"Light Emitting Diode (LED)",15,"Y"]
["LED210-FIXT","LED Non-Int Ballast",null,210,null,"Electronic","Non-Integrated Ballast LED, 210W, any bulb shape, any application",210,"Light Emitting Diode (LED)",15,"Y"]
["LED211-FIXT","LED Non-Int Ballast",null,211,null,"Electronic","Non-Integrated Ballast LED, 211W, any bulb shape, any application",211,"Light Emitting Diode (LED)",15,"Y"]
["LED212-FIXT","LED Non-Int Ballast",null,212,null,"Electronic","Non-Integrated Ballast LED, 212W, any bulb shape, any application",212,"Light Emitting Diode (LED)",15,"Y"]
["LED213-FIXT","LED Non-Int Ballast",null,213,null,"Electronic","Non-Integrated Ballast LED, 213W, any bulb shape, any application",213,"Light Emitting Diode (LED)",15,"Y"]
["LED214-FIXT","LED Non-Int Ballast",null,214,null,"Electronic","Non-Integrated Ballast LED, 214W, any bulb shape, any application",214,"Light Emitting Diode (LED)",15,"Y"]
["LED215-FIXT","LED Non-Int Ballast",null,215,null,"Electronic","Non-Integrated Ballast LED, 215W, any bulb shape, any application",215,"Light Emitting Diode (LED)",15,"Y"]
["LED216-FIXT","LED Non-Int Ballast",null,216,null,"Electronic","Non-Integrated Ballast LED, 216W, any bulb shape, any application",216,"Light Emitting Diode (LED)",15,"Y"]
["LED217-FIXT","LED Non-Int Ballast",null,217,null,"Electronic","Non-Integrated Ballast LED, 217W, any bulb shape, any application",217,"Light Emitting Diode (LED)",15,"Y"]
["LED218-FIXT","LED Non-Int Ballast",null,218,null,"Electronic","Non-Integrated Ballast LED, 218W, any bulb shape, any application",218,"Light Emitting Diode (LED)",15,"Y"]
["LED219-FIXT","LED Non-Int Ballast",null,219,null,"Electronic","Non-Integrated Ballast LED, 219W, any bulb shape, any application",219,"Light Emitting Diode (LED)",15,"Y"]
["LED220-FIXT","LED Non-Int Ballast",null,220,null,"Electronic","Non-Integrated Ballast LED, 220W, any bulb shape, any application",220,"Light Emitting Diode (LED)",15,"Y"]
["LED221-FIXT","LED Non-Int Ballast",null,221,null,"Electronic","Non-Integrated Ballast LED, 221W, any bulb shape, any application",221,"Light Emitting Diode (LED)",15,"Y"]
["LED222-FIXT","LED Non-Int Ballast",null,222,null,"Electronic","Non-Integrated Ballast LED, 222W, any bulb shape, any application",222,"Light Emitting Diode (LED)",15,"Y"]
["LED223-FIXT","LED Non-Int Ballast",null,223,null,"Electronic","Non-Integrated Ballast LED, 223W, any bulb shape, any application",223,"Light Emitting Diode (LED)",15,"Y"]
["LED224-FIXT","LED Non-Int Ballast",null,224,null,"Electronic","Non-Integrated Ballast LED, 224W, any bulb shape, any application",224,"Light Emitting Diode (LED)",15,"Y"]
["LED225-FIXT","LED Non-Int Ballast",null,225,null,"Electronic","Non-Integrated Ballast LED, 225W, any bulb shape, any application",225,"Light Emitting Diode (LED)",15,"Y"]
["LED226-FIXT","LED Non-Int Ballast",null,226,null,"Electronic","Non-Integrated Ballast LED, 226W, any bulb shape, any application",226,"Light Emitting Diode (LED)",15,"Y"]
["LED227-FIXT","LED Non-Int Ballast",null,227,null,"Electronic","Non-Integrated Ballast LED, 227W, any bulb shape, any application",227,"Light Emitting Diode (LED)",15,"Y"]
["LED228-FIXT","LED Non-Int Ballast",null,228,null,"Electronic","Non-Integrated Ballast LED, 228W, any bulb shape, any application",228,"Light Emitting Diode (LED)",15,"Y"]
["LED229-FIXT","LED Non-Int Ballast",null,229,null,"Electronic","Non-Integrated Ballast LED, 229W, any bulb shape, any application",229,"Light Emitting Diode (LED)",15,"Y"]
["LED230-FIXT","LED Non-Int Ballast",null,230,null,"Electronic","Non-Integrated Ballast LED, 230W, any bulb shape, any application",230,"Light Emitting Diode (LED)",15,"Y"]
["LED231-FIXT","LED Non-Int Ballast",null,231,null,"Electronic","Non-Integrated Ballast LED, 231W, any bulb shape, any application",231,"Light Emitting Diode (LED)",15,"Y"]
["LED232-FIXT","LED Non-Int Ballast",null,232,null,"Electronic","Non-Integrated Ballast LED, 232W, any bulb shape, any application",232,"Light Emitting Diode (LED)",15,"Y"]
["LED233-FIXT","LED Non-Int Ballast",null,233,null,"Electronic","Non-Integrated Ballast LED, 233W, any bulb shape, any application",233,"Light Emitting Diode (LED)",15,"Y"]
["LED234-FIXT","LED Non-Int Ballast",null,234,null,"Electronic","Non-Integrated Ballast LED, 234W, any bulb shape, any application",234,"Light Emitting Diode (LED)",15,"Y"]
["LED235-FIXT","LED Non-Int Ballast",null,235,null,"Electronic","Non-Integrated Ballast LED, 235W, any bulb shape, any application",235,"Light Emitting Diode (LED)",15,"Y"]
["LED236-FIXT","LED Non-Int Ballast",null,236,null,"Electronic","Non-Integrated Ballast LED, 236W, any bulb shape, any application",236,"Light Emitting Diode (LED)",15,"Y"]
["LED237-FIXT","LED Non-Int Ballast",null,237,null,"Electronic","Non-Integrated Ballast LED, 237W, any bulb shape, any application",237,"Light Emitting Diode (LED)",15,"Y"]
["LED238-FIXT","LED Non-Int Ballast",null,238,null,"Electronic","Non-Integrated Ballast LED, 238W, any bulb shape, any application",238,"Light Emitting Diode (LED)",15,"Y"]
["LED239-FIXT","LED Non-Int Ballast",null,239,null,"Electronic","Non-Integrated Ballast LED, 239W, any bulb shape, any application",239,"Light Emitting Diode (LED)",15,"Y"]
["LED240-FIXT","LED Non-Int Ballast",null,240,null,"Electronic","Non-Integrated Ballast LED, 240W, any bulb shape, any application",240,"Light Emitting Diode (LED)",15,"Y"]
["LED241-FIXT","LED Non-Int Ballast",null,241,null,"Electronic","Non-Integrated Ballast LED, 241W, any bulb shape, any application",241,"Light Emitting Diode (LED)",15,"Y"]
["LED242-FIXT","LED Non-Int Ballast",null,242,null,"Electronic","Non-Integrated Ballast LED, 242W, any bulb shape, any application",242,"Light Emitting Diode (LED)",15,"Y"]
["LED243-FIXT","LED Non-Int Ballast",null,243,null,"Electronic","Non-Integrated Ballast LED, 243W, any bulb shape, any application",243,"Light Emitting Diode (LED)",15,"Y"]
["LED244-FIXT","LED Non-Int Ballast",null,244,null,"Electronic","Non-Integrated Ballast LED, 244W, any bulb shape, any application",244,"Light Emitting Diode (LED)",15,"Y"]
["LED245-FIXT","LED Non-Int Ballast",null,245,null,"Electronic","Non-Integrated Ballast LED, 245W, any bulb shape, any application",245,"Light Emitting Diode (LED)",15,"Y"]
["LED246-FIXT","LED Non-Int Ballast",null,246,null,"Electronic","Non-Integrated Ballast LED, 246W, any bulb shape, any application",246,"Light Emitting Diode (LED)",15,"Y"]
["LED247-FIXT","LED Non-Int Ballast",null,247,null,"Electronic","Non-Integrated Ballast LED, 247W, any bulb shape, any application",247,"Light Emitting Diode (LED)",15,"Y"]
["LED248-FIXT","LED Non-Int Ballast",null,248,null,"Electronic","Non-Integrated Ballast LED, 248W, any bulb shape, any application",248,"Light Emitting Diode (LED)",15,"Y"]
["LED249-FIXT","LED Non-Int Ballast",null,249,null,"Electronic","Non-Integrated Ballast LED, 249W, any bulb shape, any application",249,"Light Emitting Diode (LED)",15,"Y"]
["LED250-FIXT","LED Non-Int Ballast",null,250,null,"Electronic","Non-Integrated Ballast LED, 250W, any bulb shape, any application",250,"Light Emitting Diode (LED)",15,"Y"]
["LED251-FIXT","LED Non-Int Ballast",null,251,null,"Electronic","Non-Integrated Ballast LED, 251W, any bulb shape, any application",251,"Light Emitting Diode (LED)",15,"Y"]
["LED252-FIXT","LED Non-Int Ballast",null,252,null,"Electronic","Non-Integrated Ballast LED, 252W, any bulb shape, any application",252,"Light Emitting Diode (LED)",15,"Y"]
["LED253-FIXT","LED Non-Int Ballast",null,253,null,"Electronic","Non-Integrated Ballast LED, 253W, any bulb shape, any application",253,"Light Emitting Diode (LED)",15,"Y"]
["LED254-FIXT","LED Non-Int Ballast",null,254,null,"Electronic","Non-Integrated Ballast LED, 254W, any bulb shape, any application",254,"Light Emitting Diode (LED)",15,"Y"]
["LED255-FIXT","LED Non-Int Ballast",null,255,null,"Electronic","Non-Integrated Ballast LED, 255W, any bulb shape, any application",255,"Light Emitting Diode (LED)",15,"Y"]
["LED256-FIXT","LED Non-Int Ballast",null,256,null,"Electronic","Non-Integrated Ballast LED, 256W, any bulb shape, any application",256,"Light Emitting Diode (LED)",15,"Y"]
["LED257-FIXT","LED Non-Int Ballast",null,257,null,"Electronic","Non-Integrated Ballast LED, 257W, any bulb shape, any application",257,"Light Emitting Diode (LED)",15,"Y"]
["LED258-FIXT","LED Non-Int Ballast",null,258,null,"Electronic","Non-Integrated Ballast LED, 258W, any bulb shape, any application",258,"Light Emitting Diode (LED)",15,"Y"]
["LED259-FIXT","LED Non-Int Ballast",null,259,null,"Electronic","Non-Integrated Ballast LED, 259W, any bulb shape, any application",259,"Light Emitting Diode (LED)",15,"Y"]
["LED260-FIXT","LED Non-Int Ballast",null,260,null,"Electronic","Non-Integrated Ballast LED, 260W, any bulb shape, any application",260,"Light Emitting Diode (LED)",15,"Y"]
["LED261-FIXT","LED Non-Int Ballast",null,261,null,"Electronic","Non-Integrated Ballast LED, 261W, any bulb shape, any application",261,"Light Emitting Diode (LED)",15,"Y"]
["LED262-FIXT","LED Non-Int Ballast",null,262,null,"Electronic","Non-Integrated Ballast LED, 262W, any bulb shape, any application",262,"Light Emitting Diode (LED)",15,"Y"]
["LED263-FIXT","LED Non-Int Ballast",null,263,null,"Electronic","Non-Integrated Ballast LED, 263W, any bulb shape, any application",263,"Light Emitting Diode (LED)",15,"Y"]
["LED264-FIXT","LED Non-Int Ballast",null,264,null,"Electronic","Non-Integrated Ballast LED, 264W, any bulb shape, any application",264,"Light Emitting Diode (LED)",15,"Y"]
["LED265-FIXT","LED Non-Int Ballast",null,265,null,"Electronic","Non-Integrated Ballast LED, 265W, any bulb shape, any application",265,"Light Emitting Diode (LED)",15,"Y"]
["LED266-FIXT","LED Non-Int Ballast",null,266,null,"Electronic","Non-Integrated Ballast LED, 266W, any bulb shape, any application",266,"Light Emitting Diode (LED)",15,"Y"]
["LED267-FIXT","LED Non-Int Ballast",null,267,null,"Electronic","Non-Integrated Ballast LED, 267W, any bulb shape, any application",267,"Light Emitting Diode (LED)",15,"Y"]
["LED268-FIXT","LED Non-Int Ballast",null,268,null,"Electronic","Non-Integrated Ballast LED, 268W, any bulb shape, any application",268,"Light Emitting Diode (LED)",15,"Y"]
["LED269-FIXT","LED Non-Int Ballast",null,269,null,"Electronic","Non-Integrated Ballast LED, 269W, any bulb shape, any application",269,"Light Emitting Diode (LED)",15,"Y"]
["LED270-FIXT","LED Non-Int Ballast",null,270,null,"Electronic","Non-Integrated Ballast LED, 270W, any bulb shape, any application",270,"Light Emitting Diode (LED)",15,"Y"]
["LED271-FIXT","LED Non-Int Ballast",null,271,null,"Electronic","Non-Integrated Ballast LED, 271W, any bulb shape, any application",271,"Light Emitting Diode (LED)",15,"Y"]
["LED272-FIXT","LED Non-Int Ballast",null,272,null,"Electronic","Non-Integrated Ballast LED, 272W, any bulb shape, any application",272,"Light Emitting Diode (LED)",15,"Y"]
["LED273-FIXT","LED Non-Int Ballast",null,273,null,"Electronic","Non-Integrated Ballast LED, 273W, any bulb shape, any application",273,"Light Emitting Diode (LED)",15,"Y"]
["LED274-FIXT","LED Non-Int Ballast",null,274,null,"Electronic","Non-Integrated Ballast LED, 274W, any bulb shape, any application",274,"Light Emitting Diode (LED)",15,"Y"]
["LED275-FIXT","LED Non-Int Ballast",null,275,null,"Electronic","Non-Integrated Ballast LED, 275W, any bulb shape, any application",275,"Light Emitting Diode (LED)",15,"Y"]
["LED276-FIXT","LED Non-Int Ballast",null,276,null,"Electronic","Non-Integrated Ballast LED, 276W, any bulb shape, any application",276,"Light Emitting Diode (LED)",15,"Y"]
["LED277-FIXT","LED Non-Int Ballast",null,277,null,"Electronic","Non-Integrated Ballast LED, 277W, any bulb shape, any application",277,"Light Emitting Diode (LED)",15,"Y"]
["LED278-FIXT","LED Non-Int Ballast",null,278,null,"Electronic","Non-Integrated Ballast LED, 278W, any bulb shape, any application",278,"Light Emitting Diode (LED)",15,"Y"]
["LED279-FIXT","LED Non-Int Ballast",null,279,null,"Electronic","Non-Integrated Ballast LED, 279W, any bulb shape, any application",279,"Light Emitting Diode (LED)",15,"Y"]
["LED280-FIXT","LED Non-Int Ballast",null,280,null,"Electronic","Non-Integrated Ballast LED, 280W, any bulb shape, any application",280,"Light Emitting Diode (LED)",15,"Y"]
["LED281-FIXT","LED Non-Int Ballast",null,281,null,"Electronic","Non-Integrated Ballast LED, 281W, any bulb shape, any application",281,"Light Emitting Diode (LED)",15,"Y"]
["LED282-FIXT","LED Non-Int Ballast",null,282,null,"Electronic","Non-Integrated Ballast LED, 282W, any bulb shape, any application",282,"Light Emitting Diode (LED)",15,"Y"]
["LED283-FIXT","LED Non-Int Ballast",null,283,null,"Electronic","Non-Integrated Ballast LED, 283W, any bulb shape, any application",283,"Light Emitting Diode (LED)",15,"Y"]
["LED284-FIXT","LED Non-Int Ballast",null,284,null,"Electronic","Non-Integrated Ballast LED, 284W, any bulb shape, any application",284,"Light Emitting Diode (LED)",15,"Y"]
["LED285-FIXT","LED Non-Int Ballast",null,285,null,"Electronic","Non-Integrated Ballast LED, 285W, any bulb shape, any application",285,"Light Emitting Diode (LED)",15,"Y"]
["LED286-FIXT","LED Non-Int Ballast",null,286,null,"Electronic","Non-Integrated Ballast LED, 286W, any bulb shape, any application",286,"Light Emitting Diode (LED)",15,"Y"]
["LED287-FIXT","LED Non-Int Ballast",null,287,null,"Electronic","Non-Integrated Ballast LED, 287W, any bulb shape, any application",287,"Light Emitting Diode (LED)",15,"Y"]
["LED288-FIXT","LED Non-Int Ballast",null,288,null,"Electronic","Non-Integrated Ballast LED, 288W, any bulb shape, any application",288,"Light Emitting Diode (LED)",15,"Y"]
["LED289-FIXT","LED Non-Int Ballast",null,289,null,"Electronic","Non-Integrated Ballast LED, 289W, any bulb shape, any application",289,"Light Emitting Diode (LED)",15,"Y"]
["LED290-FIXT","LED Non-Int Ballast",null,290,null,"Electronic","Non-Integrated Ballast LED, 290W, any bulb shape, any application",290,"Light Emitting Diode (LED)",15,"Y"]
["LED291-FIXT","LED Non-Int Ballast",null,291,null,"Electronic","Non-Integrated Ballast LED, 291W, any bulb shape, any application",291,"Light Emitting Diode (LED)",15,"Y"]
["LED292-FIXT","LED Non-Int Ballast",null,292,null,"Electronic","Non-Integrated Ballast LED, 292W, any bulb shape, any application",292,"Light Emitting Diode (LED)",15,"Y"]
["LED293-FIXT","LED Non-Int Ballast",null,293,null,"Electronic","Non-Integrated Ballast LED, 293W, any bulb shape, any application",293,"Light Emitting Diode (LED)",15,"Y"]
["LED294-FIXT","LED Non-Int Ballast",null,294,null,"Electronic","Non-Integrated Ballast LED, 294W, any bulb shape, any application",294,"Light Emitting Diode (LED)",15,"Y"]
["LED295-FIXT","LED Non-Int Ballast",null,295,null,"Electronic","Non-Integrated Ballast LED, 295W, any bulb shape, any application",295,"Light Emitting Diode (LED)",15,"Y"]
["LED296-FIXT","LED Non-Int Ballast",null,296,null,"Electronic","Non-Integrated Ballast LED, 296W, any bulb shape, any application",296,"Light Emitting Diode (LED)",15,"Y"]
["LED297-FIXT","LED Non-Int Ballast",null,297,null,"Electronic","Non-Integrated Ballast LED, 297W, any bulb shape, any application",297,"Light Emitting Diode (LED)",15,"Y"]
["LED298-FIXT","LED Non-Int Ballast",null,298,null,"Electronic","Non-Integrated Ballast LED, 298W, any bulb shape, any application",298,"Light Emitting Diode (LED)",15,"Y"]
["LED299-FIXT","LED Non-Int Ballast",null,299,null,"Electronic","Non-Integrated Ballast LED, 299W, any bulb shape, any application",299,"Light Emitting Diode (LED)",15,"Y"]
["LED300-FIXT","LED Non-Int Ballast",null,300,null,"Electronic","Non-Integrated Ballast LED, 300W, any bulb shape, any application",300,"Light Emitting Diode (LED)",15,"Y"]
["LED301-FIXT","LED Non-Int Ballast",null,301,null,"Electronic","Non-Integrated Ballast LED, 301W, any bulb shape, any application",301,"Light Emitting Diode (LED)",15,"Y"]
["LED302-FIXT","LED Non-Int Ballast",null,302,null,"Electronic","Non-Integrated Ballast LED, 302W, any bulb shape, any application",302,"Light Emitting Diode (LED)",15,"Y"]
["LED303-FIXT","LED Non-Int Ballast",null,303,null,"Electronic","Non-Integrated Ballast LED, 303W, any bulb shape, any application",303,"Light Emitting Diode (LED)",15,"Y"]
["LED304-FIXT","LED Non-Int Ballast",null,304,null,"Electronic","Non-Integrated Ballast LED, 304W, any bulb shape, any application",304,"Light Emitting Diode (LED)",15,"Y"]
["LED305-FIXT","LED Non-Int Ballast",null,305,null,"Electronic","Non-Integrated Ballast LED, 305W, any bulb shape, any application",305,"Light Emitting Diode (LED)",15,"Y"]
["LED306-FIXT","LED Non-Int Ballast",null,306,null,"Electronic","Non-Integrated Ballast LED, 306W, any bulb shape, any application",306,"Light Emitting Diode (LED)",15,"Y"]
["LED307-FIXT","LED Non-Int Ballast",null,307,null,"Electronic","Non-Integrated Ballast LED, 307W, any bulb shape, any application",307,"Light Emitting Diode (LED)",15,"Y"]
["LED308-FIXT","LED Non-Int Ballast",null,308,null,"Electronic","Non-Integrated Ballast LED, 308W, any bulb shape, any application",308,"Light Emitting Diode (LED)",15,"Y"]
["LED309-FIXT","LED Non-Int Ballast",null,309,null,"Electronic","Non-Integrated Ballast LED, 309W, any bulb shape, any application",309,"Light Emitting Diode (LED)",15,"Y"]
["LED310-FIXT","LED Non-Int Ballast",null,310,null,"Electronic","Non-Integrated Ballast LED, 310W, any bulb shape, any application",310,"Light Emitting Diode (LED)",15,"Y"]
["LED311-FIXT","LED Non-Int Ballast",null,311,null,"Electronic","Non-Integrated Ballast LED, 311W, any bulb shape, any application",311,"Light Emitting Diode (LED)",15,"Y"]
["LED312-FIXT","LED Non-Int Ballast",null,312,null,"Electronic","Non-Integrated Ballast LED, 312W, any bulb shape, any application",312,"Light Emitting Diode (LED)",15,"Y"]
["LED313-FIXT","LED Non-Int Ballast",null,313,null,"Electronic","Non-Integrated Ballast LED, 313W, any bulb shape, any application",313,"Light Emitting Diode (LED)",15,"Y"]
["LED314-FIXT","LED Non-Int Ballast",null,314,null,"Electronic","Non-Integrated Ballast LED, 314W, any bulb shape, any application",314,"Light Emitting Diode (LED)",15,"Y"]
["LED315-FIXT","LED Non-Int Ballast",null,315,null,"Electronic","Non-Integrated Ballast LED, 315W, any bulb shape, any application",315,"Light Emitting Diode (LED)",15,"Y"]
["LED316-FIXT","LED Non-Int Ballast",null,316,null,"Electronic","Non-Integrated Ballast LED, 316W, any bulb shape, any application",316,"Light Emitting Diode (LED)",15,"Y"]
["LED317-FIXT","LED Non-Int Ballast",null,317,null,"Electronic","Non-Integrated Ballast LED, 317W, any bulb shape, any application",317,"Light Emitting Diode (LED)",15,"Y"]
["LED318-FIXT","LED Non-Int Ballast",null,318,null,"Electronic","Non-Integrated Ballast LED, 318W, any bulb shape, any application",318,"Light Emitting Diode (LED)",15,"Y"]
["LED319-FIXT","LED Non-Int Ballast",null,319,null,"Electronic","Non-Integrated Ballast LED, 319W, any bulb shape, any application",319,"Light Emitting Diode (LED)",15,"Y"]
["LED320-FIXT","LED Non-Int Ballast",null,320,null,"Electronic","Non-Integrated Ballast LED, 320W, any bulb shape, any application",320,"Light Emitting Diode (LED)",15,"Y"]
["LED321-FIXT","LED Non-Int Ballast",null,321,null,"Electronic","Non-Integrated Ballast LED, 321W, any bulb shape, any application",321,"Light Emitting Diode (LED)",15,"Y"]
["LED322-FIXT","LED Non-Int Ballast",null,322,null,"Electronic","Non-Integrated Ballast LED, 322W, any bulb shape, any application",322,"Light Emitting Diode (LED)",15,"Y"]
["LED323-FIXT","LED Non-Int Ballast",null,323,null,"Electronic","Non-Integrated Ballast LED, 323W, any bulb shape, any application",323,"Light Emitting Diode (LED)",15,"Y"]
["LED324-FIXT","LED Non-Int Ballast",null,324,null,"Electronic","Non-Integrated Ballast LED, 324W, any bulb shape, any application",324,"Light Emitting Diode (LED)",15,"Y"]
["LED325-FIXT","LED Non-Int Ballast",null,325,null,"Electronic","Non-Integrated Ballast LED, 325W, any bulb shape, any application",325,"Light Emitting Diode (LED)",15,"Y"]
["LED326-FIXT","LED Non-Int Ballast",null,326,null,"Electronic","Non-Integrated Ballast LED, 326W, any bulb shape, any application",326,"Light Emitting Diode (LED)",15,"Y"]
["LED327-FIXT","LED Non-Int Ballast",null,327,null,"Electronic","Non-Integrated Ballast LED, 327W, any bulb shape, any application",327,"Light Emitting Diode (LED)",15,"Y"]
["LED328-FIXT","LED Non-Int Ballast",null,328,null,"Electronic","Non-Integrated Ballast LED, 328W, any bulb shape, any application",328,"Light Emitting Diode (LED)",15,"Y"]
["LED329-FIXT","LED Non-Int Ballast",null,329,null,"Electronic","Non-Integrated Ballast LED, 329W, any bulb shape, any application",329,"Light Emitting Diode (LED)",15,"Y"]
["LED330-FIXT","LED Non-Int Ballast",null,330,null,"Electronic","Non-Integrated Ballast LED, 330W, any bulb shape, any application",330,"Light Emitting Diode (LED)",15,"Y"]
["LED331-FIXT","LED Non-Int Ballast",null,331,null,"Electronic","Non-Integrated Ballast LED, 331W, any bulb shape, any application",331,"Light Emitting Diode (LED)",15,"Y"]
["LED332-FIXT","LED Non-Int Ballast",null,332,null,"Electronic","Non-Integrated Ballast LED, 332W, any bulb shape, any application",332,"Light Emitting Diode (LED)",15,"Y"]
["LED333-FIXT","LED Non-Int Ballast",null,333,null,"Electronic","Non-Integrated Ballast LED, 333W, any bulb shape, any application",333,"Light Emitting Diode (LED)",15,"Y"]
["LED334-FIXT","LED Non-Int Ballast",null,334,null,"Electronic","Non-Integrated Ballast LED, 334W, any bulb shape, any application",334,"Light Emitting Diode (LED)",15,"Y"]
["LED335-FIXT","LED Non-Int Ballast",null,335,null,"Electronic","Non-Integrated Ballast LED, 335W, any bulb shape, any application",335,"Light Emitting Diode (LED)",15,"Y"]
["LED336-FIXT","LED Non-Int Ballast",null,336,null,"Electronic","Non-Integrated Ballast LED, 336W, any bulb shape, any application",336,"Light Emitting Diode (LED)",15,"Y"]
["LED337-FIXT","LED Non-Int Ballast",null,337,null,"Electronic","Non-Integrated Ballast LED, 337W, any bulb shape, any application",337,"Light Emitting Diode (LED)",15,"Y"]
["LED338-FIXT","LED Non-Int Ballast",null,338,null,"Electronic","Non-Integrated Ballast LED, 338W, any bulb shape, any application",338,"Light Emitting Diode (LED)",15,"Y"]
["LED339-FIXT","LED Non-Int Ballast",null,339,null,"Electronic","Non-Integrated Ballast LED, 339W, any bulb shape, any application",339,"Light Emitting Diode (LED)",15,"Y"]
["LED340-FIXT","LED Non-Int Ballast",null,340,null,"Electronic","Non-Integrated Ballast LED, 340W, any bulb shape, any application",340,"Light Emitting Diode (LED)",15,"Y"]
["LED341-FIXT","LED Non-Int Ballast",null,341,null,"Electronic","Non-Integrated Ballast LED, 341W, any bulb shape, any application",341,"Light Emitting Diode (LED)",15,"Y"]
["LED342-FIXT","LED Non-Int Ballast",null,342,null,"Electronic","Non-Integrated Ballast LED, 342W, any bulb shape, any application",342,"Light Emitting Diode (LED)",15,"Y"]
["LED343-FIXT","LED Non-Int Ballast",null,343,null,"Electronic","Non-Integrated Ballast LED, 343W, any bulb shape, any application",343,"Light Emitting Diode (LED)",15,"Y"]
["LED344-FIXT","LED Non-Int Ballast",null,344,null,"Electronic","Non-Integrated Ballast LED, 344W, any bulb shape, any application",344,"Light Emitting Diode (LED)",15,"Y"]
["LED345-FIXT","LED Non-Int Ballast",null,345,null,"Electronic","Non-Integrated Ballast LED, 345W, any bulb shape, any application",345,"Light Emitting Diode (LED)",15,"Y"]
["LED346-FIXT","LED Non-Int Ballast",null,346,null,"Electronic","Non-Integrated Ballast LED, 346W, any bulb shape, any application",346,"Light Emitting Diode (LED)",15,"Y"]
["LED347-FIXT","LED Non-Int Ballast",null,347,null,"Electronic","Non-Integrated Ballast LED, 347W, any bulb shape, any application",347,"Light Emitting Diode (LED)",15,"Y"]
["LED348-FIXT","LED Non-Int Ballast",null,348,null,"Electronic","Non-Integrated Ballast LED, 348W, any bulb shape, any application",348,"Light Emitting Diode (LED)",15,"Y"]
["LED349-FIXT","LED Non-Int Ballast",null,349,null,"Electronic","Non-Integrated Ballast LED, 349W, any bulb shape, any application",349,"Light Emitting Diode (LED)",15,"Y"]
["LED350-FIXT","LED Non-Int Ballast",null,350,null,"Electronic","Non-Integrated Ballast LED, 350W, any bulb shape, any application",350,"Light Emitting Diode (LED)",15,"Y"]
["LED351-FIXT","LED Non-Int Ballast",null,351,null,"Electronic","Non-Integrated Ballast LED, 351W, any bulb shape, any application",351,"Light Emitting Diode (LED)",15,"Y"]
["LED352-FIXT","LED Non-Int Ballast",null,352,null,"Electronic","Non-Integrated Ballast LED, 352W, any bulb shape, any application",352,"Light Emitting Diode (LED)",15,"Y"]
["LED353-FIXT","LED Non-Int Ballast",null,353,null,"Electronic","Non-Integrated Ballast LED, 353W, any bulb shape, any application",353,"Light Emitting Diode (LED)",15,"Y"]
["LED354-FIXT","LED Non-Int Ballast",null,354,null,"Electronic","Non-Integrated Ballast LED, 354W, any bulb shape, any application",354,"Light Emitting Diode (LED)",15,"Y"]
["LED355-FIXT","LED Non-Int Ballast",null,355,null,"Electronic","Non-Integrated Ballast LED, 355W, any bulb shape, any application",355,"Light Emitting Diode (LED)",15,"Y"]
["LED356-FIXT","LED Non-Int Ballast",null,356,null,"Electronic","Non-Integrated Ballast LED, 356W, any bulb shape, any application",356,"Light Emitting Diode (LED)",15,"Y"]
["LED357-FIXT","LED Non-Int Ballast",null,357,null,"Electronic","Non-Integrated Ballast LED, 357W, any bulb shape, any application",357,"Light Emitting Diode (LED)",15,"Y"]
["LED358-FIXT","LED Non-Int Ballast",null,358,null,"Electronic","Non-Integrated Ballast LED, 358W, any bulb shape, any application",358,"Light Emitting Diode (LED)",15,"Y"]
["LED359-FIXT","LED Non-Int Ballast",null,359,null,"Electronic","Non-Integrated Ballast LED, 359W, any bulb shape, any application",359,"Light Emitting Diode (LED)",15,"Y"]
["LED360-FIXT","LED Non-Int Ballast",null,360,null,"Electronic","Non-Integrated Ballast LED, 360W, any bulb shape, any application",360,"Light Emitting Diode (LED)",15,"Y"]
["LED361-FIXT","LED Non-Int Ballast",null,361,null,"Electronic","Non-Integrated Ballast LED, 361W, any bulb shape, any application",361,"Light Emitting Diode (LED)",15,"Y"]
["LED362-FIXT","LED Non-Int Ballast",null,362,null,"Electronic","Non-Integrated Ballast LED, 362W, any bulb shape, any application",362,"Light Emitting Diode (LED)",15,"Y"]
["LED363-FIXT","LED Non-Int Ballast",null,363,null,"Electronic","Non-Integrated Ballast LED, 363W, any bulb shape, any application",363,"Light Emitting Diode (LED)",15,"Y"]
["LED364-FIXT","LED Non-Int Ballast",null,364,null,"Electronic","Non-Integrated Ballast LED, 364W, any bulb shape, any application",364,"Light Emitting Diode (LED)",15,"Y"]
["LED365-FIXT","LED Non-Int Ballast",null,365,null,"Electronic","Non-Integrated Ballast LED, 365W, any bulb shape, any application",365,"Light Emitting Diode (LED)",15,"Y"]
["LED366-FIXT","LED Non-Int Ballast",null,366,null,"Electronic","Non-Integrated Ballast LED, 366W, any bulb shape, any application",366,"Light Emitting Diode (LED)",15,"Y"]
["LED367-FIXT","LED Non-Int Ballast",null,367,null,"Electronic","Non-Integrated Ballast LED, 367W, any bulb shape, any application",367,"Light Emitting Diode (LED)",15,"Y"]
["LED368-FIXT","LED Non-Int Ballast",null,368,null,"Electronic","Non-Integrated Ballast LED, 368W, any bulb shape, any application",368,"Light Emitting Diode (LED)",15,"Y"]
["LED369-FIXT","LED Non-Int Ballast",null,369,null,"Electronic","Non-Integrated Ballast LED, 369W, any bulb shape, any application",369,"Light Emitting Diode (LED)",15,"Y"]
["LED370-FIXT","LED Non-Int Ballast",null,370,null,"Electronic","Non-Integrated Ballast LED, 370W, any bulb shape, any application",370,"Light Emitting Diode (LED)",15,"Y"]
["LED371-FIXT","LED Non-Int Ballast",null,371,null,"Electronic","Non-Integrated Ballast LED, 371W, any bulb shape, any application",371,"Light Emitting Diode (LED)",15,"Y"]
["LED372-FIXT","LED Non-Int Ballast",null,372,null,"Electronic","Non-Integrated Ballast LED, 372W, any bulb shape, any application",372,"Light Emitting Diode (LED)",15,"Y"]
["LED373-FIXT","LED Non-Int Ballast",null,373,null,"Electronic","Non-Integrated Ballast LED, 373W, any bulb shape, any application",373,"Light Emitting Diode (LED)",15,"Y"]
["LED374-FIXT","LED Non-Int Ballast",null,374,null,"Electronic","Non-Integrated Ballast LED, 374W, any bulb shape, any application",374,"Light Emitting Diode (LED)",15,"Y"]
["LED375-FIXT","LED Non-Int Ballast",null,375,null,"Electronic","Non-Integrated Ballast LED, 375W, any bulb shape, any application",375,"Light Emitting Diode (LED)",15,"Y"]
["LED376-FIXT","LED Non-Int Ballast",null,376,null,"Electronic","Non-Integrated Ballast LED, 376W, any bulb shape, any application",376,"Light Emitting Diode (LED)",15,"Y"]
["LED377-FIXT","LED Non-Int Ballast",null,377,null,"Electronic","Non-Integrated Ballast LED, 377W, any bulb shape, any application",377,"Light Emitting Diode (LED)",15,"Y"]
["LED378-FIXT","LED Non-Int Ballast",null,378,null,"Electronic","Non-Integrated Ballast LED, 378W, any bulb shape, any application",378,"Light Emitting Diode (LED)",15,"Y"]
["LED379-FIXT","LED Non-Int Ballast",null,379,null,"Electronic","Non-Integrated Ballast LED, 379W, any bulb shape, any application",379,"Light Emitting Diode (LED)",15,"Y"]
["LED380-FIXT","LED Non-Int Ballast",null,380,null,"Electronic","Non-Integrated Ballast LED, 380W, any bulb shape, any application",380,"Light Emitting Diode (LED)",15,"Y"]
["LED381-FIXT","LED Non-Int Ballast",null,381,null,"Electronic","Non-Integrated Ballast LED, 381W, any bulb shape, any application",381,"Light Emitting Diode (LED)",15,"Y"]
["LED382-FIXT","LED Non-Int Ballast",null,382,null,"Electronic","Non-Integrated Ballast LED, 382W, any bulb shape, any application",382,"Light Emitting Diode (LED)",15,"Y"]
["LED383-FIXT","LED Non-Int Ballast",null,383,null,"Electronic","Non-Integrated Ballast LED, 383W, any bulb shape, any application",383,"Light Emitting Diode (LED)",15,"Y"]
["LED384-FIXT","LED Non-Int Ballast",null,384,null,"Electronic","Non-Integrated Ballast LED, 384W, any bulb shape, any application",384,"Light Emitting Diode (LED)",15,"Y"]
["LED385-FIXT","LED Non-Int Ballast",null,385,null,"Electronic","Non-Integrated Ballast LED, 385W, any bulb shape, any application",385,"Light Emitting Diode (LED)",15,"Y"]
["LED386-FIXT","LED Non-Int Ballast",null,386,null,"Electronic","Non-Integrated Ballast LED, 386W, any bulb shape, any application",386,"Light Emitting Diode (LED)",15,"Y"]
["LED387-FIXT","LED Non-Int Ballast",null,387,null,"Electronic","Non-Integrated Ballast LED, 387W, any bulb shape, any application",387,"Light Emitting Diode (LED)",15,"Y"]
["LED388-FIXT","LED Non-Int Ballast",null,388,null,"Electronic","Non-Integrated Ballast LED, 388W, any bulb shape, any application",388,"Light Emitting Diode (LED)",15,"Y"]
["LED389-FIXT","LED Non-Int Ballast",null,389,null,"Electronic","Non-Integrated Ballast LED, 389W, any bulb shape, any application",389,"Light Emitting Diode (LED)",15,"Y"]
["LED390-FIXT","LED Non-Int Ballast",null,390,null,"Electronic","Non-Integrated Ballast LED, 390W, any bulb shape, any application",390,"Light Emitting Diode (LED)",15,"Y"]
["LED391-FIXT","LED Non-Int Ballast",null,391,null,"Electronic","Non-Integrated Ballast LED, 391W, any bulb shape, any application",391,"Light Emitting Diode (LED)",15,"Y"]
["LED392-FIXT","LED Non-Int Ballast",null,392,null,"Electronic","Non-Integrated Ballast LED, 392W, any bulb shape, any application",392,"Light Emitting Diode (LED)",15,"Y"]
["LED393-FIXT","LED Non-Int Ballast",null,393,null,"Electronic","Non-Integrated Ballast LED, 393W, any bulb shape, any application",393,"Light Emitting Diode (LED)",15,"Y"]
["LED394-FIXT","LED Non-Int Ballast",null,394,null,"Electronic","Non-Integrated Ballast LED, 394W, any bulb shape, any application",394,"Light Emitting Diode (LED)",15,"Y"]
["LED395-FIXT","LED Non-Int Ballast",null,395,null,"Electronic","Non-Integrated Ballast LED, 395W, any bulb shape, any application",395,"Light Emitting Diode (LED)",15,"Y"]
["LED396-FIXT","LED Non-Int Ballast",null,396,null,"Electronic","Non-Integrated Ballast LED, 396W, any bulb shape, any application",396,"Light Emitting Diode (LED)",15,"Y"]
["LED397-FIXT","LED Non-Int Ballast",null,397,null,"Electronic","Non-Integrated Ballast LED, 397W, any bulb shape, any application",397,"Light Emitting Diode (LED)",15,"Y"]
["LED398-FIXT","LED Non-Int Ballast",null,398,null,"Electronic","Non-Integrated Ballast LED, 398W, any bulb shape, any application",398,"Light Emitting Diode (LED)",15,"Y"]
["LED399-FIXT","LED Non-Int Ballast",null,399,null,"Electronic","Non-Integrated Ballast LED, 399W, any bulb shape, any application",399,"Light Emitting Diode (LED)",15,"Y"]
["LED400-FIXT","LED Non-Int Ballast",null,400,null,"Electronic","Non-Integrated Ballast LED, 400W, any bulb shape, any application",400,"Light Emitting Diode (LED)",15,"Y"]
["LED401-FIXT","LED Non-Int Ballast",null,401,null,"Electronic","Non-Integrated Ballast LED, 401W, any bulb shape, any application",401,"Light Emitting Diode (LED)",15,"Y"]
["LED402-FIXT","LED Non-Int Ballast",null,402,null,"Electronic","Non-Integrated Ballast LED, 402W, any bulb shape, any application",402,"Light Emitting Diode (LED)",15,"Y"]
["LED403-FIXT","LED Non-Int Ballast",null,403,null,"Electronic","Non-Integrated Ballast LED, 403W, any bulb shape, any application",403,"Light Emitting Diode (LED)",15,"Y"]
["LED404-FIXT","LED Non-Int Ballast",null,404,null,"Electronic","Non-Integrated Ballast LED, 404W, any bulb shape, any application",404,"Light Emitting Diode (LED)",15,"Y"]
["LED405-FIXT","LED Non-Int Ballast",null,405,null,"Electronic","Non-Integrated Ballast LED, 405W, any bulb shape, any application",405,"Light Emitting Diode (LED)",15,"Y"]
["LED406-FIXT","LED Non-Int Ballast",null,406,null,"Electronic","Non-Integrated Ballast LED, 406W, any bulb shape, any application",406,"Light Emitting Diode (LED)",15,"Y"]
["LED407-FIXT","LED Non-Int Ballast",null,407,null,"Electronic","Non-Integrated Ballast LED, 407W, any bulb shape, any application",407,"Light Emitting Diode (LED)",15,"Y"]
["LED408-FIXT","LED Non-Int Ballast",null,408,null,"Electronic","Non-Integrated Ballast LED, 408W, any bulb shape, any application",408,"Light Emitting Diode (LED)",15,"Y"]
["LED409-FIXT","LED Non-Int Ballast",null,409,null,"Electronic","Non-Integrated Ballast LED, 409W, any bulb shape, any application",409,"Light Emitting Diode (LED)",15,"Y"]
["LED410-FIXT","LED Non-Int Ballast",null,410,null,"Electronic","Non-Integrated Ballast LED, 410W, any bulb shape, any application",410,"Light Emitting Diode (LED)",15,"Y"]
["LED411-FIXT","LED Non-Int Ballast",null,411,null,"Electronic","Non-Integrated Ballast LED, 411W, any bulb shape, any application",411,"Light Emitting Diode (LED)",15,"Y"]
["LED412-FIXT","LED Non-Int Ballast",null,412,null,"Electronic","Non-Integrated Ballast LED, 412W, any bulb shape, any application",412,"Light Emitting Diode (LED)",15,"Y"]
["LED413-FIXT","LED Non-Int Ballast",null,413,null,"Electronic","Non-Integrated Ballast LED, 413W, any bulb shape, any application",413,"Light Emitting Diode (LED)",15,"Y"]
["LED414-FIXT","LED Non-Int Ballast",null,414,null,"Electronic","Non-Integrated Ballast LED, 414W, any bulb shape, any application",414,"Light Emitting Diode (LED)",15,"Y"]
["LED415-FIXT","LED Non-Int Ballast",null,415,null,"Electronic","Non-Integrated Ballast LED, 415W, any bulb shape, any application",415,"Light Emitting Diode (LED)",15,"Y"]
["LED416-FIXT","LED Non-Int Ballast",null,416,null,"Electronic","Non-Integrated Ballast LED, 416W, any bulb shape, any application",416,"Light Emitting Diode (LED)",15,"Y"]
["LED417-FIXT","LED Non-Int Ballast",null,417,null,"Electronic","Non-Integrated Ballast LED, 417W, any bulb shape, any application",417,"Light Emitting Diode (LED)",15,"Y"]
["LED418-FIXT","LED Non-Int Ballast",null,418,null,"Electronic","Non-Integrated Ballast LED, 418W, any bulb shape, any application",418,"Light Emitting Diode (LED)",15,"Y"]
["LED419-FIXT","LED Non-Int Ballast",null,419,null,"Electronic","Non-Integrated Ballast LED, 419W, any bulb shape, any application",419,"Light Emitting Diode (LED)",15,"Y"]
["LED420-FIXT","LED Non-Int Ballast",null,420,null,"Electronic","Non-Integrated Ballast LED, 420W, any bulb shape, any application",420,"Light Emitting Diode (LED)",15,"Y"]
["LED421-FIXT","LED Non-Int Ballast",null,421,null,"Electronic","Non-Integrated Ballast LED, 421W, any bulb shape, any application",421,"Light Emitting Diode (LED)",15,"Y"]
["LED422-FIXT","LED Non-Int Ballast",null,422,null,"Electronic","Non-Integrated Ballast LED, 422W, any bulb shape, any application",422,"Light Emitting Diode (LED)",15,"Y"]
["LED423-FIXT","LED Non-Int Ballast",null,423,null,"Electronic","Non-Integrated Ballast LED, 423W, any bulb shape, any application",423,"Light Emitting Diode (LED)",15,"Y"]
["LED424-FIXT","LED Non-Int Ballast",null,424,null,"Electronic","Non-Integrated Ballast LED, 424W, any bulb shape, any application",424,"Light Emitting Diode (LED)",15,"Y"]
["LED425-FIXT","LED Non-Int Ballast",null,425,null,"Electronic","Non-Integrated Ballast LED, 425W, any bulb shape, any application",425,"Light Emitting Diode (LED)",15,"Y"]
["LED426-FIXT","LED Non-Int Ballast",null,426,null,"Electronic","Non-Integrated Ballast LED, 426W, any bulb shape, any application",426,"Light Emitting Diode (LED)",15,"Y"]
["LED427-FIXT","LED Non-Int Ballast",null,427,null,"Electronic","Non-Integrated Ballast LED, 427W, any bulb shape, any application",427,"Light Emitting Diode (LED)",15,"Y"]
["LED428-FIXT","LED Non-Int Ballast",null,428,null,"Electronic","Non-Integrated Ballast LED, 428W, any bulb shape, any application",428,"Light Emitting Diode (LED)",15,"Y"]
["LED429-FIXT","LED Non-Int Ballast",null,429,null,"Electronic","Non-Integrated Ballast LED, 429W, any bulb shape, any application",429,"Light Emitting Diode (LED)",15,"Y"]
["LED430-FIXT","LED Non-Int Ballast",null,430,null,"Electronic","Non-Integrated Ballast LED, 430W, any bulb shape, any application",430,"Light Emitting Diode (LED)",15,"Y"]
["LED431-FIXT","LED Non-Int Ballast",null,431,null,"Electronic","Non-Integrated Ballast LED, 431W, any bulb shape, any application",431,"Light Emitting Diode (LED)",15,"Y"]
["LED432-FIXT","LED Non-Int Ballast",null,432,null,"Electronic","Non-Integrated Ballast LED, 432W, any bulb shape, any application",432,"Light Emitting Diode (LED)",15,"Y"]
["LED433-FIXT","LED Non-Int Ballast",null,433,null,"Electronic","Non-Integrated Ballast LED, 433W, any bulb shape, any application",433,"Light Emitting Diode (LED)",15,"Y"]
["LED434-FIXT","LED Non-Int Ballast",null,434,null,"Electronic","Non-Integrated Ballast LED, 434W, any bulb shape, any application",434,"Light Emitting Diode (LED)",15,"Y"]
["LED435-FIXT","LED Non-Int Ballast",null,435,null,"Electronic","Non-Integrated Ballast LED, 435W, any bulb shape, any application",435,"Light Emitting Diode (LED)",15,"Y"]
["LED436-FIXT","LED Non-Int Ballast",null,436,null,"Electronic","Non-Integrated Ballast LED, 436W, any bulb shape, any application",436,"Light Emitting Diode (LED)",15,"Y"]
["LED437-FIXT","LED Non-Int Ballast",null,437,null,"Electronic","Non-Integrated Ballast LED, 437W, any bulb shape, any application",437,"Light Emitting Diode (LED)",15,"Y"]
["LED438-FIXT","LED Non-Int Ballast",null,438,null,"Electronic","Non-Integrated Ballast LED, 438W, any bulb shape, any application",438,"Light Emitting Diode (LED)",15,"Y"]
["LED439-FIXT","LED Non-Int Ballast",null,439,null,"Electronic","Non-Integrated Ballast LED, 439W, any bulb shape, any application",439,"Light Emitting Diode (LED)",15,"Y"]
["LED440-FIXT","LED Non-Int Ballast",null,440,null,"Electronic","Non-Integrated Ballast LED, 440W, any bulb shape, any application",440,"Light Emitting Diode (LED)",15,"Y"]
["LED441-FIXT","LED Non-Int Ballast",null,441,null,"Electronic","Non-Integrated Ballast LED, 441W, any bulb shape, any application",441,"Light Emitting Diode (LED)",15,"Y"]
["LED442-FIXT","LED Non-Int Ballast",null,442,null,"Electronic","Non-Integrated Ballast LED, 442W, any bulb shape, any application",442,"Light Emitting Diode (LED)",15,"Y"]
["LED443-FIXT","LED Non-Int Ballast",null,443,null,"Electronic","Non-Integrated Ballast LED, 443W, any bulb shape, any application",443,"Light Emitting Diode (LED)",15,"Y"]
["LED444-FIXT","LED Non-Int Ballast",null,444,null,"Electronic","Non-Integrated Ballast LED, 444W, any bulb shape, any application",444,"Light Emitting Diode (LED)",15,"Y"]
["LED445-FIXT","LED Non-Int Ballast",null,445,null,"Electronic","Non-Integrated Ballast LED, 445W, any bulb shape, any application",445,"Light Emitting Diode (LED)",15,"Y"]
["LED446-FIXT","LED Non-Int Ballast",null,446,null,"Electronic","Non-Integrated Ballast LED, 446W, any bulb shape, any application",446,"Light Emitting Diode (LED)",15,"Y"]
["LED447-FIXT","LED Non-Int Ballast",null,447,null,"Electronic","Non-Integrated Ballast LED, 447W, any bulb shape, any application",447,"Light Emitting Diode (LED)",15,"Y"]
["LED448-FIXT","LED Non-Int Ballast",null,448,null,"Electronic","Non-Integrated Ballast LED, 448W, any bulb shape, any application",448,"Light Emitting Diode (LED)",15,"Y"]
["LED449-FIXT","LED Non-Int Ballast",null,449,null,"Electronic","Non-Integrated Ballast LED, 449W, any bulb shape, any application",449,"Light Emitting Diode (LED)",15,"Y"]
["LED450-FIXT","LED Non-Int Ballast",null,450,null,"Electronic","Non-Integrated Ballast LED, 450W, any bulb shape, any application",450,"Light Emitting Diode (LED)",15,"Y"]
["LED451-FIXT","LED Non-Int Ballast",null,451,null,"Electronic","Non-Integrated Ballast LED, 451W, any bulb shape, any application",451,"Light Emitting Diode (LED)",15,"Y"]
["LED452-FIXT","LED Non-Int Ballast",null,452,null,"Electronic","Non-Integrated Ballast LED, 452W, any bulb shape, any application",452,"Light Emitting Diode (LED)",15,"Y"]
["LED453-FIXT","LED Non-Int Ballast",null,453,null,"Electronic","Non-Integrated Ballast LED, 453W, any bulb shape, any application",453,"Light Emitting Diode (LED)",15,"Y"]
["LED454-FIXT","LED Non-Int Ballast",null,454,null,"Electronic","Non-Integrated Ballast LED, 454W, any bulb shape, any application",454,"Light Emitting Diode (LED)",15,"Y"]
["LED455-FIXT","LED Non-Int Ballast",null,455,null,"Electronic","Non-Integrated Ballast LED, 455W, any bulb shape, any application",455,"Light Emitting Diode (LED)",15,"Y"]
["LED456-FIXT","LED Non-Int Ballast",null,456,null,"Electronic","Non-Integrated Ballast LED, 456W, any bulb shape, any application",456,"Light Emitting Diode (LED)",15,"Y"]
["LED457-FIXT","LED Non-Int Ballast",null,457,null,"Electronic","Non-Integrated Ballast LED, 457W, any bulb shape, any application",457,"Light Emitting Diode (LED)",15,"Y"]
["LED458-FIXT","LED Non-Int Ballast",null,458,null,"Electronic","Non-Integrated Ballast LED, 458W, any bulb shape, any application",458,"Light Emitting Diode (LED)",15,"Y"]
["LED459-FIXT","LED Non-Int Ballast",null,459,null,"Electronic","Non-Integrated Ballast LED, 459W, any bulb shape, any application",459,"Light Emitting Diode (LED)",15,"Y"]
["LED460-FIXT","LED Non-Int Ballast",null,460,null,"Electronic","Non-Integrated Ballast LED, 460W, any bulb shape, any application",460,"Light Emitting Diode (LED)",15,"Y"]
["LED461-FIXT","LED Non-Int Ballast",null,461,null,"Electronic","Non-Integrated Ballast LED, 461W, any bulb shape, any application",461,"Light Emitting Diode (LED)",15,"Y"]
["LED462-FIXT","LED Non-Int Ballast",null,462,null,"Electronic","Non-Integrated Ballast LED, 462W, any bulb shape, any application",462,"Light Emitting Diode (LED)",15,"Y"]
["LED463-FIXT","LED Non-Int Ballast",null,463,null,"Electronic","Non-Integrated Ballast LED, 463W, any bulb shape, any application",463,"Light Emitting Diode (LED)",15,"Y"]
["LED464-FIXT","LED Non-Int Ballast",null,464,null,"Electronic","Non-Integrated Ballast LED, 464W, any bulb shape, any application",464,"Light Emitting Diode (LED)",15,"Y"]
["LED465-FIXT","LED Non-Int Ballast",null,465,null,"Electronic","Non-Integrated Ballast LED, 465W, any bulb shape, any application",465,"Light Emitting Diode (LED)",15,"Y"]
["LED466-FIXT","LED Non-Int Ballast",null,466,null,"Electronic","Non-Integrated Ballast LED, 466W, any bulb shape, any application",466,"Light Emitting Diode (LED)",15,"Y"]
["LED467-FIXT","LED Non-Int Ballast",null,467,null,"Electronic","Non-Integrated Ballast LED, 467W, any bulb shape, any application",467,"Light Emitting Diode (LED)",15,"Y"]
["LED468-FIXT","LED Non-Int Ballast",null,468,null,"Electronic","Non-Integrated Ballast LED, 468W, any bulb shape, any application",468,"Light Emitting Diode (LED)",15,"Y"]
["LED469-FIXT","LED Non-Int Ballast",null,469,null,"Electronic","Non-Integrated Ballast LED, 469W, any bulb shape, any application",469,"Light Emitting Diode (LED)",15,"Y"]
["LED470-FIXT","LED Non-Int Ballast",null,470,null,"Electronic","Non-Integrated Ballast LED, 470W, any bulb shape, any application",470,"Light Emitting Diode (LED)",15,"Y"]
["LED471-FIXT","LED Non-Int Ballast",null,471,null,"Electronic","Non-Integrated Ballast LED, 471W, any bulb shape, any application",471,"Light Emitting Diode (LED)",15,"Y"]
["LED472-FIXT","LED Non-Int Ballast",null,472,null,"Electronic","Non-Integrated Ballast LED, 472W, any bulb shape, any application",472,"Light Emitting Diode (LED)",15,"Y"]
["LED473-FIXT","LED Non-Int Ballast",null,473,null,"Electronic","Non-Integrated Ballast LED, 473W, any bulb shape, any application",473,"Light Emitting Diode (LED)",15,"Y"]
["LED474-FIXT","LED Non-Int Ballast",null,474,null,"Electronic","Non-Integrated Ballast LED, 474W, any bulb shape, any application",474,"Light Emitting Diode (LED)",15,"Y"]
["LED475-FIXT","LED Non-Int Ballast",null,475,null,"Electronic","Non-Integrated Ballast LED, 475W, any bulb shape, any application",475,"Light Emitting Diode (LED)",15,"Y"]
["LED476-FIXT","LED Non-Int Ballast",null,476,null,"Electronic","Non-Integrated Ballast LED, 476W, any bulb shape, any application",476,"Light Emitting Diode (LED)",15,"Y"]
["LED477-FIXT","LED Non-Int Ballast",null,477,null,"Electronic","Non-Integrated Ballast LED, 477W, any bulb shape, any application",477,"Light Emitting Diode (LED)",15,"Y"]
["LED478-FIXT","LED Non-Int Ballast",null,478,null,"Electronic","Non-Integrated Ballast LED, 478W, any bulb shape, any application",478,"Light Emitting Diode (LED)",15,"Y"]
["LED479-FIXT","LED Non-Int Ballast",null,479,null,"Electronic","Non-Integrated Ballast LED, 479W, any bulb shape, any application",479,"Light Emitting Diode (LED)",15,"Y"]
["LED480-FIXT","LED Non-Int Ballast",null,480,null,"Electronic","Non-Integrated Ballast LED, 480W, any bulb shape, any application",480,"Light Emitting Diode (LED)",15,"Y"]
["LED481-FIXT","LED Non-Int Ballast",null,481,null,"Electronic","Non-Integrated Ballast LED, 481W, any bulb shape, any application",481,"Light Emitting Diode (LED)",15,"Y"]
["LED482-FIXT","LED Non-Int Ballast",null,482,null,"Electronic","Non-Integrated Ballast LED, 482W, any bulb shape, any application",482,"Light Emitting Diode (LED)",15,"Y"]
["LED483-FIXT","LED Non-Int Ballast",null,483,null,"Electronic","Non-Integrated Ballast LED, 483W, any bulb shape, any application",483,"Light Emitting Diode (LED)",15,"Y"]
["LED484-FIXT","LED Non-Int Ballast",null,484,null,"Electronic","Non-Integrated Ballast LED, 484W, any bulb shape, any application",484,"Light Emitting Diode (LED)",15,"Y"]
["LED485-FIXT","LED Non-Int Ballast",null,485,null,"Electronic","Non-Integrated Ballast LED, 485W, any bulb shape, any application",485,"Light Emitting Diode (LED)",15,"Y"]
["LED486-FIXT","LED Non-Int Ballast",null,486,null,"Electronic","Non-Integrated Ballast LED, 486W, any bulb shape, any application",486,"Light Emitting Diode (LED)",15,"Y"]
["LED487-FIXT","LED Non-Int Ballast",null,487,null,"Electronic","Non-Integrated Ballast LED, 487W, any bulb shape, any application",487,"Light Emitting Diode (LED)",15,"Y"]
["LED488-FIXT","LED Non-Int Ballast",null,488,null,"Electronic","Non-Integrated Ballast LED, 488W, any bulb shape, any application",488,"Light Emitting Diode (LED)",15,"Y"]
["LED489-FIXT","LED Non-Int Ballast",null,489,null,"Electronic","Non-Integrated Ballast LED, 489W, any bulb shape, any application",489,"Light Emitting Diode (LED)",15,"Y"]
["LED490-FIXT","LED Non-Int Ballast",null,490,null,"Electronic","Non-Integrated Ballast LED, 490W, any bulb shape, any application",490,"Light Emitting Diode (LED)",15,"Y"]
["LED491-FIXT","LED Non-Int Ballast",null,491,null,"Electronic","Non-Integrated Ballast LED, 491W, any bulb shape, any application",491,"Light Emitting Diode (LED)",15,"Y"]
["LED492-FIXT","LED Non-Int Ballast",null,492,null,"Electronic","Non-Integrated Ballast LED, 492W, any bulb shape, any application",492,"Light Emitting Diode (LED)",15,"Y"]
["LED493-FIXT","LED Non-Int Ballast",null,493,null,"Electronic","Non-Integrated Ballast LED, 493W, any bulb shape, any application",493,"Light Emitting Diode (LED)",15,"Y"]
["LED494-FIXT","LED Non-Int Ballast",null,494,null,"Electronic","Non-Integrated Ballast LED, 494W, any bulb shape, any application",494,"Light Emitting Diode (LED)",15,"Y"]
["LED495-FIXT","LED Non-Int Ballast",null,495,null,"Electronic","Non-Integrated Ballast LED, 495W, any bulb shape, any application",495,"Light Emitting Diode (LED)",15,"Y"]
["LED496-FIXT","LED Non-Int Ballast",null,496,null,"Electronic","Non-Integrated Ballast LED, 496W, any bulb shape, any application",496,"Light Emitting Diode (LED)",15,"Y"]
["LED497-FIXT","LED Non-Int Ballast",null,497,null,"Electronic","Non-Integrated Ballast LED, 497W, any bulb shape, any application",497,"Light Emitting Diode (LED)",15,"Y"]
["LED498-FIXT","LED Non-Int Ballast",null,498,null,"Electronic","Non-Integrated Ballast LED, 498W, any bulb shape, any application",498,"Light Emitting Diode (LED)",15,"Y"]
["LED499-FIXT","LED Non-Int Ballast",null,499,null,"Electronic","Non-Integrated Ballast LED, 499W, any bulb shape, any application",499,"Light Emitting Diode (LED)",15,"Y"]
["LED500-FIXT","LED Non-Int Ballast",null,500,null,"Electronic","Non-Integrated Ballast LED, 500W, any bulb shape, any application",500,"Light Emitting Diode (LED)",15,"Y"]
["LED501-FIXT","LED Non-Int Ballast",null,501,null,"Electronic","Non-Integrated Ballast LED, 501W, any bulb shape, any application",501,"Light Emitting Diode (LED)",15,"Y"]
["LED502-FIXT","LED Non-Int Ballast",null,502,null,"Electronic","Non-Integrated Ballast LED, 502W, any bulb shape, any application",502,"Light Emitting Diode (LED)",15,"Y"]
["LED503-FIXT","LED Non-Int Ballast",null,503,null,"Electronic","Non-Integrated Ballast LED, 503W, any bulb shape, any application",503,"Light Emitting Diode (LED)",15,"Y"]
["LED504-FIXT","LED Non-Int Ballast",null,504,null,"Electronic","Non-Integrated Ballast LED, 504W, any bulb shape, any application",504,"Light Emitting Diode (LED)",15,"Y"]
["LED505-FIXT","LED Non-Int Ballast",null,505,null,"Electronic","Non-Integrated Ballast LED, 505W, any bulb shape, any application",505,"Light Emitting Diode (LED)",15,"Y"]
["LED506-FIXT","LED Non-Int Ballast",null,506,null,"Electronic","Non-Integrated Ballast LED, 506W, any bulb shape, any application",506,"Light Emitting Diode (LED)",15,"Y"]
["LED507-FIXT","LED Non-Int Ballast",null,507,null,"Electronic","Non-Integrated Ballast LED, 507W, any bulb shape, any application",507,"Light Emitting Diode (LED)",15,"Y"]
["LED508-FIXT","LED Non-Int Ballast",null,508,null,"Electronic","Non-Integrated Ballast LED, 508W, any bulb shape, any application",508,"Light Emitting Diode (LED)",15,"Y"]
["LED509-FIXT","LED Non-Int Ballast",null,509,null,"Electronic","Non-Integrated Ballast LED, 509W, any bulb shape, any application",509,"Light Emitting Diode (LED)",15,"Y"]
["LED510-FIXT","LED Non-Int Ballast",null,510,null,"Electronic","Non-Integrated Ballast LED, 510W, any bulb shape, any application",510,"Light Emitting Diode (LED)",15,"Y"]
["LED511-FIXT","LED Non-Int Ballast",null,511,null,"Electronic","Non-Integrated Ballast LED, 511W, any bulb shape, any application",511,"Light Emitting Diode (LED)",15,"Y"]
["LED512-FIXT","LED Non-Int Ballast",null,512,null,"Electronic","Non-Integrated Ballast LED, 512W, any bulb shape, any application",512,"Light Emitting Diode (LED)",15,"Y"]
["LED513-FIXT","LED Non-Int Ballast",null,513,null,"Electronic","Non-Integrated Ballast LED, 513W, any bulb shape, any application",513,"Light Emitting Diode (LED)",15,"Y"]
["LED514-FIXT","LED Non-Int Ballast",null,514,null,"Electronic","Non-Integrated Ballast LED, 514W, any bulb shape, any application",514,"Light Emitting Diode (LED)",15,"Y"]
["LED515-FIXT","LED Non-Int Ballast",null,515,null,"Electronic","Non-Integrated Ballast LED, 515W, any bulb shape, any application",515,"Light Emitting Diode (LED)",15,"Y"]
["LED516-FIXT","LED Non-Int Ballast",null,516,null,"Electronic","Non-Integrated Ballast LED, 516W, any bulb shape, any application",516,"Light Emitting Diode (LED)",15,"Y"]
["LED517-FIXT","LED Non-Int Ballast",null,517,null,"Electronic","Non-Integrated Ballast LED, 517W, any bulb shape, any application",517,"Light Emitting Diode (LED)",15,"Y"]
["LED518-FIXT","LED Non-Int Ballast",null,518,null,"Electronic","Non-Integrated Ballast LED, 518W, any bulb shape, any application",518,"Light Emitting Diode (LED)",15,"Y"]
["LED519-FIXT","LED Non-Int Ballast",null,519,null,"Electronic","Non-Integrated Ballast LED, 519W, any bulb shape, any application",519,"Light Emitting Diode (LED)",15,"Y"]
["LED520-FIXT","LED Non-Int Ballast",null,520,null,"Electronic","Non-Integrated Ballast LED, 520W, any bulb shape, any application",520,"Light Emitting Diode (LED)",15,"Y"]
["LED521-FIXT","LED Non-Int Ballast",null,521,null,"Electronic","Non-Integrated Ballast LED, 521W, any bulb shape, any application",521,"Light Emitting Diode (LED)",15,"Y"]
["LED522-FIXT","LED Non-Int Ballast",null,522,null,"Electronic","Non-Integrated Ballast LED, 522W, any bulb shape, any application",522,"Light Emitting Diode (LED)",15,"Y"]
["LED523-FIXT","LED Non-Int Ballast",null,523,null,"Electronic","Non-Integrated Ballast LED, 523W, any bulb shape, any application",523,"Light Emitting Diode (LED)",15,"Y"]
["LED524-FIXT","LED Non-Int Ballast",null,524,null,"Electronic","Non-Integrated Ballast LED, 524W, any bulb shape, any application",524,"Light Emitting Diode (LED)",15,"Y"]
["LED525-FIXT","LED Non-Int Ballast",null,525,null,"Electronic","Non-Integrated Ballast LED, 525W, any bulb shape, any application",525,"Light Emitting Diode (LED)",15,"Y"]
["LED526-FIXT","LED Non-Int Ballast",null,526,null,"Electronic","Non-Integrated Ballast LED, 526W, any bulb shape, any application",526,"Light Emitting Diode (LED)",15,"Y"]
["LED527-FIXT","LED Non-Int Ballast",null,527,null,"Electronic","Non-Integrated Ballast LED, 527W, any bulb shape, any application",527,"Light Emitting Diode (LED)",15,"Y"]
["LED528-FIXT","LED Non-Int Ballast",null,528,null,"Electronic","Non-Integrated Ballast LED, 528W, any bulb shape, any application",528,"Light Emitting Diode (LED)",15,"Y"]
["LED529-FIXT","LED Non-Int Ballast",null,529,null,"Electronic","Non-Integrated Ballast LED, 529W, any bulb shape, any application",529,"Light Emitting Diode (LED)",15,"Y"]
["LED530-FIXT","LED Non-Int Ballast",null,530,null,"Electronic","Non-Integrated Ballast LED, 530W, any bulb shape, any application",530,"Light Emitting Diode (LED)",15,"Y"]
["LED531-FIXT","LED Non-Int Ballast",null,531,null,"Electronic","Non-Integrated Ballast LED, 531W, any bulb shape, any application",531,"Light Emitting Diode (LED)",15,"Y"]
["LED532-FIXT","LED Non-Int Ballast",null,532,null,"Electronic","Non-Integrated Ballast LED, 532W, any bulb shape, any application",532,"Light Emitting Diode (LED)",15,"Y"]
["LED533-FIXT","LED Non-Int Ballast",null,533,null,"Electronic","Non-Integrated Ballast LED, 533W, any bulb shape, any application",533,"Light Emitting Diode (LED)",15,"Y"]
["LED534-FIXT","LED Non-Int Ballast",null,534,null,"Electronic","Non-Integrated Ballast LED, 534W, any bulb shape, any application",534,"Light Emitting Diode (LED)",15,"Y"]
["LED535-FIXT","LED Non-Int Ballast",null,535,null,"Electronic","Non-Integrated Ballast LED, 535W, any bulb shape, any application",535,"Light Emitting Diode (LED)",15,"Y"]
["LED536-FIXT","LED Non-Int Ballast",null,536,null,"Electronic","Non-Integrated Ballast LED, 536W, any bulb shape, any application",536,"Light Emitting Diode (LED)",15,"Y"]
["LED537-FIXT","LED Non-Int Ballast",null,537,null,"Electronic","Non-Integrated Ballast LED, 537W, any bulb shape, any application",537,"Light Emitting Diode (LED)",15,"Y"]
["LED538-FIXT","LED Non-Int Ballast",null,538,null,"Electronic","Non-Integrated Ballast LED, 538W, any bulb shape, any application",538,"Light Emitting Diode (LED)",15,"Y"]
["LED539-FIXT","LED Non-Int Ballast",null,539,null,"Electronic","Non-Integrated Ballast LED, 539W, any bulb shape, any application",539,"Light Emitting Diode (LED)",15,"Y"]
["LED540-FIXT","LED Non-Int Ballast",null,540,null,"Electronic","Non-Integrated Ballast LED, 540W, any bulb shape, any application",540,"Light Emitting Diode (LED)",15,"Y"]
["LED541-FIXT","LED Non-Int Ballast",null,541,null,"Electronic","Non-Integrated Ballast LED, 541W, any bulb shape, any application",541,"Light Emitting Diode (LED)",15,"Y"]
["LED542-FIXT","LED Non-Int Ballast",null,542,null,"Electronic","Non-Integrated Ballast LED, 542W, any bulb shape, any application",542,"Light Emitting Diode (LED)",15,"Y"]
["LED543-FIXT","LED Non-Int Ballast",null,543,null,"Electronic","Non-Integrated Ballast LED, 543W, any bulb shape, any application",543,"Light Emitting Diode (LED)",15,"Y"]
["LED544-FIXT","LED Non-Int Ballast",null,544,null,"Electronic","Non-Integrated Ballast LED, 544W, any bulb shape, any application",544,"Light Emitting Diode (LED)",15,"Y"]
["LED545-FIXT","LED Non-Int Ballast",null,545,null,"Electronic","Non-Integrated Ballast LED, 545W, any bulb shape, any application",545,"Light Emitting Diode (LED)",15,"Y"]
["LED546-FIXT","LED Non-Int Ballast",null,546,null,"Electronic","Non-Integrated Ballast LED, 546W, any bulb shape, any application",546,"Light Emitting Diode (LED)",15,"Y"]
["LED547-FIXT","LED Non-Int Ballast",null,547,null,"Electronic","Non-Integrated Ballast LED, 547W, any bulb shape, any application",547,"Light Emitting Diode (LED)",15,"Y"]
["LED548-FIXT","LED Non-Int Ballast",null,548,null,"Electronic","Non-Integrated Ballast LED, 548W, any bulb shape, any application",548,"Light Emitting Diode (LED)",15,"Y"]
["LED549-FIXT","LED Non-Int Ballast",null,549,null,"Electronic","Non-Integrated Ballast LED, 549W, any bulb shape, any application",549,"Light Emitting Diode (LED)",15,"Y"]
["LED550-FIXT","LED Non-Int Ballast",null,550,null,"Electronic","Non-Integrated Ballast LED, 550W, any bulb shape, any application",550,"Light Emitting Diode (LED)",15,"Y"]
["LED551-FIXT","LED Non-Int Ballast",null,551,null,"Electronic","Non-Integrated Ballast LED, 551W, any bulb shape, any application",551,"Light Emitting Diode (LED)",15,"Y"]
["LED552-FIXT","LED Non-Int Ballast",null,552,null,"Electronic","Non-Integrated Ballast LED, 552W, any bulb shape, any application",552,"Light Emitting Diode (LED)",15,"Y"]
["LED553-FIXT","LED Non-Int Ballast",null,553,null,"Electronic","Non-Integrated Ballast LED, 553W, any bulb shape, any application",553,"Light Emitting Diode (LED)",15,"Y"]
["LED554-FIXT","LED Non-Int Ballast",null,554,null,"Electronic","Non-Integrated Ballast LED, 554W, any bulb shape, any application",554,"Light Emitting Diode (LED)",15,"Y"]
["LED555-FIXT","LED Non-Int Ballast",null,555,null,"Electronic","Non-Integrated Ballast LED, 555W, any bulb shape, any application",555,"Light Emitting Diode (LED)",15,"Y"]
["LED556-FIXT","LED Non-Int Ballast",null,556,null,"Electronic","Non-Integrated Ballast LED, 556W, any bulb shape, any application",556,"Light Emitting Diode (LED)",15,"Y"]
["LED557-FIXT","LED Non-Int Ballast",null,557,null,"Electronic","Non-Integrated Ballast LED, 557W, any bulb shape, any application",557,"Light Emitting Diode (LED)",15,"Y"]
["LED558-FIXT","LED Non-Int Ballast",null,558,null,"Electronic","Non-Integrated Ballast LED, 558W, any bulb shape, any application",558,"Light Emitting Diode (LED)",15,"Y"]
["LED559-FIXT","LED Non-Int Ballast",null,559,null,"Electronic","Non-Integrated Ballast LED, 559W, any bulb shape, any application",559,"Light Emitting Diode (LED)",15,"Y"]
["LED560-FIXT","LED Non-Int Ballast",null,560,null,"Electronic","Non-Integrated Ballast LED, 560W, any bulb shape, any application",560,"Light Emitting Diode (LED)",15,"Y"]
["LED561-FIXT","LED Non-Int Ballast",null,561,null,"Electronic","Non-Integrated Ballast LED, 561W, any bulb shape, any application",561,"Light Emitting Diode (LED)",15,"Y"]
["LED562-FIXT","LED Non-Int Ballast",null,562,null,"Electronic","Non-Integrated Ballast LED, 562W, any bulb shape, any application",562,"Light Emitting Diode (LED)",15,"Y"]
["LED563-FIXT","LED Non-Int Ballast",null,563,null,"Electronic","Non-Integrated Ballast LED, 563W, any bulb shape, any application",563,"Light Emitting Diode (LED)",15,"Y"]
["LED564-FIXT","LED Non-Int Ballast",null,564,null,"Electronic","Non-Integrated Ballast LED, 564W, any bulb shape, any application",564,"Light Emitting Diode (LED)",15,"Y"]
["LED565-FIXT","LED Non-Int Ballast",null,565,null,"Electronic","Non-Integrated Ballast LED, 565W, any bulb shape, any application",565,"Light Emitting Diode (LED)",15,"Y"]
["LED566-FIXT","LED Non-Int Ballast",null,566,null,"Electronic","Non-Integrated Ballast LED, 566W, any bulb shape, any application",566,"Light Emitting Diode (LED)",15,"Y"]
["LED567-FIXT","LED Non-Int Ballast",null,567,null,"Electronic","Non-Integrated Ballast LED, 567W, any bulb shape, any application",567,"Light Emitting Diode (LED)",15,"Y"]
["LED568-FIXT","LED Non-Int Ballast",null,568,null,"Electronic","Non-Integrated Ballast LED, 568W, any bulb shape, any application",568,"Light Emitting Diode (LED)",15,"Y"]
["LED569-FIXT","LED Non-Int Ballast",null,569,null,"Electronic","Non-Integrated Ballast LED, 569W, any bulb shape, any application",569,"Light Emitting Diode (LED)",15,"Y"]
["LED570-FIXT","LED Non-Int Ballast",null,570,null,"Electronic","Non-Integrated Ballast LED, 570W, any bulb shape, any application",570,"Light Emitting Diode (LED)",15,"Y"]
["LED571-FIXT","LED Non-Int Ballast",null,571,null,"Electronic","Non-Integrated Ballast LED, 571W, any bulb shape, any application",571,"Light Emitting Diode (LED)",15,"Y"]
["LED572-FIXT","LED Non-Int Ballast",null,572,null,"Electronic","Non-Integrated Ballast LED, 572W, any bulb shape, any application",572,"Light Emitting Diode (LED)",15,"Y"]
["LED573-FIXT","LED Non-Int Ballast",null,573,null,"Electronic","Non-Integrated Ballast LED, 573W, any bulb shape, any application",573,"Light Emitting Diode (LED)",15,"Y"]
["LED574-FIXT","LED Non-Int Ballast",null,574,null,"Electronic","Non-Integrated Ballast LED, 574W, any bulb shape, any application",574,"Light Emitting Diode (LED)",15,"Y"]
["LED575-FIXT","LED Non-Int Ballast",null,575,null,"Electronic","Non-Integrated Ballast LED, 575W, any bulb shape, any application",575,"Light Emitting Diode (LED)",15,"Y"]
["LED576-FIXT","LED Non-Int Ballast",null,576,null,"Electronic","Non-Integrated Ballast LED, 576W, any bulb shape, any application",576,"Light Emitting Diode (LED)",15,"Y"]
["LED577-FIXT","LED Non-Int Ballast",null,577,null,"Electronic","Non-Integrated Ballast LED, 577W, any bulb shape, any application",577,"Light Emitting Diode (LED)",15,"Y"]
["LED578-FIXT","LED Non-Int Ballast",null,578,null,"Electronic","Non-Integrated Ballast LED, 578W, any bulb shape, any application",578,"Light Emitting Diode (LED)",15,"Y"]
["LED579-FIXT","LED Non-Int Ballast",null,579,null,"Electronic","Non-Integrated Ballast LED, 579W, any bulb shape, any application",579,"Light Emitting Diode (LED)",15,"Y"]
["LED580-FIXT","LED Non-Int Ballast",null,580,null,"Electronic","Non-Integrated Ballast LED, 580W, any bulb shape, any application",580,"Light Emitting Diode (LED)",15,"Y"]
["LED581-FIXT","LED Non-Int Ballast",null,581,null,"Electronic","Non-Integrated Ballast LED, 581W, any bulb shape, any application",581,"Light Emitting Diode (LED)",15,"Y"]
["LED582-FIXT","LED Non-Int Ballast",null,582,null,"Electronic","Non-Integrated Ballast LED, 582W, any bulb shape, any application",582,"Light Emitting Diode (LED)",15,"Y"]
["LED583-FIXT","LED Non-Int Ballast",null,583,null,"Electronic","Non-Integrated Ballast LED, 583W, any bulb shape, any application",583,"Light Emitting Diode (LED)",15,"Y"]
["LED584-FIXT","LED Non-Int Ballast",null,584,null,"Electronic","Non-Integrated Ballast LED, 584W, any bulb shape, any application",584,"Light Emitting Diode (LED)",15,"Y"]
["LED585-FIXT","LED Non-Int Ballast",null,585,null,"Electronic","Non-Integrated Ballast LED, 585W, any bulb shape, any application",585,"Light Emitting Diode (LED)",15,"Y"]
["LED586-FIXT","LED Non-Int Ballast",null,586,null,"Electronic","Non-Integrated Ballast LED, 586W, any bulb shape, any application",586,"Light Emitting Diode (LED)",15,"Y"]
["LED587-FIXT","LED Non-Int Ballast",null,587,null,"Electronic","Non-Integrated Ballast LED, 587W, any bulb shape, any application",587,"Light Emitting Diode (LED)",15,"Y"]
["LED588-FIXT","LED Non-Int Ballast",null,588,null,"Electronic","Non-Integrated Ballast LED, 588W, any bulb shape, any application",588,"Light Emitting Diode (LED)",15,"Y"]
["LED589-FIXT","LED Non-Int Ballast",null,589,null,"Electronic","Non-Integrated Ballast LED, 589W, any bulb shape, any application",589,"Light Emitting Diode (LED)",15,"Y"]
["LED590-FIXT","LED Non-Int Ballast",null,590,null,"Electronic","Non-Integrated Ballast LED, 590W, any bulb shape, any application",590,"Light Emitting Diode (LED)",15,"Y"]
["LED591-FIXT","LED Non-Int Ballast",null,591,null,"Electronic","Non-Integrated Ballast LED, 591W, any bulb shape, any application",591,"Light Emitting Diode (LED)",15,"Y"]
["LED592-FIXT","LED Non-Int Ballast",null,592,null,"Electronic","Non-Integrated Ballast LED, 592W, any bulb shape, any application",592,"Light Emitting Diode (LED)",15,"Y"]
["LED593-FIXT","LED Non-Int Ballast",null,593,null,"Electronic","Non-Integrated Ballast LED, 593W, any bulb shape, any application",593,"Light Emitting Diode (LED)",15,"Y"]
["LED594-FIXT","LED Non-Int Ballast",null,594,null,"Electronic","Non-Integrated Ballast LED, 594W, any bulb shape, any application",594,"Light Emitting Diode (LED)",15,"Y"]
["LED595-FIXT","LED Non-Int Ballast",null,595,null,"Electronic","Non-Integrated Ballast LED, 595W, any bulb shape, any application",595,"Light Emitting Diode (LED)",15,"Y"]
["LED596-FIXT","LED Non-Int Ballast",null,596,null,"Electronic","Non-Integrated Ballast LED, 596W, any bulb shape, any application",596,"Light Emitting Diode (LED)",15,"Y"]
["LED597-FIXT","LED Non-Int Ballast",null,597,null,"Electronic","Non-Integrated Ballast LED, 597W, any bulb shape, any application",597,"Light Emitting Diode (LED)",15,"Y"]
["LED598-FIXT","LED Non-Int Ballast",null,598,null,"Electronic","Non-Integrated Ballast LED, 598W, any bulb shape, any application",598,"Light Emitting Diode (LED)",15,"Y"]
["LED599-FIXT","LED Non-Int Ballast",null,599,null,"Electronic","Non-Integrated Ballast LED, 599W, any bulb shape, any application",599,"Light Emitting Diode (LED)",15,"Y"]
["LED600-FIXT","LED Non-Int Ballast",null,600,null,"Electronic","Non-Integrated Ballast LED, 600W, any bulb shape, any application",600,"Light Emitting Diode (LED)",15,"Y"]
["LED601-FIXT","LED Non-Int Ballast",null,601,null,"Electronic","Non-Integrated Ballast LED, 601W, any bulb shape, any application",601,"Light Emitting Diode (LED)",15,"Y"]
["LED602-FIXT","LED Non-Int Ballast",null,602,null,"Electronic","Non-Integrated Ballast LED, 602W, any bulb shape, any application",602,"Light Emitting Diode (LED)",15,"Y"]
["LED603-FIXT","LED Non-Int Ballast",null,603,null,"Electronic","Non-Integrated Ballast LED, 603W, any bulb shape, any application",603,"Light Emitting Diode (LED)",15,"Y"]
["LED604-FIXT","LED Non-Int Ballast",null,604,null,"Electronic","Non-Integrated Ballast LED, 604W, any bulb shape, any application",604,"Light Emitting Diode (LED)",15,"Y"]
["LED605-FIXT","LED Non-Int Ballast",null,605,null,"Electronic","Non-Integrated Ballast LED, 605W, any bulb shape, any application",605,"Light Emitting Diode (LED)",15,"Y"]
["LED606-FIXT","LED Non-Int Ballast",null,606,null,"Electronic","Non-Integrated Ballast LED, 606W, any bulb shape, any application",606,"Light Emitting Diode (LED)",15,"Y"]
["LED607-FIXT","LED Non-Int Ballast",null,607,null,"Electronic","Non-Integrated Ballast LED, 607W, any bulb shape, any application",607,"Light Emitting Diode (LED)",15,"Y"]
["LED608-FIXT","LED Non-Int Ballast",null,608,null,"Electronic","Non-Integrated Ballast LED, 608W, any bulb shape, any application",608,"Light Emitting Diode (LED)",15,"Y"]
["LED609-FIXT","LED Non-Int Ballast",null,609,null,"Electronic","Non-Integrated Ballast LED, 609W, any bulb shape, any application",609,"Light Emitting Diode (LED)",15,"Y"]
["LED610-FIXT","LED Non-Int Ballast",null,610,null,"Electronic","Non-Integrated Ballast LED, 610W, any bulb shape, any application",610,"Light Emitting Diode (LED)",15,"Y"]
["LED611-FIXT","LED Non-Int Ballast",null,611,null,"Electronic","Non-Integrated Ballast LED, 611W, any bulb shape, any application",611,"Light Emitting Diode (LED)",15,"Y"]
["LED612-FIXT","LED Non-Int Ballast",null,612,null,"Electronic","Non-Integrated Ballast LED, 612W, any bulb shape, any application",612,"Light Emitting Diode (LED)",15,"Y"]
["LED613-FIXT","LED Non-Int Ballast",null,613,null,"Electronic","Non-Integrated Ballast LED, 613W, any bulb shape, any application",613,"Light Emitting Diode (LED)",15,"Y"]
["LED614-FIXT","LED Non-Int Ballast",null,614,null,"Electronic","Non-Integrated Ballast LED, 614W, any bulb shape, any application",614,"Light Emitting Diode (LED)",15,"Y"]
["LED615-FIXT","LED Non-Int Ballast",null,615,null,"Electronic","Non-Integrated Ballast LED, 615W, any bulb shape, any application",615,"Light Emitting Diode (LED)",15,"Y"]
["LED616-FIXT","LED Non-Int Ballast",null,616,null,"Electronic","Non-Integrated Ballast LED, 616W, any bulb shape, any application",616,"Light Emitting Diode (LED)",15,"Y"]
["LED617-FIXT","LED Non-Int Ballast",null,617,null,"Electronic","Non-Integrated Ballast LED, 617W, any bulb shape, any application",617,"Light Emitting Diode (LED)",15,"Y"]
["LED618-FIXT","LED Non-Int Ballast",null,618,null,"Electronic","Non-Integrated Ballast LED, 618W, any bulb shape, any application",618,"Light Emitting Diode (LED)",15,"Y"]
["LED619-FIXT","LED Non-Int Ballast",null,619,null,"Electronic","Non-Integrated Ballast LED, 619W, any bulb shape, any application",619,"Light Emitting Diode (LED)",15,"Y"]
["LED620-FIXT","LED Non-Int Ballast",null,620,null,"Electronic","Non-Integrated Ballast LED, 620W, any bulb shape, any application",620,"Light Emitting Diode (LED)",15,"Y"]
["LED621-FIXT","LED Non-Int Ballast",null,621,null,"Electronic","Non-Integrated Ballast LED, 621W, any bulb shape, any application",621,"Light Emitting Diode (LED)",15,"Y"]
["LED622-FIXT","LED Non-Int Ballast",null,622,null,"Electronic","Non-Integrated Ballast LED, 622W, any bulb shape, any application",622,"Light Emitting Diode (LED)",15,"Y"]
["LED623-FIXT","LED Non-Int Ballast",null,623,null,"Electronic","Non-Integrated Ballast LED, 623W, any bulb shape, any application",623,"Light Emitting Diode (LED)",15,"Y"]
["LED624-FIXT","LED Non-Int Ballast",null,624,null,"Electronic","Non-Integrated Ballast LED, 624W, any bulb shape, any application",624,"Light Emitting Diode (LED)",15,"Y"]
["LED625-FIXT","LED Non-Int Ballast",null,625,null,"Electronic","Non-Integrated Ballast LED, 625W, any bulb shape, any application",625,"Light Emitting Diode (LED)",15,"Y"]
["LED626-FIXT","LED Non-Int Ballast",null,626,null,"Electronic","Non-Integrated Ballast LED, 626W, any bulb shape, any application",626,"Light Emitting Diode (LED)",15,"Y"]
["LED627-FIXT","LED Non-Int Ballast",null,627,null,"Electronic","Non-Integrated Ballast LED, 627W, any bulb shape, any application",627,"Light Emitting Diode (LED)",15,"Y"]
["LED628-FIXT","LED Non-Int Ballast",null,628,null,"Electronic","Non-Integrated Ballast LED, 628W, any bulb shape, any application",628,"Light Emitting Diode (LED)",15,"Y"]
["LED629-FIXT","LED Non-Int Ballast",null,629,null,"Electronic","Non-Integrated Ballast LED, 629W, any bulb shape, any application",629,"Light Emitting Diode (LED)",15,"Y"]
["LED630-FIXT","LED Non-Int Ballast",null,630,null,"Electronic","Non-Integrated Ballast LED, 630W, any bulb shape, any application",630,"Light Emitting Diode (LED)",15,"Y"]
["LED631-FIXT","LED Non-Int Ballast",null,631,null,"Electronic","Non-Integrated Ballast LED, 631W, any bulb shape, any application",631,"Light Emitting Diode (LED)",15,"Y"]
["LED632-FIXT","LED Non-Int Ballast",null,632,null,"Electronic","Non-Integrated Ballast LED, 632W, any bulb shape, any application",632,"Light Emitting Diode (LED)",15,"Y"]
["LED633-FIXT","LED Non-Int Ballast",null,633,null,"Electronic","Non-Integrated Ballast LED, 633W, any bulb shape, any application",633,"Light Emitting Diode (LED)",15,"Y"]
["LED634-FIXT","LED Non-Int Ballast",null,634,null,"Electronic","Non-Integrated Ballast LED, 634W, any bulb shape, any application",634,"Light Emitting Diode (LED)",15,"Y"]
["LED635-FIXT","LED Non-Int Ballast",null,635,null,"Electronic","Non-Integrated Ballast LED, 635W, any bulb shape, any application",635,"Light Emitting Diode (LED)",15,"Y"]
["LED636-FIXT","LED Non-Int Ballast",null,636,null,"Electronic","Non-Integrated Ballast LED, 636W, any bulb shape, any application",636,"Light Emitting Diode (LED)",15,"Y"]
["LED637-FIXT","LED Non-Int Ballast",null,637,null,"Electronic","Non-Integrated Ballast LED, 637W, any bulb shape, any application",637,"Light Emitting Diode (LED)",15,"Y"]
["LED638-FIXT","LED Non-Int Ballast",null,638,null,"Electronic","Non-Integrated Ballast LED, 638W, any bulb shape, any application",638,"Light Emitting Diode (LED)",15,"Y"]
["LED639-FIXT","LED Non-Int Ballast",null,639,null,"Electronic","Non-Integrated Ballast LED, 639W, any bulb shape, any application",639,"Light Emitting Diode (LED)",15,"Y"]
["LED640-FIXT","LED Non-Int Ballast",null,640,null,"Electronic","Non-Integrated Ballast LED, 640W, any bulb shape, any application",640,"Light Emitting Diode (LED)",15,"Y"]
["LED641-FIXT","LED Non-Int Ballast",null,641,null,"Electronic","Non-Integrated Ballast LED, 641W, any bulb shape, any application",641,"Light Emitting Diode (LED)",15,"Y"]
["LED642-FIXT","LED Non-Int Ballast",null,642,null,"Electronic","Non-Integrated Ballast LED, 642W, any bulb shape, any application",642,"Light Emitting Diode (LED)",15,"Y"]
["LED643-FIXT","LED Non-Int Ballast",null,643,null,"Electronic","Non-Integrated Ballast LED, 643W, any bulb shape, any application",643,"Light Emitting Diode (LED)",15,"Y"]
["LED644-FIXT","LED Non-Int Ballast",null,644,null,"Electronic","Non-Integrated Ballast LED, 644W, any bulb shape, any application",644,"Light Emitting Diode (LED)",15,"Y"]
["LED645-FIXT","LED Non-Int Ballast",null,645,null,"Electronic","Non-Integrated Ballast LED, 645W, any bulb shape, any application",645,"Light Emitting Diode (LED)",15,"Y"]
["LED646-FIXT","LED Non-Int Ballast",null,646,null,"Electronic","Non-Integrated Ballast LED, 646W, any bulb shape, any application",646,"Light Emitting Diode (LED)",15,"Y"]
["LED647-FIXT","LED Non-Int Ballast",null,647,null,"Electronic","Non-Integrated Ballast LED, 647W, any bulb shape, any application",647,"Light Emitting Diode (LED)",15,"Y"]
["LED648-FIXT","LED Non-Int Ballast",null,648,null,"Electronic","Non-Integrated Ballast LED, 648W, any bulb shape, any application",648,"Light Emitting Diode (LED)",15,"Y"]
["LED649-FIXT","LED Non-Int Ballast",null,649,null,"Electronic","Non-Integrated Ballast LED, 649W, any bulb shape, any application",649,"Light Emitting Diode (LED)",15,"Y"]
["LED650-FIXT","LED Non-Int Ballast",null,650,null,"Electronic","Non-Integrated Ballast LED, 650W, any bulb shape, any application",650,"Light Emitting Diode (LED)",15,"Y"]
["LED651-FIXT","LED Non-Int Ballast",null,651,null,"Electronic","Non-Integrated Ballast LED, 651W, any bulb shape, any application",651,"Light Emitting Diode (LED)",15,"Y"]
["LED652-FIXT","LED Non-Int Ballast",null,652,null,"Electronic","Non-Integrated Ballast LED, 652W, any bulb shape, any application",652,"Light Emitting Diode (LED)",15,"Y"]
["LED653-FIXT","LED Non-Int Ballast",null,653,null,"Electronic","Non-Integrated Ballast LED, 653W, any bulb shape, any application",653,"Light Emitting Diode (LED)",15,"Y"]
["LED654-FIXT","LED Non-Int Ballast",null,654,null,"Electronic","Non-Integrated Ballast LED, 654W, any bulb shape, any application",654,"Light Emitting Diode (LED)",15,"Y"]
["LED655-FIXT","LED Non-Int Ballast",null,655,null,"Electronic","Non-Integrated Ballast LED, 655W, any bulb shape, any application",655,"Light Emitting Diode (LED)",15,"Y"]
["LED656-FIXT","LED Non-Int Ballast",null,656,null,"Electronic","Non-Integrated Ballast LED, 656W, any bulb shape, any application",656,"Light Emitting Diode (LED)",15,"Y"]
["LED657-FIXT","LED Non-Int Ballast",null,657,null,"Electronic","Non-Integrated Ballast LED, 657W, any bulb shape, any application",657,"Light Emitting Diode (LED)",15,"Y"]
["LED658-FIXT","LED Non-Int Ballast",null,658,null,"Electronic","Non-Integrated Ballast LED, 658W, any bulb shape, any application",658,"Light Emitting Diode (LED)",15,"Y"]
["LED659-FIXT","LED Non-Int Ballast",null,659,null,"Electronic","Non-Integrated Ballast LED, 659W, any bulb shape, any application",659,"Light Emitting Diode (LED)",15,"Y"]
["LED660-FIXT","LED Non-Int Ballast",null,660,null,"Electronic","Non-Integrated Ballast LED, 660W, any bulb shape, any application",660,"Light Emitting Diode (LED)",15,"Y"]
["LED661-FIXT","LED Non-Int Ballast",null,661,null,"Electronic","Non-Integrated Ballast LED, 661W, any bulb shape, any application",661,"Light Emitting Diode (LED)",15,"Y"]
["LED662-FIXT","LED Non-Int Ballast",null,662,null,"Electronic","Non-Integrated Ballast LED, 662W, any bulb shape, any application",662,"Light Emitting Diode (LED)",15,"Y"]
["LED663-FIXT","LED Non-Int Ballast",null,663,null,"Electronic","Non-Integrated Ballast LED, 663W, any bulb shape, any application",663,"Light Emitting Diode (LED)",15,"Y"]
["LED664-FIXT","LED Non-Int Ballast",null,664,null,"Electronic","Non-Integrated Ballast LED, 664W, any bulb shape, any application",664,"Light Emitting Diode (LED)",15,"Y"]
["LED665-FIXT","LED Non-Int Ballast",null,665,null,"Electronic","Non-Integrated Ballast LED, 665W, any bulb shape, any application",665,"Light Emitting Diode (LED)",15,"Y"]
["LED666-FIXT","LED Non-Int Ballast",null,666,null,"Electronic","Non-Integrated Ballast LED, 666W, any bulb shape, any application",666,"Light Emitting Diode (LED)",15,"Y"]
["LED667-FIXT","LED Non-Int Ballast",null,667,null,"Electronic","Non-Integrated Ballast LED, 667W, any bulb shape, any application",667,"Light Emitting Diode (LED)",15,"Y"]
["LED668-FIXT","LED Non-Int Ballast",null,668,null,"Electronic","Non-Integrated Ballast LED, 668W, any bulb shape, any application",668,"Light Emitting Diode (LED)",15,"Y"]
["LED669-FIXT","LED Non-Int Ballast",null,669,null,"Electronic","Non-Integrated Ballast LED, 669W, any bulb shape, any application",669,"Light Emitting Diode (LED)",15,"Y"]
["LED670-FIXT","LED Non-Int Ballast",null,670,null,"Electronic","Non-Integrated Ballast LED, 670W, any bulb shape, any application",670,"Light Emitting Diode (LED)",15,"Y"]
["LED671-FIXT","LED Non-Int Ballast",null,671,null,"Electronic","Non-Integrated Ballast LED, 671W, any bulb shape, any application",671,"Light Emitting Diode (LED)",15,"Y"]
["LED672-FIXT","LED Non-Int Ballast",null,672,null,"Electronic","Non-Integrated Ballast LED, 672W, any bulb shape, any application",672,"Light Emitting Diode (LED)",15,"Y"]
["LED673-FIXT","LED Non-Int Ballast",null,673,null,"Electronic","Non-Integrated Ballast LED, 673W, any bulb shape, any application",673,"Light Emitting Diode (LED)",15,"Y"]
["LED674-FIXT","LED Non-Int Ballast",null,674,null,"Electronic","Non-Integrated Ballast LED, 674W, any bulb shape, any application",674,"Light Emitting Diode (LED)",15,"Y"]
["LED675-FIXT","LED Non-Int Ballast",null,675,null,"Electronic","Non-Integrated Ballast LED, 675W, any bulb shape, any application",675,"Light Emitting Diode (LED)",15,"Y"]
["LED676-FIXT","LED Non-Int Ballast",null,676,null,"Electronic","Non-Integrated Ballast LED, 676W, any bulb shape, any application",676,"Light Emitting Diode (LED)",15,"Y"]
["LED677-FIXT","LED Non-Int Ballast",null,677,null,"Electronic","Non-Integrated Ballast LED, 677W, any bulb shape, any application",677,"Light Emitting Diode (LED)",15,"Y"]
["LED678-FIXT","LED Non-Int Ballast",null,678,null,"Electronic","Non-Integrated Ballast LED, 678W, any bulb shape, any application",678,"Light Emitting Diode (LED)",15,"Y"]
["LED679-FIXT","LED Non-Int Ballast",null,679,null,"Electronic","Non-Integrated Ballast LED, 679W, any bulb shape, any application",679,"Light Emitting Diode (LED)",15,"Y"]
["LED680-FIXT","LED Non-Int Ballast",null,680,null,"Electronic","Non-Integrated Ballast LED, 680W, any bulb shape, any application",680,"Light Emitting Diode (LED)",15,"Y"]
["LED681-FIXT","LED Non-Int Ballast",null,681,null,"Electronic","Non-Integrated Ballast LED, 681W, any bulb shape, any application",681,"Light Emitting Diode (LED)",15,"Y"]
["LED682-FIXT","LED Non-Int Ballast",null,682,null,"Electronic","Non-Integrated Ballast LED, 682W, any bulb shape, any application",682,"Light Emitting Diode (LED)",15,"Y"]
["LED683-FIXT","LED Non-Int Ballast",null,683,null,"Electronic","Non-Integrated Ballast LED, 683W, any bulb shape, any application",683,"Light Emitting Diode (LED)",15,"Y"]
["LED684-FIXT","LED Non-Int Ballast",null,684,null,"Electronic","Non-Integrated Ballast LED, 684W, any bulb shape, any application",684,"Light Emitting Diode (LED)",15,"Y"]
["LED685-FIXT","LED Non-Int Ballast",null,685,null,"Electronic","Non-Integrated Ballast LED, 685W, any bulb shape, any application",685,"Light Emitting Diode (LED)",15,"Y"]
["LED686-FIXT","LED Non-Int Ballast",null,686,null,"Electronic","Non-Integrated Ballast LED, 686W, any bulb shape, any application",686,"Light Emitting Diode (LED)",15,"Y"]
["LED687-FIXT","LED Non-Int Ballast",null,687,null,"Electronic","Non-Integrated Ballast LED, 687W, any bulb shape, any application",687,"Light Emitting Diode (LED)",15,"Y"]
["LED688-FIXT","LED Non-Int Ballast",null,688,null,"Electronic","Non-Integrated Ballast LED, 688W, any bulb shape, any application",688,"Light Emitting Diode (LED)",15,"Y"]
["LED689-FIXT","LED Non-Int Ballast",null,689,null,"Electronic","Non-Integrated Ballast LED, 689W, any bulb shape, any application",689,"Light Emitting Diode (LED)",15,"Y"]
["LED690-FIXT","LED Non-Int Ballast",null,690,null,"Electronic","Non-Integrated Ballast LED, 690W, any bulb shape, any application",690,"Light Emitting Diode (LED)",15,"Y"]
["LED691-FIXT","LED Non-Int Ballast",null,691,null,"Electronic","Non-Integrated Ballast LED, 691W, any bulb shape, any application",691,"Light Emitting Diode (LED)",15,"Y"]
["LED692-FIXT","LED Non-Int Ballast",null,692,null,"Electronic","Non-Integrated Ballast LED, 692W, any bulb shape, any application",692,"Light Emitting Diode (LED)",15,"Y"]
["LED693-FIXT","LED Non-Int Ballast",null,693,null,"Electronic","Non-Integrated Ballast LED, 693W, any bulb shape, any application",693,"Light Emitting Diode (LED)",15,"Y"]
["LED694-FIXT","LED Non-Int Ballast",null,694,null,"Electronic","Non-Integrated Ballast LED, 694W, any bulb shape, any application",694,"Light Emitting Diode (LED)",15,"Y"]
["LED695-FIXT","LED Non-Int Ballast",null,695,null,"Electronic","Non-Integrated Ballast LED, 695W, any bulb shape, any application",695,"Light Emitting Diode (LED)",15,"Y"]
["LED696-FIXT","LED Non-Int Ballast",null,696,null,"Electronic","Non-Integrated Ballast LED, 696W, any bulb shape, any application",696,"Light Emitting Diode (LED)",15,"Y"]
["LED697-FIXT","LED Non-Int Ballast",null,697,null,"Electronic","Non-Integrated Ballast LED, 697W, any bulb shape, any application",697,"Light Emitting Diode (LED)",15,"Y"]
["LED698-FIXT","LED Non-Int Ballast",null,698,null,"Electronic","Non-Integrated Ballast LED, 698W, any bulb shape, any application",698,"Light Emitting Diode (LED)",15,"Y"]
["LED699-FIXT","LED Non-Int Ballast",null,699,null,"Electronic","Non-Integrated Ballast LED, 699W, any bulb shape, any application",699,"Light Emitting Diode (LED)",15,"Y"]
["LED700-FIXT","LED Non-Int Ballast",null,700,null,"Electronic","Non-Integrated Ballast LED, 700W, any bulb shape, any application",700,"Light Emitting Diode (LED)",15,"Y"]
["LED701-FIXT","LED Non-Int Ballast",null,701,null,"Electronic","Non-Integrated Ballast LED, 701W, any bulb shape, any application",701,"Light Emitting Diode (LED)",15,"Y"]
["LED702-FIXT","LED Non-Int Ballast",null,702,null,"Electronic","Non-Integrated Ballast LED, 702W, any bulb shape, any application",702,"Light Emitting Diode (LED)",15,"Y"]
["LED703-FIXT","LED Non-Int Ballast",null,703,null,"Electronic","Non-Integrated Ballast LED, 703W, any bulb shape, any application",703,"Light Emitting Diode (LED)",15,"Y"]
["LED704-FIXT","LED Non-Int Ballast",null,704,null,"Electronic","Non-Integrated Ballast LED, 704W, any bulb shape, any application",704,"Light Emitting Diode (LED)",15,"Y"]
["LED705-FIXT","LED Non-Int Ballast",null,705,null,"Electronic","Non-Integrated Ballast LED, 705W, any bulb shape, any application",705,"Light Emitting Diode (LED)",15,"Y"]
["LED706-FIXT","LED Non-Int Ballast",null,706,null,"Electronic","Non-Integrated Ballast LED, 706W, any bulb shape, any application",706,"Light Emitting Diode (LED)",15,"Y"]
["LED707-FIXT","LED Non-Int Ballast",null,707,null,"Electronic","Non-Integrated Ballast LED, 707W, any bulb shape, any application",707,"Light Emitting Diode (LED)",15,"Y"]
["LED708-FIXT","LED Non-Int Ballast",null,708,null,"Electronic","Non-Integrated Ballast LED, 708W, any bulb shape, any application",708,"Light Emitting Diode (LED)",15,"Y"]
["LED709-FIXT","LED Non-Int Ballast",null,709,null,"Electronic","Non-Integrated Ballast LED, 709W, any bulb shape, any application",709,"Light Emitting Diode (LED)",15,"Y"]
["LED710-FIXT","LED Non-Int Ballast",null,710,null,"Electronic","Non-Integrated Ballast LED, 710W, any bulb shape, any application",710,"Light Emitting Diode (LED)",15,"Y"]
["LED711-FIXT","LED Non-Int Ballast",null,711,null,"Electronic","Non-Integrated Ballast LED, 711W, any bulb shape, any application",711,"Light Emitting Diode (LED)",15,"Y"]
["LED712-FIXT","LED Non-Int Ballast",null,712,null,"Electronic","Non-Integrated Ballast LED, 712W, any bulb shape, any application",712,"Light Emitting Diode (LED)",15,"Y"]
["LED713-FIXT","LED Non-Int Ballast",null,713,null,"Electronic","Non-Integrated Ballast LED, 713W, any bulb shape, any application",713,"Light Emitting Diode (LED)",15,"Y"]
["LED714-FIXT","LED Non-Int Ballast",null,714,null,"Electronic","Non-Integrated Ballast LED, 714W, any bulb shape, any application",714,"Light Emitting Diode (LED)",15,"Y"]
["LED715-FIXT","LED Non-Int Ballast",null,715,null,"Electronic","Non-Integrated Ballast LED, 715W, any bulb shape, any application",715,"Light Emitting Diode (LED)",15,"Y"]
["LED716-FIXT","LED Non-Int Ballast",null,716,null,"Electronic","Non-Integrated Ballast LED, 716W, any bulb shape, any application",716,"Light Emitting Diode (LED)",15,"Y"]
["LED717-FIXT","LED Non-Int Ballast",null,717,null,"Electronic","Non-Integrated Ballast LED, 717W, any bulb shape, any application",717,"Light Emitting Diode (LED)",15,"Y"]
["LED718-FIXT","LED Non-Int Ballast",null,718,null,"Electronic","Non-Integrated Ballast LED, 718W, any bulb shape, any application",718,"Light Emitting Diode (LED)",15,"Y"]
["LED719-FIXT","LED Non-Int Ballast",null,719,null,"Electronic","Non-Integrated Ballast LED, 719W, any bulb shape, any application",719,"Light Emitting Diode (LED)",15,"Y"]
["LED720-FIXT","LED Non-Int Ballast",null,720,null,"Electronic","Non-Integrated Ballast LED, 720W, any bulb shape, any application",720,"Light Emitting Diode (LED)",15,"Y"]
["LED721-FIXT","LED Non-Int Ballast",null,721,null,"Electronic","Non-Integrated Ballast LED, 721W, any bulb shape, any application",721,"Light Emitting Diode (LED)",15,"Y"]
["LED722-FIXT","LED Non-Int Ballast",null,722,null,"Electronic","Non-Integrated Ballast LED, 722W, any bulb shape, any application",722,"Light Emitting Diode (LED)",15,"Y"]
["LED723-FIXT","LED Non-Int Ballast",null,723,null,"Electronic","Non-Integrated Ballast LED, 723W, any bulb shape, any application",723,"Light Emitting Diode (LED)",15,"Y"]
["LED724-FIXT","LED Non-Int Ballast",null,724,null,"Electronic","Non-Integrated Ballast LED, 724W, any bulb shape, any application",724,"Light Emitting Diode (LED)",15,"Y"]
["LED725-FIXT","LED Non-Int Ballast",null,725,null,"Electronic","Non-Integrated Ballast LED, 725W, any bulb shape, any application",725,"Light Emitting Diode (LED)",15,"Y"]
["LED726-FIXT","LED Non-Int Ballast",null,726,null,"Electronic","Non-Integrated Ballast LED, 726W, any bulb shape, any application",726,"Light Emitting Diode (LED)",15,"Y"]
["LED727-FIXT","LED Non-Int Ballast",null,727,null,"Electronic","Non-Integrated Ballast LED, 727W, any bulb shape, any application",727,"Light Emitting Diode (LED)",15,"Y"]
["LED728-FIXT","LED Non-Int Ballast",null,728,null,"Electronic","Non-Integrated Ballast LED, 728W, any bulb shape, any application",728,"Light Emitting Diode (LED)",15,"Y"]
["LED729-FIXT","LED Non-Int Ballast",null,729,null,"Electronic","Non-Integrated Ballast LED, 729W, any bulb shape, any application",729,"Light Emitting Diode (LED)",15,"Y"]
["LED730-FIXT","LED Non-Int Ballast",null,730,null,"Electronic","Non-Integrated Ballast LED, 730W, any bulb shape, any application",730,"Light Emitting Diode (LED)",15,"Y"]
["LED731-FIXT","LED Non-Int Ballast",null,731,null,"Electronic","Non-Integrated Ballast LED, 731W, any bulb shape, any application",731,"Light Emitting Diode (LED)",15,"Y"]
["LED732-FIXT","LED Non-Int Ballast",null,732,null,"Electronic","Non-Integrated Ballast LED, 732W, any bulb shape, any application",732,"Light Emitting Diode (LED)",15,"Y"]
["LED733-FIXT","LED Non-Int Ballast",null,733,null,"Electronic","Non-Integrated Ballast LED, 733W, any bulb shape, any application",733,"Light Emitting Diode (LED)",15,"Y"]
["LED734-FIXT","LED Non-Int Ballast",null,734,null,"Electronic","Non-Integrated Ballast LED, 734W, any bulb shape, any application",734,"Light Emitting Diode (LED)",15,"Y"]
["LED735-FIXT","LED Non-Int Ballast",null,735,null,"Electronic","Non-Integrated Ballast LED, 735W, any bulb shape, any application",735,"Light Emitting Diode (LED)",15,"Y"]
["LED736-FIXT","LED Non-Int Ballast",null,736,null,"Electronic","Non-Integrated Ballast LED, 736W, any bulb shape, any application",736,"Light Emitting Diode (LED)",15,"Y"]
["LED737-FIXT","LED Non-Int Ballast",null,737,null,"Electronic","Non-Integrated Ballast LED, 737W, any bulb shape, any application",737,"Light Emitting Diode (LED)",15,"Y"]
["LED738-FIXT","LED Non-Int Ballast",null,738,null,"Electronic","Non-Integrated Ballast LED, 738W, any bulb shape, any application",738,"Light Emitting Diode (LED)",15,"Y"]
["LED739-FIXT","LED Non-Int Ballast",null,739,null,"Electronic","Non-Integrated Ballast LED, 739W, any bulb shape, any application",739,"Light Emitting Diode (LED)",15,"Y"]
["LED740-FIXT","LED Non-Int Ballast",null,740,null,"Electronic","Non-Integrated Ballast LED, 740W, any bulb shape, any application",740,"Light Emitting Diode (LED)",15,"Y"]
["LED741-FIXT","LED Non-Int Ballast",null,741,null,"Electronic","Non-Integrated Ballast LED, 741W, any bulb shape, any application",741,"Light Emitting Diode (LED)",15,"Y"]
["LED742-FIXT","LED Non-Int Ballast",null,742,null,"Electronic","Non-Integrated Ballast LED, 742W, any bulb shape, any application",742,"Light Emitting Diode (LED)",15,"Y"]
["LED743-FIXT","LED Non-Int Ballast",null,743,null,"Electronic","Non-Integrated Ballast LED, 743W, any bulb shape, any application",743,"Light Emitting Diode (LED)",15,"Y"]
["LED744-FIXT","LED Non-Int Ballast",null,744,null,"Electronic","Non-Integrated Ballast LED, 744W, any bulb shape, any application",744,"Light Emitting Diode (LED)",15,"Y"]
["LED745-FIXT","LED Non-Int Ballast",null,745,null,"Electronic","Non-Integrated Ballast LED, 745W, any bulb shape, any application",745,"Light Emitting Diode (LED)",15,"Y"]
["LED746-FIXT","LED Non-Int Ballast",null,746,null,"Electronic","Non-Integrated Ballast LED, 746W, any bulb shape, any application",746,"Light Emitting Diode (LED)",15,"Y"]
["LED747-FIXT","LED Non-Int Ballast",null,747,null,"Electronic","Non-Integrated Ballast LED, 747W, any bulb shape, any application",747,"Light Emitting Diode (LED)",15,"Y"]
["LED748-FIXT","LED Non-Int Ballast",null,748,null,"Electronic","Non-Integrated Ballast LED, 748W, any bulb shape, any application",748,"Light Emitting Diode (LED)",15,"Y"]
["LED749-FIXT","LED Non-Int Ballast",null,749,null,"Electronic","Non-Integrated Ballast LED, 749W, any bulb shape, any application",749,"Light Emitting Diode (LED)",15,"Y"]
["LED750-FIXT","LED Non-Int Ballast",null,750,null,"Electronic","Non-Integrated Ballast LED, 750W, any bulb shape, any application",750,"Light Emitting Diode (LED)",15,"Y"]
["LED751-FIXT","LED Non-Int Ballast",null,751,null,"Electronic","Non-Integrated Ballast LED, 751W, any bulb shape, any application",751,"Light Emitting Diode (LED)",15,"Y"]
["LED752-FIXT","LED Non-Int Ballast",null,752,null,"Electronic","Non-Integrated Ballast LED, 752W, any bulb shape, any application",752,"Light Emitting Diode (LED)",15,"Y"]
["LED753-FIXT","LED Non-Int Ballast",null,753,null,"Electronic","Non-Integrated Ballast LED, 753W, any bulb shape, any application",753,"Light Emitting Diode (LED)",15,"Y"]
["LED754-FIXT","LED Non-Int Ballast",null,754,null,"Electronic","Non-Integrated Ballast LED, 754W, any bulb shape, any application",754,"Light Emitting Diode (LED)",15,"Y"]
["LED755-FIXT","LED Non-Int Ballast",null,755,null,"Electronic","Non-Integrated Ballast LED, 755W, any bulb shape, any application",755,"Light Emitting Diode (LED)",15,"Y"]
["LED756-FIXT","LED Non-Int Ballast",null,756,null,"Electronic","Non-Integrated Ballast LED, 756W, any bulb shape, any application",756,"Light Emitting Diode (LED)",15,"Y"]
["LED757-FIXT","LED Non-Int Ballast",null,757,null,"Electronic","Non-Integrated Ballast LED, 757W, any bulb shape, any application",757,"Light Emitting Diode (LED)",15,"Y"]
["LED758-FIXT","LED Non-Int Ballast",null,758,null,"Electronic","Non-Integrated Ballast LED, 758W, any bulb shape, any application",758,"Light Emitting Diode (LED)",15,"Y"]
["LED759-FIXT","LED Non-Int Ballast",null,759,null,"Electronic","Non-Integrated Ballast LED, 759W, any bulb shape, any application",759,"Light Emitting Diode (LED)",15,"Y"]
["LED760-FIXT","LED Non-Int Ballast",null,760,null,"Electronic","Non-Integrated Ballast LED, 760W, any bulb shape, any application",760,"Light Emitting Diode (LED)",15,"Y"]
["LED761-FIXT","LED Non-Int Ballast",null,761,null,"Electronic","Non-Integrated Ballast LED, 761W, any bulb shape, any application",761,"Light Emitting Diode (LED)",15,"Y"]
["LED762-FIXT","LED Non-Int Ballast",null,762,null,"Electronic","Non-Integrated Ballast LED, 762W, any bulb shape, any application",762,"Light Emitting Diode (LED)",15,"Y"]
["LED763-FIXT","LED Non-Int Ballast",null,763,null,"Electronic","Non-Integrated Ballast LED, 763W, any bulb shape, any application",763,"Light Emitting Diode (LED)",15,"Y"]
["LED764-FIXT","LED Non-Int Ballast",null,764,null,"Electronic","Non-Integrated Ballast LED, 764W, any bulb shape, any application",764,"Light Emitting Diode (LED)",15,"Y"]
["LED765-FIXT","LED Non-Int Ballast",null,765,null,"Electronic","Non-Integrated Ballast LED, 765W, any bulb shape, any application",765,"Light Emitting Diode (LED)",15,"Y"]
["LED766-FIXT","LED Non-Int Ballast",null,766,null,"Electronic","Non-Integrated Ballast LED, 766W, any bulb shape, any application",766,"Light Emitting Diode (LED)",15,"Y"]
["LED767-FIXT","LED Non-Int Ballast",null,767,null,"Electronic","Non-Integrated Ballast LED, 767W, any bulb shape, any application",767,"Light Emitting Diode (LED)",15,"Y"]
["LED768-FIXT","LED Non-Int Ballast",null,768,null,"Electronic","Non-Integrated Ballast LED, 768W, any bulb shape, any application",768,"Light Emitting Diode (LED)",15,"Y"]
["LED769-FIXT","LED Non-Int Ballast",null,769,null,"Electronic","Non-Integrated Ballast LED, 769W, any bulb shape, any application",769,"Light Emitting Diode (LED)",15,"Y"]
["LED770-FIXT","LED Non-Int Ballast",null,770,null,"Electronic","Non-Integrated Ballast LED, 770W, any bulb shape, any application",770,"Light Emitting Diode (LED)",15,"Y"]
["LED771-FIXT","LED Non-Int Ballast",null,771,null,"Electronic","Non-Integrated Ballast LED, 771W, any bulb shape, any application",771,"Light Emitting Diode (LED)",15,"Y"]
["LED772-FIXT","LED Non-Int Ballast",null,772,null,"Electronic","Non-Integrated Ballast LED, 772W, any bulb shape, any application",772,"Light Emitting Diode (LED)",15,"Y"]
["LED773-FIXT","LED Non-Int Ballast",null,773,null,"Electronic","Non-Integrated Ballast LED, 773W, any bulb shape, any application",773,"Light Emitting Diode (LED)",15,"Y"]
["LED774-FIXT","LED Non-Int Ballast",null,774,null,"Electronic","Non-Integrated Ballast LED, 774W, any bulb shape, any application",774,"Light Emitting Diode (LED)",15,"Y"]
["LED775-FIXT","LED Non-Int Ballast",null,775,null,"Electronic","Non-Integrated Ballast LED, 775W, any bulb shape, any application",775,"Light Emitting Diode (LED)",15,"Y"]
["LED776-FIXT","LED Non-Int Ballast",null,776,null,"Electronic","Non-Integrated Ballast LED, 776W, any bulb shape, any application",776,"Light Emitting Diode (LED)",15,"Y"]
["LED777-FIXT","LED Non-Int Ballast",null,777,null,"Electronic","Non-Integrated Ballast LED, 777W, any bulb shape, any application",777,"Light Emitting Diode (LED)",15,"Y"]
["LED778-FIXT","LED Non-Int Ballast",null,778,null,"Electronic","Non-Integrated Ballast LED, 778W, any bulb shape, any application",778,"Light Emitting Diode (LED)",15,"Y"]
["LED779-FIXT","LED Non-Int Ballast",null,779,null,"Electronic","Non-Integrated Ballast LED, 779W, any bulb shape, any application",779,"Light Emitting Diode (LED)",15,"Y"]
["LED780-FIXT","LED Non-Int Ballast",null,780,null,"Electronic","Non-Integrated Ballast LED, 780W, any bulb shape, any application",780,"Light Emitting Diode (LED)",15,"Y"]
["LED781-FIXT","LED Non-Int Ballast",null,781,null,"Electronic","Non-Integrated Ballast LED, 781W, any bulb shape, any application",781,"Light Emitting Diode (LED)",15,"Y"]
["LED782-FIXT","LED Non-Int Ballast",null,782,null,"Electronic","Non-Integrated Ballast LED, 782W, any bulb shape, any application",782,"Light Emitting Diode (LED)",15,"Y"]
["LED783-FIXT","LED Non-Int Ballast",null,783,null,"Electronic","Non-Integrated Ballast LED, 783W, any bulb shape, any application",783,"Light Emitting Diode (LED)",15,"Y"]
["LED784-FIXT","LED Non-Int Ballast",null,784,null,"Electronic","Non-Integrated Ballast LED, 784W, any bulb shape, any application",784,"Light Emitting Diode (LED)",15,"Y"]
["LED785-FIXT","LED Non-Int Ballast",null,785,null,"Electronic","Non-Integrated Ballast LED, 785W, any bulb shape, any application",785,"Light Emitting Diode (LED)",15,"Y"]
["LED786-FIXT","LED Non-Int Ballast",null,786,null,"Electronic","Non-Integrated Ballast LED, 786W, any bulb shape, any application",786,"Light Emitting Diode (LED)",15,"Y"]
["LED787-FIXT","LED Non-Int Ballast",null,787,null,"Electronic","Non-Integrated Ballast LED, 787W, any bulb shape, any application",787,"Light Emitting Diode (LED)",15,"Y"]
["LED788-FIXT","LED Non-Int Ballast",null,788,null,"Electronic","Non-Integrated Ballast LED, 788W, any bulb shape, any application",788,"Light Emitting Diode (LED)",15,"Y"]
["LED789-FIXT","LED Non-Int Ballast",null,789,null,"Electronic","Non-Integrated Ballast LED, 789W, any bulb shape, any application",789,"Light Emitting Diode (LED)",15,"Y"]
["LED790-FIXT","LED Non-Int Ballast",null,790,null,"Electronic","Non-Integrated Ballast LED, 790W, any bulb shape, any application",790,"Light Emitting Diode (LED)",15,"Y"]
["LED791-FIXT","LED Non-Int Ballast",null,791,null,"Electronic","Non-Integrated Ballast LED, 791W, any bulb shape, any application",791,"Light Emitting Diode (LED)",15,"Y"]
["LED792-FIXT","LED Non-Int Ballast",null,792,null,"Electronic","Non-Integrated Ballast LED, 792W, any bulb shape, any application",792,"Light Emitting Diode (LED)",15,"Y"]
["LED793-FIXT","LED Non-Int Ballast",null,793,null,"Electronic","Non-Integrated Ballast LED, 793W, any bulb shape, any application",793,"Light Emitting Diode (LED)",15,"Y"]
["LED794-FIXT","LED Non-Int Ballast",null,794,null,"Electronic","Non-Integrated Ballast LED, 794W, any bulb shape, any application",794,"Light Emitting Diode (LED)",15,"Y"]
["LED795-FIXT","LED Non-Int Ballast",null,795,null,"Electronic","Non-Integrated Ballast LED, 795W, any bulb shape, any application",795,"Light Emitting Diode (LED)",15,"Y"]
["LED796-FIXT","LED Non-Int Ballast",null,796,null,"Electronic","Non-Integrated Ballast LED, 796W, any bulb shape, any application",796,"Light Emitting Diode (LED)",15,"Y"]
["LED797-FIXT","LED Non-Int Ballast",null,797,null,"Electronic","Non-Integrated Ballast LED, 797W, any bulb shape, any application",797,"Light Emitting Diode (LED)",15,"Y"]
["LED798-FIXT","LED Non-Int Ballast",null,798,null,"Electronic","Non-Integrated Ballast LED, 798W, any bulb shape, any application",798,"Light Emitting Diode (LED)",15,"Y"]
["LED799-FIXT","LED Non-Int Ballast",null,799,null,"Electronic","Non-Integrated Ballast LED, 799W, any bulb shape, any application",799,"Light Emitting Diode (LED)",15,"Y"]
["LED800-FIXT","LED Non-Int Ballast",null,800,null,"Electronic","Non-Integrated Ballast LED, 800W, any bulb shape, any application",800,"Light Emitting Diode (LED)",15,"Y"]
["LED801-FIXT","LED Non-Int Ballast",null,801,null,"Electronic","Non-Integrated Ballast LED, 801W, any bulb shape, any application",801,"Light Emitting Diode (LED)",15,"Y"]
["LED802-FIXT","LED Non-Int Ballast",null,802,null,"Electronic","Non-Integrated Ballast LED, 802W, any bulb shape, any application",802,"Light Emitting Diode (LED)",15,"Y"]
["LED803-FIXT","LED Non-Int Ballast",null,803,null,"Electronic","Non-Integrated Ballast LED, 803W, any bulb shape, any application",803,"Light Emitting Diode (LED)",15,"Y"]
["LED804-FIXT","LED Non-Int Ballast",null,804,null,"Electronic","Non-Integrated Ballast LED, 804W, any bulb shape, any application",804,"Light Emitting Diode (LED)",15,"Y"]
["LED805-FIXT","LED Non-Int Ballast",null,805,null,"Electronic","Non-Integrated Ballast LED, 805W, any bulb shape, any application",805,"Light Emitting Diode (LED)",15,"Y"]
["LED806-FIXT","LED Non-Int Ballast",null,806,null,"Electronic","Non-Integrated Ballast LED, 806W, any bulb shape, any application",806,"Light Emitting Diode (LED)",15,"Y"]
["LED807-FIXT","LED Non-Int Ballast",null,807,null,"Electronic","Non-Integrated Ballast LED, 807W, any bulb shape, any application",807,"Light Emitting Diode (LED)",15,"Y"]
["LED808-FIXT","LED Non-Int Ballast",null,808,null,"Electronic","Non-Integrated Ballast LED, 808W, any bulb shape, any application",808,"Light Emitting Diode (LED)",15,"Y"]
["LED809-FIXT","LED Non-Int Ballast",null,809,null,"Electronic","Non-Integrated Ballast LED, 809W, any bulb shape, any application",809,"Light Emitting Diode (LED)",15,"Y"]
["LED810-FIXT","LED Non-Int Ballast",null,810,null,"Electronic","Non-Integrated Ballast LED, 810W, any bulb shape, any application",810,"Light Emitting Diode (LED)",15,"Y"]
["LED811-FIXT","LED Non-Int Ballast",null,811,null,"Electronic","Non-Integrated Ballast LED, 811W, any bulb shape, any application",811,"Light Emitting Diode (LED)",15,"Y"]
["LED812-FIXT","LED Non-Int Ballast",null,812,null,"Electronic","Non-Integrated Ballast LED, 812W, any bulb shape, any application",812,"Light Emitting Diode (LED)",15,"Y"]
["LED813-FIXT","LED Non-Int Ballast",null,813,null,"Electronic","Non-Integrated Ballast LED, 813W, any bulb shape, any application",813,"Light Emitting Diode (LED)",15,"Y"]
["LED814-FIXT","LED Non-Int Ballast",null,814,null,"Electronic","Non-Integrated Ballast LED, 814W, any bulb shape, any application",814,"Light Emitting Diode (LED)",15,"Y"]
["LED815-FIXT","LED Non-Int Ballast",null,815,null,"Electronic","Non-Integrated Ballast LED, 815W, any bulb shape, any application",815,"Light Emitting Diode (LED)",15,"Y"]
["LED816-FIXT","LED Non-Int Ballast",null,816,null,"Electronic","Non-Integrated Ballast LED, 816W, any bulb shape, any application",816,"Light Emitting Diode (LED)",15,"Y"]
["LED817-FIXT","LED Non-Int Ballast",null,817,null,"Electronic","Non-Integrated Ballast LED, 817W, any bulb shape, any application",817,"Light Emitting Diode (LED)",15,"Y"]
["LED818-FIXT","LED Non-Int Ballast",null,818,null,"Electronic","Non-Integrated Ballast LED, 818W, any bulb shape, any application",818,"Light Emitting Diode (LED)",15,"Y"]
["LED819-FIXT","LED Non-Int Ballast",null,819,null,"Electronic","Non-Integrated Ballast LED, 819W, any bulb shape, any application",819,"Light Emitting Diode (LED)",15,"Y"]
["LED820-FIXT","LED Non-Int Ballast",null,820,null,"Electronic","Non-Integrated Ballast LED, 820W, any bulb shape, any application",820,"Light Emitting Diode (LED)",15,"Y"]
["LED821-FIXT","LED Non-Int Ballast",null,821,null,"Electronic","Non-Integrated Ballast LED, 821W, any bulb shape, any application",821,"Light Emitting Diode (LED)",15,"Y"]
["LED822-FIXT","LED Non-Int Ballast",null,822,null,"Electronic","Non-Integrated Ballast LED, 822W, any bulb shape, any application",822,"Light Emitting Diode (LED)",15,"Y"]
["LED823-FIXT","LED Non-Int Ballast",null,823,null,"Electronic","Non-Integrated Ballast LED, 823W, any bulb shape, any application",823,"Light Emitting Diode (LED)",15,"Y"]
["LED824-FIXT","LED Non-Int Ballast",null,824,null,"Electronic","Non-Integrated Ballast LED, 824W, any bulb shape, any application",824,"Light Emitting Diode (LED)",15,"Y"]
["LED825-FIXT","LED Non-Int Ballast",null,825,null,"Electronic","Non-Integrated Ballast LED, 825W, any bulb shape, any application",825,"Light Emitting Diode (LED)",15,"Y"]
["LED826-FIXT","LED Non-Int Ballast",null,826,null,"Electronic","Non-Integrated Ballast LED, 826W, any bulb shape, any application",826,"Light Emitting Diode (LED)",15,"Y"]
["LED827-FIXT","LED Non-Int Ballast",null,827,null,"Electronic","Non-Integrated Ballast LED, 827W, any bulb shape, any application",827,"Light Emitting Diode (LED)",15,"Y"]
["LED828-FIXT","LED Non-Int Ballast",null,828,null,"Electronic","Non-Integrated Ballast LED, 828W, any bulb shape, any application",828,"Light Emitting Diode (LED)",15,"Y"]
["LED829-FIXT","LED Non-Int Ballast",null,829,null,"Electronic","Non-Integrated Ballast LED, 829W, any bulb shape, any application",829,"Light Emitting Diode (LED)",15,"Y"]
["LED830-FIXT","LED Non-Int Ballast",null,830,null,"Electronic","Non-Integrated Ballast LED, 830W, any bulb shape, any application",830,"Light Emitting Diode (LED)",15,"Y"]
["LED831-FIXT","LED Non-Int Ballast",null,831,null,"Electronic","Non-Integrated Ballast LED, 831W, any bulb shape, any application",831,"Light Emitting Diode (LED)",15,"Y"]
["LED832-FIXT","LED Non-Int Ballast",null,832,null,"Electronic","Non-Integrated Ballast LED, 832W, any bulb shape, any application",832,"Light Emitting Diode (LED)",15,"Y"]
["LED833-FIXT","LED Non-Int Ballast",null,833,null,"Electronic","Non-Integrated Ballast LED, 833W, any bulb shape, any application",833,"Light Emitting Diode (LED)",15,"Y"]
["LED834-FIXT","LED Non-Int Ballast",null,834,null,"Electronic","Non-Integrated Ballast LED, 834W, any bulb shape, any application",834,"Light Emitting Diode (LED)",15,"Y"]
["LED835-FIXT","LED Non-Int Ballast",null,835,null,"Electronic","Non-Integrated Ballast LED, 835W, any bulb shape, any application",835,"Light Emitting Diode (LED)",15,"Y"]
["LED836-FIXT","LED Non-Int Ballast",null,836,null,"Electronic","Non-Integrated Ballast LED, 836W, any bulb shape, any application",836,"Light Emitting Diode (LED)",15,"Y"]
["LED837-FIXT","LED Non-Int Ballast",null,837,null,"Electronic","Non-Integrated Ballast LED, 837W, any bulb shape, any application",837,"Light Emitting Diode (LED)",15,"Y"]
["LED838-FIXT","LED Non-Int Ballast",null,838,null,"Electronic","Non-Integrated Ballast LED, 838W, any bulb shape, any application",838,"Light Emitting Diode (LED)",15,"Y"]
["LED839-FIXT","LED Non-Int Ballast",null,839,null,"Electronic","Non-Integrated Ballast LED, 839W, any bulb shape, any application",839,"Light Emitting Diode (LED)",15,"Y"]
["LED840-FIXT","LED Non-Int Ballast",null,840,null,"Electronic","Non-Integrated Ballast LED, 840W, any bulb shape, any application",840,"Light Emitting Diode (LED)",15,"Y"]
["LED841-FIXT","LED Non-Int Ballast",null,841,null,"Electronic","Non-Integrated Ballast LED, 841W, any bulb shape, any application",841,"Light Emitting Diode (LED)",15,"Y"]
["LED842-FIXT","LED Non-Int Ballast",null,842,null,"Electronic","Non-Integrated Ballast LED, 842W, any bulb shape, any application",842,"Light Emitting Diode (LED)",15,"Y"]
["LED843-FIXT","LED Non-Int Ballast",null,843,null,"Electronic","Non-Integrated Ballast LED, 843W, any bulb shape, any application",843,"Light Emitting Diode (LED)",15,"Y"]
["LED844-FIXT","LED Non-Int Ballast",null,844,null,"Electronic","Non-Integrated Ballast LED, 844W, any bulb shape, any application",844,"Light Emitting Diode (LED)",15,"Y"]
["LED845-FIXT","LED Non-Int Ballast",null,845,null,"Electronic","Non-Integrated Ballast LED, 845W, any bulb shape, any application",845,"Light Emitting Diode (LED)",15,"Y"]
["LED846-FIXT","LED Non-Int Ballast",null,846,null,"Electronic","Non-Integrated Ballast LED, 846W, any bulb shape, any application",846,"Light Emitting Diode (LED)",15,"Y"]
["LED847-FIXT","LED Non-Int Ballast",null,847,null,"Electronic","Non-Integrated Ballast LED, 847W, any bulb shape, any application",847,"Light Emitting Diode (LED)",15,"Y"]
["LED848-FIXT","LED Non-Int Ballast",null,848,null,"Electronic","Non-Integrated Ballast LED, 848W, any bulb shape, any application",848,"Light Emitting Diode (LED)",15,"Y"]
["LED849-FIXT","LED Non-Int Ballast",null,849,null,"Electronic","Non-Integrated Ballast LED, 849W, any bulb shape, any application",849,"Light Emitting Diode (LED)",15,"Y"]
["LED850-FIXT","LED Non-Int Ballast",null,850,null,"Electronic","Non-Integrated Ballast LED, 850W, any bulb shape, any application",850,"Light Emitting Diode (LED)",15,"Y"]
["LED851-FIXT","LED Non-Int Ballast",null,851,null,"Electronic","Non-Integrated Ballast LED, 851W, any bulb shape, any application",851,"Light Emitting Diode (LED)",15,"Y"]
["LED852-FIXT","LED Non-Int Ballast",null,852,null,"Electronic","Non-Integrated Ballast LED, 852W, any bulb shape, any application",852,"Light Emitting Diode (LED)",15,"Y"]
["LED853-FIXT","LED Non-Int Ballast",null,853,null,"Electronic","Non-Integrated Ballast LED, 853W, any bulb shape, any application",853,"Light Emitting Diode (LED)",15,"Y"]
["LED854-FIXT","LED Non-Int Ballast",null,854,null,"Electronic","Non-Integrated Ballast LED, 854W, any bulb shape, any application",854,"Light Emitting Diode (LED)",15,"Y"]
["LED855-FIXT","LED Non-Int Ballast",null,855,null,"Electronic","Non-Integrated Ballast LED, 855W, any bulb shape, any application",855,"Light Emitting Diode (LED)",15,"Y"]
["LED856-FIXT","LED Non-Int Ballast",null,856,null,"Electronic","Non-Integrated Ballast LED, 856W, any bulb shape, any application",856,"Light Emitting Diode (LED)",15,"Y"]
["LED857-FIXT","LED Non-Int Ballast",null,857,null,"Electronic","Non-Integrated Ballast LED, 857W, any bulb shape, any application",857,"Light Emitting Diode (LED)",15,"Y"]
["LED858-FIXT","LED Non-Int Ballast",null,858,null,"Electronic","Non-Integrated Ballast LED, 858W, any bulb shape, any application",858,"Light Emitting Diode (LED)",15,"Y"]
["LED859-FIXT","LED Non-Int Ballast",null,859,null,"Electronic","Non-Integrated Ballast LED, 859W, any bulb shape, any application",859,"Light Emitting Diode (LED)",15,"Y"]
["LED860-FIXT","LED Non-Int Ballast",null,860,null,"Electronic","Non-Integrated Ballast LED, 860W, any bulb shape, any application",860,"Light Emitting Diode (LED)",15,"Y"]
["LED861-FIXT","LED Non-Int Ballast",null,861,null,"Electronic","Non-Integrated Ballast LED, 861W, any bulb shape, any application",861,"Light Emitting Diode (LED)",15,"Y"]
["LED862-FIXT","LED Non-Int Ballast",null,862,null,"Electronic","Non-Integrated Ballast LED, 862W, any bulb shape, any application",862,"Light Emitting Diode (LED)",15,"Y"]
["LED863-FIXT","LED Non-Int Ballast",null,863,null,"Electronic","Non-Integrated Ballast LED, 863W, any bulb shape, any application",863,"Light Emitting Diode (LED)",15,"Y"]
["LED864-FIXT","LED Non-Int Ballast",null,864,null,"Electronic","Non-Integrated Ballast LED, 864W, any bulb shape, any application",864,"Light Emitting Diode (LED)",15,"Y"]
["LED865-FIXT","LED Non-Int Ballast",null,865,null,"Electronic","Non-Integrated Ballast LED, 865W, any bulb shape, any application",865,"Light Emitting Diode (LED)",15,"Y"]
["LED866-FIXT","LED Non-Int Ballast",null,866,null,"Electronic","Non-Integrated Ballast LED, 866W, any bulb shape, any application",866,"Light Emitting Diode (LED)",15,"Y"]
["LED867-FIXT","LED Non-Int Ballast",null,867,null,"Electronic","Non-Integrated Ballast LED, 867W, any bulb shape, any application",867,"Light Emitting Diode (LED)",15,"Y"]
["LED868-FIXT","LED Non-Int Ballast",null,868,null,"Electronic","Non-Integrated Ballast LED, 868W, any bulb shape, any application",868,"Light Emitting Diode (LED)",15,"Y"]
["LED869-FIXT","LED Non-Int Ballast",null,869,null,"Electronic","Non-Integrated Ballast LED, 869W, any bulb shape, any application",869,"Light Emitting Diode (LED)",15,"Y"]
["LED870-FIXT","LED Non-Int Ballast",null,870,null,"Electronic","Non-Integrated Ballast LED, 870W, any bulb shape, any application",870,"Light Emitting Diode (LED)",15,"Y"]
["LED871-FIXT","LED Non-Int Ballast",null,871,null,"Electronic","Non-Integrated Ballast LED, 871W, any bulb shape, any application",871,"Light Emitting Diode (LED)",15,"Y"]
["LED872-FIXT","LED Non-Int Ballast",null,872,null,"Electronic","Non-Integrated Ballast LED, 872W, any bulb shape, any application",872,"Light Emitting Diode (LED)",15,"Y"]
["LED873-FIXT","LED Non-Int Ballast",null,873,null,"Electronic","Non-Integrated Ballast LED, 873W, any bulb shape, any application",873,"Light Emitting Diode (LED)",15,"Y"]
["LED874-FIXT","LED Non-Int Ballast",null,874,null,"Electronic","Non-Integrated Ballast LED, 874W, any bulb shape, any application",874,"Light Emitting Diode (LED)",15,"Y"]
["LED875-FIXT","LED Non-Int Ballast",null,875,null,"Electronic","Non-Integrated Ballast LED, 875W, any bulb shape, any application",875,"Light Emitting Diode (LED)",15,"Y"]
["LED876-FIXT","LED Non-Int Ballast",null,876,null,"Electronic","Non-Integrated Ballast LED, 876W, any bulb shape, any application",876,"Light Emitting Diode (LED)",15,"Y"]
["LED877-FIXT","LED Non-Int Ballast",null,877,null,"Electronic","Non-Integrated Ballast LED, 877W, any bulb shape, any application",877,"Light Emitting Diode (LED)",15,"Y"]
["LED878-FIXT","LED Non-Int Ballast",null,878,null,"Electronic","Non-Integrated Ballast LED, 878W, any bulb shape, any application",878,"Light Emitting Diode (LED)",15,"Y"]
["LED879-FIXT","LED Non-Int Ballast",null,879,null,"Electronic","Non-Integrated Ballast LED, 879W, any bulb shape, any application",879,"Light Emitting Diode (LED)",15,"Y"]
["LED880-FIXT","LED Non-Int Ballast",null,880,null,"Electronic","Non-Integrated Ballast LED, 880W, any bulb shape, any application",880,"Light Emitting Diode (LED)",15,"Y"]
["LED881-FIXT","LED Non-Int Ballast",null,881,null,"Electronic","Non-Integrated Ballast LED, 881W, any bulb shape, any application",881,"Light Emitting Diode (LED)",15,"Y"]
["LED882-FIXT","LED Non-Int Ballast",null,882,null,"Electronic","Non-Integrated Ballast LED, 882W, any bulb shape, any application",882,"Light Emitting Diode (LED)",15,"Y"]
["LED883-FIXT","LED Non-Int Ballast",null,883,null,"Electronic","Non-Integrated Ballast LED, 883W, any bulb shape, any application",883,"Light Emitting Diode (LED)",15,"Y"]
["LED884-FIXT","LED Non-Int Ballast",null,884,null,"Electronic","Non-Integrated Ballast LED, 884W, any bulb shape, any application",884,"Light Emitting Diode (LED)",15,"Y"]
["LED885-FIXT","LED Non-Int Ballast",null,885,null,"Electronic","Non-Integrated Ballast LED, 885W, any bulb shape, any application",885,"Light Emitting Diode (LED)",15,"Y"]
["LED886-FIXT","LED Non-Int Ballast",null,886,null,"Electronic","Non-Integrated Ballast LED, 886W, any bulb shape, any application",886,"Light Emitting Diode (LED)",15,"Y"]
["LED887-FIXT","LED Non-Int Ballast",null,887,null,"Electronic","Non-Integrated Ballast LED, 887W, any bulb shape, any application",887,"Light Emitting Diode (LED)",15,"Y"]
["LED888-FIXT","LED Non-Int Ballast",null,888,null,"Electronic","Non-Integrated Ballast LED, 888W, any bulb shape, any application",888,"Light Emitting Diode (LED)",15,"Y"]
["LED889-FIXT","LED Non-Int Ballast",null,889,null,"Electronic","Non-Integrated Ballast LED, 889W, any bulb shape, any application",889,"Light Emitting Diode (LED)",15,"Y"]
["LED890-FIXT","LED Non-Int Ballast",null,890,null,"Electronic","Non-Integrated Ballast LED, 890W, any bulb shape, any application",890,"Light Emitting Diode (LED)",15,"Y"]
["LED891-FIXT","LED Non-Int Ballast",null,891,null,"Electronic","Non-Integrated Ballast LED, 891W, any bulb shape, any application",891,"Light Emitting Diode (LED)",15,"Y"]
["LED892-FIXT","LED Non-Int Ballast",null,892,null,"Electronic","Non-Integrated Ballast LED, 892W, any bulb shape, any application",892,"Light Emitting Diode (LED)",15,"Y"]
["LED893-FIXT","LED Non-Int Ballast",null,893,null,"Electronic","Non-Integrated Ballast LED, 893W, any bulb shape, any application",893,"Light Emitting Diode (LED)",15,"Y"]
["LED894-FIXT","LED Non-Int Ballast",null,894,null,"Electronic","Non-Integrated Ballast LED, 894W, any bulb shape, any application",894,"Light Emitting Diode (LED)",15,"Y"]
["LED895-FIXT","LED Non-Int Ballast",null,895,null,"Electronic","Non-Integrated Ballast LED, 895W, any bulb shape, any application",895,"Light Emitting Diode (LED)",15,"Y"]
["LED896-FIXT","LED Non-Int Ballast",null,896,null,"Electronic","Non-Integrated Ballast LED, 896W, any bulb shape, any application",896,"Light Emitting Diode (LED)",15,"Y"]
["LED897-FIXT","LED Non-Int Ballast",null,897,null,"Electronic","Non-Integrated Ballast LED, 897W, any bulb shape, any application",897,"Light Emitting Diode (LED)",15,"Y"]
["LED898-FIXT","LED Non-Int Ballast",null,898,null,"Electronic","Non-Integrated Ballast LED, 898W, any bulb shape, any application",898,"Light Emitting Diode (LED)",15,"Y"]
["LED899-FIXT","LED Non-Int Ballast",null,899,null,"Electronic","Non-Integrated Ballast LED, 899W, any bulb shape, any application",899,"Light Emitting Diode (LED)",15,"Y"]
["LED900-FIXT","LED Non-Int Ballast",null,900,null,"Electronic","Non-Integrated Ballast LED, 900W, any bulb shape, any application",900,"Light Emitting Diode (LED)",15,"Y"]
["LED901-FIXT","LED Non-Int Ballast",null,901,null,"Electronic","Non-Integrated Ballast LED, 901W, any bulb shape, any application",901,"Light Emitting Diode (LED)",15,"Y"]
["LED902-FIXT","LED Non-Int Ballast",null,902,null,"Electronic","Non-Integrated Ballast LED, 902W, any bulb shape, any application",902,"Light Emitting Diode (LED)",15,"Y"]
["LED903-FIXT","LED Non-Int Ballast",null,903,null,"Electronic","Non-Integrated Ballast LED, 903W, any bulb shape, any application",903,"Light Emitting Diode (LED)",15,"Y"]
["LED904-FIXT","LED Non-Int Ballast",null,904,null,"Electronic","Non-Integrated Ballast LED, 904W, any bulb shape, any application",904,"Light Emitting Diode (LED)",15,"Y"]
["LED905-FIXT","LED Non-Int Ballast",null,905,null,"Electronic","Non-Integrated Ballast LED, 905W, any bulb shape, any application",905,"Light Emitting Diode (LED)",15,"Y"]
["LED906-FIXT","LED Non-Int Ballast",null,906,null,"Electronic","Non-Integrated Ballast LED, 906W, any bulb shape, any application",906,"Light Emitting Diode (LED)",15,"Y"]
["LED907-FIXT","LED Non-Int Ballast",null,907,null,"Electronic","Non-Integrated Ballast LED, 907W, any bulb shape, any application",907,"Light Emitting Diode (LED)",15,"Y"]
["LED908-FIXT","LED Non-Int Ballast",null,908,null,"Electronic","Non-Integrated Ballast LED, 908W, any bulb shape, any application",908,"Light Emitting Diode (LED)",15,"Y"]
["LED909-FIXT","LED Non-Int Ballast",null,909,null,"Electronic","Non-Integrated Ballast LED, 909W, any bulb shape, any application",909,"Light Emitting Diode (LED)",15,"Y"]
["LED910-FIXT","LED Non-Int Ballast",null,910,null,"Electronic","Non-Integrated Ballast LED, 910W, any bulb shape, any application",910,"Light Emitting Diode (LED)",15,"Y"]
["LED911-FIXT","LED Non-Int Ballast",null,911,null,"Electronic","Non-Integrated Ballast LED, 911W, any bulb shape, any application",911,"Light Emitting Diode (LED)",15,"Y"]
["LED912-FIXT","LED Non-Int Ballast",null,912,null,"Electronic","Non-Integrated Ballast LED, 912W, any bulb shape, any application",912,"Light Emitting Diode (LED)",15,"Y"]
["LED913-FIXT","LED Non-Int Ballast",null,913,null,"Electronic","Non-Integrated Ballast LED, 913W, any bulb shape, any application",913,"Light Emitting Diode (LED)",15,"Y"]
["LED914-FIXT","LED Non-Int Ballast",null,914,null,"Electronic","Non-Integrated Ballast LED, 914W, any bulb shape, any application",914,"Light Emitting Diode (LED)",15,"Y"]
["LED915-FIXT","LED Non-Int Ballast",null,915,null,"Electronic","Non-Integrated Ballast LED, 915W, any bulb shape, any application",915,"Light Emitting Diode (LED)",15,"Y"]
["LED916-FIXT","LED Non-Int Ballast",null,916,null,"Electronic","Non-Integrated Ballast LED, 916W, any bulb shape, any application",916,"Light Emitting Diode (LED)",15,"Y"]
["LED917-FIXT","LED Non-Int Ballast",null,917,null,"Electronic","Non-Integrated Ballast LED, 917W, any bulb shape, any application",917,"Light Emitting Diode (LED)",15,"Y"]
["LED918-FIXT","LED Non-Int Ballast",null,918,null,"Electronic","Non-Integrated Ballast LED, 918W, any bulb shape, any application",918,"Light Emitting Diode (LED)",15,"Y"]
["LED919-FIXT","LED Non-Int Ballast",null,919,null,"Electronic","Non-Integrated Ballast LED, 919W, any bulb shape, any application",919,"Light Emitting Diode (LED)",15,"Y"]
["LED920-FIXT","LED Non-Int Ballast",null,920,null,"Electronic","Non-Integrated Ballast LED, 920W, any bulb shape, any application",920,"Light Emitting Diode (LED)",15,"Y"]
["LED921-FIXT","LED Non-Int Ballast",null,921,null,"Electronic","Non-Integrated Ballast LED, 921W, any bulb shape, any application",921,"Light Emitting Diode (LED)",15,"Y"]
["LED922-FIXT","LED Non-Int Ballast",null,922,null,"Electronic","Non-Integrated Ballast LED, 922W, any bulb shape, any application",922,"Light Emitting Diode (LED)",15,"Y"]
["LED923-FIXT","LED Non-Int Ballast",null,923,null,"Electronic","Non-Integrated Ballast LED, 923W, any bulb shape, any application",923,"Light Emitting Diode (LED)",15,"Y"]
["LED924-FIXT","LED Non-Int Ballast",null,924,null,"Electronic","Non-Integrated Ballast LED, 924W, any bulb shape, any application",924,"Light Emitting Diode (LED)",15,"Y"]
["LED925-FIXT","LED Non-Int Ballast",null,925,null,"Electronic","Non-Integrated Ballast LED, 925W, any bulb shape, any application",925,"Light Emitting Diode (LED)",15,"Y"]
["LED926-FIXT","LED Non-Int Ballast",null,926,null,"Electronic","Non-Integrated Ballast LED, 926W, any bulb shape, any application",926,"Light Emitting Diode (LED)",15,"Y"]
["LED927-FIXT","LED Non-Int Ballast",null,927,null,"Electronic","Non-Integrated Ballast LED, 927W, any bulb shape, any application",927,"Light Emitting Diode (LED)",15,"Y"]
["LED928-FIXT","LED Non-Int Ballast",null,928,null,"Electronic","Non-Integrated Ballast LED, 928W, any bulb shape, any application",928,"Light Emitting Diode (LED)",15,"Y"]
["LED929-FIXT","LED Non-Int Ballast",null,929,null,"Electronic","Non-Integrated Ballast LED, 929W, any bulb shape, any application",929,"Light Emitting Diode (LED)",15,"Y"]
["LED930-FIXT","LED Non-Int Ballast",null,930,null,"Electronic","Non-Integrated Ballast LED, 930W, any bulb shape, any application",930,"Light Emitting Diode (LED)",15,"Y"]
["LED931-FIXT","LED Non-Int Ballast",null,931,null,"Electronic","Non-Integrated Ballast LED, 931W, any bulb shape, any application",931,"Light Emitting Diode (LED)",15,"Y"]
["LED932-FIXT","LED Non-Int Ballast",null,932,null,"Electronic","Non-Integrated Ballast LED, 932W, any bulb shape, any application",932,"Light Emitting Diode (LED)",15,"Y"]
["LED933-FIXT","LED Non-Int Ballast",null,933,null,"Electronic","Non-Integrated Ballast LED, 933W, any bulb shape, any application",933,"Light Emitting Diode (LED)",15,"Y"]
["LED934-FIXT","LED Non-Int Ballast",null,934,null,"Electronic","Non-Integrated Ballast LED, 934W, any bulb shape, any application",934,"Light Emitting Diode (LED)",15,"Y"]
["LED935-FIXT","LED Non-Int Ballast",null,935,null,"Electronic","Non-Integrated Ballast LED, 935W, any bulb shape, any application",935,"Light Emitting Diode (LED)",15,"Y"]
["LED936-FIXT","LED Non-Int Ballast",null,936,null,"Electronic","Non-Integrated Ballast LED, 936W, any bulb shape, any application",936,"Light Emitting Diode (LED)",15,"Y"]
["LED937-FIXT","LED Non-Int Ballast",null,937,null,"Electronic","Non-Integrated Ballast LED, 937W, any bulb shape, any application",937,"Light Emitting Diode (LED)",15,"Y"]
["LED938-FIXT","LED Non-Int Ballast",null,938,null,"Electronic","Non-Integrated Ballast LED, 938W, any bulb shape, any application",938,"Light Emitting Diode (LED)",15,"Y"]
["LED939-FIXT","LED Non-Int Ballast",null,939,null,"Electronic","Non-Integrated Ballast LED, 939W, any bulb shape, any application",939,"Light Emitting Diode (LED)",15,"Y"]
["LED940-FIXT","LED Non-Int Ballast",null,940,null,"Electronic","Non-Integrated Ballast LED, 940W, any bulb shape, any application",940,"Light Emitting Diode (LED)",15,"Y"]
["LED941-FIXT","LED Non-Int Ballast",null,941,null,"Electronic","Non-Integrated Ballast LED, 941W, any bulb shape, any application",941,"Light Emitting Diode (LED)",15,"Y"]
["LED942-FIXT","LED Non-Int Ballast",null,942,null,"Electronic","Non-Integrated Ballast LED, 942W, any bulb shape, any application",942,"Light Emitting Diode (LED)",15,"Y"]
["LED943-FIXT","LED Non-Int Ballast",null,943,null,"Electronic","Non-Integrated Ballast LED, 943W, any bulb shape, any application",943,"Light Emitting Diode (LED)",15,"Y"]
["LED944-FIXT","LED Non-Int Ballast",null,944,null,"Electronic","Non-Integrated Ballast LED, 944W, any bulb shape, any application",944,"Light Emitting Diode (LED)",15,"Y"]
["LED945-FIXT","LED Non-Int Ballast",null,945,null,"Electronic","Non-Integrated Ballast LED, 945W, any bulb shape, any application",945,"Light Emitting Diode (LED)",15,"Y"]
["LED946-FIXT","LED Non-Int Ballast",null,946,null,"Electronic","Non-Integrated Ballast LED, 946W, any bulb shape, any application",946,"Light Emitting Diode (LED)",15,"Y"]
["LED947-FIXT","LED Non-Int Ballast",null,947,null,"Electronic","Non-Integrated Ballast LED, 947W, any bulb shape, any application",947,"Light Emitting Diode (LED)",15,"Y"]
["LED948-FIXT","LED Non-Int Ballast",null,948,null,"Electronic","Non-Integrated Ballast LED, 948W, any bulb shape, any application",948,"Light Emitting Diode (LED)",15,"Y"]
["LED949-FIXT","LED Non-Int Ballast",null,949,null,"Electronic","Non-Integrated Ballast LED, 949W, any bulb shape, any application",949,"Light Emitting Diode (LED)",15,"Y"]
["LED950-FIXT","LED Non-Int Ballast",null,950,null,"Electronic","Non-Integrated Ballast LED, 950W, any bulb shape, any application",950,"Light Emitting Diode (LED)",15,"Y"]
["LED951-FIXT","LED Non-Int Ballast",null,951,null,"Electronic","Non-Integrated Ballast LED, 951W, any bulb shape, any application",951,"Light Emitting Diode (LED)",15,"Y"]
["LED952-FIXT","LED Non-Int Ballast",null,952,null,"Electronic","Non-Integrated Ballast LED, 952W, any bulb shape, any application",952,"Light Emitting Diode (LED)",15,"Y"]
["LED953-FIXT","LED Non-Int Ballast",null,953,null,"Electronic","Non-Integrated Ballast LED, 953W, any bulb shape, any application",953,"Light Emitting Diode (LED)",15,"Y"]
["LED954-FIXT","LED Non-Int Ballast",null,954,null,"Electronic","Non-Integrated Ballast LED, 954W, any bulb shape, any application",954,"Light Emitting Diode (LED)",15,"Y"]
["LED955-FIXT","LED Non-Int Ballast",null,955,null,"Electronic","Non-Integrated Ballast LED, 955W, any bulb shape, any application",955,"Light Emitting Diode (LED)",15,"Y"]
["LED956-FIXT","LED Non-Int Ballast",null,956,null,"Electronic","Non-Integrated Ballast LED, 956W, any bulb shape, any application",956,"Light Emitting Diode (LED)",15,"Y"]
["LED957-FIXT","LED Non-Int Ballast",null,957,null,"Electronic","Non-Integrated Ballast LED, 957W, any bulb shape, any application",957,"Light Emitting Diode (LED)",15,"Y"]
["LED958-FIXT","LED Non-Int Ballast",null,958,null,"Electronic","Non-Integrated Ballast LED, 958W, any bulb shape, any application",958,"Light Emitting Diode (LED)",15,"Y"]
["LED959-FIXT","LED Non-Int Ballast",null,959,null,"Electronic","Non-Integrated Ballast LED, 959W, any bulb shape, any application",959,"Light Emitting Diode (LED)",15,"Y"]
["LED960-FIXT","LED Non-Int Ballast",null,960,null,"Electronic","Non-Integrated Ballast LED, 960W, any bulb shape, any application",960,"Light Emitting Diode (LED)",15,"Y"]
["LED961-FIXT","LED Non-Int Ballast",null,961,null,"Electronic","Non-Integrated Ballast LED, 961W, any bulb shape, any application",961,"Light Emitting Diode (LED)",15,"Y"]
["LED962-FIXT","LED Non-Int Ballast",null,962,null,"Electronic","Non-Integrated Ballast LED, 962W, any bulb shape, any application",962,"Light Emitting Diode (LED)",15,"Y"]
["LED963-FIXT","LED Non-Int Ballast",null,963,null,"Electronic","Non-Integrated Ballast LED, 963W, any bulb shape, any application",963,"Light Emitting Diode (LED)",15,"Y"]
["LED964-FIXT","LED Non-Int Ballast",null,964,null,"Electronic","Non-Integrated Ballast LED, 964W, any bulb shape, any application",964,"Light Emitting Diode (LED)",15,"Y"]
["LED965-FIXT","LED Non-Int Ballast",null,965,null,"Electronic","Non-Integrated Ballast LED, 965W, any bulb shape, any application",965,"Light Emitting Diode (LED)",15,"Y"]
["LED966-FIXT","LED Non-Int Ballast",null,966,null,"Electronic","Non-Integrated Ballast LED, 966W, any bulb shape, any application",966,"Light Emitting Diode (LED)",15,"Y"]
["LED967-FIXT","LED Non-Int Ballast",null,967,null,"Electronic","Non-Integrated Ballast LED, 967W, any bulb shape, any application",967,"Light Emitting Diode (LED)",15,"Y"]
["LED968-FIXT","LED Non-Int Ballast",null,968,null,"Electronic","Non-Integrated Ballast LED, 968W, any bulb shape, any application",968,"Light Emitting Diode (LED)",15,"Y"]
["LED969-FIXT","LED Non-Int Ballast",null,969,null,"Electronic","Non-Integrated Ballast LED, 969W, any bulb shape, any application",969,"Light Emitting Diode (LED)",15,"Y"]
["LED970-FIXT","LED Non-Int Ballast",null,970,null,"Electronic","Non-Integrated Ballast LED, 970W, any bulb shape, any application",970,"Light Emitting Diode (LED)",15,"Y"]
["LED971-FIXT","LED Non-Int Ballast",null,971,null,"Electronic","Non-Integrated Ballast LED, 971W, any bulb shape, any application",971,"Light Emitting Diode (LED)",15,"Y"]
["LED972-FIXT","LED Non-Int Ballast",null,972,null,"Electronic","Non-Integrated Ballast LED, 972W, any bulb shape, any application",972,"Light Emitting Diode (LED)",15,"Y"]
["LED973-FIXT","LED Non-Int Ballast",null,973,null,"Electronic","Non-Integrated Ballast LED, 973W, any bulb shape, any application",973,"Light Emitting Diode (LED)",15,"Y"]
["LED974-FIXT","LED Non-Int Ballast",null,974,null,"Electronic","Non-Integrated Ballast LED, 974W, any bulb shape, any application",974,"Light Emitting Diode (LED)",15,"Y"]
["LED975-FIXT","LED Non-Int Ballast",null,975,null,"Electronic","Non-Integrated Ballast LED, 975W, any bulb shape, any application",975,"Light Emitting Diode (LED)",15,"Y"]
["LED976-FIXT","LED Non-Int Ballast",null,976,null,"Electronic","Non-Integrated Ballast LED, 976W, any bulb shape, any application",976,"Light Emitting Diode (LED)",15,"Y"]
["LED977-FIXT","LED Non-Int Ballast",null,977,null,"Electronic","Non-Integrated Ballast LED, 977W, any bulb shape, any application",977,"Light Emitting Diode (LED)",15,"Y"]
["LED978-FIXT","LED Non-Int Ballast",null,978,null,"Electronic","Non-Integrated Ballast LED, 978W, any bulb shape, any application",978,"Light Emitting Diode (LED)",15,"Y"]
["LED979-FIXT","LED Non-Int Ballast",null,979,null,"Electronic","Non-Integrated Ballast LED, 979W, any bulb shape, any application",979,"Light Emitting Diode (LED)",15,"Y"]
["LED980-FIXT","LED Non-Int Ballast",null,980,null,"Electronic","Non-Integrated Ballast LED, 980W, any bulb shape, any application",980,"Light Emitting Diode (LED)",15,"Y"]
["LED981-FIXT","LED Non-Int Ballast",null,981,null,"Electronic","Non-Integrated Ballast LED, 981W, any bulb shape, any application",981,"Light Emitting Diode (LED)",15,"Y"]
["LED982-FIXT","LED Non-Int Ballast",null,982,null,"Electronic","Non-Integrated Ballast LED, 982W, any bulb shape, any application",982,"Light Emitting Diode (LED)",15,"Y"]
["LED983-FIXT","LED Non-Int Ballast",null,983,null,"Electronic","Non-Integrated Ballast LED, 983W, any bulb shape, any application",983,"Light Emitting Diode (LED)",15,"Y"]
["LED984-FIXT","LED Non-Int Ballast",null,984,null,"Electronic","Non-Integrated Ballast LED, 984W, any bulb shape, any application",984,"Light Emitting Diode (LED)",15,"Y"]
["LED985-FIXT","LED Non-Int Ballast",null,985,null,"Electronic","Non-Integrated Ballast LED, 985W, any bulb shape, any application",985,"Light Emitting Diode (LED)",15,"Y"]
["LED986-FIXT","LED Non-Int Ballast",null,986,null,"Electronic","Non-Integrated Ballast LED, 986W, any bulb shape, any application",986,"Light Emitting Diode (LED)",15,"Y"]
["LED987-FIXT","LED Non-Int Ballast",null,987,null,"Electronic","Non-Integrated Ballast LED, 987W, any bulb shape, any application",987,"Light Emitting Diode (LED)",15,"Y"]
["LED988-FIXT","LED Non-Int Ballast",null,988,null,"Electronic","Non-Integrated Ballast LED, 988W, any bulb shape, any application",988,"Light Emitting Diode (LED)",15,"Y"]
["LED989-FIXT","LED Non-Int Ballast",null,989,null,"Electronic","Non-Integrated Ballast LED, 989W, any bulb shape, any application",989,"Light Emitting Diode (LED)",15,"Y"]
["LED990-FIXT","LED Non-Int Ballast",null,990,null,"Electronic","Non-Integrated Ballast LED, 990W, any bulb shape, any application",990,"Light Emitting Diode (LED)",15,"Y"]
["LED991-FIXT","LED Non-Int Ballast",null,991,null,"Electronic","Non-Integrated Ballast LED, 991W, any bulb shape, any application",991,"Light Emitting Diode (LED)",15,"Y"]
["LED992-FIXT","LED Non-Int Ballast",null,992,null,"Electronic","Non-Integrated Ballast LED, 992W, any bulb shape, any application",992,"Light Emitting Diode (LED)",15,"Y"]
["LED993-FIXT","LED Non-Int Ballast",null,993,null,"Electronic","Non-Integrated Ballast LED, 993W, any bulb shape, any application",993,"Light Emitting Diode (LED)",15,"Y"]
["LED994-FIXT","LED Non-Int Ballast",null,994,null,"Electronic","Non-Integrated Ballast LED, 994W, any bulb shape, any application",994,"Light Emitting Diode (LED)",15,"Y"]
["LED995-FIXT","LED Non-Int Ballast",null,995,null,"Electronic","Non-Integrated Ballast LED, 995W, any bulb shape, any application",995,"Light Emitting Diode (LED)",15,"Y"]
["LED996-FIXT","LED Non-Int Ballast",null,996,null,"Electronic","Non-Integrated Ballast LED, 996W, any bulb shape, any application",996,"Light Emitting Diode (LED)",15,"Y"]
["LED997-FIXT","LED Non-Int Ballast",null,997,null,"Electronic","Non-Integrated Ballast LED, 997W, any bulb shape, any application",997,"Light Emitting Diode (LED)",15,"Y"]
["LED998-FIXT","LED Non-Int Ballast",null,998,null,"Electronic","Non-Integrated Ballast LED, 998W, any bulb shape, any application",998,"Light Emitting Diode (LED)",15,"Y"]
["LED999-FIXT","LED Non-Int Ballast",null,999,null,"Electronic","Non-Integrated Ballast LED, 999W, any bulb shape, any application",999,"Light Emitting Diode (LED)",15,"Y"]
["LED1000-FIXT","LED Non-Int Ballast",null,1000,null,"Electronic","Non-Integrated Ballast LED, 1000W, any bulb shape, any application",1000,"Light Emitting Diode (LED)",15,"Y"]
["LEP160/1","Light Emitting Plasma",null,160,null,"Electronic","LEP, (1) 160W, any bulb shape, any application",160,"Light Emitting Plasma (LEP)",15,"Y"]
["LEP230/1","Light Emitting Plasma",null,230,null,"Electronic","LEP, (1) 230W, any bulb shape, any application",230,"Light Emitting Plasma (LEP)",15,"Y"]
["LEP270/1","Light Emitting Plasma",null,270,null,"Electronic","LEP, (1) 270W, any bulb shape, any application",270,"Light Emitting Plasma (LEP)",15,"Y"]
["LEP500/1","Light Emitting Plasma",null,500,null,"Electronic","LEP, (1) 500W, any bulb shape, any application",500,"Light Emitting Plasma (LEP)",15,"Y"]
["CF2/1-SCRW","CFL",1,2,null,"Mag. or Elec.","Compact Fluorescent, (1) 2W screw-in or plug-in lamp/base, any bulb shape",2,"Integrated-ballast CFL Lamps",2.5,"Y"]
["CF3/1-SCRW","CFL",1,3,null,"Mag. or Elec.","Compact Fluorescent, (1) 3W screw-in or plug-in lamp/base, any bulb shape",3,"Integrated-ballast CFL Lamps",2.5,"Y"]
["CF4/1-SCRW","CFL",1,4,null,"Mag. or Elec.","Compact Fluorescent, (1) 4W screw-in or plug-in lamp/base, any bulb shape",4,"Integrated-ballast CFL Lamps",2.5,"Y"]
["CF5/1-SCRW","CFL",1,5,null,"Mag. or Elec.","Compact Fluorescent, (1) 5W screw-in or plug-in lamp/base, any bulb shape",5,"Integrated-ballast CFL Lamps",2.5,"Y"]
["CF6/1-SCRW","CFL",1,6,null,"Mag. or Elec.","Compact Fluorescent, (1) 6W screw-in or plug-in lamp/base, any bulb shape",6,"Integrated-ballast CFL Lamps",2.5,"Y"]
["CF7/1-SCRW","CFL",1,7,null,"Mag. or Elec.","Compact Fluorescent, (1) 7W screw-in or plug-in lamp/base, any bulb shape",7,"Integrated-ballast CFL Lamps",2.5,"Y"]
["CF8/1-SCRW","CFL",1,8,null,"Mag. or Elec.","Compact Fluorescent, (1) 8W screw-in or plug-in lamp/base, any bulb shape",8,"Integrated-ballast CFL Lamps",2.5,"Y"]
["CF9/1-SCRW","CFL",1,9,null,"Mag. or Elec.","Compact Fluorescent, (1) 9W screw-in or plug-in lamp/base, any bulb shape",9,"Integrated-ballast CFL Lamps",2.5,"Y"]
["CF10/1-SCRW","CFL",1,10,null,"Mag. or Elec.","Compact Fluorescent, (1) 10W screw-in or plug-in lamp/base, any bulb shape",10,"Integrated-ballast CFL Lamps",2.5,"Y"]
["CF11/1-SCRW","CFL",1,11,null,"Mag. or Elec.","Compact Fluorescent, (1) 11W screw-in or plug-in lamp/base, any bulb shape",11,"Integrated-ballast CFL Lamps",2.5,"Y"]
["CF12/1-SCRW","CFL",1,12,null,"Mag. or Elec.","Compact Fluorescent, (1) 12W screw-in or plug-in lamp/base, any bulb shape",12,"Integrated-ballast CFL Lamps",2.5,"Y"]
["CF13/1-SCRW","CFL",1,13,null,"Mag. or Elec.","Compact Fluorescent, (1) 13W screw-in or plug-in lamp/base, any bulb shape",13,"Integrated-ballast CFL Lamps",2.5,"Y"]
["CF14/1-SCRW","CFL",1,14,null,"Mag. or Elec.","Compact Fluorescent, (1) 14W screw-in or plug-in lamp/base, any bulb shape",14,"Integrated-ballast CFL Lamps",2.5,"Y"]
["CF15/1-SCRW","CFL",1,15,null,"Mag. or Elec.","Compact Fluorescent, (1) 15W screw-in or plug-in lamp/base, any bulb shape",15,"Integrated-ballast CFL Lamps",2.5,"Y"]
["CF16/1-SCRW","CFL",1,16,null,"Mag. or Elec.","Compact Fluorescent, (1) 16W screw-in or plug-in lamp/base, any bulb shape",16,"Integrated-ballast CFL Lamps",2.5,"Y"]
["CF17/1-SCRW","CFL",1,17,null,"Mag. or Elec.","Compact Fluorescent, (1) 17W screw-in or plug-in lamp/base, any bulb shape",17,"Integrated-ballast CFL Lamps",2.5,"Y"]
["CF18/1-SCRW","CFL",1,18,null,"Mag. or Elec.","Compact Fluorescent, (1) 18W screw-in or plug-in lamp/base, any bulb shape",18,"Integrated-ballast CFL Lamps",2.5,"Y"]
["CF19/1-SCRW","CFL",1,19,null,"Mag. or Elec.","Compact Fluorescent, (1) 19W screw-in or plug-in lamp/base, any bulb shape",19,"Integrated-ballast CFL Lamps",2.5,"Y"]
["CF20/1-SCRW","CFL",1,20,null,"Mag. or Elec.","Compact Fluorescent, (1) 20W screw-in or plug-in lamp/base, any bulb shape",20,"Integrated-ballast CFL Lamps",2.5,"Y"]
["CF21/1-SCRW","CFL",1,21,null,"Mag. or Elec.","Compact Fluorescent, (1) 21W screw-in or plug-in lamp/base, any bulb shape",21,"Integrated-ballast CFL Lamps",2.5,"Y"]
["CF22/1-SCRW","CFL",1,22,null,"Mag. or Elec.","Compact Fluorescent, (1) 22W screw-in or plug-in lamp/base, any bulb shape",22,"Integrated-ballast CFL Lamps",2.5,"Y"]
["CF23/1-SCRW","CFL",1,23,null,"Mag. or Elec.","Compact Fluorescent, (1) 23W screw-in or plug-in lamp/base, any bulb shape",23,"Integrated-ballast CFL Lamps",2.5,"Y"]
["CF24/1-SCRW","CFL",1,24,null,"Mag. or Elec.","Compact Fluorescent, (1) 24W screw-in or plug-in lamp/base, any bulb shape",24,"Integrated-ballast CFL Lamps",2.5,"Y"]
["CF25/1-SCRW","CFL",1,25,null,"Mag. or Elec.","Compact Fluorescent, (1) 25W screw-in or plug-in lamp/base, any bulb shape",25,"Integrated-ballast CFL Lamps",2.5,"Y"]
["CF26/1-SCRW","CFL",1,26,null,"Mag. or Elec.","Compact Fluorescent, (1) 26W screw-in or plug-in lamp/base, any bulb shape",26,"Integrated-ballast CFL Lamps",2.5,"Y"]
["CF27/1-SCRW","CFL",1,27,null,"Mag. or Elec.","Compact Fluorescent, (1) 27W screw-in or plug-in lamp/base, any bulb shape",27,"Integrated-ballast CFL Lamps",2.5,"Y"]
["CF28/1-SCRW","CFL",1,28,null,"Mag. or Elec.","Compact Fluorescent, (1) 28W screw-in or plug-in lamp/base, any bulb shape",28,"Integrated-ballast CFL Lamps",2.5,"Y"]
["CF29/1-SCRW","CFL",1,29,null,"Mag. or Elec.","Compact Fluorescent, (1) 29W screw-in or plug-in lamp/base, any bulb shape",29,"Integrated-ballast CFL Lamps",2.5,"Y"]
["CF30/1-SCRW","CFL",1,30,null,"Mag. or Elec.","Compact Fluorescent, (1) 30W screw-in or plug-in lamp/base, any bulb shape",30,"Integrated-ballast CFL Lamps",2.5,"Y"]
["CF31/1-SCRW","CFL",1,31,null,"Mag. or Elec.","Compact Fluorescent, (1) 31W screw-in or plug-in lamp/base, any bulb shape",31,"Integrated-ballast CFL Lamps",2.5,"Y"]
["CF32/1-SCRW","CFL",1,32,null,"Mag. or Elec.","Compact Fluorescent, (1) 32W screw-in or plug-in lamp/base, any bulb shape",32,"Integrated-ballast CFL Lamps",2.5,"Y"]
["CF33/1-SCRW","CFL",1,33,null,"Mag. or Elec.","Compact Fluorescent, (1) 33W screw-in or plug-in lamp/base, any bulb shape",33,"Integrated-ballast CFL Lamps",2.5,"Y"]
["CF34/1-SCRW","CFL",1,34,null,"Mag. or Elec.","Compact Fluorescent, (1) 34W screw-in or plug-in lamp/base, any bulb shape",34,"Integrated-ballast CFL Lamps",2.5,"Y"]
["CF35/1-SCRW","CFL",1,35,null,"Mag. or Elec.","Compact Fluorescent, (1) 35W screw-in or plug-in lamp/base, any bulb shape",35,"Integrated-ballast CFL Lamps",2.5,"Y"]
["CF36/1-SCRW","CFL",1,36,null,"Mag. or Elec.","Compact Fluorescent, (1) 36W screw-in or plug-in lamp/base, any bulb shape",36,"Integrated-ballast CFL Lamps",2.5,"Y"]
["CF37/1-SCRW","CFL",1,37,null,"Mag. or Elec.","Compact Fluorescent, (1) 37W screw-in or plug-in lamp/base, any bulb shape",37,"Integrated-ballast CFL Lamps",2.5,"Y"]
["CF38/1-SCRW","CFL",1,38,null,"Mag. or Elec.","Compact Fluorescent, (1) 38W screw-in or plug-in lamp/base, any bulb shape",38,"Integrated-ballast CFL Lamps",2.5,"Y"]
["CF39/1-SCRW","CFL",1,39,null,"Mag. or Elec.","Compact Fluorescent, (1) 39W screw-in or plug-in lamp/base, any bulb shape",39,"Integrated-ballast CFL Lamps",2.5,"Y"]
["CF40/1-SCRW","CFL",1,40,null,"Mag. or Elec.","Compact Fluorescent, (1) 40W screw-in or plug-in lamp/base, any bulb shape",40,"Integrated-ballast CFL Lamps",2.5,"Y"]
["CF41/1-SCRW","CFL",1,41,null,"Mag. or Elec.","Compact Fluorescent, (1) 41W screw-in or plug-in lamp/base, any bulb shape",41,"Integrated-ballast CFL Lamps",2.5,"Y"]
["CF42/1-SCRW","CFL",1,42,null,"Mag. or Elec.","Compact Fluorescent, (1) 42W screw-in or plug-in lamp/base, any bulb shape",42,"Integrated-ballast CFL Lamps",2.5,"Y"]
["CF43/1-SCRW","CFL",1,43,null,"Mag. or Elec.","Compact Fluorescent, (1) 43W screw-in or plug-in lamp/base, any bulb shape",43,"Integrated-ballast CFL Lamps",2.5,"Y"]
["CF44/1-SCRW","CFL",1,44,null,"Mag. or Elec.","Compact Fluorescent, (1) 44W screw-in or plug-in lamp/base, any bulb shape",44,"Integrated-ballast CFL Lamps",2.5,"Y"]
["CF45/1-SCRW","CFL",1,45,null,"Mag. or Elec.","Compact Fluorescent, (1) 45W screw-in or plug-in lamp/base, any bulb shape",45,"Integrated-ballast CFL Lamps",2.5,"Y"]
["CF46/1-SCRW","CFL",1,46,null,"Mag. or Elec.","Compact Fluorescent, (1) 46W screw-in or plug-in lamp/base, any bulb shape",46,"Integrated-ballast CFL Lamps",2.5,"Y"]
["CF47/1-SCRW","CFL",1,47,null,"Mag. or Elec.","Compact Fluorescent, (1) 47W screw-in or plug-in lamp/base, any bulb shape",47,"Integrated-ballast CFL Lamps",2.5,"Y"]
["CF48/1-SCRW","CFL",1,48,null,"Mag. or Elec.","Compact Fluorescent, (1) 48W screw-in or plug-in lamp/base, any bulb shape",48,"Integrated-ballast CFL Lamps",2.5,"Y"]
["CF49/1-SCRW","CFL",1,49,null,"Mag. or Elec.","Compact Fluorescent, (1) 49W screw-in or plug-in lamp/base, any bulb shape",49,"Integrated-ballast CFL Lamps",2.5,"Y"]
["CF50/1-SCRW","CFL",1,50,null,"Mag. or Elec.","Compact Fluorescent, (1) 50W screw-in or plug-in lamp/base, any bulb shape",50,"Integrated-ballast CFL Lamps",2.5,"Y"]
["CF51/1-SCRW","CFL",1,51,null,"Mag. or Elec.","Compact Fluorescent, (1) 51W screw-in or plug-in lamp/base, any bulb shape",51,"Integrated-ballast CFL Lamps",2.5,"Y"]
["CF52/1-SCRW","CFL",1,52,null,"Mag. or Elec.","Compact Fluorescent, (1) 52W screw-in or plug-in lamp/base, any bulb shape",52,"Integrated-ballast CFL Lamps",2.5,"Y"]
["CF53/1-SCRW","CFL",1,53,null,"Mag. or Elec.","Compact Fluorescent, (1) 53W screw-in or plug-in lamp/base, any bulb shape",53,"Integrated-ballast CFL Lamps",2.5,"Y"]
["CF54/1-SCRW","CFL",1,54,null,"Mag. or Elec.","Compact Fluorescent, (1) 54W screw-in or plug-in lamp/base, any bulb shape",54,"Integrated-ballast CFL Lamps",2.5,"Y"]
["CF55/1-SCRW","CFL",1,55,null,"Mag. or Elec.","Compact Fluorescent, (1) 55W screw-in or plug-in lamp/base, any bulb shape",55,"Integrated-ballast CFL Lamps",2.5,"Y"]
["CF56/1-SCRW","CFL",1,56,null,"Mag. or Elec.","Compact Fluorescent, (1) 56W screw-in or plug-in lamp/base, any bulb shape",56,"Integrated-ballast CFL Lamps",2.5,"Y"]
["CF57/1-SCRW","CFL",1,57,null,"Mag. or Elec.","Compact Fluorescent, (1) 57W screw-in or plug-in lamp/base, any bulb shape",57,"Integrated-ballast CFL Lamps",2.5,"Y"]
["CF58/1-SCRW","CFL",1,58,null,"Mag. or Elec.","Compact Fluorescent, (1) 58W screw-in or plug-in lamp/base, any bulb shape",58,"Integrated-ballast CFL Lamps",2.5,"Y"]
["CF59/1-SCRW","CFL",1,59,null,"Mag. or Elec.","Compact Fluorescent, (1) 59W screw-in or plug-in lamp/base, any bulb shape",59,"Integrated-ballast CFL Lamps",2.5,"Y"]
["CF60/1-SCRW","CFL",1,60,null,"Mag. or Elec.","Compact Fluorescent, (1) 60W screw-in or plug-in lamp/base, any bulb shape",60,"Integrated-ballast CFL Lamps",2.5,"Y"]
["CF61/1-SCRW","CFL",1,61,null,"Mag. or Elec.","Compact Fluorescent, (1) 61W screw-in or plug-in lamp/base, any bulb shape",61,"Integrated-ballast CFL Lamps",2.5,"Y"]
["CF62/1-SCRW","CFL",1,62,null,"Mag. or Elec.","Compact Fluorescent, (1) 62W screw-in or plug-in lamp/base, any bulb shape",62,"Integrated-ballast CFL Lamps",2.5,"Y"]
["CF63/1-SCRW","CFL",1,63,null,"Mag. or Elec.","Compact Fluorescent, (1) 63W screw-in or plug-in lamp/base, any bulb shape",63,"Integrated-ballast CFL Lamps",2.5,"Y"]
["CF64/1-SCRW","CFL",1,64,null,"Mag. or Elec.","Compact Fluorescent, (1) 64W screw-in or plug-in lamp/base, any bulb shape",64,"Integrated-ballast CFL Lamps",2.5,"Y"]
["CF65/1-SCRW","CFL",1,65,null,"Mag. or Elec.","Compact Fluorescent, (1) 65W screw-in or plug-in lamp/base, any bulb shape",65,"Integrated-ballast CFL Lamps",2.5,"Y"]
["CF66/1-SCRW","CFL",1,66,null,"Mag. or Elec.","Compact Fluorescent, (1) 66W screw-in or plug-in lamp/base, any bulb shape",66,"Integrated-ballast CFL Lamps",2.5,"Y"]
["CF67/1-SCRW","CFL",1,67,null,"Mag. or Elec.","Compact Fluorescent, (1) 67W screw-in or plug-in lamp/base, any bulb shape",67,"Integrated-ballast CFL Lamps",2.5,"Y"]
["CF68/1-SCRW","CFL",1,68,null,"Mag. or Elec.","Compact Fluorescent, (1) 68W screw-in or plug-in lamp/base, any bulb shape",68,"Integrated-ballast CFL Lamps",2.5,"Y"]
["CF69/1-SCRW","CFL",1,69,null,"Mag. or Elec.","Compact Fluorescent, (1) 69W screw-in or plug-in lamp/base, any bulb shape",69,"Integrated-ballast CFL Lamps",2.5,"Y"]
["CF70/1-SCRW","CFL",1,70,null,"Mag. or Elec.","Compact Fluorescent, (1) 70W screw-in or plug-in lamp/base, any bulb shape",70,"Integrated-ballast CFL Lamps",2.5,"Y"]
["CF71/1-SCRW","CFL",1,71,null,"Mag. or Elec.","Compact Fluorescent, (1) 71W screw-in or plug-in lamp/base, any bulb shape",71,"Integrated-ballast CFL Lamps",2.5,"Y"]
["CF72/1-SCRW","CFL",1,72,null,"Mag. or Elec.","Compact Fluorescent, (1) 72W screw-in or plug-in lamp/base, any bulb shape",72,"Integrated-ballast CFL Lamps",2.5,"Y"]
["CF73/1-SCRW","CFL",1,73,null,"Mag. or Elec.","Compact Fluorescent, (1) 73W screw-in or plug-in lamp/base, any bulb shape",73,"Integrated-ballast CFL Lamps",2.5,"Y"]
["CF74/1-SCRW","CFL",1,74,null,"Mag. or Elec.","Compact Fluorescent, (1) 74W screw-in or plug-in lamp/base, any bulb shape",74,"Integrated-ballast CFL Lamps",2.5,"Y"]
["CF75/1-SCRW","CFL",1,75,null,"Mag. or Elec.","Compact Fluorescent, (1) 75W screw-in or plug-in lamp/base, any bulb shape",75,"Integrated-ballast CFL Lamps",2.5,"Y"]
["CF80/1-SCRW","CFL",1,80,null,"Mag. or Elec.","Compact Fluorescent, (1) 80W screw-in or plug-in lamp/base, any bulb shape",80,"Integrated-ballast CFL Lamps",2.5,"Y"]
["CF85/1-SCRW","CFL",1,85,null,"Mag. or Elec.","Compact Fluorescent, (1) 85W screw-in or plug-in lamp/base, any bulb shape",85,"Integrated-ballast CFL Lamps",2.5,"Y"]
["CF100/1-SCRW","CFL",1,100,null,"Mag. or Elec.","Compact Fluorescent, (1) 100W screw-in or plug-in lamp/base, any bulb shape",100,"Integrated-ballast CFL Lamps",2.5,"Y"]
["CF125/1-SCRW","CFL",1,125,null,"Mag. or Elec.","Compact Fluorescent, (1) 125W screw-in or plug-in lamp/base, any bulb shape",125,"Integrated-ballast CFL Lamps",2.5,"Y"]
["CF150/1-SCRW","CFL",1,150,null,"Mag. or Elec.","Compact Fluorescent, (1) 150W screw-in or plug-in lamp/base, any bulb shape",150,"Integrated-ballast CFL Lamps",2.5,"Y"]
["CF200/1-SCRW","CFL",1,200,null,"Mag. or Elec.","Compact Fluorescent, (1) 200W screw-in or plug-in lamp/base, any bulb shape",200,"Integrated-ballast CFL Lamps",2.5,"Y"]
["CF5/1-FIXT","CFL",1,5,null,"Mag. or Elec.","Compact Fluorescent, 5W/lamp modular fixture, (1) lamp, any plug-in bulb shape",6,"Modular CFL Fixtures",15,"Y"]
["CF6/1-FIXT","CFL",1,6,null,"Mag. or Elec.","Compact Fluorescent, 6W/lamp modular fixture, (1) lamp, any plug-in bulb shape",7,"Modular CFL Fixtures",15,"Y"]
["CF7/1-FIXT","CFL",1,7,null,"Mag. or Elec.","Compact Fluorescent, 7W/lamp modular fixture, (1) lamp, any plug-in bulb shape",8,"Modular CFL Fixtures",15,"Y"]
["CF8/1-FIXT","CFL",1,8,null,"Mag. or Elec.","Compact Fluorescent, 8W/lamp modular fixture, (1) lamp, any plug-in bulb shape",9,"Modular CFL Fixtures",15,"Y"]
["CF9/1-FIXT","CFL",1,9,null,"Mag. or Elec.","Compact Fluorescent, 9W/lamp modular fixture, (1) lamp, any plug-in bulb shape",10,"Modular CFL Fixtures",15,"Y"]
["CF10/1-FIXT","CFL",1,10,null,"Mag. or Elec.","Compact Fluorescent, 10W/lamp modular fixture, (1) lamp, any plug-in bulb shape",12,"Modular CFL Fixtures",15,"Y"]
["CF11/1-FIXT","CFL",1,11,null,"Mag. or Elec.","Compact Fluorescent, 11W/lamp modular fixture, (1) lamp, any plug-in bulb shape",13,"Modular CFL Fixtures",15,"Y"]
["CF12/1-FIXT","CFL",1,12,null,"Mag. or Elec.","Compact Fluorescent, 12W/lamp modular fixture, (1) lamp, any plug-in bulb shape",14,"Modular CFL Fixtures",15,"Y"]
["CF13/1-FIXT","CFL",1,13,null,"Mag. or Elec.","Compact Fluorescent, 13W/lamp modular fixture, (1) lamp, any plug-in bulb shape",15,"Modular CFL Fixtures",15,"Y"]
["CF13/2-FIXT","CFL",2,13,null,"Mag. or Elec.","Compact Fluorescent, 13W/lamp modular fixture, (2) lamps, any plug-in bulb shape",30,"Modular CFL Fixtures",15,"Y"]
["CF14/1-FIXT","CFL",1,14,null,"Mag. or Elec.","Compact Fluorescent, 14W/lamp modular fixture, (1) lamp, any plug-in bulb shape",16,"Modular CFL Fixtures",15,"Y"]
["CF15/1-FIXT","CFL",1,15,null,"Mag. or Elec.","Compact Fluorescent, 15W/lamp modular fixture, (1) lamp, any plug-in bulb shape",17,"Modular CFL Fixtures",15,"Y"]
["CF16/1-FIXT","CFL",1,16,null,"Mag. or Elec.","Compact Fluorescent, 16W/lamp modular fixture, (1) lamp, any plug-in bulb shape",18,"Modular CFL Fixtures",15,"Y"]
["CF17/1-FIXT","CFL",1,17,null,"Mag. or Elec.","Compact Fluorescent, 17W/lamp modular fixture, (1) lamp, any plug-in bulb shape",20,"Modular CFL Fixtures",15,"Y"]
["CF18/1-FIXT","CFL",1,18,null,"Mag. or Elec.","Compact Fluorescent, 18W/lamp modular fixture, (1) lamp, any plug-in bulb shape",21,"Modular CFL Fixtures",15,"Y"]
["CF19/1-FIXT","CFL",1,19,null,"Mag. or Elec.","Compact Fluorescent, 19W/lamp modular fixture, (1) lamp, any plug-in bulb shape",22,"Modular CFL Fixtures",15,"Y"]
["CF20/1-FIXT","CFL",1,20,null,"Mag. or Elec.","Compact Fluorescent, 20W/lamp modular fixture, (1) lamp, any plug-in bulb shape",23,"Modular CFL Fixtures",15,"Y"]
["CF21/1-FIXT","CFL",1,21,null,"Mag. or Elec.","Compact Fluorescent, 21W/lamp modular fixture, (1) lamp, any plug-in bulb shape",24,"Modular CFL Fixtures",15,"Y"]
["CF22/1-FIXT","CFL",1,22,null,"Mag. or Elec.","Compact Fluorescent, 22W/lamp modular fixture, (1) lamp, any plug-in bulb shape",25,"Modular CFL Fixtures",15,"Y"]
["CF23/1-FIXT","CFL",1,23,null,"Mag. or Elec.","Compact Fluorescent, 23W/lamp modular fixture, (1) lamp, any plug-in bulb shape",26,"Modular CFL Fixtures",15,"Y"]
["CF24/1-FIXT","CFL",1,24,null,"Mag. or Elec.","Compact Fluorescent, 24W/lamp modular fixture, (1) lamp, any plug-in bulb shape",28,"Modular CFL Fixtures",15,"Y"]
["CF25/1-FIXT","CFL",1,25,null,"Mag. or Elec.","Compact Fluorescent, 25W/lamp modular fixture, (1) lamp, any plug-in bulb shape",29,"Modular CFL Fixtures",15,"Y"]
["CF26/1-FIXT","CFL",1,26,null,"Mag. or Elec.","Compact Fluorescent, 26W/lamp modular fixture, (1) lamp, any plug-in bulb shape",30,"Modular CFL Fixtures",15,"Y"]
["CF26/2-FIXT","CFL",2,26,null,"Mag. or Elec.","Compact Fluorescent, 26W/lamp modular fixture, (2) lamps, any plug-in bulb shape",60,"Modular CFL Fixtures",15,"Y"]
["CF27/1-FIXT","CFL",1,27,null,"Mag. or Elec.","Compact Fluorescent, 27W/lamp modular fixture, (1) lamp, any plug-in bulb shape",31,"Modular CFL Fixtures",15,"Y"]
["CF28/1-FIXT","CFL",1,28,null,"Mag. or Elec.","Compact Fluorescent, 28W/lamp modular fixture, (1) lamp, any plug-in bulb shape",32,"Modular CFL Fixtures",15,"Y"]
["CF29/1-FIXT","CFL",1,29,null,"Mag. or Elec.","Compact Fluorescent, 29W/lamp modular fixture, (1) lamp, any plug-in bulb shape",33,"Modular CFL Fixtures",15,"Y"]
["CF30/1-FIXT","CFL",1,30,null,"Mag. or Elec.","Compact Fluorescent, 30W/lamp modular fixture, (1) lamp, any plug-in bulb shape",35,"Modular CFL Fixtures",15,"Y"]
["CF31/1-FIXT","CFL",1,31,null,"Mag. or Elec.","Compact Fluorescent, 31W/lamp modular fixture, (1) lamp, any plug-in bulb shape",36,"Modular CFL Fixtures",15,"Y"]
["CF32/1-FIXT","CFL",1,32,null,"Mag. or Elec.","Compact Fluorescent, 32W/lamp modular fixture, (1) lamp, any plug-in bulb shape",37,"Modular CFL Fixtures",15,"Y"]
["CF32/2-FIXT","CFL",2,32,null,"Mag. or Elec.","Compact Fluorescent, 32W/lamp modular fixture, (2) lamps, any plug-in bulb shape",74,"Modular CFL Fixtures",15,"Y"]
["CF33/1-FIXT","CFL",1,33,null,"Mag. or Elec.","Compact Fluorescent, 33W/lamp modular fixture, (1) lamp, any plug-in bulb shape",38,"Modular CFL Fixtures",15,"Y"]
["CF34/1-FIXT","CFL",1,34,null,"Mag. or Elec.","Compact Fluorescent, 34W/lamp modular fixture, (1) lamp, any plug-in bulb shape",39,"Modular CFL Fixtures",15,"Y"]
["CF35/1-FIXT","CFL",1,35,null,"Mag. or Elec.","Compact Fluorescent, 35W/lamp modular fixture, (1) lamp, any plug-in bulb shape",40,"Modular CFL Fixtures",15,"Y"]
["CF36/1-FIXT","CFL",1,36,null,"Mag. or Elec.","Compact Fluorescent, 36W/lamp modular fixture, (1) lamp, any plug-in bulb shape",41,"Modular CFL Fixtures",15,"Y"]
["CF37/1-FIXT","CFL",1,37,null,"Mag. or Elec.","Compact Fluorescent, 37W/lamp modular fixture, (1) lamp, any plug-in bulb shape",43,"Modular CFL Fixtures",15,"Y"]
["CF38/1-FIXT","CFL",1,38,null,"Mag. or Elec.","Compact Fluorescent, 38W/lamp modular fixture, (1) lamp, any plug-in bulb shape",44,"Modular CFL Fixtures",15,"Y"]
["CF39/1-FIXT","CFL",1,39,null,"Mag. or Elec.","Compact Fluorescent, 39W/lamp modular fixture, (1) lamp, any plug-in bulb shape",45,"Modular CFL Fixtures",15,"Y"]
["CF40/1-FIXT","CFL",1,40,null,"Mag. or Elec.","Compact Fluorescent, 40W/lamp modular fixture, (1) lamp, any plug-in bulb shape",46,"Modular CFL Fixtures",15,"Y"]
["CF40/2-FIXT","CFL",2,40,null,"Mag. or Elec.","Compact Fluorescent, 40W/lamp modular fixture, (2) lamps, any plug-in bulb shape",92,"Modular CFL Fixtures",15,"Y"]
["CF40/3-FIXT","CFL",3,40,null,"Mag. or Elec.","Compact Fluorescent, 40W/lamp modular fixture, (3) lamps, any plug-in bulb shape",138,"Modular CFL Fixtures",15,"Y"]
["CF40/4-FIXT","CFL",4,40,null,"Mag. or Elec.","Compact Fluorescent, 40W/lamp modular fixture, (4) lamps, any plug-in bulb shape",184,"Modular CFL Fixtures",15,"Y"]
["CF41/1-FIXT","CFL",1,41,null,"Mag. or Elec.","Compact Fluorescent, 41W/lamp modular fixture, (1) lamp, any plug-in bulb shape",47,"Modular CFL Fixtures",15,"Y"]
["CF42/1-FIXT","CFL",1,42,null,"Mag. or Elec.","Compact Fluorescent, 42W/lamp modular fixture, (1) lamp, any plug-in bulb shape",48,"Modular CFL Fixtures",15,"Y"]
["CF42/2-FIXT","CFL",2,42,null,"Mag. or Elec.","Compact Fluorescent, 42W/lamp modular fixture, (2) lamps, any plug-in bulb shape",97,"Modular CFL Fixtures",15,"Y"]
["CF43/1-FIXT","CFL",1,43,null,"Mag. or Elec.","Compact Fluorescent, 43W/lamp modular fixture, (1) lamp, any plug-in bulb shape",49,"Modular CFL Fixtures",15,"Y"]
["CF44/1-FIXT","CFL",1,44,null,"Mag. or Elec.","Compact Fluorescent, 44W/lamp modular fixture, (1) lamp, any plug-in bulb shape",51,"Modular CFL Fixtures",15,"Y"]
["CF45/1-FIXT","CFL",1,45,null,"Mag. or Elec.","Compact Fluorescent, 45W/lamp modular fixture, (1) lamp, any plug-in bulb shape",52,"Modular CFL Fixtures",15,"Y"]
["CF46/1-FIXT","CFL",1,46,null,"Mag. or Elec.","Compact Fluorescent, 46W/lamp modular fixture, (1) lamp, any plug-in bulb shape",53,"Modular CFL Fixtures",15,"Y"]
["CF47/1-FIXT","CFL",1,47,null,"Mag. or Elec.","Compact Fluorescent, 47W/lamp modular fixture, (1) lamp, any plug-in bulb shape",54,"Modular CFL Fixtures",15,"Y"]
["CF48/1-FIXT","CFL",1,48,null,"Mag. or Elec.","Compact Fluorescent, 48W/lamp modular fixture, (1) lamp, any plug-in bulb shape",55,"Modular CFL Fixtures",15,"Y"]
["CF49/1-FIXT","CFL",1,49,null,"Mag. or Elec.","Compact Fluorescent, 49W/lamp modular fixture, (1) lamp, any plug-in bulb shape",56,"Modular CFL Fixtures",15,"Y"]
["CF50/1-FIXT","CFL",1,50,null,"Mag. or Elec.","Compact Fluorescent, 50W/lamp modular fixture, (1) lamp, any plug-in bulb shape",58,"Modular CFL Fixtures",15,"Y"]
["CF50/2-FIXT","CFL",2,50,null,"Mag. or Elec.","Compact Fluorescent, 50W/lamp modular fixture, (2) lamps, any plug-in bulb shape",115,"Modular CFL Fixtures",15,"Y"]
["CF51/1-FIXT","CFL",1,51,null,"Mag. or Elec.","Compact Fluorescent, 51W/lamp modular fixture, (1) lamp, any plug-in bulb shape",59,"Modular CFL Fixtures",15,"Y"]
["CF52/1-FIXT","CFL",1,52,null,"Mag. or Elec.","Compact Fluorescent, 52W/lamp modular fixture, (1) lamp, any plug-in bulb shape",60,"Modular CFL Fixtures",15,"Y"]
["CF53/1-FIXT","CFL",1,53,null,"Mag. or Elec.","Compact Fluorescent, 53W/lamp modular fixture, (1) lamp, any plug-in bulb shape",61,"Modular CFL Fixtures",15,"Y"]
["CF54/1-FIXT","CFL",1,54,null,"Mag. or Elec.","Compact Fluorescent, 54W/lamp modular fixture, (1) lamp, any plug-in bulb shape",62,"Modular CFL Fixtures",15,"Y"]
["CF55/1-FIXT","CFL",1,55,null,"Mag. or Elec.","Compact Fluorescent, 55W/lamp modular fixture, (1) lamp, any plug-in bulb shape",63,"Modular CFL Fixtures",15,"Y"]
["CF55/2-FIXT","CFL",2,55,null,"Mag. or Elec.","Compact Fluorescent, 55W/lamp modular fixture, (2) lamps, any plug-in bulb shape",127,"Modular CFL Fixtures",15,"Y"]
["CF55/3-FIXT","CFL",3,55,null,"Mag. or Elec.","Compact Fluorescent, 55W/lamp modular fixture, (3) lamps, any plug-in bulb shape",190,"Modular CFL Fixtures",15,"Y"]
["CF55/4-FIXT","CFL",4,55,null,"Mag. or Elec.","Compact Fluorescent, 55W/lamp modular fixture, (4) lamps, any plug-in bulb shape",253,"Modular CFL Fixtures",15,"Y"]
["CF56/1-FIXT","CFL",1,56,null,"Mag. or Elec.","Compact Fluorescent, 56W/lamp modular fixture, (1) lamp, any plug-in bulb shape",64,"Modular CFL Fixtures",15,"Y"]
["CF57/1-FIXT","CFL",1,57,null,"Mag. or Elec.","Compact Fluorescent, 57W/lamp modular fixture, (1) lamp, any plug-in bulb shape",66,"Modular CFL Fixtures",15,"Y"]
["CF58/1-FIXT","CFL",1,58,null,"Mag. or Elec.","Compact Fluorescent, 58W/lamp modular fixture, (1) lamp, any plug-in bulb shape",67,"Modular CFL Fixtures",15,"Y"]
["CF59/1-FIXT","CFL",1,59,null,"Mag. or Elec.","Compact Fluorescent, 59W/lamp modular fixture, (1) lamp, any plug-in bulb shape",68,"Modular CFL Fixtures",15,"Y"]
["CF60/1-FIXT","CFL",1,60,null,"Mag. or Elec.","Compact Fluorescent, 60W/lamp modular fixture, (1) lamp, any plug-in bulb shape",69,"Modular CFL Fixtures",15,"Y"]
["CF61/1-FIXT","CFL",1,61,null,"Mag. or Elec.","Compact Fluorescent, 61W/lamp modular fixture, (1) lamp, any plug-in bulb shape",70,"Modular CFL Fixtures",15,"Y"]
["CF62/1-FIXT","CFL",1,62,null,"Mag. or Elec.","Compact Fluorescent, 62W/lamp modular fixture, (1) lamp, any plug-in bulb shape",71,"Modular CFL Fixtures",15,"Y"]
["CF63/1-FIXT","CFL",1,63,null,"Mag. or Elec.","Compact Fluorescent, 63W/lamp modular fixture, (1) lamp, any plug-in bulb shape",72,"Modular CFL Fixtures",15,"Y"]
["CF64/1-FIXT","CFL",1,64,null,"Mag. or Elec.","Compact Fluorescent, 64W/lamp modular fixture, (1) lamp, any plug-in bulb shape",74,"Modular CFL Fixtures",15,"Y"]
["CF65/1-FIXT","CFL",1,65,null,"Mag. or Elec.","Compact Fluorescent, 65W/lamp modular fixture, (1) lamp, any plug-in bulb shape",75,"Modular CFL Fixtures",15,"Y"]
["CF66/1-FIXT","CFL",1,66,null,"Mag. or Elec.","Compact Fluorescent, 66W/lamp modular fixture, (1) lamp, any plug-in bulb shape",76,"Modular CFL Fixtures",15,"Y"]
["CF67/1-FIXT","CFL",1,67,null,"Mag. or Elec.","Compact Fluorescent, 67W/lamp modular fixture, (1) lamp, any plug-in bulb shape",77,"Modular CFL Fixtures",15,"Y"]
["CF68/1-FIXT","CFL",1,68,null,"Mag. or Elec.","Compact Fluorescent, 68W/lamp modular fixture, (1) lamp, any plug-in bulb shape",78,"Modular CFL Fixtures",15,"Y"]
["CF69/1-FIXT","CFL",1,69,null,"Mag. or Elec.","Compact Fluorescent, 69W/lamp modular fixture, (1) lamp, any plug-in bulb shape",79,"Modular CFL Fixtures",15,"Y"]
["CF70/1-FIXT","CFL",1,70,null,"Mag. or Elec.","Compact Fluorescent, 70W/lamp modular fixture, (1) lamp, any plug-in bulb shape",81,"Modular CFL Fixtures",15,"Y"]
["CF71/1-FIXT","CFL",1,71,null,"Mag. or Elec.","Compact Fluorescent, 71W/lamp modular fixture, (1) lamp, any plug-in bulb shape",82,"Modular CFL Fixtures",15,"Y"]
["CF72/1-FIXT","CFL",1,72,null,"Mag. or Elec.","Compact Fluorescent, 72W/lamp modular fixture, (1) lamp, any plug-in bulb shape",83,"Modular CFL Fixtures",15,"Y"]
["CF73/1-FIXT","CFL",1,73,null,"Mag. or Elec.","Compact Fluorescent, 73W/lamp modular fixture, (1) lamp, any plug-in bulb shape",84,"Modular CFL Fixtures",15,"Y"]
["CF74/1-FIXT","CFL",1,74,null,"Mag. or Elec.","Compact Fluorescent, 74W/lamp modular fixture, (1) lamp, any plug-in bulb shape",85,"Modular CFL Fixtures",15,"Y"]
["CF75/1-FIXT","CFL",1,75,null,"Mag. or Elec.","Compact Fluorescent, 75W/lamp modular fixture, (1) lamp, any plug-in bulb shape",86,"Modular CFL Fixtures",15,"Y"]
["CF76/1-FIXT","CFL",1,76,null,"Mag. or Elec.","Compact Fluorescent, 76W/lamp modular fixture, (1) lamp, any plug-in bulb shape",87,"Modular CFL Fixtures",15,"Y"]
["CF77/1-FIXT","CFL",1,77,null,"Mag. or Elec.","Compact Fluorescent, 77W/lamp modular fixture, (1) lamp, any plug-in bulb shape",89,"Modular CFL Fixtures",15,"Y"]
["CF78/1-FIXT","CFL",1,78,null,"Mag. or Elec.","Compact Fluorescent, 78W/lamp modular fixture, (1) lamp, any plug-in bulb shape",90,"Modular CFL Fixtures",15,"Y"]
["CF79/1-FIXT","CFL",1,79,null,"Mag. or Elec.","Compact Fluorescent, 79W/lamp modular fixture, (1) lamp, any plug-in bulb shape",91,"Modular CFL Fixtures",15,"Y"]
["CF80/1-FIXT","CFL",1,80,null,"Mag. or Elec.","Compact Fluorescent, 80W/lamp modular fixture, (1) lamp, any plug-in bulb shape",92,"Modular CFL Fixtures",15,"Y"]
["CF81/1-FIXT","CFL",1,81,null,"Mag. or Elec.","Compact Fluorescent, 81W/lamp modular fixture, (1) lamp, any plug-in bulb shape",93,"Modular CFL Fixtures",15,"Y"]
["CF82/1-FIXT","CFL",1,82,null,"Mag. or Elec.","Compact Fluorescent, 82W/lamp modular fixture, (1) lamp, any plug-in bulb shape",94,"Modular CFL Fixtures",15,"Y"]
["CF83/1-FIXT","CFL",1,83,null,"Mag. or Elec.","Compact Fluorescent, 83W/lamp modular fixture, (1) lamp, any plug-in bulb shape",95,"Modular CFL Fixtures",15,"Y"]
["CF84/1-FIXT","CFL",1,84,null,"Mag. or Elec.","Compact Fluorescent, 84W/lamp modular fixture, (1) lamp, any plug-in bulb shape",97,"Modular CFL Fixtures",15,"Y"]
["CF85/1-FIXT","CFL",1,85,null,"Mag. or Elec.","Compact Fluorescent, 85W/lamp modular fixture, (1) lamp, any plug-in bulb shape",98,"Modular CFL Fixtures",15,"Y"]
["CF86/1-FIXT","CFL",1,86,null,"Mag. or Elec.","Compact Fluorescent, 86W/lamp modular fixture, (1) lamp, any plug-in bulb shape",99,"Modular CFL Fixtures",15,"Y"]
["CF87/1-FIXT","CFL",1,87,null,"Mag. or Elec.","Compact Fluorescent, 87W/lamp modular fixture, (1) lamp, any plug-in bulb shape",100,"Modular CFL Fixtures",15,"Y"]
["CF88/1-FIXT","CFL",1,88,null,"Mag. or Elec.","Compact Fluorescent, 88W/lamp modular fixture, (1) lamp, any plug-in bulb shape",101,"Modular CFL Fixtures",15,"Y"]
["CF89/1-FIXT","CFL",1,89,null,"Mag. or Elec.","Compact Fluorescent, 89W/lamp modular fixture, (1) lamp, any plug-in bulb shape",102,"Modular CFL Fixtures",15,"Y"]
["CF90/1-FIXT","CFL",1,90,null,"Mag. or Elec.","Compact Fluorescent, 90W/lamp modular fixture, (1) lamp, any plug-in bulb shape",104,"Modular CFL Fixtures",15,"Y"]
["CF91/1-FIXT","CFL",1,91,null,"Mag. or Elec.","Compact Fluorescent, 91W/lamp modular fixture, (1) lamp, any plug-in bulb shape",105,"Modular CFL Fixtures",15,"Y"]
["CF92/1-FIXT","CFL",1,92,null,"Mag. or Elec.","Compact Fluorescent, 92W/lamp modular fixture, (1) lamp, any plug-in bulb shape",106,"Modular CFL Fixtures",15,"Y"]
["CF93/1-FIXT","CFL",1,93,null,"Mag. or Elec.","Compact Fluorescent, 93W/lamp modular fixture, (1) lamp, any plug-in bulb shape",107,"Modular CFL Fixtures",15,"Y"]
["CF94/1-FIXT","CFL",1,94,null,"Mag. or Elec.","Compact Fluorescent, 94W/lamp modular fixture, (1) lamp, any plug-in bulb shape",108,"Modular CFL Fixtures",15,"Y"]
["CF95/1-FIXT","CFL",1,95,null,"Mag. or Elec.","Compact Fluorescent, 95W/lamp modular fixture, (1) lamp, any plug-in bulb shape",109,"Modular CFL Fixtures",15,"Y"]
["CF96/1-FIXT","CFL",1,96,null,"Mag. or Elec.","Compact Fluorescent, 96W/lamp modular fixture, (1) lamp, any plug-in bulb shape",110,"Modular CFL Fixtures",15,"Y"]
["CF97/1-FIXT","CFL",1,97,null,"Mag. or Elec.","Compact Fluorescent, 97W/lamp modular fixture, (1) lamp, any plug-in bulb shape",112,"Modular CFL Fixtures",15,"Y"]
["CF98/1-FIXT","CFL",1,98,null,"Mag. or Elec.","Compact Fluorescent, 98W/lamp modular fixture, (1) lamp, any plug-in bulb shape",113,"Modular CFL Fixtures",15,"Y"]
["CF99/1-FIXT","CFL",1,99,null,"Mag. or Elec.","Compact Fluorescent, 99W/lamp modular fixture, (1) lamp, any plug-in bulb shape",114,"Modular CFL Fixtures",15,"Y"]
["CF100/1-FIXT","CFL",1,100,null,"Mag. or Elec.","Compact Fluorescent, 100W/lamp modular fixture, (1) lamp, any plug-in bulb shape",115,"Modular CFL Fixtures",15,"Y"]
["CF101/1-FIXT","CFL",1,101,null,"Mag. or Elec.","Compact Fluorescent, 101W/lamp modular fixture, (1) lamp, any plug-in bulb shape",116,"Modular CFL Fixtures",15,"Y"]
["CF102/1-FIXT","CFL",1,102,null,"Mag. or Elec.","Compact Fluorescent, 102W/lamp modular fixture, (1) lamp, any plug-in bulb shape",117,"Modular CFL Fixtures",15,"Y"]
["CF103/1-FIXT","CFL",1,103,null,"Mag. or Elec.","Compact Fluorescent, 103W/lamp modular fixture, (1) lamp, any plug-in bulb shape",118,"Modular CFL Fixtures",15,"Y"]
["CF104/1-FIXT","CFL",1,104,null,"Mag. or Elec.","Compact Fluorescent, 104W/lamp modular fixture, (1) lamp, any plug-in bulb shape",120,"Modular CFL Fixtures",15,"Y"]
["CF105/1-FIXT","CFL",1,105,null,"Mag. or Elec.","Compact Fluorescent, 105W/lamp modular fixture, (1) lamp, any plug-in bulb shape",121,"Modular CFL Fixtures",15,"Y"]
["CF106/1-FIXT","CFL",1,106,null,"Mag. or Elec.","Compact Fluorescent, 106W/lamp modular fixture, (1) lamp, any plug-in bulb shape",122,"Modular CFL Fixtures",15,"Y"]
["CF107/1-FIXT","CFL",1,107,null,"Mag. or Elec.","Compact Fluorescent, 107W/lamp modular fixture, (1) lamp, any plug-in bulb shape",123,"Modular CFL Fixtures",15,"Y"]
["CF108/1-FIXT","CFL",1,108,null,"Mag. or Elec.","Compact Fluorescent, 108W/lamp modular fixture, (1) lamp, any plug-in bulb shape",124,"Modular CFL Fixtures",15,"Y"]
["CF109/1-FIXT","CFL",1,109,null,"Mag. or Elec.","Compact Fluorescent, 109W/lamp modular fixture, (1) lamp, any plug-in bulb shape",125,"Modular CFL Fixtures",15,"Y"]
["CF110/1-FIXT","CFL",1,110,null,"Mag. or Elec.","Compact Fluorescent, 110W/lamp modular fixture, (1) lamp, any plug-in bulb shape",127,"Modular CFL Fixtures",15,"Y"]
["CF111/1-FIXT","CFL",1,111,null,"Mag. or Elec.","Compact Fluorescent, 111W/lamp modular fixture, (1) lamp, any plug-in bulb shape",128,"Modular CFL Fixtures",15,"Y"]
["CF112/1-FIXT","CFL",1,112,null,"Mag. or Elec.","Compact Fluorescent, 112W/lamp modular fixture, (1) lamp, any plug-in bulb shape",129,"Modular CFL Fixtures",15,"Y"]
["CF113/1-FIXT","CFL",1,113,null,"Mag. or Elec.","Compact Fluorescent, 113W/lamp modular fixture, (1) lamp, any plug-in bulb shape",130,"Modular CFL Fixtures",15,"Y"]
["CF114/1-FIXT","CFL",1,114,null,"Mag. or Elec.","Compact Fluorescent, 114W/lamp modular fixture, (1) lamp, any plug-in bulb shape",131,"Modular CFL Fixtures",15,"Y"]
["CF115/1-FIXT","CFL",1,115,null,"Mag. or Elec.","Compact Fluorescent, 115W/lamp modular fixture, (1) lamp, any plug-in bulb shape",132,"Modular CFL Fixtures",15,"Y"]
["CF116/1-FIXT","CFL",1,116,null,"Mag. or Elec.","Compact Fluorescent, 116W/lamp modular fixture, (1) lamp, any plug-in bulb shape",133,"Modular CFL Fixtures",15,"Y"]
["CF117/1-FIXT","CFL",1,117,null,"Mag. or Elec.","Compact Fluorescent, 117W/lamp modular fixture, (1) lamp, any plug-in bulb shape",135,"Modular CFL Fixtures",15,"Y"]
["CF118/1-FIXT","CFL",1,118,null,"Mag. or Elec.","Compact Fluorescent, 118W/lamp modular fixture, (1) lamp, any plug-in bulb shape",136,"Modular CFL Fixtures",15,"Y"]
["CF119/1-FIXT","CFL",1,119,null,"Mag. or Elec.","Compact Fluorescent, 119W/lamp modular fixture, (1) lamp, any plug-in bulb shape",137,"Modular CFL Fixtures",15,"Y"]
["CF120/1-FIXT","CFL",1,120,null,"Mag. or Elec.","Compact Fluorescent, 120W/lamp modular fixture, (1) lamp, any plug-in bulb shape",138,"Modular CFL Fixtures",15,"Y"]
["CF121/1-FIXT","CFL",1,121,null,"Mag. or Elec.","Compact Fluorescent, 121W/lamp modular fixture, (1) lamp, any plug-in bulb shape",139,"Modular CFL Fixtures",15,"Y"]
["CF122/1-FIXT","CFL",1,122,null,"Mag. or Elec.","Compact Fluorescent, 122W/lamp modular fixture, (1) lamp, any plug-in bulb shape",140,"Modular CFL Fixtures",15,"Y"]
["CF123/1-FIXT","CFL",1,123,null,"Mag. or Elec.","Compact Fluorescent, 123W/lamp modular fixture, (1) lamp, any plug-in bulb shape",141,"Modular CFL Fixtures",15,"Y"]
["CF124/1-FIXT","CFL",1,124,null,"Mag. or Elec.","Compact Fluorescent, 124W/lamp modular fixture, (1) lamp, any plug-in bulb shape",143,"Modular CFL Fixtures",15,"Y"]
["CF125/1-FIXT","CFL",1,125,null,"Mag. or Elec.","Compact Fluorescent, 125W/lamp modular fixture, (1) lamp, any plug-in bulb shape",144,"Modular CFL Fixtures",15,"Y"]
["CF126/1-FIXT","CFL",1,126,null,"Mag. or Elec.","Compact Fluorescent, 126W/lamp modular fixture, (1) lamp, any plug-in bulb shape",145,"Modular CFL Fixtures",15,"Y"]
["CF127/1-FIXT","CFL",1,127,null,"Mag. or Elec.","Compact Fluorescent, 127W/lamp modular fixture, (1) lamp, any plug-in bulb shape",146,"Modular CFL Fixtures",15,"Y"]
["CF128/1-FIXT","CFL",1,128,null,"Mag. or Elec.","Compact Fluorescent, 128W/lamp modular fixture, (1) lamp, any plug-in bulb shape",147,"Modular CFL Fixtures",15,"Y"]
["CF129/1-FIXT","CFL",1,129,null,"Mag. or Elec.","Compact Fluorescent, 129W/lamp modular fixture, (1) lamp, any plug-in bulb shape",148,"Modular CFL Fixtures",15,"Y"]
["CF130/1-FIXT","CFL",1,130,null,"Mag. or Elec.","Compact Fluorescent, 130W/lamp modular fixture, (1) lamp, any plug-in bulb shape",150,"Modular CFL Fixtures",15,"Y"]
["CF131/1-FIXT","CFL",1,131,null,"Mag. or Elec.","Compact Fluorescent, 131W/lamp modular fixture, (1) lamp, any plug-in bulb shape",151,"Modular CFL Fixtures",15,"Y"]
["CF132/1-FIXT","CFL",1,132,null,"Mag. or Elec.","Compact Fluorescent, 132W/lamp modular fixture, (1) lamp, any plug-in bulb shape",152,"Modular CFL Fixtures",15,"Y"]
["CF133/1-FIXT","CFL",1,133,null,"Mag. or Elec.","Compact Fluorescent, 133W/lamp modular fixture, (1) lamp, any plug-in bulb shape",153,"Modular CFL Fixtures",15,"Y"]
["CF134/1-FIXT","CFL",1,134,null,"Mag. or Elec.","Compact Fluorescent, 134W/lamp modular fixture, (1) lamp, any plug-in bulb shape",154,"Modular CFL Fixtures",15,"Y"]
["CF135/1-FIXT","CFL",1,135,null,"Mag. or Elec.","Compact Fluorescent, 135W/lamp modular fixture, (1) lamp, any plug-in bulb shape",155,"Modular CFL Fixtures",15,"Y"]
["CF136/1-FIXT","CFL",1,136,null,"Mag. or Elec.","Compact Fluorescent, 136W/lamp modular fixture, (1) lamp, any plug-in bulb shape",156,"Modular CFL Fixtures",15,"Y"]
["CF137/1-FIXT","CFL",1,137,null,"Mag. or Elec.","Compact Fluorescent, 137W/lamp modular fixture, (1) lamp, any plug-in bulb shape",158,"Modular CFL Fixtures",15,"Y"]
["CF138/1-FIXT","CFL",1,138,null,"Mag. or Elec.","Compact Fluorescent, 138W/lamp modular fixture, (1) lamp, any plug-in bulb shape",159,"Modular CFL Fixtures",15,"Y"]
["CF139/1-FIXT","CFL",1,139,null,"Mag. or Elec.","Compact Fluorescent, 139W/lamp modular fixture, (1) lamp, any plug-in bulb shape",160,"Modular CFL Fixtures",15,"Y"]
["CF140/1-FIXT","CFL",1,140,null,"Mag. or Elec.","Compact Fluorescent, 140W/lamp modular fixture, (1) lamp, any plug-in bulb shape",161,"Modular CFL Fixtures",15,"Y"]
["CF141/1-FIXT","CFL",1,141,null,"Mag. or Elec.","Compact Fluorescent, 141W/lamp modular fixture, (1) lamp, any plug-in bulb shape",162,"Modular CFL Fixtures",15,"Y"]
["CF142/1-FIXT","CFL",1,142,null,"Mag. or Elec.","Compact Fluorescent, 142W/lamp modular fixture, (1) lamp, any plug-in bulb shape",163,"Modular CFL Fixtures",15,"Y"]
["CF143/1-FIXT","CFL",1,143,null,"Mag. or Elec.","Compact Fluorescent, 143W/lamp modular fixture, (1) lamp, any plug-in bulb shape",164,"Modular CFL Fixtures",15,"Y"]
["CF144/1-FIXT","CFL",1,144,null,"Mag. or Elec.","Compact Fluorescent, 144W/lamp modular fixture, (1) lamp, any plug-in bulb shape",166,"Modular CFL Fixtures",15,"Y"]
["CF145/1-FIXT","CFL",1,145,null,"Mag. or Elec.","Compact Fluorescent, 145W/lamp modular fixture, (1) lamp, any plug-in bulb shape",167,"Modular CFL Fixtures",15,"Y"]
["CF146/1-FIXT","CFL",1,146,null,"Mag. or Elec.","Compact Fluorescent, 146W/lamp modular fixture, (1) lamp, any plug-in bulb shape",168,"Modular CFL Fixtures",15,"Y"]
["CF147/1-FIXT","CFL",1,147,null,"Mag. or Elec.","Compact Fluorescent, 147W/lamp modular fixture, (1) lamp, any plug-in bulb shape",169,"Modular CFL Fixtures",15,"Y"]
["CF148/1-FIXT","CFL",1,148,null,"Mag. or Elec.","Compact Fluorescent, 148W/lamp modular fixture, (1) lamp, any plug-in bulb shape",170,"Modular CFL Fixtures",15,"Y"]
["CF149/1-FIXT","CFL",1,149,null,"Mag. or Elec.","Compact Fluorescent, 149W/lamp modular fixture, (1) lamp, any plug-in bulb shape",171,"Modular CFL Fixtures",15,"Y"]
["CF150/1-FIXT","CFL",1,150,null,"Mag. or Elec.","Compact Fluorescent, 150W/lamp modular fixture, (1) lamp, any plug-in bulb shape",173,"Modular CFL Fixtures",15,"Y"]
["ECF5/1","CFL Exit",1,5,null,"Mag-STD","EXIT Compact Fluorescent, (1) 5W lamp",9,"Modular CFL and CCFL Fixtures",16,"Y"]
["ECF5/2","CFL Exit",2,5,null,"Mag-STD","EXIT Compact Fluorescent, (2) 5W lamps",20,"Modular CFL and CCFL Fixtures",16,"Y"]
["ECF6/1","CFL Exit",1,6,null,"Mag-STD","EXIT Compact Fluorescent, (1) 6W lamp",13,"Modular CFL and CCFL Fixtures",16,"Y"]
["ECF6/2","CFL Exit",2,6,null,"Mag-STD","EXIT Compact Fluorescent, (2) 6W lamps, (2) ballasts",26,"Modular CFL and CCFL Fixtures",16,"Y"]
["ECF7/1","CFL Exit",1,7,null,"Mag-STD","EXIT Compact Fluorescent, (1) 7W lamp",10,"Modular CFL and CCFL Fixtures",16,"Y"]
["ECF7/2","CFL Exit",2,7,null,"Mag-STD","EXIT Compact Fluorescent, (2) 7W lamps",21,"Modular CFL and CCFL Fixtures",16,"Y"]
["ECF9/1","CFL Exit",1,9,null,"Mag-STD","EXIT Compact Fluorescent, (1) 9W lamp",12,"Modular CFL and CCFL Fixtures",16,"Y"]
["ECF9/2","CFL Exit",2,9,null,"Mag-STD","EXIT Compact Fluorescent, (2) 9W lamps",20,"Modular CFL and CCFL Fixtures",16,"Y"]
["EF2/2","CFL Exit",2,2,null,"Electronic","EXIT Sub-miniature T-1 Fluorescent, (2) lamps",5,"Modular CFL and CCFL Fixtures",16,"Y"]
["EF6/1","CFL Exit",1,6,null,"Mag-STD","EXIT Miniature Bi-pin Fluorescent, (1) 6W lamp, (1) ballast",9,"Modular CFL and CCFL Fixtures",16,"Y"]
["EF6/2","CFL Exit",2,6,null,"Mag-STD","EXIT Miniature Bi-pin Fluorescent, (2) 6W lamps, (2) ballasts",18,"Modular CFL and CCFL Fixtures",16,"Y"]
["EF8/1","CFL Exit",1,8,null,"Mag-STD","EXIT T5 Fluorescent, (1) 8W lamp",12,"Modular CFL and CCFL Fixtures",16,"Y"]
["EF8/2","CFL Exit",2,8,null,"Mag-STD","EXIT T5 Fluorescent, (2) 8W lamps",24,"Modular CFL and CCFL Fixtures",16,"Y"]
["EI5/1","Halogen Exit",1,5,null,null,"EXIT Incandescent, (1) 5W lamp",5,"Halogen",1.5,"Y"]
["EI5/2","Halogen Exit",2,5,null,null,"EXIT Incandescent, (2) 5W lamps",10,"Halogen",1.5,"Y"]
["EI6/1","Halogen Exit",1,6,null,null,"EXIT Incandescent, (1) 6 W lamp",6,"Halogen",1.5,"Y"]
["EI6/2","Halogen Exit",2,6,null,null,"EXIT Incandescent, (2) 6 W lamps",12,"Halogen",1.5,"Y"]
["EI7.5/1","Halogen Exit",1,7.5,null,null,"EXIT Tungsten, (1) 7.5 W lamp",8,"Halogen",1.5,"Y"]
["EI7.5/2","Halogen Exit",2,7.5,null,null,"EXIT Tungsten, (2) 7.5 W lamps",15,"Halogen",1.5,"Y"]
["EI10/2","Halogen Exit",2,10,null,null,"EXIT Incandescent, (2) 10W lamps",20,"Halogen",1.5,"Y"]
["EI15/1","Halogen Exit",1,15,null,null,"EXIT Incandescent, (1) 15W lamp",15,"Halogen",1.5,"Y"]
["EI15/2","Halogen Exit",2,15,null,null,"EXIT Incandescent, (2) 15W lamps",30,"Halogen",1.5,"Y"]
["EI20/1","Halogen Exit",1,20,null,null,"EXIT Incandescent, (1) 20W lamp",20,"Halogen",1.5,"Y"]
["EI20/2","Halogen Exit",2,20,null,null,"EXIT Incandescent, (2) 20W lamps",40,"Halogen",1.5,"Y"]
["EI25/1","Halogen Exit",1,25,null,null,"EXIT Incandescent, (1) 25W lamp",25,"Halogen",1.5,"Y"]
["EI25/2","Halogen Exit",2,25,null,null,"EXIT Incandescent, (2) 25W lamps",50,"Halogen",1.5,"Y"]
["EI34/1","Halogen Exit",1,34,null,null,"EXIT Incandescent, (1) 34W lamp",34,"Halogen",1.5,"Y"]
["EI34/2","Halogen Exit",2,34,null,null,"EXIT Incandescent, (2) 34W lamps",68,"Halogen",1.5,"Y"]
["EI40/1","Halogen Exit",1,40,null,null,"EXIT Incandescent, (1) 40W lamp",40,"Halogen",1.5,"Y"]
["EI40/2","Halogen Exit",2,40,null,null,"EXIT Incandescent, (2) 40W lamps",80,"Halogen",1.5,"Y"]
["EI50/2","Halogen Exit",2,50,null,null,"EXIT Incandescent, (2) 50W lamps",100,"Halogen",1.5,"Y"]
["ELED1/1","LED Exit",1,1,null,null,"EXIT Light Emitting Diode, 1W Single Sided",1,"Light Emitting Diode (LED)",15,"Y"]
["ELED1/2","LED Exit",2,1,null,null,"EXIT Light Emitting Diode, 1W Dual Sided",1,"Light Emitting Diode (LED)",15,"Y"]
["ELED1.5/1","LED Exit",1,1.5,null,null,"EXIT Light Emitting Diode, 1.5W Single Sided",1.5,"Light Emitting Diode (LED)",15,"Y"]
["ELED1.5/2","LED Exit",2,1.5,null,null,"EXIT Light Emitting Diode, 1.5W Dual Sided",1.5,"Light Emitting Diode (LED)",15,"Y"]
["ELED2/1","LED Exit",1,2,null,null,"EXIT Light Emitting Diode, 2W Single Sided",2,"Light Emitting Diode (LED)",15,"Y"]
["ELED2/2","LED Exit",2,2,null,null,"EXIT Light Emitting Diode, 2W Dual Sided",2,"Light Emitting Diode (LED)",15,"Y"]
["ELED2.5/1","LED Exit",1,2.5,null,null,"EXIT Light Emitting Diode, 2.5W Single Sided",2.5,"Light Emitting Diode (LED)",15,"Y"]
["ELED2.5/2","LED Exit",2,2.5,null,null,"EXIT Light Emitting Diode, 2.5W Dual Sided",2.5,"Light Emitting Diode (LED)",15,"Y"]
["ELED3/1","LED Exit",1,3,null,null,"EXIT Light Emitting Diode, 3W Single Sided",3,"Light Emitting Diode (LED)",15,"Y"]
["ELED3/2","LED Exit",2,3,null,null,"EXIT Light Emitting Diode, 3W Dual Sided",3,"Light Emitting Diode (LED)",15,"Y"]
["ELED3.5/1","LED Exit",1,3.5,null,null,"EXIT Light Emitting Diode, 3.5W Single Sided",3.5,"Light Emitting Diode (LED)",15,"Y"]
["ELED3.5/2","LED Exit",2,3.5,null,null,"EXIT Light Emitting Diode, 3.5W Dual Sided",3.5,"Light Emitting Diode (LED)",15,"Y"]
["ELED4/1","LED Exit",1,4,null,null,"EXIT Light Emitting Diode, 4W Single Sided",4,"Light Emitting Diode (LED)",15,"Y"]
["ELED4/2","LED Exit",2,4,null,null,"EXIT Light Emitting Diode, 4W Dual Sided",4,"Light Emitting Diode (LED)",15,"Y"]
["ELED3","LED Exit",1,3,null,null,"EXIT Light Emitting Diode, 3W",3,"Light Emitting Diode (LED)",15,"Y"]
["EP","LED Exit",0,0,null,null,"EXIT Photoluminescent, 0W",0,"Light Emitting Diode (LED)",15,"Y"]
["F21GPL-H","T5",1,14,22,"Electronic","Fluorescent, (1) 22\" T5 lamp, electronic ballast, HLO (.95 < BF < 1.1)",15,"Linear Fluorescent",15,"Y"]
["F22GPL-H","T5",2,14,22,"Electronic","Fluorescent, (2) 22\" T5 lamps, electronic ballast, HLO (.95 < BF < 1.1)",31,"Linear Fluorescent",15,"Y"]
["F23GPL-H","T5",3,14,22,"Electronic","Fluorescent, (3) 22\" T5 lamps, electronic ballast, HLO (.95 < BF < 1.1)",46,"Linear Fluorescent",15,"Y"]
["F24GPL-H","T5",4,14,22,"Electronic","Fluorescent, (4) 22\" T5 lamps, electronic ballast, HLO (.95 < BF < 1.1)",62,"Linear Fluorescent",15,"Y"]
["F21GPHL-H","T5HO",1,24,22,"Electronic","Fluorescent, (1) 22\" T5 HO lamp, electronic ballast, HLO (.95 < BF < 1.1)",26,"Linear Fluorescent",15,"Y"]
["F22GPHL-H","T5HO",2,24,22,"Electronic","Fluorescent, (2) 22\" T5 HO lamps, electronic ballast, HLO (.95 < BF < 1.1)",53,"Linear Fluorescent",15,"Y"]
["F23GPHL-H","T5HO",3,24,22,"Electronic","Fluorescent, (3) 22\" T5 HO lamps, electronic ballast, HLO (.95 < BF < 1.1)",79,"Linear Fluorescent",15,"Y"]
["F24GPHL-H","T5HO",4,24,22,"Electronic","Fluorescent, (4) 22\" T5 HO lamps, electronic ballast, HLO (.95 < BF < 1.1)",106,"Linear Fluorescent",15,"Y"]
["F31GPL-H","T5",1,21,34,"Electronic","Fluorescent, (1) 34\" T5 lamp, electronic ballast, HLO (.95 < BF < 1.1)",23,"Linear Fluorescent",15,"Y"]
["F32GPL-H","T5",2,21,34,"Electronic","Fluorescent, (2) 34\" T5 lamps, electronic ballast, HLO (.95 < BF < 1.1)",46,"Linear Fluorescent",15,"Y"]
["F33GPL-H","T5",3,21,34,"Electronic","Fluorescent, (3) 34\" T5 lamps, electronic ballast, HLO (.95 < BF < 1.1)",69,"Linear Fluorescent",15,"Y"]
["F34GPL-H","T5",4,21,34,"Electronic","Fluorescent, (4) 34\" T5 lamps, electronic ballast, HLO (.95 < BF < 1.1)",92,"Linear Fluorescent",15,"Y"]
["F31GPHL-H","T5HO",1,39,34,"Electronic","Fluorescent, (1) 34\" T5 HO lamp, electronic ballast, HLO (.95 < BF < 1.1)",43,"Linear Fluorescent",15,"Y"]
["F32GPHL-H","T5HO",2,39,34,"Electronic","Fluorescent, (2) 34\" T5 HO lamps, electronic ballast, HLO (.95 < BF < 1.1)",86,"Linear Fluorescent",15,"Y"]
["F33GPHL-H","T5HO",3,39,34,"Electronic","Fluorescent, (3) 34\" T5 HO lamps, electronic ballast, HLO (.95 < BF < 1.1)",129,"Linear Fluorescent",15,"Y"]
["F34GPHL-H","T5HO",4,39,34,"Electronic","Fluorescent, (4) 34\" T5 HO lamps, electronic ballast, HLO (.95 < BF < 1.1)",172,"Linear Fluorescent",15,"Y"]
["F41GPL-H","T5",1,28,45.8,"Electronic","Fluorescent, (1) 45.8\" T5 lamp, electronic ballast, HLO (.95 < BF < 1.1)",31,"Linear Fluorescent",15,"Y"]
["F42GPL-H","T5",2,28,45.8,"Electronic","Fluorescent, (2) 45.8\" T5 lamps, electronic ballast, HLO (.95 < BF < 1.1)",62,"Linear Fluorescent",15,"Y"]
["F43GPL-H","T5",3,28,45.8,"Electronic","Fluorescent, (3) 45.8\" T5 lamps, electronic ballast, HLO (.95 < BF < 1.1)",92,"Linear Fluorescent",15,"Y"]
["F44GPL-H","T5",4,28,45.8,"Electronic","Fluorescent, (4) 45.8\" T5 lamps, electronic ballast, HLO (.95 < BF < 1.1)",123,"Linear Fluorescent",15,"Y"]
["F41GPHL-H","T5HO",1,54,45.8,"Electronic","Fluorescent, (1) 45.8\" T5 HO lamp, electronic ballast, HLO (.95 < BF < 1.1)",59,"Linear Fluorescent",15,"Y"]
["F42GPHL-H","T5HO",2,54,45.8,"Electronic","Fluorescent, (2) 45.8\" T5 HO lamps, electronic ballast, HLO (.95 < BF < 1.1)",119,"Linear Fluorescent",15,"Y"]
["F43GPHL-H","T5HO",3,54,45.8,"Electronic","Fluorescent, (3) 45.8\" T5 HO lamps, electronic ballast, HLO (.95 < BF < 1.1)",178,"Linear Fluorescent",15,"Y"]
["F44GPHL-H","T5HO",4,54,45.8,"Electronic","Fluorescent, (4) 45.8\" T5 HO lamps, electronic ballast, HLO (.95 < BF < 1.1)",238,"Linear Fluorescent",15,"Y"]
["F45GPHL-H","T5HO",5,54,45.8,"Electronic","Fluorescent, (5) 45.8\" T5 HO lamps, electronic ballast, HLO (.95 < BF < 1.1)",297,"Linear Fluorescent",15,"Y"]
["F46GPHL-H","T5HO",6,54,45.8,"Electronic","Fluorescent, (6) 45.8\" T5 HO lamps, electronic ballast, HLO (.95 < BF < 1.1)",356,"Linear Fluorescent",15,"Y"]
["F48GPHL-H","T5HO",8,54,45.8,"Electronic","Fluorescent, (8) 45.8\" T5 HO lamps, electronic ballast, HLO (.95 < BF < 1.1)",462,"Linear Fluorescent",15,"Y"]
["F410GPHL-H","T5HO",10,54,45.8,"Electronic","Fluorescent, (10) 45.8\" T5 HO lamps, electronic ballast, HLO (.95 < BF < 1.1)",578,"Linear Fluorescent",15,"Y"]
["F412GPHL-H","T5HO",12,54,45.8,"Electronic","Fluorescent, (12) 45.8\" T5 HO lamps, electronic ballast, HLO (.95 < BF < 1.1)",693,"Linear Fluorescent",15,"Y"]
["F51GPL-H","T5",1,35,57.6,"Electronic","Fluorescent, (1) 57.6\" T5 lamp, electronic ballast, HLO (.95 < BF < 1.1)",39,"Linear Fluorescent",15,"Y"]
["F52GPL-H","T5",2,35,57.6,"Electronic","Fluorescent, (2) 57.6\" T5 lamps, electronic ballast, HLO (.95 < BF < 1.1)",77,"Linear Fluorescent",15,"Y"]
["F51GPHL-H","T5HO",1,80,57.6,"Electronic","Fluorescent, (1) 57.6\" T5 HO lamp, electronic ballast, HLO (.95 < BF < 1.1)",88,"Linear Fluorescent",15,"Y"]
["F52GPHL-H","T5HO",2,80,57.6,"Electronic","Fluorescent, (2) 57.6\" T5 HO lamps, electronic ballast, HLO (.95 < BF < 1.1)",176,"Linear Fluorescent",15,"Y"]
["F1.51LS","T8",1,15,18,"Magnetic","Fluorescent, (1) 18\" T8 lamp, magnetic ballast",19,"Linear Fluorescent",15,"N"]
["F1.52LS","T8",2,15,18,"Magnetic","Fluorescent, (2) 18\" T8 lamps, magnetic ballast",36,"Linear Fluorescent",15,"N"]
["F21ILU-R","T8",1,17,24,"Electronic","Fluorescent, (1) 24\" T8 lamp, electronic ballast, RLO (BF< 0.85)",14,"Linear Fluorescent",15,"Y"]
["F21ILU","T8",1,17,24,"Electronic","Fluorescent, (1) 24\" T8 lamp, electronic ballast, NLO (0.85 < BF < 0.95) ",15,"Linear Fluorescent",15,"Y"]
["F21ILU-H","T8",1,17,24,"Electronic","Fluorescent, (1) 24\" T8 lamp, electronic ballast, HLO (.95 < BF < 1.1)",18,"Linear Fluorescent",15,"Y"]
["F21ILU-V","T8",1,17,24,"Electronic","Fluorescent, (1) 24\" T8 lamp, electronic ballast, VHLO ( BF > 1.1)",20,"Linear Fluorescent",15,"Y"]
["F22ILU-R","T8",2,17,24,"Electronic","Fluorescent, (2) 24\" T8 lamps, electronic ballast, RLO (BF< 0.85)",27,"Linear Fluorescent",15,"Y"]
["F22ILU","T8",2,17,24,"Electronic","Fluorescent, (2) 24\" T8 lamps, electronic ballast, NLO (0.85 < BF < 0.95) ",31,"Linear Fluorescent",15,"Y"]
["F22ILU-H","T8",2,17,24,"Electronic","Fluorescent, (2) 24\" T8 lamps, electronic ballast, HLO (.95 < BF < 1.1)",36,"Linear Fluorescent",15,"Y"]
["F22ILU-V","T8",2,17,24,"Electronic","Fluorescent, (2) 24\" T8 lamps, electronic ballast, VHLO ( BF > 1.1)",39,"Linear Fluorescent",15,"Y"]
["F23ILU-R","T8",3,17,24,"Electronic","Fluorescent, (3) 24\" T8 lamps, electronic ballast, RLO (BF< 0.85)",41,"Linear Fluorescent",15,"Y"]
["F23ILU","T8",3,17,24,"Electronic","Fluorescent, (3) 24\" T8 lamps, electronic ballast, NLO (0.85 < BF < 0.95) ",46,"Linear Fluorescent",15,"Y"]
["F23ILU-H","T8",3,17,24,"Electronic","Fluorescent, (3) 24\" T8 lamps, electronic ballast, HLO (.95 < BF < 1.1)",54,"Linear Fluorescent",15,"Y"]
["F23ILU-V","T8",3,17,24,"Electronic","Fluorescent, (3) 24\" T8 lamps, electronic ballast, VHLO ( BF > 1.1)",59,"Linear Fluorescent",15,"Y"]
["F24ILU-R","T8",4,17,24,"Electronic","Fluorescent, (4) 24\" T8 lamps, electronic ballast, RLO (BF< 0.85)",54,"Linear Fluorescent",15,"Y"]
["F24ILU","T8",4,17,24,"Electronic","Fluorescent, (4) 24\" T8 lamps, electronic ballast, NLO (0.85 < BF < 0.95) ",61,"Linear Fluorescent",15,"Y"]
["F24ILU-H","T8",4,17,24,"Electronic","Fluorescent, (4) 24\" T8 lamps, electronic ballast, HLO (.95 < BF < 1.1)",71,"Linear Fluorescent",15,"Y"]
["F24ILU-V","T8",4,17,24,"Electronic","Fluorescent, (4) 24\" T8 lamps, electronic ballast, VHLO ( BF > 1.1)",78,"Linear Fluorescent",15,"Y"]
["F31ILU-R","T8",1,25,36,"Electronic","Fluorescent, (1) 36\" T8 lamp, electronic ballast, RLO (BF< 0.85)",20,"Linear Fluorescent",15,"Y"]
["F31ILU","T8",1,25,36,"Electronic","Fluorescent, (1) 36\" T8 lamp, electronic ballast, NLO (0.85 < BF < 0.95) ",23,"Linear Fluorescent",15,"Y"]
["F31ILU-H","T8",1,25,36,"Electronic","Fluorescent, (1) 36\" T8 lamp, electronic ballast, HLO (.95 < BF < 1.1)",26,"Linear Fluorescent",15,"Y"]
["F31ILU-V","T8",1,25,36,"Electronic","Fluorescent, (1) 36\" T8 lamp, electronic ballast, VHLO ( BF > 1.1)",29,"Linear Fluorescent",15,"Y"]
["F32ILU-R","T8",2,25,36,"Electronic","Fluorescent, (2) 36\" T8 lamps, electronic ballast, RLO (BF< 0.85)",40,"Linear Fluorescent",15,"Y"]
["F32ILU","T8",2,25,36,"Electronic","Fluorescent, (2) 36\" T8 lamps, electronic ballast, NLO (0.85 < BF < 0.95) ",45,"Linear Fluorescent",15,"Y"]
["F32ILU-H","T8",2,25,36,"Electronic","Fluorescent, (2) 36\" T8 lamps, electronic ballast, HLO (.95 < BF < 1.1)",53,"Linear Fluorescent",15,"Y"]
["F32ILU-V","T8",2,25,36,"Electronic","Fluorescent, (2) 36\" T8 lamps, electronic ballast, VHLO ( BF > 1.1)",58,"Linear Fluorescent",15,"Y"]
["F33ILU-R","T8",3,25,36,"Electronic","Fluorescent, (3) 36\" T8 lamps, electronic ballast, RLO (BF< 0.85)",60,"Linear Fluorescent",15,"Y"]
["F33ILU","T8",3,25,36,"Electronic","Fluorescent, (3) 36\" T8 lamps, electronic ballast, NLO (0.85 < BF < 0.95) ",68,"Linear Fluorescent",15,"Y"]
["F33ILU-H","T8",3,25,36,"Electronic","Fluorescent, (3) 36\" T8 lamps, electronic ballast, HLO (.95 < BF < 1.1)",79,"Linear Fluorescent",15,"Y"]
["F33ILU-V","T8",3,25,36,"Electronic","Fluorescent, (3) 36\" T8 lamps, electronic ballast, VHLO ( BF > 1.1)",86,"Linear Fluorescent",15,"Y"]
["F34ILU-R","T8",4,25,36,"Electronic","Fluorescent, (4) 36\" T8 lamps, electronic ballast, RLO (BF< 0.85)",80,"Linear Fluorescent",15,"Y"]
["F34ILU","T8",4,25,36,"Electronic","Fluorescent, (4) 36\" T8 lamps, electronic ballast, NLO (0.85 < BF < 0.95) ",90,"Linear Fluorescent",15,"Y"]
["F34ILU-H","T8",4,25,36,"Electronic","Fluorescent, (4) 36\" T8 lamps, electronic ballast, HLO (.95 < BF < 1.1)",105,"Linear Fluorescent",15,"Y"]
["F34ILU-V","T8",4,25,36,"Electronic","Fluorescent, (4) 36\" T8 lamps, electronic ballast, VHLO ( BF > 1.1)",115,"Linear Fluorescent",15,"Y"]
["F41INLU","T8",1,25,48,"Electronic","Fluorescent, (1) 48\" T8 RW lamp, electronic ballast, NLO (0.85 < BF < 0.95) ",23,"Linear Fluorescent",15,"Y"]
["F42INLU","T8",2,25,48,"Electronic","Fluorescent, (2) 48\" T8 RW lamps, electronic ballast, NLO (0.85 < BF < 0.95) ",45,"Linear Fluorescent",15,"Y"]
["F43INLU","T8",3,25,48,"Electronic","Fluorescent, (3) 48\" T8 RW lamps, electronic ballast, NLO (0.85 < BF < 0.95) ",68,"Linear Fluorescent",15,"Y"]
["F44INLU","T8",4,25,48,"Electronic","Fluorescent, (4) 48\" T8 RW lamps, electronic ballast, NLO (0.85 < BF < 0.95) ",90,"Linear Fluorescent",15,"Y"]
["F41IRLU","T8",1,28,48,"Electronic","Fluorescent, (1) 48\" T8 RW lamp, electronic ballast, NLO (0.85 < BF < 0.95) ",25,"Linear Fluorescent",15,"Y"]
["F42IRLU","T8",2,28,48,"Electronic","Fluorescent, (2) 48\" T8 RW lamps, electronic ballast, NLO (0.85 < BF < 0.95) ",50,"Linear Fluorescent",15,"Y"]
["F43IRLU","T8",3,28,48,"Electronic","Fluorescent, (3) 48\" T8 RW lamps, electronic ballast, NLO (0.85 < BF < 0.95) ",76,"Linear Fluorescent",15,"Y"]
["F44IRLU","T8",4,28,48,"Electronic","Fluorescent, (4) 48\" T8 RW lamps, electronic ballast, NLO (0.85 < BF < 0.95) ",101,"Linear Fluorescent",15,"Y"]
["F41ILU-R","T8",1,32,48,"Electronic","Fluorescent, (1) 48\" T8 lamp, electronic ballast, RLO (BF< 0.85)",26,"Linear Fluorescent",15,"Y"]
["F41ILU","T8",1,32,48,"Electronic","Fluorescent, (1) 48\" T8 lamp, electronic ballast, NLO (0.85 < BF < 0.95) ",29,"Linear Fluorescent",15,"Y"]
["F41ILU-H","T8",1,32,48,"Electronic","Fluorescent, (1) 48\" T8 lamp, electronic ballast, HLO (.95 < BF < 1.1)",34,"Linear Fluorescent",15,"Y"]
["F41ILU-V","T8",1,32,48,"Electronic","Fluorescent, (1) 48\" T8 lamp, electronic ballast, VHLO ( BF > 1.1)",37,"Linear Fluorescent",15,"Y"]
["F42ILU-R","T8",2,32,48,"Electronic","Fluorescent, (2) 48\" T8 lamps, electronic ballast, RLO (BF< 0.85)",51,"Linear Fluorescent",15,"Y"]
["F42ILU","T8",2,32,48,"Electronic","Fluorescent, (2) 48\" T8 lamps, electronic ballast, NLO (0.85 < BF < 0.95) ",58,"Linear Fluorescent",15,"Y"]
["F42ILU-H","T8",2,32,48,"Electronic","Fluorescent, (2) 48\" T8 lamps, electronic ballast, HLO (.95 < BF < 1.1)",67,"Linear Fluorescent",15,"Y"]
["F42ILU-V","T8",2,32,48,"Electronic","Fluorescent, (2) 48\" T8 lamps, electronic ballast, VHLO ( BF > 1.1)",74,"Linear Fluorescent",15,"Y"]
["F43ILU-R","T8",3,32,48,"Electronic","Fluorescent, (3) 48\" T8 lamps, electronic ballast, RLO (BF< 0.85)",77,"Linear Fluorescent",15,"Y"]
["F43ILU","T8",3,32,48,"Electronic","Fluorescent, (3) 48\" T8 lamps, electronic ballast, NLO (0.85 < BF < 0.95) ",86,"Linear Fluorescent",15,"Y"]
["F43ILU-H","T8",3,32,48,"Electronic","Fluorescent, (3) 48\" T8 lamps, electronic ballast, HLO (.95 < BF < 1.1)",101,"Linear Fluorescent",15,"Y"]
["F43ILU-V","T8",3,32,48,"Electronic","Fluorescent, (3) 48\" T8 lamps, electronic ballast, VHLO ( BF > 1.1)",110,"Linear Fluorescent",15,"Y"]
["F44ILU-R","T8",4,32,48,"Electronic","Fluorescent, (4) 48\" T8 lamps, electronic ballast, RLO (BF< 0.85)",102,"Linear Fluorescent",15,"Y"]
["F44ILU","T8",4,32,48,"Electronic","Fluorescent, (4) 48\" T8 lamps, electronic ballast, NLO (0.85 < BF < 0.95) ",115,"Linear Fluorescent",15,"Y"]
["F44ILU-H","T8",4,32,48,"Electronic","Fluorescent, (4) 48\" T8 lamps, electronic ballast, HLO (.95 < BF < 1.1)",134,"Linear Fluorescent",15,"Y"]
["F44ILU-V","T8",4,32,48,"Electronic","Fluorescent, (4) 48\" T8 lamps, electronic ballast, VHLO ( BF > 1.1)",147,"Linear Fluorescent",15,"Y"]
["F46ILU","T8",6,32,48,"Electronic","Fluorescent (6) 48\" T8 lamps, electronic ballast, NLO (0.85 < BF < 0.95) ",162,"Linear Fluorescent",15,"Y"]
["F46ILU-V","T8",6,32,48,"Electronic","Fluorescent (6) 48\" T8 lamps, electronic ballast, VHLO (BF > 1.1)",218,"Linear Fluorescent",15,"Y"]
["F48ILU","T8",8,32,48,"Electronic","Fluorescent (8) 48\" T8 lamps, electronic ballast, NLO (0.85 < BF < 0.95) ",214,"Linear Fluorescent",15,"Y"]
["F48ILU-V","T8",8,32,48,"Electronic","Fluorescent (8) 48\" T8 lamps, electronic ballast, VHLO (BF > 1.1)",292,"Linear Fluorescent",15,"Y"]
["F51ILU-R","T8",1,40,60,"Electronic","Fluorescent, (1) 60\" T8 lamp, electronic ballast, RLO (BF< 0.85)",32,"Linear Fluorescent",15,"Y"]
["F51ILU","T8",1,40,60,"Electronic","Fluorescent, (1) 60\" T8 lamp, electronic ballast, NLO (0.85 < BF < 0.95) ",36,"Linear Fluorescent",15,"Y"]
["F51ILU-H","T8",1,40,60,"Electronic","Fluorescent, (1) 60\" T8 lamp, electronic ballast, HLO (.95 < BF < 1.1)",42,"Linear Fluorescent",15,"Y"]
["F51ILU-V","T8",1,40,60,"Electronic","Fluorescent, (1) 60\" T8 lamp, electronic ballast, VHLO ( BF > 1.1)",46,"Linear Fluorescent",15,"Y"]
["F52ILU-R","T8",2,40,60,"Electronic","Fluorescent, (2) 60\" T8 lamps, electronic ballast, RLO (BF< 0.85)",64,"Linear Fluorescent",15,"Y"]
["F52ILU","T8",2,40,60,"Electronic","Fluorescent, (2) 60\" T8 lamps, electronic ballast, NLO (0.85 < BF < 0.95) ",72,"Linear Fluorescent",15,"Y"]
["F52ILU-H","T8",2,40,60,"Electronic","Fluorescent, (2) 60\" T8 lamps, electronic ballast, HLO (.95 < BF < 1.1)",84,"Linear Fluorescent",15,"Y"]
["F52ILU-V","T8",2,40,60,"Electronic","Fluorescent, (2) 60\" T8 lamps, electronic ballast, VHLO ( BF > 1.1)",92,"Linear Fluorescent",15,"Y"]
["F81ILU-R","T8",1,59,96,"Electronic","Fluorescent, (1) 96\" T8 lamp, electronic ballast, RLO (BF< 0.85)",47,"Linear Fluorescent",15,"Y"]
["F81ILU","T8",1,59,96,"Electronic","Fluorescent, (1) 96\" T8 lamp, electronic ballast, NLO (0.85 < BF < 0.95) ",53,"Linear Fluorescent",15,"Y"]
["F81ILU-H","T8",1,59,96,"Electronic","Fluorescent, (1) 96\" T8 lamp, electronic ballast, HLO (.95 < BF < 1.1)",62,"Linear Fluorescent",15,"Y"]
["F81ILU-V","T8",1,59,96,"Electronic","Fluorescent, (1) 96\" T8 lamp, electronic ballast, VHLO ( BF > 1.1)",68,"Linear Fluorescent",15,"Y"]
["F82ILU-R","T8",2,59,96,"Electronic","Fluorescent, (2) 96\" T8 lamps, electronic ballast, RLO (BF< 0.85)",94,"Linear Fluorescent",15,"Y"]
["F82ILU","T8",2,59,96,"Electronic","Fluorescent, (2) 96\" T8 lamps, electronic ballast, NLO (0.85 < BF < 0.95) ",106,"Linear Fluorescent",15,"Y"]
["F82ILU-H","T8",2,59,96,"Electronic","Fluorescent, (2) 96\" T8 lamps, electronic ballast, HLO (.95 < BF < 1.1)",124,"Linear Fluorescent",15,"Y"]
["F82ILU-V","T8",2,59,96,"Electronic","Fluorescent, (2) 96\" T8 lamps, electronic ballast, VHLO ( BF > 1.1)",136,"Linear Fluorescent",15,"Y"]
["F83ILU-R","T8",3,59,96,"Electronic","Fluorescent, (3) 96\" T8 lamps, electronic ballast, RLO (BF< 0.85)",142,"Linear Fluorescent",15,"Y"]
["F83ILU","T8",3,59,96,"Electronic","Fluorescent, (3) 96\" T8 lamps, electronic ballast, NLO (0.85 < BF < 0.95) ",159,"Linear Fluorescent",15,"Y"]
["F83ILU-H","T8",3,59,96,"Electronic","Fluorescent, (3) 96\" T8 lamps, electronic ballast, HLO (.95 < BF < 1.1)",186,"Linear Fluorescent",15,"Y"]
["F83ILU-V","T8",3,59,96,"Electronic","Fluorescent, (3) 96\" T8 lamps, electronic ballast, VHLO ( BF > 1.1)",204,"Linear Fluorescent",15,"Y"]
["F84ILU-R","T8",4,59,96,"Electronic","Fluorescent, (4) 96\" T8 lamps, electronic ballast, RLO (BF< 0.85)",189,"Linear Fluorescent",15,"Y"]
["F84ILU","T8",4,59,96,"Electronic","Fluorescent, (4) 96\" T8 lamps, electronic ballast, NLO (0.85 < BF < 0.95) ",212,"Linear Fluorescent",15,"Y"]
["F84ILU-H","T8",4,59,96,"Electronic","Fluorescent, (4) 96\" T8 lamps, electronic ballast, HLO (.95 < BF < 1.1)",248,"Linear Fluorescent",15,"Y"]
["F84ILU-V","T8",4,59,96,"Electronic","Fluorescent, (4) 96\" T8 lamps, electronic ballast, VHLO ( BF > 1.1)",271,"Linear Fluorescent",15,"Y"]
["F81LHL","T8",1,86,96,"Electronic","Fluorescent, (1) 96\" T8 HO lamp, electronic ballast, NLO (0.85 < BF < 0.95) ",77,"Linear Fluorescent",15,"Y"]
["F82LHL","T8",2,86,96,"Electronic","Fluorescent, (2) 96\" T8 HO lamps, electronic ballast, NLO (0.85 < BF < 0.95) ",155,"Linear Fluorescent",15,"Y"]
["F84LHL","T8",4,86,96,"Electronic","Fluorescent, (4) 96\" T8 HO lamps, electronic ballast, NLO (0.85 < BF < 0.95) ",310,"Linear Fluorescent",15,"Y"]
["F41T12","T12 (T8 Baseline)",1,32,48,"Mag/Elec","Fluorescent, (1) 48\" T12 lamp (T8 Baseline)",31,"Linear Fluorescent",15,"N"]
["F42T12","T12 (T8 Baseline)",2,32,48,"Mag/Elec","Fluorescent, (2) 48\" T12 lamps (T8 Baseline)",58,"Linear Fluorescent",15,"N"]
["F43T12","T12 (T8 Baseline)",3,32,48,"Mag/Elec","Fluorescent, (3) 48\" T12 lamps (T8 Baseline)",85,"Linear Fluorescent",15,"N"]
["F44T12","T12 (T8 Baseline)",4,32,48,"Mag/Elec","Fluorescent, (4) 48\" T12 lamps (T8 Baseline)",112,"Linear Fluorescent",15,"N"]
["F46T12","T12 (T8 Baseline)",6,32,48,"Mag/Elec","Fluorescent, (6) 48\" T12 lamps (T8 Baseline)",170,"Linear Fluorescent",15,"N"]
["F48T12","T12 (T8 Baseline)",8,32,48,"Mag/Elec","Fluorescent, (8) 48\" T12 lamps (T8 Baseline)",224,"Linear Fluorescent",15,"N"]
["F41T12-H","T12 (T8 Baseline)",1,32,48,"Mag/Elec","Fluorescent, (1) 48\" T12 HO lamp (T8 Baseline)",31,"Linear Fluorescent",15,"N"]
["F42T12-H","T12 (T8 Baseline)",2,32,48,"Mag/Elec","Fluorescent, (2) 48\" T12 HO lamps (T8 Baseline)",58,"Linear Fluorescent",15,"N"]
["F43T12-H","T12 (T8 Baseline)",3,32,48,"Mag/Elec","Fluorescent, (3) 48\" T12 HO lamps (T8 Baseline)",85,"Linear Fluorescent",15,"N"]
["F44T12-H","T12 (T8 Baseline)",4,32,48,"Mag/Elec","Fluorescent, (4) 48\" T12 HO lamps (T8 Baseline)",112,"Linear Fluorescent",15,"N"]
["F46T12-H","T12 (T8 Baseline)",6,32,48,"Mag/Elec","Fluorescent, (6) 48\" T12 HO lamps (T8 Baseline)",170,"Linear Fluorescent",15,"N"]
["F48T12-H","T12 (T8 Baseline)",8,32,48,"Mag/Elec","Fluorescent, (8) 48\" T12 HO lamps (T8 Baseline)",224,"Linear Fluorescent",15,"N"]
["F41T12-V","T12 (T8 Baseline)",1,32,48,"Mag/Elec","Fluorescent, (1) 48\" T12 VHO lamp (T8 Baseline)",31,"Linear Fluorescent",15,"N"]
["F42T12-V","T12 (T8 Baseline)",2,32,48,"Mag/Elec","Fluorescent, (2) 48\" T12 VHO lamps (T8 Baseline)",58,"Linear Fluorescent",15,"N"]
["F43T12-V","T12 (T8 Baseline)",3,32,48,"Mag/Elec","Fluorescent, (3) 48\" T12 VHO lamps (T8 Baseline)",85,"Linear Fluorescent",15,"N"]
["F44T12-V","T12 (T8 Baseline)",4,32,48,"Mag/Elec","Fluorescent, (4) 48\" T12 VHO lamps (T8 Baseline)",112,"Linear Fluorescent",15,"N"]
["F46T12-V","T12 (T8 Baseline)",6,32,48,"Mag/Elec","Fluorescent, (6) 48\" T12 VHO lamps (T8 Baseline)",170,"Linear Fluorescent",15,"N"]
["F48T12-V","T12 (T8 Baseline)",8,32,48,"Mag/Elec","Fluorescent, (8) 48\" T12 VHO lamps (T8 Baseline)",224,"Linear Fluorescent",15,"N"]
["F81T12","T12 (T8 Baseline)",1,59,96,"Mag/Elec","Fluorescent, (1) 96\" T12 lamp (T8 Baseline)",69,"Linear Fluorescent",15,"N"]
["F82T12","T12 (T8 Baseline)",2,59,96,"Mag/Elec","Fluorescent, (2) 96\" T12 lamps (T8 Baseline)",110,"Linear Fluorescent",15,"N"]
["F83T12","T12 (T8 Baseline)",3,59,96,"Mag/Elec","Fluorescent, (3) 96\" T12 lamps (T8 Baseline)",179,"Linear Fluorescent",15,"N"]
["F84T12","T12 (T8 Baseline)",4,59,96,"Mag/Elec","Fluorescent, (4) 96\" T12 lamps (T8 Baseline)",219,"Linear Fluorescent",15,"N"]
["F86T12","T12 (T8 Baseline)",6,59,96,"Mag/Elec","Fluorescent, (6) 96\" T12 lamps (T8 Baseline)",330,"Linear Fluorescent",15,"N"]
["F88T12","T12 (T8 Baseline)",8,59,96,"Mag/Elec","Fluorescent, (8) 96\" T12 lamps (T8 Baseline)",438,"Linear Fluorescent",15,"N"]
["F81T12-H","T12 (T8 Baseline)",1,86,96,"Mag/Elec","Fluorescent, (1) 96\" T12 HO lamp (T8 Baseline)",101,"Linear Fluorescent",15,"N"]
["F82T12-H","T12 (T8 Baseline)",2,86,96,"Mag/Elec","Fluorescent, (2) 96\" T12 HO lamps (T8 Baseline)",160,"Linear Fluorescent",15,"N"]
["F83T12-H","T12 (T8 Baseline)",3,86,96,"Mag/Elec","Fluorescent, (3) 96\" T12 HO lamps (T8 Baseline)",261,"Linear Fluorescent",15,"N"]
["F84T12-H","T12 (T8 Baseline)",4,86,96,"Mag/Elec","Fluorescent, (4) 96\" T12 HO lamps (T8 Baseline)",319,"Linear Fluorescent",15,"N"]
["F86T12-H","T12 (T8 Baseline)",6,86,96,"Mag/Elec","Fluorescent, (6) 96\" T12 HO lamps (T8 Baseline)",481,"Linear Fluorescent",15,"N"]
["F88T12-H","T12 (T8 Baseline)",8,86,96,"Mag/Elec","Fluorescent, (8) 96\" T12 HO lamps (T8 Baseline)",638,"Linear Fluorescent",15,"N"]
["F81T12-V","T12 (T8 Baseline)",1,86,96,"Mag/Elec","Fluorescent, (1) 96\" T12 VHO lamp (T8 Baseline)",101,"Linear Fluorescent",15,"N"]
["F82T12-V","T12 (T8 Baseline)",2,86,96,"Mag/Elec","Fluorescent, (2) 96\" T12 VHO lamps (T8 Baseline)",160,"Linear Fluorescent",15,"N"]
["F83T12-V","T12 (T8 Baseline)",3,86,96,"Mag/Elec","Fluorescent, (3) 96\" T12 VHO lamps (T8 Baseline)",261,"Linear Fluorescent",15,"N"]
["F84T12-V","T12 (T8 Baseline)",4,86,96,"Mag/Elec","Fluorescent, (4) 96\" T12 VHO lamps (T8 Baseline)",319,"Linear Fluorescent",15,"N"]
["F86T12-V","T12 (T8 Baseline)",6,86,96,"Mag/Elec","Fluorescent, (6) 96\" T12 VHO lamps (T8 Baseline)",481,"Linear Fluorescent",15,"N"]
["F88T12-V","T12 (T8 Baseline)",8,86,96,"Mag/Elec","Fluorescent, (8) 96\" T12 VHO lamps (T8 Baseline)",638,"Linear Fluorescent",15,"N"]
["F1.51SS","T12",1,15,18,"Magnetic","Fluorscent (1), 18\" T12 lamps, magnetic ballast",19,"Linear Fluorescent",15,"N"]
["F1.52SS","T12",2,15,18,"Magnetic","Fluorscent (2), 18\" T12 lamps, magnetic ballast",38,"Linear Fluorescent",15,"N"]
["F21SS","T12",1,20,24,"Magnetic","Fluorscent (1), 24\" T12 lamps, magnetic ballast",25,"Linear Fluorescent",15,"N"]
["F22SS","T12",2,20,24,"Magnetic","Fluorscent (2), 24\" T12 lamps, magnetic ballast",50,"Linear Fluorescent",15,"N"]
["F23SS","T12",3,20,24,"Magnetic","Fluorscent (3), 24\" T12 lamps, magnetic ballast",75,"Linear Fluorescent",15,"N"]
["F24SS","T12",4,20,24,"Magnetic","Fluorscent (4), 24\" T12 lamps, magnetic ballast",100,"Linear Fluorescent",15,"N"]
["F21SS-H","T12",1,35,24,"Magnetic","Fluorscent (1), 24\" T12 HO lamps, magnetic ballast",44,"Linear Fluorescent",15,"N"]
["F22SS-H","T12",2,35,24,"Magnetic","Fluorscent (2), 24\" T12 HO lamps, magnetic ballast",88,"Linear Fluorescent",15,"N"]
["F31SS","T12",1,30,36,"Magnetic","Fluorscent (1), 36\" T12 lamps, magnetic ballast",38,"Linear Fluorescent",15,"N"]
["F32SS","T12",2,30,36,"Magnetic","Fluorscent (2), 36\" T12 lamps, magnetic ballast",75,"Linear Fluorescent",15,"N"]
["F33SS","T12",3,30,36,"Magnetic","Fluorscent (3), 36\" T12 lamps, magnetic ballast",113,"Linear Fluorescent",15,"N"]
["F34SS","T12",4,30,36,"Magnetic","Fluorscent (4), 36\" T12 lamps, magnetic ballast",150,"Linear Fluorescent",15,"N"]
["F31SS-H","T12",1,50,36,"Magnetic","Fluorscent (1), 36\" T12 HO lamps, magnetic ballast",63,"Linear Fluorescent",15,"N"]
["F32SS-H","T12",2,50,36,"Magnetic","Fluorscent (2), 36\" T12 HO lamps, magnetic ballast",125,"Linear Fluorescent",15,"N"]
["F51SS","T12",1,50,60,"Magnetic","Fluorscent (1), 60\" T12 lamps, magnetic ballast",58,"Linear Fluorescent",15,"N"]
["F52SS","T12",2,50,60,"Magnetic","Fluorscent (2), 60\" T12 lamps, magnetic ballast",115,"Linear Fluorescent",15,"N"]
["F51SS-H","T12",1,75,60,"Magnetic","Fluorscent (1), 60\" T12 HO lamps, magnetic ballast",86,"Linear Fluorescent",15,"N"]
["F52SS-H","T12",2,75,60,"Magnetic","Fluorscent (2), 60\" T12 HO lamps, magnetic ballast",173,"Linear Fluorescent",15,"N"]
["F61SS","T12",1,55,72,"Magnetic","Fluorscent (1), 72\" T12 lamps, magnetic ballast",63,"Linear Fluorescent",15,"N"]
["F62SS","T12",2,55,72,"Magnetic","Fluorscent (2), 72\" T12 lamps, magnetic ballast",127,"Linear Fluorescent",15,"N"]
["F61SS-H","T12",1,85,72,"Magnetic","Fluorscent (1), 72\" T12 HO lamps, magnetic ballast",98,"Linear Fluorescent",15,"N"]
["F62SS-H","T12",2,85,72,"Magnetic","Fluorscent (2), 72\" T12 HO lamps, magnetic ballast",196,"Linear Fluorescent",15,"N"]
["F71SS-H","T12",1,100,84,"Magnetic","Fluorscent (1), 84\" T12 HO lamps, magnetic ballast",100,"Linear Fluorescent",15,"N"]
["F72SS-H","T12",2,100,84,"Magnetic","Fluorscent (2), 84\" T12 HO lamps, magnetic ballast",200,"Linear Fluorescent",15,"N"]
["F31SL","T12",1,30,36,"Electronic","Fluorescent, (1) 36\" T12 lamps, electronic ballast",29,"Linear Fluorescent",15,"N"]
["F32SL","T12",2,30,36,"Electronic","Fluorescent, (2) 36\" T12 lamps, electronic ballast",57,"Linear Fluorescent",15,"N"]
["F51SL","T12",1,50,60,"Electronic","Fluorescent, (1) 60\" T12 lamps, electronic ballast",48,"Linear Fluorescent",15,"N"]
["F52SL","T12",2,50,60,"Electronic","Fluorescent, (2) 60\" T12 lamps, electronic ballast",95,"Linear Fluorescent",15,"N"]
["F51SL-H","T12",1,75,60,"Electronic","Fluorescent, (1) 60\" T12 HO lamps, electronic ballast",71,"Linear Fluorescent",15,"N"]
["F52SL-H","T12",2,75,60,"Electronic","Fluorescent, (2) 60\" T12 HO lamps, electronic ballast",143,"Linear Fluorescent",15,"N"]
["F61SL","T12",1,55,72,"Electronic","Fluorescent, (1) 72\" T12 lamps, electronic ballast",52,"Linear Fluorescent",15,"N"]
["F62SL","T12",2,55,72,"Electronic","Fluorescent, (2) 72\" T12 lamps, electronic ballast",105,"Linear Fluorescent",15,"N"]
["F61SL-H","T12",1,85,72,"Electronic","Fluorescent, (1) 72\" T12 HO lamps, electronic ballast",81,"Linear Fluorescent",15,"N"]
["F62SL-H","T12",2,85,72,"Electronic","Fluorescent, (2) 72\" T12 HO lamps, electronic ballast",162,"Linear Fluorescent",15,"N"]
["FU1ILU-R","T8 U-Tube",1,32,null,"Electronic","Fluorescent, (1) U-Tube T8 lamp, RLO (BF < 0.85)",26,"Linear Fluorescent",15,"Y"]
["FU1ILU","T8 U-Tube",1,32,null,"Electronic","Fluorescent, (1) U-Tube T8 lamp, NLO (0.85 < BF < 0.95)",29,"Linear Fluorescent",15,"Y"]
["FU1ILU-H","T8 U-Tube",1,32,null,"Electronic","Fluorescent, (1) U-Tube T8 lamp, HLO (.95 < BF < 1.1)",34,"Linear Fluorescent",15,"Y"]
["FU1ILU-V","T8 U-Tube",1,32,null,"Electronic","Fluorescent, (1) U-Tube T8 lamp, VHLO (BF > 1.1)",37,"Linear Fluorescent",15,"Y"]
["FU2ILU-R","T8 U-Tube",2,32,null,"Electronic","Fluorescent, (2) U-Tube T8 lamps, RLO (BF < 0.85)",51,"Linear Fluorescent",15,"Y"]
["FU2ILU","T8 U-Tube",2,32,null,"Electronic","Fluorescent, (2) U-Tube T8 lamps, NLO (0.85 < BF < 0.95)",58,"Linear Fluorescent",15,"Y"]
["FU2ILU-H","T8 U-Tube",2,32,null,"Electronic","Fluorescent, (2) U-Tube T8 lamps, HLO (.95 < BF < 1.1)",67,"Linear Fluorescent",15,"Y"]
["FU2ILU-V","T8 U-Tube",2,32,null,"Electronic","Fluorescent, (2) U-Tube T8 lamps, VHLO (BF > 1.1)",74,"Linear Fluorescent",15,"Y"]
["FU3ILU-R","T8 U-Tube",3,32,null,"Electronic","Fluorescent, (3) U-Tube T8 lamps, RLO (BF < 0.85)",77,"Linear Fluorescent",15,"Y"]
["FU3ILU","T8 U-Tube",3,32,null,"Electronic","Fluorescent, (3) U-Tube T8 lamps, NLO (0.85 < BF < 0.95)",86,"Linear Fluorescent",15,"Y"]
["FU3ILU-H","T8 U-Tube",3,32,null,"Electronic","Fluorescent, (3) U-Tube T8 lamps, HLO (.95 < BF < 1.1)",101,"Linear Fluorescent",15,"Y"]
["FU3ILU-V","T8 U-Tube",3,32,null,"Electronic","Fluorescent, (3) U-Tube T8 lamps, VHLO (BF > 1.1)",110,"Linear Fluorescent",15,"Y"]
["FU1T12","T12 U-Tube",1,32,null,"Mag/Ele","Fluorescent, (1) U-Tube T12 lamp (T8 Baseline)",32,"Linear Fluorescent",15,"N"]
["FU2T12","T12 U-Tube",2,32,null,"Mag/Ele","Fluorescent, (2) U-Tube T12 lamps (T8 Baseline)",60,"Linear Fluorescent",15,"N"]
["FU3T12","T12 U-Tube",3,32,null,"Mag/Ele","Fluorescent, (3) U-Tube T12 lamps (T8 Baseline)",89,"Linear Fluorescent",15,"N"]
["FC6/1","Flourescent Circline",1,20,null,"Mag-STD","Fluorescent, (1) 6\" circular lamp, RS ballast",25,"Linear Fluorescent",15,"N"]
["FC8/1","Flourescent Circline",1,22,null,"Mag-STD","Fluorescent, (1) 8\" circular lamp, RS ballast",26,"Linear Fluorescent",15,"N"]
["FC8/2","Flourescent Circline",2,22,null,"Mag-STD","Fluorescent, (2) 8\" circular lamps, RS ballast",52,"Linear Fluorescent",15,"N"]
["FC20","Flourescent Circline",1,20,null,"Mag-STD","Fluorescent, Circline, (1) 20W lamp, preheat ballast",20,"Linear Fluorescent",15,"N"]
["FC22","Flourescent Circline",1,22,null,"Mag-STD","Fluorescent, Circline, (1) 22W lamp, preheat ballast",20,"Linear Fluorescent",15,"N"]
["FC12/1","Flourescent Circline",1,32,null,"Mag-STD","Fluorescent, (1) 12\" circular lamp, RS ballast",31,"Linear Fluorescent",15,"N"]
["FC12/2","Flourescent Circline",2,32,null,"Mag-STD","Fluorescent, (2) 12\" circular lamps, RS ballast",62,"Linear Fluorescent",15,"N"]
["FC32","Flourescent Circline",1,32,null,"Mag-STD","Fluorescent, Circline, (1) 32W lamp, preheat ballast",40,"Linear Fluorescent",15,"N"]
["FC16/1","Flourescent Circline",1,40,null,"Mag-STD","Fluorescent, (1) 16\" circular lamp",35,"Linear Fluorescent",15,"N"]
["FC40","Flourescent Circline",1,32,null,"Mag-STD","Fluorescent, Circline, (1) 32W lamp, preheat ballast",42,"Linear Fluorescent",15,"N"]
["FEI40/1","Fluorescent Electrodeless Induction",1,40,null,"Electronic","Electrodeless Fluorescent System, (1) 40W lamp",44,"Linear Fluorescent",15,"Y"]
["FEI55/1","Fluorescent Electrodeless Induction",1,55,null,"Electronic","Electrodeless Fluorescent System, (1) 55W lamp",59,"Linear Fluorescent",15,"Y"]
["FEI60/1","Fluorescent Electrodeless Induction",1,60,null,"Electronic","Electrodeless Fluorescent System, (1) 60W lamp",64,"Linear Fluorescent",15,"Y"]
["FEI70/1","Fluorescent Electrodeless Induction",1,70,null,"Electronic","Electrodeless Fluorescent System, (1) 70W lamp",74,"Linear Fluorescent",15,"Y"]
["FEI80/1","Fluorescent Electrodeless Induction",1,80,null,"Electronic","Electrodeless Fluorescent System, (1) 80W lamp",84,"Linear Fluorescent",15,"Y"]
["FEI85/1","Fluorescent Electrodeless Induction",1,85,null,"Electronic","Electrodeless Fluorescent System, (1) 85W lamp",89,"Linear Fluorescent",15,"Y"]
["FEI100/1","Fluorescent Electrodeless Induction",1,100,null,"Electronic","Electrodeless Fluorescent System, (1) 100W lamp",105,"Linear Fluorescent",15,"Y"]
["FEI125/1","Fluorescent Electrodeless Induction",1,125,null,"Electronic","Electrodeless Fluorescent System, (1) 125W lamp",131,"Linear Fluorescent",15,"Y"]
["FEI150/1","Fluorescent Electrodeless Induction",1,150,null,"Electronic","Electrodeless Fluorescent System, (1) 150W lamp",157.33333333333334,"Linear Fluorescent",15,"Y"]
["FEI165/1","Fluorescent Electrodeless Induction",1,165,null,"Electronic","Electrodeless Fluorescent System, (1) 165W lamp",173,"Linear Fluorescent",15,"Y"]
["FEI200/1","Fluorescent Electrodeless Induction",1,200,null,"Electronic","Electrodeless Fluorescent System, (1) 200W lamp",210,"Linear Fluorescent",15,"Y"]
["FEI250/1","Fluorescent Electrodeless Induction",1,250,null,"Electronic","Electrodeless Fluorescent System, (1) 250W lamp",263,"Linear Fluorescent",15,"Y"]
["FEI300/1","Fluorescent Electrodeless Induction",1,300,null,"Electronic","Electrodeless Fluorescent System, (1) 300W lamp",315,"Linear Fluorescent",15,"Y"]
["FEI400/1","Fluorescent Electrodeless Induction",1,400,null,"Electronic","Electrodeless Fluorescent System, (1) 400W lamp",420,"Linear Fluorescent",15,"Y"]
["H20/1","Halogen",1,20,null,null,"Halogen, (1) 20W lamp (EISA Tier 2 Compliant)",20,"Halogen",1.5,"Y"]
["H21/1","Halogen",1,21,null,null,"Halogen, (1) 21W lamp (EISA Tier 2 Compliant)",21,"Halogen",1.5,"Y"]
["H22/1","Halogen",1,22,null,null,"Halogen, (1) 22W lamp (EISA Tier 2 Compliant)",22,"Halogen",1.5,"Y"]
["H23/1","Halogen",1,23,null,null,"Halogen, (1) 23W lamp (EISA Tier 2 Compliant)",23,"Halogen",1.5,"Y"]
["H24/1","Halogen",1,24,null,null,"Halogen, (1) 24W lamp (EISA Tier 2 Compliant)",24,"Halogen",1.5,"Y"]
["H25/1","Halogen",1,25,null,null,"Halogen, (1) 25W lamp (EISA Tier 2 Compliant)",25,"Halogen",1.5,"Y"]
["H26/1","Halogen",1,26,null,null,"Halogen, (1) 26W lamp (EISA Tier 2 Compliant)",25,"Halogen",1.5,"Y"]
["H27/1","Halogen",1,27,null,null,"Halogen, (1) 27W lamp (EISA Tier 2 Compliant)",25,"Halogen",1.5,"Y"]
["H28/1","Halogen",1,28,null,null,"Halogen, (1) 28W lamp (EISA Tier 2 Compliant)",25,"Halogen",1.5,"Y"]
["H29/1","Halogen",1,29,null,null,"Halogen, (1) 29W lamp (EISA Tier 2 Compliant)",25,"Halogen",1.5,"Y"]
["H30/1","Halogen",1,30,null,null,"Halogen, (1) 30W lamp (EISA Tier 2 Compliant)",25,"Halogen",1.5,"Y"]
["H31/1","Halogen",1,31,null,null,"Halogen, (1) 31W lamp (EISA Tier 2 Compliant)",25,"Halogen",1.5,"Y"]
["H32/1","Halogen",1,32,null,null,"Halogen, (1) 32W lamp (EISA Tier 2 Compliant)",25,"Halogen",1.5,"Y"]
["H33/1","Halogen",1,33,null,null,"Halogen, (1) 33W lamp (EISA Tier 2 Compliant)",12,"Halogen",1.5,"Y"]
["H34/1","Halogen",1,34,null,null,"Halogen, (1) 34W lamp (EISA Tier 2 Compliant)",12,"Halogen",1.5,"Y"]
["H35/1","Halogen",1,35,null,null,"Halogen, (1) 35W lamp (EISA Tier 2 Compliant)",12,"Halogen",1.5,"Y"]
["H36/1","Halogen",1,36,null,null,"Halogen, (1) 36W lamp (EISA Tier 2 Compliant)",12,"Halogen",1.5,"Y"]
["H37/1","Halogen",1,37,null,null,"Halogen, (1) 37W lamp (EISA Tier 2 Compliant)",12,"Halogen",1.5,"Y"]
["H38/1","Halogen",1,38,null,null,"Halogen, (1) 38W lamp (EISA Tier 2 Compliant)",12,"Halogen",1.5,"Y"]
["H39/1","Halogen",1,39,null,null,"Halogen, (1) 39W lamp (EISA Tier 2 Compliant)",12,"Halogen",1.5,"Y"]
["H40/1","Halogen",1,40,null,null,"Halogen, (1) 40W lamp (EISA Tier 2 Compliant)",12,"Halogen",1.5,"Y"]
["H41/1","Halogen",1,41,null,null,"Halogen, (1) 41W lamp (EISA Tier 2 Compliant)",12,"Halogen",1.5,"Y"]
["H42/1","Halogen",1,42,null,null,"Halogen, (1) 42W lamp (EISA Tier 2 Compliant)",12,"Halogen",1.5,"Y"]
["H43/1","Halogen",1,43,null,null,"Halogen, (1) 43W lamp (EISA Tier 2 Compliant)",12,"Halogen",1.5,"Y"]
["H44/1","Halogen",1,44,null,null,"Halogen, (1) 44W lamp (EISA Tier 2 Compliant)",12,"Halogen",1.5,"Y"]
["H45/1","Halogen",1,45,null,null,"Halogen, (1) 45W lamp (EISA Tier 2 Compliant)",12,"Halogen",1.5,"Y"]
["H46/1","Halogen",1,46,null,null,"Halogen, (1) 46W lamp (EISA Tier 2 Compliant)",12,"Halogen",1.5,"Y"]
["H47/1","Halogen",1,47,null,null,"Halogen, (1) 47W lamp (EISA Tier 2 Compliant)",12,"Halogen",1.5,"Y"]
["H48/1","Halogen",1,48,null,null,"Halogen, (1) 48W lamp (EISA Tier 2 Compliant)",12,"Halogen",1.5,"Y"]
["H49/1","Halogen",1,49,null,null,"Halogen, (1) 49W lamp (EISA Tier 2 Compliant)",12,"Halogen",1.5,"Y"]
["H50/1","Halogen",1,50,null,null,"Halogen, (1) 50W lamp (EISA Tier 2 Compliant)",20,"Halogen",1.5,"Y"]
["H51/1","Halogen",1,51,null,null,"Halogen, (1) 51W lamp (EISA Tier 2 Compliant)",20,"Halogen",1.5,"Y"]
["H52/1","Halogen",1,52,null,null,"Halogen, (1) 52W lamp (EISA Tier 2 Compliant)",20,"Halogen",1.5,"Y"]
["H53/1","Halogen",1,53,null,null,"Halogen, (1) 53W lamp (EISA Tier 2 Compliant)",20,"Halogen",1.5,"Y"]
["H54/1","Halogen",1,54,null,null,"Halogen, (1) 54W lamp (EISA Tier 2 Compliant)",20,"Halogen",1.5,"Y"]
["H55/1","Halogen",1,55,null,null,"Halogen, (1) 55W lamp (EISA Tier 2 Compliant)",20,"Halogen",1.5,"Y"]
["H56/1","Halogen",1,56,null,null,"Halogen, (1) 56W lamp (EISA Tier 2 Compliant)",20,"Halogen",1.5,"Y"]
["H57/1","Halogen",1,57,null,null,"Halogen, (1) 57W lamp (EISA Tier 2 Compliant)",20,"Halogen",1.5,"Y"]
["H58/1","Halogen",1,58,null,null,"Halogen, (1) 58W lamp (EISA Tier 2 Compliant)",20,"Halogen",1.5,"Y"]
["H59/1","Halogen",1,59,null,null,"Halogen, (1) 59W lamp (EISA Tier 2 Compliant)",20,"Halogen",1.5,"Y"]
["H60/1","Halogen",1,60,null,null,"Halogen, (1) 60W lamp (EISA Tier 2 Compliant)",20,"Halogen",1.5,"Y"]
["H61/1","Halogen",1,61,null,null,"Halogen, (1) 61W lamp (EISA Tier 2 Compliant)",20,"Halogen",1.5,"Y"]
["H62/1","Halogen",1,62,null,null,"Halogen, (1) 62W lamp (EISA Tier 2 Compliant)",20,"Halogen",1.5,"Y"]
["H63/1","Halogen",1,63,null,null,"Halogen, (1) 63W lamp (EISA Tier 2 Compliant)",20,"Halogen",1.5,"Y"]
["H64/1","Halogen",1,64,null,null,"Halogen, (1) 64W lamp (EISA Tier 2 Compliant)",20,"Halogen",1.5,"Y"]
["H65/1","Halogen",1,65,null,null,"Halogen, (1) 65W lamp (EISA Tier 2 Compliant)",20,"Halogen",1.5,"Y"]
["H66/1","Halogen",1,66,null,null,"Halogen, (1) 66W lamp (EISA Tier 2 Compliant)",20,"Halogen",1.5,"Y"]
["H67/1","Halogen",1,67,null,null,"Halogen, (1) 67W lamp (EISA Tier 2 Compliant)",20,"Halogen",1.5,"Y"]
["H68/1","Halogen",1,68,null,null,"Halogen, (1) 68W lamp (EISA Tier 2 Compliant)",28,"Halogen",1.5,"Y"]
["H69/1","Halogen",1,69,null,null,"Halogen, (1) 69W lamp (EISA Tier 2 Compliant)",28,"Halogen",1.5,"Y"]
["H70/1","Halogen",1,70,null,null,"Halogen, (1) 70W lamp (EISA Tier 2 Compliant)",28,"Halogen",1.5,"Y"]
["H71/1","Halogen",1,71,null,null,"Halogen, (1) 71W lamp (EISA Tier 2 Compliant)",28,"Halogen",1.5,"Y"]
["H72/1","Halogen",1,72,null,null,"Halogen, (1) 72W lamp (EISA Tier 2 Compliant)",28,"Halogen",1.5,"Y"]
["H73/1","Halogen",1,73,null,null,"Halogen, (1) 73W lamp (EISA Tier 2 Compliant)",28,"Halogen",1.5,"Y"]
["H74/1","Halogen",1,74,null,null,"Halogen, (1) 74W lamp (EISA Tier 2 Compliant)",28,"Halogen",1.5,"Y"]
["H75/1","Halogen",1,75,null,null,"Halogen, (1) 75W lamp (EISA Tier 2 Compliant)",28,"Halogen",1.5,"Y"]
["H80/1","Halogen",1,80,null,null,"Halogen, (1) 80W lamp (EISA Tier 2 Compliant)",28,"Halogen",1.5,"Y"]
["H90/1","Halogen",1,90,null,null,"Halogen, (1) 90W lamp (EISA Tier 2 Compliant)",45,"Halogen",1.5,"Y"]
["H100/1","Halogen",1,100,null,null,"Halogen, (1) 100W lamp (EISA Tier 2 Compliant)",45,"Halogen",1.5,"Y"]
["H150/1","Halogen",1,150,null,null,"Halogen, (1) 150W lamp (EISA Tier 2 Compliant)",66,"Halogen",1.5,"Y"]
["H200/1","Halogen",1,200,null,null,"Halogen, (1) 200W lamp",200,"Halogen",1.5,"Y"]
["H250/1","Halogen",1,250,null,null,"Halogen, (1) 250W lamp",250,"Halogen",1.5,"Y"]
["H300/1","Halogen",1,300,null,null,"Halogen, (1) 300W lamp",300,"Halogen",1.5,"Y"]
["H400/1","Halogen",1,400,null,null,"Halogen, (1) 400W lamp",400,"Halogen",1.5,"Y"]
["H500/1","Halogen",1,500,null,null,"Halogen, (1) 500W lamp",500,"Halogen",1.5,"Y"]
["HPS35/1","High Pressure Sodium",1,35,null,null,"High Pressure Sodium, (1) 35W lamp",46,"High Intensity Discharge (HID)",15,"Y"]
["HPS50/1","High Pressure Sodium",1,50,null,null,"High Pressure Sodium, (1) 50W lamp",66,"High Intensity Discharge (HID)",15,"Y"]
["HPS70/1","High Pressure Sodium",1,70,null,null,"High Pressure Sodium, (1) 70W lamp",95,"High Intensity Discharge (HID)",15,"Y"]
["HPS100/1","High Pressure Sodium",1,100,null,null,"High Pressure Sodium, (1) 100W lamp",138,"High Intensity Discharge (HID)",15,"Y"]
["HPS150/1","High Pressure Sodium",1,150,null,null,"High Pressure Sodium, (1) 150W lamp",188,"High Intensity Discharge (HID)",15,"Y"]
["HPS200/1","High Pressure Sodium",1,200,null,null,"High Pressure Sodium, (1) 200W lamp",250,"High Intensity Discharge (HID)",15,"Y"]
["HPS250/1","High Pressure Sodium",1,250,null,null,"High Pressure Sodium, (1) 250W lamp",295,"High Intensity Discharge (HID)",15,"Y"]
["HPS310/1","High Pressure Sodium",1,310,null,null,"High Pressure Sodium, (1) 310W lamp",365,"High Intensity Discharge (HID)",15,"Y"]
["HPS360/1","High Pressure Sodium",1,360,null,null,"High Pressure Sodium, (1) 360W lamp",414,"High Intensity Discharge (HID)",15,"Y"]
["HPS400/1","High Pressure Sodium",1,400,null,null,"High Pressure Sodium, (1) 400W lamp",465,"High Intensity Discharge (HID)",15,"Y"]
["HPS1000/1","High Pressure Sodium",1,1000,null,null,"High Pressure Sodium, (1) 1000W lamp",1100,"High Intensity Discharge (HID)",15,"Y"]
["I10/1","Incandescent",1,10,null,null,"Incandescent, (1) 10W  any lamp style (EISA Tier 2 Compliant)",10,"Halogen",1.5,"Y"]
["I11/1","Incandescent",1,11,null,null,"Incandescent, (1) 11W  any lamp style (EISA Tier 2 Compliant)",11,"Halogen",1.5,"Y"]
["I12/1","Incandescent",1,12,null,null,"Incandescent, (1) 12W  any lamp style (EISA Tier 2 Compliant)",12,"Halogen",1.5,"Y"]
["I13/1","Incandescent",1,13,null,null,"Incandescent, (1) 13W  any lamp style (EISA Tier 2 Compliant)",13,"Halogen",1.5,"Y"]
["I14/1","Incandescent",1,14,null,null,"Incandescent, (1) 14W  any lamp style (EISA Tier 2 Compliant)",14,"Halogen",1.5,"Y"]
["I15/1","Incandescent",1,15,null,null,"Incandescent, (1) 15W  any lamp style (EISA Tier 2 Compliant)",15,"Halogen",1.5,"Y"]
["I16/1","Incandescent",1,16,null,null,"Incandescent, (1) 16W  any lamp style (EISA Tier 2 Compliant)",16,"Halogen",1.5,"Y"]
["I17/1","Incandescent",1,17,null,null,"Incandescent, (1) 17W  any lamp style (EISA Tier 2 Compliant)",17,"Halogen",1.5,"Y"]
["I18/1","Incandescent",1,18,null,null,"Incandescent, (1) 18W  any lamp style (EISA Tier 2 Compliant)",18,"Halogen",1.5,"Y"]
["I19/1","Incandescent",1,19,null,null,"Incandescent, (1) 19W  any lamp style (EISA Tier 2 Compliant)",19,"Halogen",1.5,"Y"]
["I20/1","Incandescent",1,20,null,null,"Incandescent, (1) 20W  any lamp style (EISA Tier 2 Compliant)",20,"Halogen",1.5,"Y"]
["I21/1","Incandescent",1,21,null,null,"Incandescent, (1) 21W  any lamp style (EISA Tier 2 Compliant)",21,"Halogen",1.5,"Y"]
["I22/1","Incandescent",1,22,null,null,"Incandescent, (1) 22W  any lamp style (EISA Tier 2 Compliant)",22,"Halogen",1.5,"Y"]
["I23/1","Incandescent",1,23,null,null,"Incandescent, (1) 23W  any lamp style (EISA Tier 2 Compliant)",23,"Halogen",1.5,"Y"]
["I24/1","Incandescent",1,24,null,null,"Incandescent, (1) 24W  any lamp style (EISA Tier 2 Compliant)",24,"Halogen",1.5,"Y"]
["I25/1","Incandescent",1,25,null,null,"Incandescent, (1) 25W  any lamp style (EISA Tier 2 Compliant)",25,"Halogen",1.5,"Y"]
["I26/1","Incandescent",1,26,null,null,"Incandescent, (1) 26W  any lamp style (EISA Tier 2 Compliant)",25,"Halogen",1.5,"Y"]
["I27/1","Incandescent",1,27,null,null,"Incandescent, (1) 27W  any lamp style (EISA Tier 2 Compliant)",25,"Halogen",1.5,"Y"]
["I28/1","Incandescent",1,28,null,null,"Incandescent, (1) 28W  any lamp style (EISA Tier 2 Compliant)",25,"Halogen",1.5,"Y"]
["I29/1","Incandescent",1,29,null,null,"Incandescent, (1) 29W  any lamp style (EISA Tier 2 Compliant)",25,"Halogen",1.5,"Y"]
["I30/1","Incandescent",1,30,null,null,"Incandescent, (1) 30W  any lamp style (EISA Tier 2 Compliant)",25,"Halogen",1.5,"Y"]
["I31/1","Incandescent",1,31,null,null,"Incandescent, (1) 31W  any lamp style (EISA Tier 2 Compliant)",25,"Halogen",1.5,"Y"]
["I32/1","Incandescent",1,32,null,null,"Incandescent, (1) 32W  any lamp style (EISA Tier 2 Compliant)",25,"Halogen",1.5,"Y"]
["I33/1","Incandescent",1,33,null,null,"Incandescent, (1) 33W  any lamp style (EISA Tier 2 Compliant)",12,"Halogen",1.5,"Y"]
["I34/1","Incandescent",1,34,null,null,"Incandescent, (1) 34W  any lamp style (EISA Tier 2 Compliant)",12,"Halogen",1.5,"Y"]
["I35/1","Incandescent",1,35,null,null,"Incandescent, (1) 35W  any lamp style (EISA Tier 2 Compliant)",12,"Halogen",1.5,"Y"]
["I36/1","Incandescent",1,36,null,null,"Incandescent, (1) 36W  any lamp style (EISA Tier 2 Compliant)",12,"Halogen",1.5,"Y"]
["I37/1","Incandescent",1,37,null,null,"Incandescent, (1) 37W  any lamp style (EISA Tier 2 Compliant)",12,"Halogen",1.5,"Y"]
["I38/1","Incandescent",1,38,null,null,"Incandescent, (1) 38W  any lamp style (EISA Tier 2 Compliant)",12,"Halogen",1.5,"Y"]
["I39/1","Incandescent",1,39,null,null,"Incandescent, (1) 39W  any lamp style (EISA Tier 2 Compliant)",12,"Halogen",1.5,"Y"]
["I40S/1","Incandescent",1,40,null,null,"Incandescent, (1) 40W  EISA-exempt lamp type",40,"Halogen",1.5,"Y"]
["I40/1","Incandescent",1,40,null,null,"Incandescent, (1) 40W  any lamp style (EISA Tier 2 Compliant)",12,"Halogen",1.5,"Y"]
["I41/1","Incandescent",1,41,null,null,"Incandescent, (1) 41W  any lamp style (EISA Tier 2 Compliant)",12,"Halogen",1.5,"Y"]
["I42/1","Incandescent",1,42,null,null,"Incandescent, (1) 42W  any lamp style (EISA Tier 2 Compliant)",12,"Halogen",1.5,"Y"]
["I43/1","Incandescent",1,43,null,null,"Incandescent, (1) 43W  any lamp style (EISA Tier 2 Compliant)",12,"Halogen",1.5,"Y"]
["I44/1","Incandescent",1,44,null,null,"Incandescent, (1) 44W  any lamp style (EISA Tier 2 Compliant)",12,"Halogen",1.5,"Y"]
["I45/1","Incandescent",1,45,null,null,"Incandescent, (1) 45W  any lamp style (EISA Tier 2 Compliant)",12,"Halogen",1.5,"Y"]
["I46/1","Incandescent",1,46,null,null,"Incandescent, (1) 46W  any lamp style (EISA Tier 2 Compliant)",12,"Halogen",1.5,"Y"]
["I47/1","Incandescent",1,47,null,null,"Incandescent, (1) 47W  any lamp style (EISA Tier 2 Compliant)",12,"Halogen",1.5,"Y"]
["I48/1","Incandescent",1,48,null,null,"Incandescent, (1) 48W  any lamp style (EISA Tier 2 Compliant)",12,"Halogen",1.5,"Y"]
["I49/1","Incandescent",1,49,null,null,"Incandescent, (1) 49W  any lamp style (EISA Tier 2 Compliant)",12,"Halogen",1.5,"Y"]
["I50/1","Incandescent",1,50,null,null,"Incandescent, (1) 50W  any lamp style (EISA Tier 2 Compliant)",20,"Halogen",1.5,"Y"]
["I51/1","Incandescent",1,51,null,null,"Incandescent, (1) 51W  any lamp style (EISA Tier 2 Compliant)",20,"Halogen",1.5,"Y"]
["I52/1","Incandescent",1,52,null,null,"Incandescent, (1) 52W  any lamp style (EISA Tier 2 Compliant)",20,"Halogen",1.5,"Y"]
["I53/1","Incandescent",1,53,null,null,"Incandescent, (1) 53W  any lamp style (EISA Tier 2 Compliant)",20,"Halogen",1.5,"Y"]
["I54/1","Incandescent",1,54,null,null,"Incandescent, (1) 54W  any lamp style (EISA Tier 2 Compliant)",20,"Halogen",1.5,"Y"]
["I55/1","Incandescent",1,55,null,null,"Incandescent, (1) 55W  any lamp style (EISA Tier 2 Compliant)",20,"Halogen",1.5,"Y"]
["I56/1","Incandescent",1,56,null,null,"Incandescent, (1) 56W  any lamp style (EISA Tier 2 Compliant)",20,"Halogen",1.5,"Y"]
["I57/1","Incandescent",1,57,null,null,"Incandescent, (1) 57W  any lamp style (EISA Tier 2 Compliant)",20,"Halogen",1.5,"Y"]
["I58/1","Incandescent",1,58,null,null,"Incandescent, (1) 58W  any lamp style (EISA Tier 2 Compliant)",20,"Halogen",1.5,"Y"]
["I59/1","Incandescent",1,59,null,null,"Incandescent, (1) 59W  any lamp style (EISA Tier 2 Compliant)",20,"Halogen",1.5,"Y"]
["I60S/1","Incandescent",1,60,null,null,"Incandescent, (1) 60W  EISA-exempt lamp type",60,"Halogen",1.5,"Y"]
["I60/1","Incandescent",1,60,null,null,"Incandescent, (1) 60W  any lamp style (EISA Tier 2 Compliant)",20,"Halogen",1.5,"Y"]
["I61/1","Incandescent",1,61,null,null,"Incandescent, (1) 61W  any lamp style (EISA Tier 2 Compliant)",20,"Halogen",1.5,"Y"]
["I62/1","Incandescent",1,62,null,null,"Incandescent, (1) 62W  any lamp style (EISA Tier 2 Compliant)",20,"Halogen",1.5,"Y"]
["I63/1","Incandescent",1,63,null,null,"Incandescent, (1) 63W  any lamp style (EISA Tier 2 Compliant)",20,"Halogen",1.5,"Y"]
["I64/1","Incandescent",1,64,null,null,"Incandescent, (1) 64W  any lamp style (EISA Tier 2 Compliant)",20,"Halogen",1.5,"Y"]
["I65/1","Incandescent",1,65,null,null,"Incandescent, (1) 65W  any lamp style (EISA Tier 2 Compliant)",20,"Halogen",1.5,"Y"]
["I66/1","Incandescent",1,66,null,null,"Incandescent, (1) 66W  any lamp style (EISA Tier 2 Compliant)",20,"Halogen",1.5,"Y"]
["I67/1","Incandescent",1,67,null,null,"Incandescent, (1) 67W  any lamp style (EISA Tier 2 Compliant)",20,"Halogen",1.5,"Y"]
["I68/1","Incandescent",1,68,null,null,"Incandescent, (1) 68W  any lamp style (EISA Tier 2 Compliant)",28,"Halogen",1.5,"Y"]
["I69/1","Incandescent",1,69,null,null,"Incandescent, (1) 69W  any lamp style (EISA Tier 2 Compliant)",28,"Halogen",1.5,"Y"]
["I70/1","Incandescent",1,70,null,null,"Incandescent, (1) 70W  any lamp style (EISA Tier 2 Compliant)",28,"Halogen",1.5,"Y"]
["I71/1","Incandescent",1,71,null,null,"Incandescent, (1) 71W  any lamp style (EISA Tier 2 Compliant)",28,"Halogen",1.5,"Y"]
["I72/1","Incandescent",1,72,null,null,"Incandescent, (1) 72W  any lamp style (EISA Tier 2 Compliant)",28,"Halogen",1.5,"Y"]
["I73/1","Incandescent",1,73,null,null,"Incandescent, (1) 73W  any lamp style (EISA Tier 2 Compliant)",28,"Halogen",1.5,"Y"]
["I74/1","Incandescent",1,74,null,null,"Incandescent, (1) 74W  any lamp style (EISA Tier 2 Compliant)",28,"Halogen",1.5,"Y"]
["I75S/1","Incandescent",1,75,null,null,"Incandescent, (1) 75W  EISA-exempt lamp type",75,"Halogen",1.5,"Y"]
["I75/1","Incandescent",1,75,null,null,"Incandescent, (1) 75W  any lamp style (EISA Tier 2 Compliant)",28,"Halogen",1.5,"Y"]
["I80/1","Incandescent",1,80,null,null,"Incandescent, (1) 80W  any lamp style (EISA Tier 2 Compliant)",28,"Halogen",1.5,"Y"]
["I85/1","Incandescent",1,85,null,null,"Incandescent, (1) 85W  any lamp style (EISA Tier 2 Compliant)",28,"Halogen",1.5,"Y"]
["I90/1","Incandescent",1,90,null,null,"Incandescent, (1) 90W  any lamp style (EISA Tier 2 Compliant)",45,"Halogen",1.5,"Y"]
["I93/1","Incandescent",1,93,null,null,"Incandescent, (1) 93W  any lamp style (EISA Tier 2 Compliant)",45,"Halogen",1.5,"Y"]
["I95/1","Incandescent",1,95,null,null,"Incandescent, (1) 95W  any lamp style (EISA Tier 2 Compliant)",45,"Halogen",1.5,"Y"]
["I100S/1","Incandescent",1,100,null,null,"Incandescent, (1) 100W  EISA-exempt lamp type",100,"Halogen",1.5,"Y"]
["I100/1","Incandescent",1,100,null,null,"Incandescent, (1) 100W  any lamp style (EISA Tier 2 Compliant)",45,"Halogen",1.5,"Y"]
["I110/1","Incandescent",1,110,null,null,"Incandescent, (1) 110W  any lamp style (EISA Tier 2 Compliant)",45,"Halogen",1.5,"Y"]
["I116/1","Incandescent",1,116,null,null,"Incandescent, (1) 116W  any lamp style (EISA Tier 2 Compliant)",45,"Halogen",1.5,"Y"]
["I120/1","Incandescent",1,120,null,null,"Incandescent, (1) 120W  any lamp style (EISA Tier 2 Compliant)",45,"Halogen",1.5,"Y"]
["I125/1","Incandescent",1,125,null,null,"Incandescent, (1) 125W  any lamp style (EISA Tier 2 Compliant)",66,"Halogen",1.5,"Y"]
["I130/1","Incandescent",1,130,null,null,"Incandescent, (1) 130W  any lamp style (EISA Tier 2 Compliant)",66,"Halogen",1.5,"Y"]
["I135/1","Incandescent",1,135,null,null,"Incandescent, (1) 135W  any lamp style (EISA Tier 2 Compliant)",66,"Halogen",1.5,"Y"]
["I150S/1","Incandescent",1,150,null,null,"Incandescent, (1) 150W  EISA-exempt lamp type",150,"Halogen",1.5,"Y"]
["I150/1","Incandescent",1,150,null,null,"Incandescent, (1) 150W  any lamp style (EISA Tier 2 Compliant)",66,"Halogen",1.5,"Y"]
["I160/1","Incandescent",1,160,null,null,"Incandescent, (1) 160W  any lamp style",160,"Halogen",1.5,"Y"]
["I170/1","Incandescent",1,170,null,null,"Incandescent, (1) 170W  any lamp style",170,"Halogen",1.5,"Y"]
["I200/1","Incandescent",1,200,null,null,"Incandescent, (1) 200W  any lamp style",200,"Halogen",1.5,"Y"]
["I250/1","Incandescent",1,250,null,null,"Incandescent, (1) 250W  any lamp style",250,"Halogen",1.5,"Y"]
["I300/1","Incandescent",1,300,null,null,"Incandescent, (1) 300W  any lamp style",300,"Halogen",1.5,"Y"]
["I400/1","Incandescent",1,400,null,null,"Incandescent, (1) 400W  any lamp style",400,"Halogen",1.5,"Y"]
["I448/1","Incandescent",1,448,null,null,"Incandescent, (1) 448W  any lamp style",448,"Halogen",1.5,"Y"]
["I500/1","Incandescent",1,500,null,null,"Incandescent, (1) 500W  any lamp style",500,"Halogen",1.5,"Y"]
["I750/1","Incandescent",1,750,null,null,"Incandescent, (1) 750W  any lamp style",750,"Halogen",1.5,"Y"]
["I1000/1","Incandescent",1,1000,null,null,"Incandescent, (1) 1000W  any lamp style",1000,"Halogen",1.5,"Y"]
["I1500/1","Incandescent",1,1500,null,null,"Incandescent, (1) 1500W  any lamp style",1500,"Halogen",1.5,"Y"]
["I2000/1","Incandescent",1,2000,null,null,"Incandescent, (1) 2000W  any lamp style",2000,"Halogen",1.5,"Y"]
["MH20/1","Metal Halide",1,20,null,"Magnetic","Metal Halide, (1) 20W lamp, magnetic ballast",23,"High Intensity Discharge (HID)",15,"Y"]
["MH22/1","Metal Halide",1,22,null,"Magnetic","Metal Halide, (1) 22W lamp, magnetic ballast",26,"High Intensity Discharge (HID)",15,"Y"]
["MH32/1","Metal Halide",1,32,null,"Magnetic","Metal Halide, (1) 32W lamp, magnetic ballast",42,"High Intensity Discharge (HID)",15,"Y"]
["MH39/1","Metal Halide",1,39,null,"Magnetic","Metal Halide, (1) 39W lamp, magnetic ballast",51,"High Intensity Discharge (HID)",15,"Y"]
["MH50/1","Metal Halide",1,50,null,"Magnetic","Metal Halide, (1) 50W lamp, magnetic ballast",64,"High Intensity Discharge (HID)",15,"Y"]
["MH70/1","Metal Halide",1,70,null,"Magnetic","Metal Halide, (1) 70W lamp, magnetic ballast",91,"High Intensity Discharge (HID)",15,"Y"]
["MH100/1","Metal Halide",1,100,null,"Magnetic","Metal Halide, (1) 100W lamp, magnetic ballast",124,"High Intensity Discharge (HID)",15,"Y"]
["MH125/1","Metal Halide",1,125,null,"Magnetic","Metal Halide, (1) 125W lamp, magnetic ballast",148,"High Intensity Discharge (HID)",15,"Y"]
["MH150/1","Metal Halide",1,150,null,"Magnetic","Metal Halide, (1) 150W lamp, magnetic ballast",183,"High Intensity Discharge (HID)",15,"Y"]
["MH175/1","Metal Halide",1,175,null,"Magnetic","Metal Halide, (1) 175W lamp, magnetic ballast",208,"High Intensity Discharge (HID)",15,"Y"]
["MH200/1","Metal Halide",1,200,null,"Magnetic","Metal Halide, (1) 200W lamp, magnetic ballast",228,"High Intensity Discharge (HID)",15,"Y"]
["MH250/1","Metal Halide",1,250,null,"Magnetic","Metal Halide, (1) 250W lamp, magnetic ballast",288,"High Intensity Discharge (HID)",15,"Y"]
["MH320/1","Metal Halide",1,320,null,"Magnetic","Metal Halide, (1) 320W lamp, magnetic ballast",362,"High Intensity Discharge (HID)",15,"Y"]
["MH350/1","Metal Halide",1,350,null,"Magnetic","Metal Halide, (1) 350W lamp, magnetic ballast",391,"High Intensity Discharge (HID)",15,"Y"]
["MH360/1","Metal Halide",1,360,null,"Magnetic","Metal Halide, (1) 360W lamp, magnetic ballast",418,"High Intensity Discharge (HID)",15,"Y"]
["MH400/1","Metal Halide",1,400,null,"Magnetic","Metal Halide, (1) 400W lamp, magnetic ballast",453,"High Intensity Discharge (HID)",15,"Y"]
["MH450/1","Metal Halide",1,450,null,"Magnetic","Metal Halide, (1) 450W lamp, magnetic ballast",499,"High Intensity Discharge (HID)",15,"Y"]
["MH575/1","Metal Halide",1,575,null,"Magnetic","Metal Halide, (1) 575W lamp, magnetic ballast",630,"High Intensity Discharge (HID)",15,"Y"]
["MH750/1","Metal Halide",1,750,null,"Magnetic","Metal Halide, (1) 750W lamp, magnetic ballast",812,"High Intensity Discharge (HID)",15,"Y"]
["MH775/1","Metal Halide",1,775,null,"Magnetic","Metal Halide, (1) 775W lamp, magnetic ballast",843,"High Intensity Discharge (HID)",15,"Y"]
["MH875/1","Metal Halide",1,875,null,"Magnetic","Metal Halide, (1) 875W lamp, magnetic ballast",939,"High Intensity Discharge (HID)",15,"Y"]
["MH1000/1","Metal Halide",1,1000,null,"Magnetic","Metal Halide, (1) 1000W lamp, magnetic ballast",1078,"High Intensity Discharge (HID)",15,"Y"]
["MH1500/1","Metal Halide",1,1500,null,"Magnetic","Metal Halide, (1) 1500W lamp, magnetic ballast",1605,"High Intensity Discharge (HID)",15,"Y"]
["MH1650/1","Metal Halide",1,1650,null,"Magnetic","Metal Halide, (1) 1650W lamp, magnetic ballast",1765,"High Intensity Discharge (HID)",15,"Y"]
["MH2000/1","Metal Halide",1,2000,null,"Magnetic","Metal Halide, (1) 2000W lamp, magnetic ballast",2140,"High Intensity Discharge (HID)",15,"Y"]
["MV40/1","Mercury Vapor",1,40,null,null,"Mercury Vapor, (1) 40W lamp",50,"High Intensity Discharge (HID)",15,"Y"]
["MV50/1","Mercury Vapor",1,50,null,null,"Mercury Vapor, (1) 50W lamp",74,"High Intensity Discharge (HID)",15,"Y"]
["MV75/1","Mercury Vapor",1,75,null,null,"Mercury Vapor, (1) 75W lamp",93,"High Intensity Discharge (HID)",15,"Y"]
["MV100/1","Mercury Vapor",1,100,null,null,"Mercury Vapor, (1) 100W lamp",125,"High Intensity Discharge (HID)",15,"Y"]
["MV160/1","Mercury Vapor",1,160,null,null,"Mercury Vapor, (1) 100W lamp",160,"High Intensity Discharge (HID)",15,"Y"]
["MV175/1","Mercury Vapor",1,175,null,null,"Mercury Vapor, (1) 175W lamp",205,"High Intensity Discharge (HID)",15,"Y"]
["MV250/1","Mercury Vapor",1,250,null,null,"Mercury Vapor, (1) 250W lamp",290,"High Intensity Discharge (HID)",15,"Y"]
["MV400/1","Mercury Vapor",1,400,null,null,"Mercury Vapor, (1) 400W lamp",455,"High Intensity Discharge (HID)",15,"Y"]
["MV700/1","Mercury Vapor",1,700,null,null,"Mercury Vapor, (1) 700W lamp",780,"High Intensity Discharge (HID)",15,"Y"]
["MV1000/1","Mercury Vapor",1,1000,null,null,"Mercury Vapor, (1) 1000W lamp",1075,"High Intensity Discharge (HID)",15,"Y"]
["Removed","Removed",null,null,null,null,"Removed Fixture",0,"Removed",null,"Y"]
[]
[]
[]
[]
[]
[]
[]
[]
[]
[]
[]
[]
[]
[]
[]
[]
[]
[]
[]
[]
[]
[]
[]
[]
[]
[]
[]
[]
[]
[]
[]
[]
[]
[]
[]
[]
[]
[]
[]
[]
[]
[]
[]
[]
[]
[]
[]
[]
[]
[]
[]
[]
[]
[]
[]
[]
[]
[]
[]
[]
[]
[]
[]
[]
[]
[]
[]
[]
[]
[]
[]
[]
[]
[]
[]
[]
[]
[]
[]
[]
[]
[]
[]
[]
[]
[]
[]
[]
[]
[]
[]
[]
[]
[]
[]
[]
[]
[]
[]
[]
[]
[]
[]
[]
[]
[]
[]
[]
[]
[]
[]
[]
[]
[]
[]
[]
[]
[]
[]
[]
[]
[]
[]
[]
[]
[]
[]
[]
[]
[]
[]
[]
[]
[]
[]
[]
[]
[]
[]
[]
[]
[]
[]
[]
[]
[]
[]
[]
[]
[]
[]
[]
[]
[]
[]
[]
[]
[]
[]
[]
[]
[]
[]
[]
[]
[]
[]
[]
[]
[]
[]
[]
[]
[]
[]
[]
[]
[]
[]
[]
[]
[]
[]
[]
[]
[]
[]
[]
[]
[]
[]
[]
[]
[]
[]
[]
[]
[]
[]
[]
[]
[]
[]
[]
[]
[]
[]
[]
[]
[]
[]
[]
[]
[]
[]
[]
[]
[]
[]
[]
[]
[]
[]
[]
[]
[]
[]
[]
[]
[]
[]
[]
[]
[]
[]
[]
[]
[]
[]
[]
[]
[]
[]
[]
[]
[]
[]
[]
[]
[]
[]
[]
[]
[]
[]
[]
[]
[]
[]
[]
[]
[]
[]
[]
[]
[]
[]
[]
[]
[]
[]
[]
[{"$f":"IF('Fixture Schedule'!C9=\"\",\"\",'Fixture Schedule'!C9)","v":""}]
[{"$f":"IF('Fixture Schedule'!C10=\"\",\"\",'Fixture Schedule'!C10)","v":""}]
[{"$f":"IF('Fixture Schedule'!C11=\"\",\"\",'Fixture Schedule'!C11)","v":""}]
[{"$f":"IF('Fixture Schedule'!C12=\"\",\"\",'Fixture Schedule'!C12)","v":""}]
[{"$f":"IF('Fixture Schedule'!C13=\"\",\"\",'Fixture Schedule'!C13)","v":""}]
[{"$f":"IF('Fixture Schedule'!C14=\"\",\"\",'Fixture Schedule'!C14)","v":""}]
[{"$f":"IF('Fixture Schedule'!C15=\"\",\"\",'Fixture Schedule'!C15)","v":""}]
[{"$f":"IF('Fixture Schedule'!C16=\"\",\"\",'Fixture Schedule'!C16)","v":""}]
[{"$f":"IF('Fixture Schedule'!C17=\"\",\"\",'Fixture Schedule'!C17)","v":""}]
[{"$f":"IF('Fixture Schedule'!C18=\"\",\"\",'Fixture Schedule'!C18)","v":""}]
[{"$f":"IF('Fixture Schedule'!C19=\"\",\"\",'Fixture Schedule'!C19)","v":""}]
[{"$f":"IF('Fixture Schedule'!C20=\"\",\"\",'Fixture Schedule'!C20)","v":""}]
[{"$f":"IF('Fixture Schedule'!C21=\"\",\"\",'Fixture Schedule'!C21)","v":""}]
[{"$f":"IF('Fixture Schedule'!C22=\"\",\"\",'Fixture Schedule'!C22)","v":""}]
[{"$f":"IF('Fixture Schedule'!C23=\"\",\"\",'Fixture Schedule'!C23)","v":""}]
[{"$f":"IF('Fixture Schedule'!C24=\"\",\"\",'Fixture Schedule'!C24)","v":""}]
[{"$f":"IF('Fixture Schedule'!C25=\"\",\"\",'Fixture Schedule'!C25)","v":""}]
[{"$f":"IF('Fixture Schedule'!C26=\"\",\"\",'Fixture Schedule'!C26)","v":""}]
[{"$f":"IF('Fixture Schedule'!C27=\"\",\"\",'Fixture Schedule'!C27)","v":""}]
[{"$f":"IF('Fixture Schedule'!C28=\"\",\"\",'Fixture Schedule'!C28)","v":""}]
[{"$f":"IF('Fixture Schedule'!C29=\"\",\"\",'Fixture Schedule'!C29)","v":""}]
[{"$f":"IF('Fixture Schedule'!C30=\"\",\"\",'Fixture Schedule'!C30)","v":""}]
[{"$f":"IF('Fixture Schedule'!C31=\"\",\"\",'Fixture Schedule'!C31)","v":""}]
[{"$f":"IF('Fixture Schedule'!C32=\"\",\"\",'Fixture Schedule'!C32)","v":""}]
[{"$f":"IF('Fixture Schedule'!C33=\"\",\"\",'Fixture Schedule'!C33)","v":""}]
[{"$f":"IF('Fixture Schedule'!C34=\"\",\"\",'Fixture Schedule'!C34)","v":""}]
[{"$f":"IF('Fixture Schedule'!C35=\"\",\"\",'Fixture Schedule'!C35)","v":""}]
[{"$f":"IF('Fixture Schedule'!C36=\"\",\"\",'Fixture Schedule'!C36)","v":""}]
[{"$f":"IF('Fixture Schedule'!C37=\"\",\"\",'Fixture Schedule'!C37)","v":""}]
[{"$f":"IF('Fixture Schedule'!C38=\"\",\"\",'Fixture Schedule'!C38)","v":""}]
[{"$f":"IF('Fixture Schedule'!C39=\"\",\"\",'Fixture Schedule'!C39)","v":""}]
[{"$f":"IF('Fixture Schedule'!C40=\"\",\"\",'Fixture Schedule'!C40)","v":""}]
[{"$f":"IF('Fixture Schedule'!C41=\"\",\"\",'Fixture Schedule'!C41)","v":""}]
[{"$f":"IF('Fixture Schedule'!C42=\"\",\"\",'Fixture Schedule'!C42)","v":""}]
[{"$f":"IF('Fixture Schedule'!C43=\"\",\"\",'Fixture Schedule'!C43)","v":""}]
[{"$f":"IF('Fixture Schedule'!C44=\"\",\"\",'Fixture Schedule'!C44)","v":""}]
[{"$f":"IF('Fixture Schedule'!C45=\"\",\"\",'Fixture Schedule'!C45)","v":""}]
[{"$f":"IF('Fixture Schedule'!C46=\"\",\"\",'Fixture Schedule'!C46)","v":""}]
[{"$f":"IF('Fixture Schedule'!C47=\"\",\"\",'Fixture Schedule'!C47)","v":""}]
[{"$f":"IF('Fixture Schedule'!C48=\"\",\"\",'Fixture Schedule'!C48)","v":""}]
[{"$f":"IF('Fixture Schedule'!C49=\"\",\"\",'Fixture Schedule'!C49)","v":""}]
[{"$f":"IF('Fixture Schedule'!C50=\"\",\"\",'Fixture Schedule'!C50)","v":""}]
[{"$f":"IF('Fixture Schedule'!C51=\"\",\"\",'Fixture Schedule'!C51)","v":""}]
[{"$f":"IF('Fixture Schedule'!C52=\"\",\"\",'Fixture Schedule'!C52)","v":""}]
[{"$f":"IF('Fixture Schedule'!C53=\"\",\"\",'Fixture Schedule'!C53)","v":""}]
[{"$f":"IF('Fixture Schedule'!C54=\"\",\"\",'Fixture Schedule'!C54)","v":""}]
[{"$f":"IF('Fixture Schedule'!C55=\"\",\"\",'Fixture Schedule'!C55)","v":""}]
[{"$f":"IF('Fixture Schedule'!C56=\"\",\"\",'Fixture Schedule'!C56)","v":""}]
[{"$f":"IF('Fixture Schedule'!C57=\"\",\"\",'Fixture Schedule'!C57)","v":""}]
[{"$f":"IF('Fixture Schedule'!C58=\"\",\"\",'Fixture Schedule'!C58)","v":""}]

{"sheet":"Control Descriptions","index":8,"n_rows":17,"n_cols":7,"rows_kept":17,"cut":false,"hidden":false,"merged":[]}
[]
[null,"Control Code","Description"]
[null,"None","No controls measures",null,null,"None","No controls measures"]
[null,"OS","Occupancy Sensor",null,null,"OS","Occupancy Sensor"]
[null,"Daylighting","Daylighting Controls",null,null,"DC-cont","Daylighting Control - Continuous Dimming"]
[null,"PT","Personal Tuning",null,null,"DC-step","Daylighting Control - Multiple Step Dimming"]
[null,"IT","Institutional Tuning",null,null,"Indoor DC-on/off","Daylighting Control - ON/OFF (Indoor Photosensor)"]
[null,"Multiple","Multiple - any combination of above types",null,null,"Outdoor DC-on/off","Daylighting Control - ON/OFF (Outdoor Photosensor)"]
[null,null,null,null,null,"Daylighting","Daylighting Controls"]
[null,null,null,null,null,"PT","Personal Tuning"]
[null,null,null,null,null,"IT","Institutional Tuning"]
[null,null,null,null,null,"Multiple","Multiple - any combination of above types"]
[null,"Term","Definition","Examples"]
[null,"Occupancy Sensor","Adjusting light levels according to the presence of occupants","Wall or Ceiling-Mounted Occupancy Sensors\nIntegrated Fixture Occupancy Sensors\nTime Clocks\nEnergy Management Systems"]
[null,"Daylighting Control","Adjusting light levels automatically in response to the presence of natural light","Photosensors"]
[null,"Personal Tuning","Adjusting individual light levels by occupants according to their personal preference; applies to private offices, workstation-specific lighting in open-plan offices and classrooms","Dimmers\nWireless ON/OFF switches\nPersonal computer based controls\nPre-set scene selection"]
[null,"Institutional Tuning","Adjustment of light levels through commissioning or provision of switches or controls for areas or groups of occupants","Dimmable ballasts\nOn/off or dimmer switches for non-personal tuning"]

{"sheet":"Inspection Form","index":9,"n_rows":1504,"n_cols":89,"rows_kept":1125,"cut":true,"hidden":true,"merged":[[1497,3,1497,4],[1498,3,1498,4],[1499,3,1499,4],[1500,3,1500,4],[1501,3,1501,4],[1502,3,1502,4],[1503,3,1503,4],[1480,3,1480,4],[1481,3,1481,4],[1482,3,1482,4],[1483,3,1483,4],[1484,3,1484,4],[1485,3,1485,4],[1486,3,1486,4],[1487,3,1487,4],[1488,3,1488,4],[1489,3,1489,4],[1490,3,1490,4],[1491,3,1491,4],[1492,3,1492,4],[1493,3,1493,4],[1494,3,1494,4],[1495,3,1495,4],[1496,3,1496,4],[1463,3,1463,4],[1464,3,1464,4],[1465,3,1465,4],[1466,3,1466,4],[1467,3,1467,4],[1468,3,1468,4],[1469,3,1469,4],[1470,3,1470,4],[1471,3,1471,4],[1472,3,1472,4],[1473,3,1473,4],[1474,3,1474,4],[1475,3,1475,4],[1476,3,1476,4],[1477,3,1477,4],[1478,3,1478,4],[1479,3,1479,4],[1446,3,1446,4],[1447,3,1447,4],[1448,3,1448,4],[1449,3,1449,4],[1450,3,1450,4],[1451,3,1451,4],[1452,3,1452,4],[1453,3,1453,4],[1454,3,1454,4],[1455,3,1455,4],[1456,3,1456,4],[1457,3,1457,4],[1458,3,1458,4],[1459,3,1459,4],[1460,3,1460,4],[1461,3,1461,4],[1462,3,1462,4],[1429,3,1429,4],[1430,3,1430,4],[1431,3,1431,4],[1432,3,1432,4],[1433,3,1433,4],[1434,3,1434,4],[1435,3,1435,4],[1436,3,1436,4],[1437,3,1437,4],[1438,3,1438,4],[1439,3,1439,4],[1440,3,1440,4],[1441,3,1441,4],[1442,3,1442,4],[1443,3,1443,4],[1444,3,1444,4],[1445,3,1445,4],[1412,3,1412,4],[1413,3,1413,4],[1414,3,1414,4],[1415,3,1415,4],[1416,3,1416,4],[1417,3,1417,4],[1418,3,1418,4],[1419,3,1419,4],[1420,3,1420,4],[1421,3,1421,4],[1422,3,1422,4],[1423,3,1423,4],[1424,3,1424,4],[1425,3,1425,4],[1426,3,1426,4],[1427,3,1427,4],[1428,3,1428,4],[1395,3,1395,4],[1396,3,1396,4],[1397,3,1397,4],[1398,3,1398,4],[1399,3,1399,4],[1400,3,1400,4],[1401,3,1401,4],[1402,3,1402,4],[1403,3,1403,4],[1404,3,1404,4],[1405,3,1405,4],[1406,3,1406,4],[1407,3,1407,4],[1408,3,1408,4],[1409,3,1409,4],[1410,3,1410,4],[1411,3,1411,4],[1378,3,1378,4],[1379,3,1379,4],[1380,3,1380,4],[1381,3,1381,4],[1382,3,1382,4],[1383,3,1383,4],[1384,3,1384,4],[1385,3,1385,4],[1386,3,1386,4],[1387,3,1387,4],[1388,3,1388,4],[1389,3,1389,4],[1390,3,1390,4],[1391,3,1391,4],[1392,3,1392,4],[1393,3,1393,4],[1394,3,1394,4],[1361,3,1361,4],[1362,3,1362,4],[1363,3,1363,4],[1364,3,1364,4],[1365,3,1365,4],[1366,3,1366,4],[1367,3,1367,4],[1368,3,1368,4],[1369,3,1369,4],[1370,3,1370,4],[1371,3,1371,4],[1372,3,1372,4],[1373,3,1373,4],[1374,3,1374,4],[1375,3,1375,4],[1376,3,1376,4],[1377,3,1377,4],[1344,3,1344,4],[1345,3,1345,4],[1346,3,1346,4],[1347,3,1347,4],[1348,3,1348,4],[1349,3,1349,4],[1350,3,1350,4],[1351,3,1351,4],[1352,3,1352,4],[1353,3,1353,4],[1354,3,1354,4],[1355,3,1355,4],[1356,3,1356,4],[1357,3,1357,4],[1358,3,1358,4],[1359,3,1359,4],[1360,3,1360,4],[1327,3,1327,4],[1328,3,1328,4],[1329,3,1329,4],[1330,3,1330,4],[1331,3,1331,4],[1332,3,1332,4],[1333,3,1333,4],[1334,3,1334,4],[1335,3,1335,4],[1336,3,1336,4],[1337,3,1337,4],[1338,3,1338,4],[1339,3,1339,4],[1340,3,1340,4],[1341,3,1341,4],[1342,3,1342,4],[1343,3,1343,4],[1310,3,1310,4],[1311,3,1311,4],[1312,3,1312,4],[1313,3,1313,4],[1314,3,1314,4],[1315,3,1315,4],[1316,3,1316,4],[1317,3,1317,4],[1318,3,1318,4],[1319,3,1319,4],[1320,3,1320,4],[1321,3,1321,4],[1322,3,1322,4],[1323,3,1323,4],[1324,3,1324,4],[1325,3,1325,4],[1326,3,1326,4],[1293,3,1293,4],[1294,3,1294,4],[1295,3,1295,4],[1296,3,1296,4],[1297,3,1297,4],[1298,3,1298,4],[1299,3,1299,4],[1300,3,1300,4],[1301,3,1301,4],[1302,3,1302,4],[1303,3,1303,4],[1304,3,1304,4],[1305,3,1305,4],[1306,3,1306,4],[1307,3,1307,4],[1308,3,1308,4],[1309,3,1309,4],[1276,3,1276,4],[1277,3,1277,4],[1278,3,1278,4],[1279,3,1279,4],[1280,3,1280,4],[1281,3,1281,4],[1282,3,1282,4],[1283,3,1283,4],[1284,3,1284,4],[1285,3,1285,4],[1286,3,1286,4],[1287,3,1287,4],[1288,3,1288,4],[1289,3,1289,4],[1290,3,1290,4],[1291,3,1291,4],[1292,3,1292,4],[1259,3,1259,4],[1260,3,1260,4],[1261,3,1261,4],[1262,3,1262,4],[1263,3,1263,4],[1264,3,1264,4],[1265,3,1265,4],[1266,3,1266,4],[1267,3,1267,4],[1268,3,1268,4],[1269,3,1269,4],[1270,3,1270,4],[1271,3,1271,4],[1272,3,1272,4],[1273,3,1273,4],[1274,3,1274,4],[1275,3,1275,4],[1242,3,1242,4],[1243,3,1243,4],[1244,3,1244,4],[1245,3,1245,4],[1246,3,1246,4],[1247,3,1247,4],[1248,3,1248,4],[1249,3,1249,4],[1250,3,1250,4],[1251,3,1251,4],[1252,3,1252,4],[1253,3,1253,4],[1254,3,1254,4],[1255,3,1255,4],[1256,3,1256,4],[1257,3,1257,4],[1258,3,1258,4],[1225,3,1225,4],[1226,3,1226,4],[1227,3,1227,4],[1228,3,1228,4],[1229,3,1229,4],[1230,3,1230,4],[1231,3,1231,4],[1232,3,1232,4],[1233,3,1233,4],[1234,3,1234,4],[1235,3,1235,4],[1236,3,1236,4],[1237,3,1237,4],[1238,3,1238,4],[1239,3,1239,4],[1240,3,1240,4],[1241,3,1241,4],[1208,3,1208,4],[1209,3,1209,4],[1210,3,1210,4],[1211,3,1211,4],[1212,3,1212,4],[1213,3,1213,4],[1214,3,1214,4],[1215,3,1215,4],[1216,3,1216,4],[1217,3,1217,4],[1218,3,1218,4],[1219,3,1219,4],[1220,3,1220,4],[1221,3,1221,4],[1222,3,1222,4],[1223,3,1223,4],[1224,3,1224,4],[1191,3,1191,4],[1192,3,1192,4],[1193,3,1193,4],[1194,3,1194,4],[1195,3,1195,4],[1196,3,1196,4],[1197,3,1197,4],[1198,3,1198,4],[1199,3,1199,4],[1200,3,1200,4],[1201,3,1201,4],[1202,3,1202,4],[1203,3,1203,4],[1204,3,1204,4],[1205,3,1205,4],[1206,3,1206,4],[1207,3,1207,4],[1174,3,1174,4],[1175,3,1175,4],[1176,3,1176,4],[1177,3,1177,4],[1178,3,1178,4],[1179,3,1179,4],[1180,3,1180,4],[1181,3,1181,4],[1182,3,1182,4],[1183,3,1183,4],[1184,3,1184,4],[1185,3,1185,4],[1186,3,1186,4],[1187,3,1187,4],[1188,3,1188,4],[1189,3,1189,4],[1190,3,1190,4],[1157,3,1157,4],[1158,3,1158,4],[1159,3,1159,4],[1160,3,1160,4],[1161,3,1161,4],[1162,3,1162,4],[1163,3,1163,4],[1164,3,1164,4],[1165,3,1165,4],[1166,3,1166,4],[1167,3,1167,4],[1168,3,1168,4],[1169,3,1169,4],[1170,3,1170,4],[1171,3,1171,4],[1172,3,1172,4],[1173,3,1173,4],[1140,3,1140,4],[1141,3,1141,4],[1142,3,1142,4],[1143,3,1143,4],[1144,3,1144,4],[1145,3,1145,4],[1146,3,1146,4],[1147,3,1147,4],[1148,3,1148,4],[1149,3,1149,4],[1150,3,1150,4],[1151,3,1151,4],[1152,3,1152,4],[1153,3,1153,4],[1154,3,1154,4],[1155,3,1155,4],[1156,3,1156,4],[1123,3,1123,4],[1124,3,1124,4],[1125,3,1125,4],[1126,3,1126,4],[1127,3,1127,4],[1128,3,1128,4],[1129,3,1129,4],[1130,3,1130,4],[1131,3,1131,4],[1132,3,1132,4],[1133,3,1133,4],[1134,3,1134,4],[1135,3,1135,4],[1136,3,1136,4],[1137,3,1137,4],[1138,3,1138,4],[1139,3,1139,4],[1106,3,1106,4],[1107,3,1107,4],[1108,3,1108,4],[1109,3,1109,4],[1110,3,1110,4],[1111,3,1111,4],[1112,3,1112,4],[1113,3,1113,4],[1114,3,1114,4],[1115,3,1115,4],[1116,3,1116,4],[1117,3,1117,4],[1118,3,1118,4],[1119,3,1119,4],[1120,3,1120,4],[1121,3,1121,4],[1122,3,1122,4],[1089,3,1089,4],[1090,3,1090,4],[1091,3,1091,4],[1092,3,1092,4],[1093,3,1093,4],[1094,3,1094,4],[1095,3,1095,4],[1096,3,1096,4],[1097,3,1097,4],[1098,3,1098,4],[1099,3,1099,4],[1100,3,1100,4],[1101,3,1101,4],[1102,3,1102,4],[1103,3,1103,4],[1104,3,1104,4],[1105,3,1105,4],[1072,3,1072,4],[1073,3,1073,4],[1074,3,1074,4],[1075,3,1075,4],[1076,3,1076,4],[1077,3,1077,4],[1078,3,1078,4],[1079,3,1079,4],[1080,3,1080,4],[1081,3,1081,4],[1082,3,1082,4],[1083,3,1083,4],[1084,3,1084,4],[1085,3,1085,4],[1086,3,1086,4],[1087,3,1087,4],[1088,3,1088,4],[1055,3,1055,4],[1056,3,1056,4],[1057,3,1057,4],[1058,3,1058,4],[1059,3,1059,4],[1060,3,1060,4],[1061,3,1061,4],[1062,3,1062,4],[1063,3,1063,4],[1064,3,1064,4],[1065,3,1065,4],[1066,3,1066,4],[1067,3,1067,4],[1068,3,1068,4],[1069,3,1069,4],[1070,3,1070,4],[1071,3,1071,4],[1038,3,1038,4],[1039,3,1039,4],[1040,3,1040,4],[1041,3,1041,4],[1042,3,1042,4],[1043,3,1043,4],[1044,3,1044,4],[1045,3,1045,4],[1046,3,1046,4],[1047,3,1047,4],[1048,3,1048,4],[1049,3,1049,4],[1050,3,1050,4],[1051,3,1051,4],[1052,3,1052,4],[1053,3,1053,4],[1054,3,1054,4],[1021,3,1021,4],[1022,3,1022,4],[1023,3,1023,4],[1024,3,1024,4],[1025,3,1025,4],[1026,3,1026,4],[1027,3,1027,4],[1028,3,1028,4],[1029,3,1029,4],[1030,3,1030,4],[1031,3,1031,4],[1032,3,1032,4],[1033,3,1033,4],[1034,3,1034,4],[1035,3,1035,4],[1036,3,1036,4],[1037,3,1037,4],[1004,3,1004,4],[1005,3,1005,4],[1006,3,1006,4],[1007,3,1007,4],[1008,3,1008,4],[1009,3,1009,4],[1010,3,1010,4],[1011,3,1011,4],[1012,3,1012,4],[1013,3,1013,4],[1014,3,1014,4],[1015,3,1015,4],[1016,3,1016,4],[1017,3,1017,4],[1018,3,1018,4],[1019,3,1019,4],[1020,3,1020,4],[572,21,572,22],[573,21,573,22],[574,21,574,22],[563,23,563,24],[564,23,564,24],[565,23,565,24],[566,23,566,24],[567,23,567,24],[568,23,568,24],[569,23,569,24],[570,23,570,24],[571,23,571,24],[572,23,572,24],[573,23,573,24],[574,23,574,24],[552,23,554,24],[552,21,553,22],[554,21,554,22],[555,21,555,22],[556,21,556,22],[557,21,557,22],[558,21,558,22],[559,21,559,22],[560,21,560,22],[561,21,561,22],[562,21,562,22],[563,21,563,22],[564,21,564,22],[565,21,565,22],[566,21,566,22],[567,21,567,22],[568,21,568,22],[569,21,569,22],[570,21,570,22],[571,21,571,22],[555,25,555,29],[556,25,556,29],[557,25,557,29],[558,25,558,29],[559,25,559,29],[560,25,560,29],[561,25,561,29],[562,25,562,29],[563,25,563,29],[564,25,564,29],[565,25,565,29],[566,25,566,29],[567,25,567,29],[568,25,568,29],[569,25,569,29],[570,25,570,29],[571,25,571,29],[572,25,572,29],[573,25,573,29],[574,25,574,29],[555,23,555,24],[556,23,556,24],[557,23,557,24],[558,23,558,24],[559,23,559,24],[560,23,560,24],[561,23,561,24],[562,23,562,24],[552,20,554,20],[552,25,554,29],[552,19,554,19],[501,19,501,23],[502,19,502,23],[503,19,503,23],[504,19,504,23],[505,19,505,23],[506,19,506,23],[507,19,507,23],[508,19,508,23],[509,19,509,23],[510,19,510,23],[511,19,511,23],[512,19,512,23],[513,19,513,23],[514,19,514,23],[515,19,515,23],[516,19,516,23],[517,19,517,23],[539,19,539,23],[1,5,1,9],[1,15,2,16],[6,15,7,16],[8,15,10,15],[498,25,500,25],[40,14,45,17],[24,15,24,16],[47,14,55,17],[28,15,30,17],[31,15,32,17],[33,15,36,17],[26,15,27,17],[498,29,500,29],[498,27,500,27],[498,26,500,26],[498,28,500,28],[14,14,14,17],[498,19,500,23],[498,24,500,24],[21,3,21,4],[22,3,22,4],[13,3,13,4],[14,3,14,4],[15,3,15,4],[16,3,16,4],[17,3,17,4],[58,3,58,4],[59,3,59,4],[60,3,60,4],[61,3,61,4],[62,3,62,4],[53,3,53,4],[54,3,54,4],[55,3,55,4],[56,3,56,4],[57,3,57,4],[48,3,48,4],[49,3,49,4],[50,3,50,4],[51,3,51,4],[52,3,52,4],[43,3,43,4],[44,3,44,4],[45,3,45,4],[46,3,46,4],[47,3,47,4],[8,3,8,4],[9,3,9,4],[10,3,10,4],[11,3,11,4],[12,3,12,4],[4,3,4,4],[5,3,5,4],[6,3,6,4],[7,3,7,4],[38,3,38,4],[39,3,39,4],[40,3,40,4],[41,3,41,4],[42,3,42,4],[33,3,33,4],[34,3,34,4],[35,3,35,4],[36,3,36,4],[37,3,37,4],[28,3,28,4],[29,3,29,4],[30,3,30,4],[31,3,31,4],[32,3,32,4],[23,3,23,4],[24,3,24,4],[25,3,25,4],[26,3,26,4],[27,3,27,4],[18,3,18,4],[19,3,19,4],[20,3,20,4],[78,3,78,4],[79,3,79,4],[80,3,80,4],[81,3,81,4],[82,3,82,4],[73,3,73,4],[74,3,74,4],[75,3,75,4],[76,3,76,4],[77,3,77,4],[68,3,68,4],[69,3,69,4],[70,3,70,4],[71,3,71,4],[72,3,72,4],[63,3,63,4],[64,3,64,4],[65,3,65,4],[66,3,66,4],[67,3,67,4],[98,3,98,4],[99,3,99,4],[100,3,100,4],[101,3,101,4],[102,3,102,4],[93,3,93,4],[94,3,94,4],[95,3,95,4],[96,3,96,4],[97,3,97,4],[88,3,88,4],[89,3,89,4],[90,3,90,4],[91,3,91,4],[92,3,92,4],[83,3,83,4],[84,3,84,4],[85,3,85,4],[86,3,86,4],[87,3,87,4],[118,3,118,4],[119,3,119,4],[120,3,120,4],[121,3,121,4],[122,3,122,4],[113,3,113,4],[114,3,114,4],[115,3,115,4],[116,3,116,4],[117,3,117,4],[108,3,108,4],[109,3,109,4],[110,3,110,4],[111,3,111,4],[112,3,112,4],[103,3,103,4],[104,3,104,4],[105,3,105,4],[106,3,106,4],[107,3,107,4],[138,3,138,4],[139,3,139,4],[140,3,140,4],[141,3,141,4],[142,3,142,4],[133,3,133,4],[134,3,134,4],[135,3,135,4],[136,3,136,4],[137,3,137,4],[128,3,128,4],[129,3,129,4],[130,3,130,4],[131,3,131,4],[132,3,132,4],[123,3,123,4],[124,3,124,4],[125,3,125,4],[126,3,126,4],[127,3,127,4],[158,3,158,4],[159,3,159,4],[160,3,160,4],[161,3,161,4],[162,3,162,4],[153,3,153,4],[154,3,154,4],[155,3,155,4],[156,3,156,4],[157,3,157,4],[148,3,148,4],[149,3,149,4],[150,3,150,4],[151,3,151,4],[152,3,152,4],[143,3,143,4],[144,3,144,4],[145,3,145,4],[146,3,146,4],[147,3,147,4],[178,3,178,4],[179,3,179,4],[180,3,180,4],[181,3,181,4],[182,3,182,4],[173,3,173,4],[174,3,174,4],[175,3,175,4],[176,3,176,4],[177,3,177,4],[168,3,168,4],[169,3,169,4],[170,3,170,4],[171,3,171,4],[172,3,172,4],[163,3,163,4],[164,3,164,4],[165,3,165,4],[166,3,166,4],[167,3,167,4],[198,3,198,4],[199,3,199,4],[200,3,200,4],[201,3,201,4],[202,3,202,4],[193,3,193,4],[194,3,194,4],[195,3,195,4],[196,3,196,4],[197,3,197,4],[188,3,188,4],[189,3,189,4],[190,3,190,4],[191,3,191,4],[192,3,192,4],[183,3,183,4],[184,3,184,4],[185,3,185,4],[186,3,186,4],[187,3,187,4],[218,3,218,4],[219,3,219,4],[220,3,220,4],[221,3,221,4],[222,3,222,4],[213,3,213,4],[214,3,214,4],[215,3,215,4],[216,3,216,4],[217,3,217,4],[208,3,208,4],[209,3,209,4],[210,3,210,4],[211,3,211,4],[212,3,212,4],[203,3,203,4],[204,3,204,4],[205,3,205,4],[206,3,206,4],[207,3,207,4],[238,3,238,4],[239,3,239,4],[240,3,240,4],[241,3,241,4],[242,3,242,4],[233,3,233,4],[234,3,234,4],[235,3,235,4],[236,3,236,4],[237,3,237,4],[228,3,228,4],[229,3,229,4],[230,3,230,4],[231,3,231,4],[232,3,232,4],[223,3,223,4],[224,3,224,4],[225,3,225,4],[226,3,226,4],[227,3,227,4],[258,3,258,4],[259,3,259,4],[260,3,260,4],[261,3,261,4],[262,3,262,4],[253,3,253,4],[254,3,254,4],[255,3,255,4],[256,3,256,4],[257,3,257,4],[248,3,248,4],[249,3,249,4],[250,3,250,4],[251,3,251,4],[252,3,252,4],[243,3,243,4],[244,3,244,4],[245,3,245,4],[246,3,246,4],[247,3,247,4],[278,3,278,4],[279,3,279,4],[280,3,280,4],[281,3,281,4],[282,3,282,4],[273,3,273,4],[274,3,274,4],[275,3,275,4],[276,3,276,4],[277,3,277,4],[268,3,268,4],[269,3,269,4],[270,3,270,4],[271,3,271,4],[272,3,272,4],[263,3,263,4],[264,3,264,4],[265,3,265,4],[266,3,266,4],[267,3,267,4],[298,3,298,4],[299,3,299,4],[300,3,300,4],[301,3,301,4],[302,3,302,4],[293,3,293,4],[294,3,294,4],[295,3,295,4],[296,3,296,4],[297,3,297,4],[288,3,288,4],[289,3,289,4],[290,3,290,4],[291,3,291,4],[292,3,292,4],[283,3,283,4],[284,3,284,4],[285,3,285,4],[286,3,286,4],[287,3,287,4],[318,3,318,4],[319,3,319,4],[320,3,320,4],[321,3,321,4],[322,3,322,4],[313,3,313,4],[314,3,314,4],[315,3,315,4],[316,3,316,4],[317,3,317,4],[308,3,308,4],[309,3,309,4],[310,3,310,4],[311,3,311,4],[312,3,312,4],[303,3,303,4],[304,3,304,4],[305,3,305,4],[306,3,306,4],[307,3,307,4],[338,3,338,4],[339,3,339,4],[340,3,340,4],[341,3,341,4],[342,3,342,4],[333,3,333,4],[334,3,334,4],[335,3,335,4],[336,3,336,4],[337,3,337,4],[328,3,328,4],[329,3,329,4],[330,3,330,4],[331,3,331,4],[332,3,332,4],[323,3,323,4],[324,3,324,4],[325,3,325,4],[326,3,326,4],[327,3,327,4],[358,3,358,4],[359,3,359,4],[360,3,360,4],[361,3,361,4],[362,3,362,4],[353,3,353,4],[354,3,354,4],[355,3,355,4],[356,3,356,4],[357,3,357,4],[348,3,348,4],[349,3,349,4],[350,3,350,4],[351,3,351,4],[352,3,352,4],[343,3,343,4],[344,3,344,4],[345,3,345,4],[346,3,346,4],[347,3,347,4],[378,3,378,4],[379,3,379,4],[380,3,380,4],[381,3,381,4],[382,3,382,4],[373,3,373,4],[374,3,374,4],[375,3,375,4],[376,3,376,4],[377,3,377,4],[368,3,368,4],[369,3,369,4],[370,3,370,4],[371,3,371,4],[372,3,372,4],[363,3,363,4],[364,3,364,4],[365,3,365,4],[366,3,366,4],[367,3,367,4],[398,3,398,4],[399,3,399,4],[400,3,400,4],[401,3,401,4],[402,3,402,4],[393,3,393,4],[394,3,394,4],[395,3,395,4],[396,3,396,4],[397,3,397,4],[388,3,388,4],[389,3,389,4],[390,3,390,4],[391,3,391,4],[392,3,392,4],[383,3,383,4],[384,3,384,4],[385,3,385,4]],"bounds":{"rows_first":500,"rows_last":125,"rows_between":500,"halvings":2},"merged_total":1635,"flags":["merged_cut"]}
[null,null,"LIGHTING INSPECTION FIELD FORM",null,null,null,null,null,null,null,null,null,null,null,null,{"$f":"\"Project Name: \"&'Project Info'!D4&\" \nSite Address: \"&'Project Info'!D12&\", \"&'Project Info'!D13&\" TX \"&'Project Info'!K13","v":"Project Name:  \nSite Address: ,  TX "},null,null,null,"Total Area Type: ",{"$f":"COUNTA(T8:T498)-1","v":2},null,null,"Total Lines:",{"$f":"COUNTA(Inventory!C9:C108)","v":0},null,null,null,null,null,null,null,null,null,null,null,null,null,null,null,null,null,null,null,null,null,null,null,null,null,null,null,null,null,null,null,null,null,null,null,null,null,null,null,null,null,null,null,null,null,71,72,73,74,75,76,77,78,79,80,81,82,83,84,85,86,87,88,89]
[null,null,{"$f":"\"Please check all\"&IF(Q10=\"Yes\",\" colored/bolded\",\"\")&\" lines.\"","v":"Please check all colored/bolded lines."},null,"Inspector Name:",null,null,null,null,null,"Date:",null,null,null,null,"Report Parameters",null,null,null,"Total Fix Code: ",{"$f":"COUNTA(T7:BR7)-2","v":3},"unique models:",{"$f":"50-COUNTIF(T502:T551,\"\")","v":3},"Size in Infinite Pop",{"$f":"(NORMSINV(1 - (1-Q13)/2)*SQRT(0.25)/Q14)^2","v":10.264840094686353},null,"Post"]
[null,null,null,null,null,null,null,null,null,null,null,null,null,null,null,null,null,null,null,"Current Area Type:","All",null,null,"Correction Factor",{"$f":"1/(1+(Y2-1)/Y1)","v":{"$error":"#DIV/0!"}},null,"Pre",null,null,null,null,null,null,null,null,null,null,null,null,null,null,null,null,null,null,null,null,null,null,null,null,null,null,null,null,null,null,null,null,null,null,null,null,null,null,null,null,null,null,null,"Selected Lines","Primary/Backup","Backup line"]
[null,"Line","Area Name","Room Description","a","Pre Fixture Code","Pre Qty","Fixture code","Qty","Control","Fixture Description",null,null,null,null,null,null,null,null,"Current Fix Code:","LED040-FIXT",null,null,"Final Sample Size",{"$f":"ROUNDUP(  Y2*Y3, 0)","v":{"$error":"#DIV/0!"}},null,"Post with Pre",null,null,null,null,null,null,null,null,null,null,null,null,null,null,null,null,null,null,null,null,null,null,null,null,null,null,null,null,null,null,null,null,null,null,null,null,null,null,null,null,null,null,null,null,null,{"$f":"COUNTA(BU5:BU1504)","v":0},null,"total watts",null,null,"Selected","Total Comb #:",null,null,"Preference","Total","Percent",0,1,null,"Rand",{"$f":"RAND()","v":0.52964054984735032}]
[null,1,{"$f":"IF(Inventory!C9=\"\",\"\",Inventory!C9)","v":""},{"$f":"IF(Inventory!D9=\"\",\"\",Inventory!D9)","v":""},null,{"$f":"IF(Inventory!E9=0,\"\",Inventory!E9)","v":""},{"$f":"IF(Inventory!F9=0,\"\",Inventory!F9)","v":""},{"$f":"IF(IF($Q$5=\"Pre\",Inventory!E9,IF(OR($Q$5=\"Post\",$Q$5=\"Post with Pre\"),Inventory!AD9,\"\"))=0,\"\",IF($Q$5=\"Pre\",Inventory!E9,IF(OR($Q$5=\"Post\",$Q$5=\"Post with Pre\"),Inventory!AD9,\"\")))","v":""},{"$f":"IF(AND(IF($Q$5=\"Pre\",Inventory!F9,IF(OR($Q$5=\"Post\",$Q$5=\"Post with Pre\"),Inventory!J9,\"\"))=0,C5=\"\"),\"\",IF($Q$5=\"Pre\",Inventory!F9,IF(OR($Q$5=\"Post\",$Q$5=\"Post with Pre\"),Inventory!J9,\"\")))","v":""},{"$f":"IF(AND(IF($Q$5=\"Pre\",Inventory!H9,IF(OR($Q$5=\"Post\",$Q$5=\"Post with Pre\"),Inventory!K9,\"\"))=0,C5=\"\"),\"\",IF(IF($Q$5=\"Pre\",Inventory!H9,IF(OR($Q$5=\"Post\",$Q$5=\"Post with Pre\"),Inventory!K9,\"\"))=0,\"None\",IF($Q$5=\"Pre\",Inventory!H9,IF(OR($Q$5=\"Post\",$Q$5=\"Post with Pre\"),Inventory!K9,\"\"))))","v":""},{"$f":"IF(H5=\"\",\"\",IF($Q$5=\"Pre\",INDEX('Fixture Descriptions'!G:G,MATCH(H5,'Fixture Descriptions'!A:A,0)),\nIF(INDEX(Inventory!M$9:M$108,B5)<>\"\",INDEX(Inventory!M$9:M$108,B5),INDEX('Fixture Descriptions'!G:G,MATCH(H5,'Fixture Descriptions'!A:A,0)))))","v":""},null,null,null,null,"Inspection Type:","Post",null,null,"Current Comb #:",null,null,null,"Suppress Print",0,null,null,null,null,null,null,null,null,null,null,null,null,null,null,null,null,null,null,null,null,null,null,null,null,null,null,null,null,null,null,null,null,null,null,null,null,null,null,null,null,null,null,null,null,null,2,"Primary",null,{"$f":"INDEX('Fixture Descriptions'!A:K,MATCH('Inspection Form'!H5,'Fixture Descriptions'!A:A,0),8)","v":0},{"$f":"BV5*I5","v":{"$error":"#VALUE!"}},null,0,{"$f":"IF($U$3=\"All\", 1, IF(AND(C5=$U$3, H5=$U$4), 1, 0))","v":1},{"$f":"U5","v":0},null,null,{"$f":"IFERROR(IF(AND(INDEX(Inventory!CB:CB,MATCH('Inspection Form'!B5,Inventory!B:B,0))=\"Not Qualified\",INDEX(Inventory!L:L,MATCH('Inspection Form'!B5,Inventory!B:B,0))<>\"\",$Q$5<>\"Pre\"),0,BY5*BZ5), 0)","v":0},{"$f":"SUM(CD$5:CD$1504)","v":0},{"$f":"CD5/$CE$5","v":{"$error":"#DIV/0!"}},{"$f":"CF5+CG4","v":{"$error":"#DIV/0!"}},2]
[null,2,null,null,null,null,null,null,null,null,null,null,null,null,null,null,null,null,null,"Count of Qty","Fixture Code",null,null,null,null,null,null,null,null,null,null,null,null,null,null,null,null,null,null,null,null,null,null,null,null,null,null,null,null,null,null,null,null,null,null,null,null,null,null,null,null,null,null,null,null,null,null,null,null,null,3,"Primary",null,{"$f":"INDEX('Fixture Descriptions'!A:K,MATCH('Inspection Form'!H6,'Fixture Descriptions'!A:A,0),8)","v":{"$error":"#N/A"}},{"$error":"#N/A"},null,0,{"$f":"IF($U$3=\"All\", 1, IF(AND(C6=$U$3, H6=$U$4), 1, 0))","v":1},null,null,null,{"$f":"IFERROR(IF(AND(INDEX(Inventory!CB:CB,MATCH('Inspection Form'!B6,Inventory!B:B,0))=\"Not Qualified\",INDEX(Inventory!L:L,MATCH('Inspection Form'!B6,Inventory!B:B,0))<>\"\",$Q$5<>\"Pre\"),0,BY6*BZ6), 0)","v":0},null,{"$f":"CD6/$CE$5","v":{"$error":"#DIV/0!"}},{"$f":"CF6+CG5","v":{"$error":"#DIV/0!"}},3,null,"Selected",{"$f":"VLOOKUP(CK4, CG4:CH1504, 2)","v":1}]
[null,3,null,null,null,null,null,null,null,null,null,null,null,null,null,"Sampling Parameters",null,null,null,"Area Name","LED009-SCRW","LED120-FIXT","LED040-FIXT","Grand Total",null,null,null,null,null,null,null,null,null,null,null,null,null,null,null,null,null,null,null,null,null,null,null,null,null,null,null,null,null,null,null,null,null,null,null,null,null,null,null,null,null,null,null,null,null,null,1,"Primary",null,{"$f":"INDEX('Fixture Descriptions'!A:K,MATCH('Inspection Form'!H7,'Fixture Descriptions'!A:A,0),8)","v":{"$error":"#N/A"}},{"$error":"#N/A"},null,0,1,null,null,null,{"$f":"IFERROR(IF(AND(INDEX(Inventory!CB:CB,MATCH('Inspection Form'!B7,Inventory!B:B,0))=\"Not Qualified\",INDEX(Inventory!L:L,MATCH('Inspection Form'!B7,Inventory!B:B,0))<>\"\",$Q$5<>\"Pre\"),0,BY7*BZ7), 0)","v":0},null,{"$error":"#DIV/0!"},{"$error":"#DIV/0!"},4]
[null,4,null,null,null,null,null,null,null,null,null,null,null,null,null,null,null,null,null,"main bldg",1,null,1,2,null,null,null,null,null,null,null,null,null,null,null,null,null,null,null,null,null,null,null,null,null,null,null,null,null,null,null,null,null,null,null,null,null,null,null,null,null,null,null,null,null,null,null,null,null,null,null,null,null,{"$f":"INDEX('Fixture Descriptions'!A:K,MATCH('Inspection Form'!H8,'Fixture Descriptions'!A:A,0),8)","v":{"$error":"#N/A"}},{"$error":"#N/A"},null,{"$f":"BW8","v":{"$error":"#N/A"}},1,null,null,null,{"$f":"IFERROR(IF(AND(INDEX(Inventory!CB:CB,MATCH('Inspection Form'!B8,Inventory!B:B,0))=\"Not Qualified\",INDEX(Inventory!L:L,MATCH('Inspection Form'!B8,Inventory!B:B,0))<>\"\",$Q$5<>\"Pre\"),0,BY8*BZ8), 0)","v":0},null,{"$error":"#DIV/0!"},{"$error":"#DIV/0!"},5]
[null,5,null,null,null,null,null,null,null,null,null,null,null,null,null,"Perform Random Sample?",null,null,null,"outside",null,1,null,1,null,null,null,null,null,null,null,null,null,null,null,null,null,null,null,null,null,null,null,null,null,null,null,null,null,null,null,null,null,null,null,null,null,null,null,null,null,null,null,null,null,null,null,null,null,null,null,null,null,{"$f":"INDEX('Fixture Descriptions'!A:K,MATCH('Inspection Form'!H9,'Fixture Descriptions'!A:A,0),8)","v":{"$error":"#N/A"}},{"$error":"#N/A"},null,{"$error":"#N/A"},1,null,null,null,{"$f":"IFERROR(IF(AND(INDEX(Inventory!CB:CB,MATCH('Inspection Form'!B9,Inventory!B:B,0))=\"Not Qualified\",INDEX(Inventory!L:L,MATCH('Inspection Form'!B9,Inventory!B:B,0))<>\"\",$Q$5<>\"Pre\"),0,BY9*BZ9), 0)","v":0},null,{"$error":"#DIV/0!"},{"$f":"CF9+CG8","v":{"$error":"#DIV/0!"}},6]
[null,6,null,null,null,null,null,null,null,null,null,null,null,null,null,null,"Yes",null,null,"Grand Total",1,1,1,3,null,null,null,null,null,null,null,null,null,null,null,null,null,null,null,null,null,null,null,null,null,null,null,null,null,null,null,null,null,null,null,null,null,null,null,null,null,null,null,null,null,null,null,null,null,null,null,null,null,{"$f":"INDEX('Fixture Descriptions'!A:K,MATCH('Inspection Form'!H10,'Fixture Descriptions'!A:A,0),8)","v":{"$error":"#N/A"}},{"$error":"#N/A"},null,{"$error":"#N/A"},1,null,null,null,{"$f":"IFERROR(IF(AND(INDEX(Inventory!CB:CB,MATCH('Inspection Form'!B10,Inventory!B:B,0))=\"Not Qualified\",INDEX(Inventory!L:L,MATCH('Inspection Form'!B10,Inventory!B:B,0))<>\"\",$Q$5<>\"Pre\"),0,BY10*BZ10), 0)","v":0},null,{"$error":"#DIV/0!"},{"$error":"#DIV/0!"},7]
[null,7,null,null,null,null,null,null,null,null,null,null,null,null,null,null,null,null,null,null,null,null,null,null,null,null,null,null,null,null,null,null,null,null,null,null,null,null,null,null,null,null,null,null,null,null,null,null,null,null,null,null,null,null,null,null,null,null,null,null,null,null,null,null,null,null,null,null,null,null,null,null,null,{"$f":"INDEX('Fixture Descriptions'!A:K,MATCH('Inspection Form'!H11,'Fixture Descriptions'!A:A,0),8)","v":{"$error":"#N/A"}},{"$error":"#N/A"},null,{"$error":"#N/A"},1,null,null,null,{"$f":"IFERROR(IF(AND(INDEX(Inventory!CB:CB,MATCH('Inspection Form'!B11,Inventory!B:B,0))=\"Not Qualified\",INDEX(Inventory!L:L,MATCH('Inspection Form'!B11,Inventory!B:B,0))<>\"\",$Q$5<>\"Pre\"),0,BY11*BZ11), 0)","v":0},null,{"$error":"#DIV/0!"},{"$f":"CF11+CG10","v":{"$error":"#DIV/0!"}},8]
[null,8,null,null,null,null,null,null,null,null,null,null,null,null,null,null,null,null,null,null,null,null,null,null,null,null,null,null,null,null,null,null,null,null,null,null,null,null,null,null,null,null,null,null,null,null,null,null,null,null,null,null,null,null,null,null,null,null,null,null,null,null,null,null,null,null,null,null,null,null,null,null,null,{"$f":"INDEX('Fixture Descriptions'!A:K,MATCH('Inspection Form'!H12,'Fixture Descriptions'!A:A,0),8)","v":{"$error":"#N/A"}},{"$error":"#N/A"},null,{"$error":"#N/A"},1,null,null,null,{"$f":"IFERROR(IF(AND(INDEX(Inventory!CB:CB,MATCH('Inspection Form'!B12,Inventory!B:B,0))=\"Not Qualified\",INDEX(Inventory!L:L,MATCH('Inspection Form'!B12,Inventory!B:B,0))<>\"\",$Q$5<>\"Pre\"),0,BY12*BZ12), 0)","v":0},null,{"$error":"#DIV/0!"},{"$f":"CF12+CG11","v":{"$error":"#DIV/0!"}},9]
[null,9,null,null,null,null,null,null,null,null,null,null,null,null,null,"Confidence Level:",0.8,null,null,null,null,null,null,null,null,null,null,null,null,null,null,null,null,null,null,null,null,null,null,null,null,null,null,null,null,null,null,null,null,null,null,null,null,null,null,null,null,null,null,null,null,null,null,null,null,null,null,null,null,null,null,null,null,{"$f":"INDEX('Fixture Descriptions'!A:K,MATCH('Inspection Form'!H13,'Fixture Descriptions'!A:A,0),8)","v":{"$error":"#N/A"}},{"$error":"#N/A"},null,{"$error":"#N/A"},1,null,null,null,{"$f":"IFERROR(IF(AND(INDEX(Inventory!CB:CB,MATCH('Inspection Form'!B13,Inventory!B:B,0))=\"Not Qualified\",INDEX(Inventory!L:L,MATCH('Inspection Form'!B13,Inventory!B:B,0))<>\"\",$Q$5<>\"Pre\"),0,BY13*BZ13), 0)","v":0},null,{"$error":"#DIV/0!"},{"$error":"#DIV/0!"},10]
[null,10,null,null,null,null,null,null,null,null,null,null,null,null,null,"Confidence Interval:",0.2,null,null,null,null,null,null,null,null,null,null,null,null,null,null,null,null,null,null,null,null,null,null,null,null,null,null,null,null,null,null,null,null,null,null,null,null,null,null,null,null,null,null,null,null,null,null,null,null,null,null,null,null,null,null,null,null,{"$f":"INDEX('Fixture Descriptions'!A:K,MATCH('Inspection Form'!H14,'Fixture Descriptions'!A:A,0),8)","v":{"$error":"#N/A"}},{"$error":"#N/A"},null,{"$error":"#N/A"},1,null,null,null,{"$f":"IFERROR(IF(AND(INDEX(Inventory!CB:CB,MATCH('Inspection Form'!B14,Inventory!B:B,0))=\"Not Qualified\",INDEX(Inventory!L:L,MATCH('Inspection Form'!B14,Inventory!B:B,0))<>\"\",$Q$5<>\"Pre\"),0,BY14*BZ14), 0)","v":0},null,{"$error":"#DIV/0!"},{"$error":"#DIV/0!"},11]
[null,11,null,null,null,null,null,null,null,null,null,null,null,null,{"$f":"IFERROR(IF(Q10=\"No\",\"\",\"Approximate sample size: \"&Y4&\" of \"&Y1),\"\")","v":""},null,null,null,null,null,null,null,null,null,null,null,null,null,null,null,null,null,null,null,null,null,null,null,null,null,null,null,null,null,null,null,null,null,null,null,null,null,null,null,null,null,null,null,null,null,null,null,null,null,null,null,null,null,null,null,null,null,null,{"$f":"INDEX('Fixture Descriptions'!A:K,MATCH('Inspection Form'!H15,'Fixture Descriptions'!A:A,0),8)","v":{"$error":"#N/A"}},{"$error":"#N/A"},null,{"$error":"#N/A"},1,null,null,null,{"$f":"IFERROR(IF(AND(INDEX(Inventory!CB:CB,MATCH('Inspection Form'!B15,Inventory!B:B,0))=\"Not Qualified\",INDEX(Inventory!L:L,MATCH('Inspection Form'!B15,Inventory!B:B,0))<>\"\",$Q$5<>\"Pre\"),0,BY15*BZ15), 0)","v":0},null,{"$error":"#DIV/0!"},{"$error":"#DIV/0!"},12]
[null,12,null,null,null,null,null,null,null,null,null,null,null,null,null,null,null,null,null,null,null,null,null,null,null,null,null,null,null,null,null,null,null,null,null,null,null,null,null,null,null,null,null,null,null,null,null,null,null,null,null,null,null,null,null,null,null,null,null,null,null,null,null,null,null,null,null,null,null,null,null,null,null,{"$f":"INDEX('Fixture Descriptions'!A:K,MATCH('Inspection Form'!H16,'Fixture Descriptions'!A:A,0),8)","v":{"$error":"#N/A"}},{"$error":"#N/A"},null,{"$error":"#N/A"},1,null,null,null,{"$f":"IFERROR(IF(AND(INDEX(Inventory!CB:CB,MATCH('Inspection Form'!B16,Inventory!B:B,0))=\"Not Qualified\",INDEX(Inventory!L:L,MATCH('Inspection Form'!B16,Inventory!B:B,0))<>\"\",$Q$5<>\"Pre\"),0,BY16*BZ16), 0)","v":0},null,{"$error":"#DIV/0!"},{"$error":"#DIV/0!"},13]
[null,13,null,null,null,null,null,null,null,null,null,null,null,null,null,null,null,null,null,null,null,null,null,null,null,null,null,null,null,null,null,null,null,null,null,null,null,null,null,null,null,null,null,null,null,null,null,null,null,null,null,null,null,null,null,null,null,null,null,null,null,null,null,null,null,null,null,null,null,null,null,null,null,{"$f":"INDEX('Fixture Descriptions'!A:K,MATCH('Inspection Form'!H17,'Fixture Descriptions'!A:A,0),8)","v":{"$error":"#N/A"}},{"$error":"#N/A"},null,{"$error":"#N/A"},1,null,null,null,{"$f":"IFERROR(IF(AND(INDEX(Inventory!CB:CB,MATCH('Inspection Form'!B17,Inventory!B:B,0))=\"Not Qualified\",INDEX(Inventory!L:L,MATCH('Inspection Form'!B17,Inventory!B:B,0))<>\"\",$Q$5<>\"Pre\"),0,BY17*BZ17), 0)","v":0},null,{"$error":"#DIV/0!"},{"$error":"#DIV/0!"},14]
[null,14,null,null,null,null,null,null,null,null,null,null,null,null,null,null,null,null,null,null,null,null,null,null,null,null,null,null,null,null,null,null,null,null,null,null,null,null,null,null,null,null,null,null,null,null,null,null,null,null,null,null,null,null,null,null,null,null,null,null,null,null,null,null,null,null,null,null,null,null,null,null,null,{"$f":"INDEX('Fixture Descriptions'!A:K,MATCH('Inspection Form'!H18,'Fixture Descriptions'!A:A,0),8)","v":{"$error":"#N/A"}},{"$error":"#N/A"},null,{"$error":"#N/A"},1,null,null,null,{"$f":"IFERROR(IF(AND(INDEX(Inventory!CB:CB,MATCH('Inspection Form'!B18,Inventory!B:B,0))=\"Not Qualified\",INDEX(Inventory!L:L,MATCH('Inspection Form'!B18,Inventory!B:B,0))<>\"\",$Q$5<>\"Pre\"),0,BY18*BZ18), 0)","v":0},null,{"$error":"#DIV/0!"},{"$error":"#DIV/0!"},15]
[null,15,null,null,null,null,null,null,null,null,null,null,null,null,null,null,null,null,null,null,null,null,null,null,null,null,null,null,null,null,null,null,null,null,null,null,null,null,null,null,null,null,null,null,null,null,null,null,null,null,null,null,null,null,null,null,null,null,null,null,null,null,null,null,null,null,null,null,null,null,null,null,null,{"$f":"INDEX('Fixture Descriptions'!A:K,MATCH('Inspection Form'!H19,'Fixture Descriptions'!A:A,0),8)","v":{"$error":"#N/A"}},{"$error":"#N/A"},null,{"$error":"#N/A"},1,null,null,null,{"$f":"IFERROR(IF(AND(INDEX(Inventory!CB:CB,MATCH('Inspection Form'!B19,Inventory!B:B,0))=\"Not Qualified\",INDEX(Inventory!L:L,MATCH('Inspection Form'!B19,Inventory!B:B,0))<>\"\",$Q$5<>\"Pre\"),0,BY19*BZ19), 0)","v":0},null,{"$error":"#DIV/0!"},{"$error":"#DIV/0!"},16]
[null,16,null,null,null,null,null,null,null,null,null,null,null,null,null,null,null,null,null,null,null,null,null,null,null,null,null,null,null,null,null,null,null,null,null,null,null,null,null,null,null,null,null,null,null,null,null,null,null,null,null,null,null,null,null,null,null,null,null,null,null,null,null,null,null,null,null,null,null,null,null,null,null,{"$f":"INDEX('Fixture Descriptions'!A:K,MATCH('Inspection Form'!H20,'Fixture Descriptions'!A:A,0),8)","v":{"$error":"#N/A"}},{"$error":"#N/A"},null,{"$error":"#N/A"},1,null,null,null,{"$f":"IFERROR(IF(AND(INDEX(Inventory!CB:CB,MATCH('Inspection Form'!B20,Inventory!B:B,0))=\"Not Qualified\",INDEX(Inventory!L:L,MATCH('Inspection Form'!B20,Inventory!B:B,0))<>\"\",$Q$5<>\"Pre\"),0,BY20*BZ20), 0)","v":0},null,{"$error":"#DIV/0!"},{"$error":"#DIV/0!"},17]
[null,17,null,null,null,null,null,null,null,null,null,null,null,null,null,null,null,null,null,null,null,null,null,null,null,null,null,null,null,null,null,null,null,null,null,null,null,null,null,null,null,null,null,null,null,null,null,null,null,null,null,null,null,null,null,null,null,null,null,null,null,null,null,null,null,null,null,null,null,null,null,null,null,{"$f":"INDEX('Fixture Descriptions'!A:K,MATCH('Inspection Form'!H21,'Fixture Descriptions'!A:A,0),8)","v":{"$error":"#N/A"}},{"$error":"#N/A"},null,{"$error":"#N/A"},1,null,null,null,{"$f":"IFERROR(IF(AND(INDEX(Inventory!CB:CB,MATCH('Inspection Form'!B21,Inventory!B:B,0))=\"Not Qualified\",INDEX(Inventory!L:L,MATCH('Inspection Form'!B21,Inventory!B:B,0))<>\"\",$Q$5<>\"Pre\"),0,BY21*BZ21), 0)","v":0},null,{"$error":"#DIV/0!"},{"$error":"#DIV/0!"},18]
[null,18,null,null,null,null,null,null,null,null,null,null,null,null,null,null,null,null,null,null,null,null,null,null,null,null,null,null,null,null,null,null,null,null,null,null,null,null,null,null,null,null,null,null,null,null,null,null,null,null,null,null,null,null,null,null,null,null,null,null,null,null,null,null,null,null,null,null,null,null,null,null,null,{"$f":"INDEX('Fixture Descriptions'!A:K,MATCH('Inspection Form'!H22,'Fixture Descriptions'!A:A,0),8)","v":{"$error":"#N/A"}},{"$error":"#N/A"},null,{"$error":"#N/A"},1,null,null,null,{"$f":"IFERROR(IF(AND(INDEX(Inventory!CB:CB,MATCH('Inspection Form'!B22,Inventory!B:B,0))=\"Not Qualified\",INDEX(Inventory!L:L,MATCH('Inspection Form'!B22,Inventory!B:B,0))<>\"\",$Q$5<>\"Pre\"),0,BY22*BZ22), 0)","v":0},null,{"$error":"#DIV/0!"},{"$error":"#DIV/0!"},19]
[null,19,null,null,null,null,null,null,null,null,null,null,null,null,null,null,null,null,null,null,null,null,null,null,null,null,null,null,null,null,null,null,null,null,null,null,null,null,null,null,null,null,null,null,null,null,null,null,null,null,null,null,null,null,null,null,null,null,null,null,null,null,null,null,null,null,null,null,null,null,null,null,null,{"$f":"INDEX('Fixture Descriptions'!A:K,MATCH('Inspection Form'!H23,'Fixture Descriptions'!A:A,0),8)","v":{"$error":"#N/A"}},{"$error":"#N/A"},null,{"$error":"#N/A"},1,null,null,null,{"$f":"IFERROR(IF(AND(INDEX(Inventory!CB:CB,MATCH('Inspection Form'!B23,Inventory!B:B,0))=\"Not Qualified\",INDEX(Inventory!L:L,MATCH('Inspection Form'!B23,Inventory!B:B,0))<>\"\",$Q$5<>\"Pre\"),0,BY23*BZ23), 0)","v":0},null,{"$error":"#DIV/0!"},{"$error":"#DIV/0!"},20]
[null,20,null,null,null,null,null,null,null,null,null,null,null,null,null,null,null,null,null,null,null,null,null,null,null,null,null,null,null,null,null,null,null,null,null,null,null,null,null,null,null,null,null,null,null,null,null,null,null,null,null,null,null,null,null,null,null,null,null,null,null,null,null,null,null,null,null,null,null,null,null,null,null,{"$f":"INDEX('Fixture Descriptions'!A:K,MATCH('Inspection Form'!H24,'Fixture Descriptions'!A:A,0),8)","v":{"$error":"#N/A"}},{"$error":"#N/A"},null,{"$error":"#N/A"},1,null,null,null,{"$f":"IFERROR(IF(AND(INDEX(Inventory!CB:CB,MATCH('Inspection Form'!B24,Inventory!B:B,0))=\"Not Qualified\",INDEX(Inventory!L:L,MATCH('Inspection Form'!B24,Inventory!B:B,0))<>\"\",$Q$5<>\"Pre\"),0,BY24*BZ24), 0)","v":0},null,{"$error":"#DIV/0!"},{"$error":"#DIV/0!"},21]
[null,21,null,null,null,null,null,null,null,null,null,null,null,null,null,"Instructions:",null,null,null,null,null,null,null,null,null,null,null,null,null,null,null,null,null,null,null,null,null,null,null,null,null,null,null,null,null,null,null,null,null,null,null,null,null,null,null,null,null,null,null,null,null,null,null,null,null,null,null,null,null,null,null,null,null,{"$f":"INDEX('Fixture Descriptions'!A:K,MATCH('Inspection Form'!H25,'Fixture Descriptions'!A:A,0),8)","v":{"$error":"#N/A"}},{"$error":"#N/A"},null,{"$error":"#N/A"},1,null,null,null,{"$f":"IFERROR(IF(AND(INDEX(Inventory!CB:CB,MATCH('Inspection Form'!B25,Inventory!B:B,0))=\"Not Qualified\",INDEX(Inventory!L:L,MATCH('Inspection Form'!B25,Inventory!B:B,0))<>\"\",$Q$5<>\"Pre\"),0,BY25*BZ25), 0)","v":0},null,{"$error":"#DIV/0!"},{"$error":"#DIV/0!"},22]
[null,22,null,null,null,null,null,null,null,null,null,null,null,null,"1.","Choose Inspection Type.",null,null,null,null,null,null,null,null,null,null,null,null,null,null,null,null,null,null,null,null,null,null,null,null,null,null,null,null,null,null,null,null,null,null,null,null,null,null,null,null,null,null,null,null,null,null,null,null,null,null,null,null,null,null,null,null,null,{"$f":"INDEX('Fixture Descriptions'!A:K,MATCH('Inspection Form'!H26,'Fixture Descriptions'!A:A,0),8)","v":{"$error":"#N/A"}},{"$error":"#N/A"},null,{"$error":"#N/A"},1,null,null,null,{"$f":"IFERROR(IF(AND(INDEX(Inventory!CB:CB,MATCH('Inspection Form'!B26,Inventory!B:B,0))=\"Not Qualified\",INDEX(Inventory!L:L,MATCH('Inspection Form'!B26,Inventory!B:B,0))<>\"\",$Q$5<>\"Pre\"),0,BY26*BZ26), 0)","v":0},null,{"$error":"#DIV/0!"},{"$error":"#DIV/0!"},23]
[null,23,null,null,null,null,null,null,null,null,null,null,null,null,"2.","Choose if you would like a random inspection sample included in the report.",null,null,null,null,null,null,null,null,null,null,null,null,null,null,null,null,null,null,null,null,null,null,null,null,null,null,null,null,null,null,null,null,null,null,null,null,null,null,null,null,null,null,null,null,null,null,null,null,null,null,null,null,null,null,null,null,null,{"$f":"INDEX('Fixture Descriptions'!A:K,MATCH('Inspection Form'!H27,'Fixture Descriptions'!A:A,0),8)","v":{"$error":"#N/A"}},{"$error":"#N/A"},null,{"$error":"#N/A"},1,null,null,null,{"$f":"IFERROR(IF(AND(INDEX(Inventory!CB:CB,MATCH('Inspection Form'!B27,Inventory!B:B,0))=\"Not Qualified\",INDEX(Inventory!L:L,MATCH('Inspection Form'!B27,Inventory!B:B,0))<>\"\",$Q$5<>\"Pre\"),0,BY27*BZ27), 0)","v":0},null,{"$error":"#DIV/0!"},{"$error":"#DIV/0!"},24]
[null,24,null,null,null,null,null,null,null,null,null,null,null,null,null,null,null,null,null,null,null,null,null,null,null,null,null,null,null,null,null,null,null,null,null,null,null,null,null,null,null,null,null,null,null,null,null,null,null,null,null,null,null,null,null,null,null,null,null,null,null,null,null,null,null,null,null,null,null,null,null,null,null,{"$f":"INDEX('Fixture Descriptions'!A:K,MATCH('Inspection Form'!H28,'Fixture Descriptions'!A:A,0),8)","v":{"$error":"#N/A"}},{"$error":"#N/A"},null,{"$error":"#N/A"},1,null,null,null,{"$f":"IFERROR(IF(AND(INDEX(Inventory!CB:CB,MATCH('Inspection Form'!B28,Inventory!B:B,0))=\"Not Qualified\",INDEX(Inventory!L:L,MATCH('Inspection Form'!B28,Inventory!B:B,0))<>\"\",$Q$5<>\"Pre\"),0,BY28*BZ28), 0)","v":0},null,{"$error":"#DIV/0!"},{"$error":"#DIV/0!"},25]
[null,25,null,null,null,null,null,null,null,null,null,null,null,null,"3.","If you choose to perform a random sample, select a confidence level and confidence interval (definitions below).",null,null,null,null,null,null,null,null,null,null,null,null,null,null,null,null,null,null,null,null,null,null,null,null,null,null,null,null,null,null,null,null,null,null,null,null,null,null,null,null,null,null,null,null,null,null,null,null,null,null,null,null,null,null,null,null,null,{"$f":"INDEX('Fixture Descriptions'!A:K,MATCH('Inspection Form'!H29,'Fixture Descriptions'!A:A,0),8)","v":{"$error":"#N/A"}},{"$error":"#N/A"},null,{"$error":"#N/A"},1,null,null,null,{"$f":"IFERROR(IF(AND(INDEX(Inventory!CB:CB,MATCH('Inspection Form'!B29,Inventory!B:B,0))=\"Not Qualified\",INDEX(Inventory!L:L,MATCH('Inspection Form'!B29,Inventory!B:B,0))<>\"\",$Q$5<>\"Pre\"),0,BY29*BZ29), 0)","v":0},null,{"$error":"#DIV/0!"},{"$error":"#DIV/0!"},26]
[null,26,null,null,null,null,null,null,null,null,null,null,null,null,null,null,null,null,null,null,null,null,null,null,null,null,null,null,null,null,null,null,null,null,null,null,null,null,null,null,null,null,null,null,null,null,null,null,null,null,null,null,null,null,null,null,null,null,null,null,null,null,null,null,null,null,null,null,null,null,null,null,null,{"$f":"INDEX('Fixture Descriptions'!A:K,MATCH('Inspection Form'!H30,'Fixture Descriptions'!A:A,0),8)","v":{"$error":"#N/A"}},{"$error":"#N/A"},null,{"$error":"#N/A"},1,null,null,null,{"$f":"IFERROR(IF(AND(INDEX(Inventory!CB:CB,MATCH('Inspection Form'!B30,Inventory!B:B,0))=\"Not Qualified\",INDEX(Inventory!L:L,MATCH('Inspection Form'!B30,Inventory!B:B,0))<>\"\",$Q$5<>\"Pre\"),0,BY30*BZ30), 0)","v":0},null,{"$error":"#DIV/0!"},{"$error":"#DIV/0!"},27]
[null,27,null,null,null,null,null,null,null,null,null,null,null,null,null,null,null,null,null,null,null,null,null,null,null,null,null,null,null,null,null,null,null,null,null,null,null,null,null,null,null,null,null,null,null,null,null,null,null,null,null,null,null,null,null,null,null,null,null,null,null,null,null,null,null,null,null,null,null,null,null,null,null,{"$f":"INDEX('Fixture Descriptions'!A:K,MATCH('Inspection Form'!H31,'Fixture Descriptions'!A:A,0),8)","v":{"$error":"#N/A"}},{"$error":"#N/A"},null,{"$error":"#N/A"},1,null,null,null,{"$f":"IFERROR(IF(AND(INDEX(Inventory!CB:CB,MATCH('Inspection Form'!B31,Inventory!B:B,0))=\"Not Qualified\",INDEX(Inventory!L:L,MATCH('Inspection Form'!B31,Inventory!B:B,0))<>\"\",$Q$5<>\"Pre\"),0,BY31*BZ31), 0)","v":0},null,{"$error":"#DIV/0!"},{"$error":"#DIV/0!"},28]
[null,28,null,null,null,null,null,null,null,null,null,null,null,null,"4. ","Click the red button to generate the field inspection form in pdf format.",null,null,null,null,null,null,null,null,null,null,null,null,null,null,null,null,null,null,null,null,null,null,null,null,null,null,null,null,null,null,null,null,null,null,null,null,null,null,null,null,null,null,null,null,null,null,null,null,null,null,null,null,null,null,null,null,null,{"$f":"INDEX('Fixture Descriptions'!A:K,MATCH('Inspection Form'!H32,'Fixture Descriptions'!A:A,0),8)","v":{"$error":"#N/A"}},{"$error":"#N/A"},null,{"$error":"#N/A"},1,null,null,null,{"$f":"IFERROR(IF(AND(INDEX(Inventory!CB:CB,MATCH('Inspection Form'!B32,Inventory!B:B,0))=\"Not Qualified\",INDEX(Inventory!L:L,MATCH('Inspection Form'!B32,Inventory!B:B,0))<>\"\",$Q$5<>\"Pre\"),0,BY32*BZ32), 0)","v":0},null,{"$error":"#DIV/0!"},{"$error":"#DIV/0!"},29]
[null,29,null,null,null,null,null,null,null,null,null,null,null,null,null,null,null,null,null,null,null,null,null,null,null,null,null,null,null,null,null,null,null,null,null,null,null,null,null,null,null,null,null,null,null,null,null,null,null,null,null,null,null,null,null,null,null,null,null,null,null,null,null,null,null,null,null,null,null,null,null,null,null,{"$f":"INDEX('Fixture Descriptions'!A:K,MATCH('Inspection Form'!H33,'Fixture Descriptions'!A:A,0),8)","v":{"$error":"#N/A"}},{"$error":"#N/A"},null,{"$error":"#N/A"},1,null,null,null,{"$f":"IFERROR(IF(AND(INDEX(Inventory!CB:CB,MATCH('Inspection Form'!B33,Inventory!B:B,0))=\"Not Qualified\",INDEX(Inventory!L:L,MATCH('Inspection Form'!B33,Inventory!B:B,0))<>\"\",$Q$5<>\"Pre\"),0,BY33*BZ33), 0)","v":0},null,{"$error":"#DIV/0!"},{"$error":"#DIV/0!"},30]
[null,30,null,null,null,null,null,null,null,null,null,null,null,null,"5. ","If a random sample is to be used, all red lines require field inspection. If a red line is unable to be inspected, proceed to the indicated backup line.",null,null,null,null,null,null,null,null,null,null,null,null,null,null,null,null,null,null,null,null,null,null,null,null,null,null,null,null,null,null,null,null,null,null,null,null,null,null,null,null,null,null,null,null,null,null,null,null,null,null,null,null,null,null,null,null,null,{"$f":"INDEX('Fixture Descriptions'!A:K,MATCH('Inspection Form'!H34,'Fixture Descriptions'!A:A,0),8)","v":{"$error":"#N/A"}},{"$error":"#N/A"},null,{"$error":"#N/A"},1,null,null,null,{"$f":"IFERROR(IF(AND(INDEX(Inventory!CB:CB,MATCH('Inspection Form'!B34,Inventory!B:B,0))=\"Not Qualified\",INDEX(Inventory!L:L,MATCH('Inspection Form'!B34,Inventory!B:B,0))<>\"\",$Q$5<>\"Pre\"),0,BY34*BZ34), 0)","v":0},null,{"$error":"#DIV/0!"},{"$error":"#DIV/0!"},31]
[null,31,null,null,null,null,null,null,null,null,null,null,null,null,null,null,null,null,null,null,null,null,null,null,null,null,null,null,null,null,null,null,null,null,null,null,null,null,null,null,null,null,null,null,null,null,null,null,null,null,null,null,null,null,null,null,null,null,null,null,null,null,null,null,null,null,null,null,null,null,null,null,null,{"$f":"INDEX('Fixture Descriptions'!A:K,MATCH('Inspection Form'!H35,'Fixture Descriptions'!A:A,0),8)","v":{"$error":"#N/A"}},{"$error":"#N/A"},null,{"$error":"#N/A"},1,null,null,null,{"$f":"IFERROR(IF(AND(INDEX(Inventory!CB:CB,MATCH('Inspection Form'!B35,Inventory!B:B,0))=\"Not Qualified\",INDEX(Inventory!L:L,MATCH('Inspection Form'!B35,Inventory!B:B,0))<>\"\",$Q$5<>\"Pre\"),0,BY35*BZ35), 0)","v":0},null,{"$error":"#DIV/0!"},{"$error":"#DIV/0!"},32]
[null,32,null,null,null,null,null,null,null,null,null,null,null,null,null,null,null,null,null,null,null,null,null,null,null,null,null,null,null,null,null,null,null,null,null,null,null,null,null,null,null,null,null,null,null,null,null,null,null,null,null,null,null,null,null,null,null,null,null,null,null,null,null,null,null,null,null,null,null,null,null,null,null,{"$f":"INDEX('Fixture Descriptions'!A:K,MATCH('Inspection Form'!H36,'Fixture Descriptions'!A:A,0),8)","v":{"$error":"#N/A"}},{"$error":"#N/A"},null,{"$error":"#N/A"},1,null,null,null,{"$f":"IFERROR(IF(AND(INDEX(Inventory!CB:CB,MATCH('Inspection Form'!B36,Inventory!B:B,0))=\"Not Qualified\",INDEX(Inventory!L:L,MATCH('Inspection Form'!B36,Inventory!B:B,0))<>\"\",$Q$5<>\"Pre\"),0,BY36*BZ36), 0)","v":0},null,{"$error":"#DIV/0!"},{"$error":"#DIV/0!"},33]
[null,33,null,null,null,null,null,null,null,null,null,null,null,null,null,null,null,null,null,null,null,null,null,null,null,null,null,null,null,null,null,null,null,null,null,null,null,null,null,null,null,null,null,null,null,null,null,null,null,null,null,null,null,null,null,null,null,null,null,null,null,null,null,null,null,null,null,null,null,null,null,null,null,{"$f":"INDEX('Fixture Descriptions'!A:K,MATCH('Inspection Form'!H37,'Fixture Descriptions'!A:A,0),8)","v":{"$error":"#N/A"}},{"$error":"#N/A"},null,{"$error":"#N/A"},1,null,null,null,{"$f":"IFERROR(IF(AND(INDEX(Inventory!CB:CB,MATCH('Inspection Form'!B37,Inventory!B:B,0))=\"Not Qualified\",INDEX(Inventory!L:L,MATCH('Inspection Form'!B37,Inventory!B:B,0))<>\"\",$Q$5<>\"Pre\"),0,BY37*BZ37), 0)","v":0},null,{"$f":"CD37/$CE$5","v":{"$error":"#DIV/0!"}},{"$error":"#DIV/0!"},34]
[null,34,null,null,null,null,null,null,null,null,null,null,null,null,null,null,null,null,null,null,null,null,null,null,null,null,null,null,null,null,null,null,null,null,null,null,null,null,null,null,null,null,null,null,null,null,null,null,null,null,null,null,null,null,null,null,null,null,null,null,null,null,null,null,null,null,null,null,null,null,null,null,null,{"$f":"INDEX('Fixture Descriptions'!A:K,MATCH('Inspection Form'!H38,'Fixture Descriptions'!A:A,0),8)","v":{"$error":"#N/A"}},{"$error":"#N/A"},null,{"$error":"#N/A"},1,null,null,null,{"$f":"IFERROR(IF(AND(INDEX(Inventory!CB:CB,MATCH('Inspection Form'!B38,Inventory!B:B,0))=\"Not Qualified\",INDEX(Inventory!L:L,MATCH('Inspection Form'!B38,Inventory!B:B,0))<>\"\",$Q$5<>\"Pre\"),0,BY38*BZ38), 0)","v":0},null,{"$error":"#DIV/0!"},{"$error":"#DIV/0!"},35]
[null,35,null,null,null,null,null,null,null,null,null,null,null,null,null,null,null,null,null,null,null,null,null,null,null,null,null,null,null,null,null,null,null,null,null,null,null,null,null,null,null,null,null,null,null,null,null,null,null,null,null,null,null,null,null,null,null,null,null,null,null,null,null,null,null,null,null,null,null,null,null,null,null,{"$f":"INDEX('Fixture Descriptions'!A:K,MATCH('Inspection Form'!H39,'Fixture Descriptions'!A:A,0),8)","v":{"$error":"#N/A"}},{"$error":"#N/A"},null,{"$error":"#N/A"},1,null,null,null,{"$f":"IFERROR(IF(AND(INDEX(Inventory!CB:CB,MATCH('Inspection Form'!B39,Inventory!B:B,0))=\"Not Qualified\",INDEX(Inventory!L:L,MATCH('Inspection Form'!B39,Inventory!B:B,0))<>\"\",$Q$5<>\"Pre\"),0,BY39*BZ39), 0)","v":0},null,{"$error":"#DIV/0!"},{"$error":"#DIV/0!"},36]
[null,36,null,null,null,null,null,null,null,null,null,null,null,null,null,null,null,null,null,null,null,null,null,null,null,null,null,null,null,null,null,null,null,null,null,null,null,null,null,null,null,null,null,null,null,null,null,null,null,null,null,null,null,null,null,null,null,null,null,null,null,null,null,null,null,null,null,null,null,null,null,null,null,{"$f":"INDEX('Fixture Descriptions'!A:K,MATCH('Inspection Form'!H40,'Fixture Descriptions'!A:A,0),8)","v":{"$error":"#N/A"}},{"$error":"#N/A"},null,{"$error":"#N/A"},1,null,null,null,{"$f":"IFERROR(IF(AND(INDEX(Inventory!CB:CB,MATCH('Inspection Form'!B40,Inventory!B:B,0))=\"Not Qualified\",INDEX(Inventory!L:L,MATCH('Inspection Form'!B40,Inventory!B:B,0))<>\"\",$Q$5<>\"Pre\"),0,BY40*BZ40), 0)","v":0},null,{"$error":"#DIV/0!"},{"$error":"#DIV/0!"},37]
[null,37,null,null,null,null,null,null,null,null,null,null,null,null,"The confidence level of an interval estimate of a parameter is the probability that the interval estimate will contain the parameter. It tells you how sure you can be that the random sample represents the entire population. The minimum default value is 80%.",null,null,null,null,null,null,null,null,null,null,null,null,null,null,null,null,null,null,null,null,null,null,null,null,null,null,null,null,null,null,null,null,null,null,null,null,null,null,null,null,null,null,null,null,null,null,null,null,null,null,null,null,null,null,null,null,null,null,{"$f":"INDEX('Fixture Descriptions'!A:K,MATCH('Inspection Form'!H41,'Fixture Descriptions'!A:A,0),8)","v":{"$error":"#N/A"}},{"$error":"#N/A"},null,{"$error":"#N/A"},1,null,null,null,{"$f":"IFERROR(IF(AND(INDEX(Inventory!CB:CB,MATCH('Inspection Form'!B41,Inventory!B:B,0))=\"Not Qualified\",INDEX(Inventory!L:L,MATCH('Inspection Form'!B41,Inventory!B:B,0))<>\"\",$Q$5<>\"Pre\"),0,BY41*BZ41), 0)","v":0},null,{"$error":"#DIV/0!"},{"$error":"#DIV/0!"},38]
[null,38,null,null,null,null,null,null,null,null,null,null,null,null,null,null,null,null,null,null,null,null,null,null,null,null,null,null,null,null,null,null,null,null,null,null,null,null,null,null,null,null,null,null,null,null,null,null,null,null,null,null,null,null,null,null,null,null,null,null,null,null,null,null,null,null,null,null,null,null,null,null,null,{"$f":"INDEX('Fixture Descriptions'!A:K,MATCH('Inspection Form'!H42,'Fixture Descriptions'!A:A,0),8)","v":{"$error":"#N/A"}},{"$error":"#N/A"},null,{"$error":"#N/A"},1,null,null,null,{"$f":"IFERROR(IF(AND(INDEX(Inventory!CB:CB,MATCH('Inspection Form'!B42,Inventory!B:B,0))=\"Not Qualified\",INDEX(Inventory!L:L,MATCH('Inspection Form'!B42,Inventory!B:B,0))<>\"\",$Q$5<>\"Pre\"),0,BY42*BZ42), 0)","v":0},null,{"$error":"#DIV/0!"},{"$error":"#DIV/0!"},39]
[null,39,null,null,null,null,null,null,null,null,null,null,null,null,null,null,null,null,null,null,null,null,null,null,null,null,null,null,null,null,null,null,null,null,null,null,null,null,null,null,null,null,null,null,null,null,null,null,null,null,null,null,null,null,null,null,null,null,null,null,null,null,null,null,null,null,null,null,null,null,null,null,null,{"$f":"INDEX('Fixture Descriptions'!A:K,MATCH('Inspection Form'!H43,'Fixture Descriptions'!A:A,0),8)","v":{"$error":"#N/A"}},{"$error":"#N/A"},null,{"$error":"#N/A"},1,null,null,null,{"$f":"IFERROR(IF(AND(INDEX(Inventory!CB:CB,MATCH('Inspection Form'!B43,Inventory!B:B,0))=\"Not Qualified\",INDEX(Inventory!L:L,MATCH('Inspection Form'!B43,Inventory!B:B,0))<>\"\",$Q$5<>\"Pre\"),0,BY43*BZ43), 0)","v":0},null,{"$error":"#DIV/0!"},{"$error":"#DIV/0!"},40]
[null,40,null,null,null,null,null,null,null,null,null,null,null,null,null,null,null,null,null,null,null,null,null,null,null,null,null,null,null,null,null,null,null,null,null,null,null,null,null,null,null,null,null,null,null,null,null,null,null,null,null,null,null,null,null,null,null,null,null,null,null,null,null,null,null,null,null,null,null,null,null,null,null,{"$f":"INDEX('Fixture Descriptions'!A:K,MATCH('Inspection Form'!H44,'Fixture Descriptions'!A:A,0),8)","v":{"$error":"#N/A"}},{"$error":"#N/A"},null,{"$error":"#N/A"},1,null,null,null,{"$f":"IFERROR(IF(AND(INDEX(Inventory!CB:CB,MATCH('Inspection Form'!B44,Inventory!B:B,0))=\"Not Qualified\",INDEX(Inventory!L:L,MATCH('Inspection Form'!B44,Inventory!B:B,0))<>\"\",$Q$5<>\"Pre\"),0,BY44*BZ44), 0)","v":0},null,{"$error":"#DIV/0!"},{"$error":"#DIV/0!"},41]
[null,41,null,null,null,null,null,null,null,null,null,null,null,null,null,null,null,null,null,null,null,null,null,null,null,null,null,null,null,null,null,null,null,null,null,null,null,null,null,null,null,null,null,null,null,null,null,null,null,null,null,null,null,null,null,null,null,null,null,null,null,null,null,null,null,null,null,null,null,null,null,null,null,{"$f":"INDEX('Fixture Descriptions'!A:K,MATCH('Inspection Form'!H45,'Fixture Descriptions'!A:A,0),8)","v":{"$error":"#N/A"}},{"$error":"#N/A"},null,{"$error":"#N/A"},1,null,null,null,{"$f":"IFERROR(IF(AND(INDEX(Inventory!CB:CB,MATCH('Inspection Form'!B45,Inventory!B:B,0))=\"Not Qualified\",INDEX(Inventory!L:L,MATCH('Inspection Form'!B45,Inventory!B:B,0))<>\"\",$Q$5<>\"Pre\"),0,BY45*BZ45), 0)","v":0},null,{"$error":"#DIV/0!"},{"$error":"#DIV/0!"},42]
[null,42,null,null,null,null,null,null,null,null,null,null,null,null,null,null,null,null,null,null,null,null,null,null,null,null,null,null,null,null,null,null,null,null,null,null,null,null,null,null,null,null,null,null,null,null,null,null,null,null,null,null,null,null,null,null,null,null,null,null,null,null,null,null,null,null,null,null,null,null,null,null,null,{"$f":"INDEX('Fixture Descriptions'!A:K,MATCH('Inspection Form'!H46,'Fixture Descriptions'!A:A,0),8)","v":{"$error":"#N/A"}},{"$error":"#N/A"},null,{"$error":"#N/A"},1,null,null,null,{"$f":"IFERROR(IF(AND(INDEX(Inventory!CB:CB,MATCH('Inspection Form'!B46,Inventory!B:B,0))=\"Not Qualified\",INDEX(Inventory!L:L,MATCH('Inspection Form'!B46,Inventory!B:B,0))<>\"\",$Q$5<>\"Pre\"),0,BY46*BZ46), 0)","v":0},null,{"$error":"#DIV/0!"},{"$error":"#DIV/0!"},43]
[null,43,null,null,null,null,null,null,null,null,null,null,null,null,null,null,null,null,null,null,null,null,null,null,null,null,null,null,null,null,null,null,null,null,null,null,null,null,null,null,null,null,null,null,null,null,null,null,null,null,null,null,null,null,null,null,null,null,null,null,null,null,null,null,null,null,null,null,null,null,null,null,null,{"$f":"INDEX('Fixture Descriptions'!A:K,MATCH('Inspection Form'!H47,'Fixture Descriptions'!A:A,0),8)","v":{"$error":"#N/A"}},{"$error":"#N/A"},null,{"$error":"#N/A"},1,null,null,null,{"$f":"IFERROR(IF(AND(INDEX(Inventory!CB:CB,MATCH('Inspection Form'!B47,Inventory!B:B,0))=\"Not Qualified\",INDEX(Inventory!L:L,MATCH('Inspection Form'!B47,Inventory!B:B,0))<>\"\",$Q$5<>\"Pre\"),0,BY47*BZ47), 0)","v":0},null,{"$error":"#DIV/0!"},{"$error":"#DIV/0!"},44]
[null,44,null,null,null,null,null,null,null,null,null,null,null,null,"The confidence interval gives an estimated range of values which is likely to include an unknown population parameter, the estimated range being calculated from a given set of sample data. For example, if you use a confidence interval of 20 and 47% percent of your random sample fails the inspection process, you can be \"sure\" that if you had inspected the entire population, between 27% (47-20) and 67% (47+20) would have failed as well. The maximum default value is 20%.",null,null,null,null,null,null,null,null,null,null,null,null,null,null,null,null,null,null,null,null,null,null,null,null,null,null,null,null,null,null,null,null,null,null,null,null,null,null,null,null,null,null,null,null,null,null,null,null,null,null,null,null,null,null,null,null,null,null,{"$f":"INDEX('Fixture Descriptions'!A:K,MATCH('Inspection Form'!H48,'Fixture Descriptions'!A:A,0),8)","v":{"$error":"#N/A"}},{"$error":"#N/A"},null,{"$error":"#N/A"},1,null,null,null,{"$f":"IFERROR(IF(AND(INDEX(Inventory!CB:CB,MATCH('Inspection Form'!B48,Inventory!B:B,0))=\"Not Qualified\",INDEX(Inventory!L:L,MATCH('Inspection Form'!B48,Inventory!B:B,0))<>\"\",$Q$5<>\"Pre\"),0,BY48*BZ48), 0)","v":0},null,{"$error":"#DIV/0!"},{"$error":"#DIV/0!"},45]
[null,45,null,null,null,null,null,null,null,null,null,null,null,null,null,null,null,null,null,null,null,null,null,null,null,null,null,null,null,null,null,null,null,null,null,null,null,null,null,null,null,null,null,null,null,null,null,null,null,null,null,null,null,null,null,null,null,null,null,null,null,null,null,null,null,null,null,null,null,null,null,null,null,{"$f":"INDEX('Fixture Descriptions'!A:K,MATCH('Inspection Form'!H49,'Fixture Descriptions'!A:A,0),8)","v":{"$error":"#N/A"}},{"$error":"#N/A"},null,{"$error":"#N/A"},1,null,null,null,{"$f":"IFERROR(IF(AND(INDEX(Inventory!CB:CB,MATCH('Inspection Form'!B49,Inventory!B:B,0))=\"Not Qualified\",INDEX(Inventory!L:L,MATCH('Inspection Form'!B49,Inventory!B:B,0))<>\"\",$Q$5<>\"Pre\"),0,BY49*BZ49), 0)","v":0},null,{"$error":"#DIV/0!"},{"$error":"#DIV/0!"},46]
[null,46,null,null,null,null,null,null,null,null,null,null,null,null,null,null,null,null,null,null,null,null,null,null,null,null,null,null,null,null,null,null,null,null,null,null,null,null,null,null,null,null,null,null,null,null,null,null,null,null,null,null,null,null,null,null,null,null,null,null,null,null,null,null,null,null,null,null,null,null,null,null,null,{"$f":"INDEX('Fixture Descriptions'!A:K,MATCH('Inspection Form'!H50,'Fixture Descriptions'!A:A,0),8)","v":{"$error":"#N/A"}},{"$error":"#N/A"},null,{"$error":"#N/A"},1,null,null,null,{"$f":"IFERROR(IF(AND(INDEX(Inventory!CB:CB,MATCH('Inspection Form'!B50,Inventory!B:B,0))=\"Not Qualified\",INDEX(Inventory!L:L,MATCH('Inspection Form'!B50,Inventory!B:B,0))<>\"\",$Q$5<>\"Pre\"),0,BY50*BZ50), 0)","v":0},null,{"$error":"#DIV/0!"},{"$error":"#DIV/0!"},47]
[null,47,null,null,null,null,null,null,null,null,null,null,null,null,null,null,null,null,null,null,null,null,null,null,null,null,null,null,null,null,null,null,null,null,null,null,null,null,null,null,null,null,null,null,null,null,null,null,null,null,null,null,null,null,null,null,null,null,null,null,null,null,null,null,null,null,null,null,null,null,null,null,null,{"$f":"INDEX('Fixture Descriptions'!A:K,MATCH('Inspection Form'!H51,'Fixture Descriptions'!A:A,0),8)","v":{"$error":"#N/A"}},{"$error":"#N/A"},null,{"$error":"#N/A"},1,null,null,null,{"$f":"IFERROR(IF(AND(INDEX(Inventory!CB:CB,MATCH('Inspection Form'!B51,Inventory!B:B,0))=\"Not Qualified\",INDEX(Inventory!L:L,MATCH('Inspection Form'!B51,Inventory!B:B,0))<>\"\",$Q$5<>\"Pre\"),0,BY51*BZ51), 0)","v":0},null,{"$error":"#DIV/0!"},{"$error":"#DIV/0!"},48]
[null,48,null,null,null,null,null,null,null,null,null,null,null,null,null,null,null,null,null,null,null,null,null,null,null,null,null,null,null,null,null,null,null,null,null,null,null,null,null,null,null,null,null,null,null,null,null,null,null,null,null,null,null,null,null,null,null,null,null,null,null,null,null,null,null,null,null,null,null,null,null,null,null,{"$f":"INDEX('Fixture Descriptions'!A:K,MATCH('Inspection Form'!H52,'Fixture Descriptions'!A:A,0),8)","v":{"$error":"#N/A"}},{"$error":"#N/A"},null,{"$error":"#N/A"},1,null,null,null,{"$f":"IFERROR(IF(AND(INDEX(Inventory!CB:CB,MATCH('Inspection Form'!B52,Inventory!B:B,0))=\"Not Qualified\",INDEX(Inventory!L:L,MATCH('Inspection Form'!B52,Inventory!B:B,0))<>\"\",$Q$5<>\"Pre\"),0,BY52*BZ52), 0)","v":0},null,{"$error":"#DIV/0!"},{"$error":"#DIV/0!"},49]
[null,49,null,null,null,null,null,null,null,null,null,null,null,null,null,null,null,null,null,null,null,null,null,null,null,null,null,null,null,null,null,null,null,null,null,null,null,null,null,null,null,null,null,null,null,null,null,null,null,null,null,null,null,null,null,null,null,null,null,null,null,null,null,null,null,null,null,null,null,null,null,null,null,{"$f":"INDEX('Fixture Descriptions'!A:K,MATCH('Inspection Form'!H53,'Fixture Descriptions'!A:A,0),8)","v":{"$error":"#N/A"}},{"$error":"#N/A"},null,{"$error":"#N/A"},1,null,null,null,{"$f":"IFERROR(IF(AND(INDEX(Inventory!CB:CB,MATCH('Inspection Form'!B53,Inventory!B:B,0))=\"Not Qualified\",INDEX(Inventory!L:L,MATCH('Inspection Form'!B53,Inventory!B:B,0))<>\"\",$Q$5<>\"Pre\"),0,BY53*BZ53), 0)","v":0},null,{"$error":"#DIV/0!"},{"$error":"#DIV/0!"},50]
[null,50,null,null,null,null,null,null,null,null,null,null,null,null,null,null,null,null,null,null,null,null,null,null,null,null,null,null,null,null,null,null,null,null,null,null,null,null,null,null,null,null,null,null,null,null,null,null,null,null,null,null,null,null,null,null,null,null,null,null,null,null,null,null,null,null,null,null,null,null,null,null,null,{"$f":"INDEX('Fixture Descriptions'!A:K,MATCH('Inspection Form'!H54,'Fixture Descriptions'!A:A,0),8)","v":{"$error":"#N/A"}},{"$error":"#N/A"},null,{"$error":"#N/A"},1,null,null,null,{"$f":"IFERROR(IF(AND(INDEX(Inventory!CB:CB,MATCH('Inspection Form'!B54,Inventory!B:B,0))=\"Not Qualified\",INDEX(Inventory!L:L,MATCH('Inspection Form'!B54,Inventory!B:B,0))<>\"\",$Q$5<>\"Pre\"),0,BY54*BZ54), 0)","v":0},null,{"$error":"#DIV/0!"},{"$error":"#DIV/0!"},51]
[null,51,null,null,null,null,null,null,null,null,null,null,null,null,null,null,null,null,null,null,null,null,null,null,null,null,null,null,null,null,null,null,null,null,null,null,null,null,null,null,null,null,null,null,null,null,null,null,null,null,null,null,null,null,null,null,null,null,null,null,null,null,null,null,null,null,null,null,null,null,null,null,null,{"$f":"INDEX('Fixture Descriptions'!A:K,MATCH('Inspection Form'!H55,'Fixture Descriptions'!A:A,0),8)","v":{"$error":"#N/A"}},{"$error":"#N/A"},null,{"$error":"#N/A"},1,null,null,null,{"$f":"IFERROR(IF(AND(INDEX(Inventory!CB:CB,MATCH('Inspection Form'!B55,Inventory!B:B,0))=\"Not Qualified\",INDEX(Inventory!L:L,MATCH('Inspection Form'!B55,Inventory!B:B,0))<>\"\",$Q$5<>\"Pre\"),0,BY55*BZ55), 0)","v":0},null,{"$error":"#DIV/0!"},{"$error":"#DIV/0!"},52]
[null,52,null,null,null,null,null,null,null,null,null,null,null,null,null,null,null,null,null,null,null,null,null,null,null,null,null,null,null,null,null,null,null,null,null,null,null,null,null,null,null,null,null,null,null,null,null,null,null,null,null,null,null,null,null,null,null,null,null,null,null,null,null,null,null,null,null,null,null,null,null,null,null,{"$f":"INDEX('Fixture Descriptions'!A:K,MATCH('Inspection Form'!H56,'Fixture Descriptions'!A:A,0),8)","v":{"$error":"#N/A"}},{"$error":"#N/A"},null,{"$error":"#N/A"},1,null,null,null,{"$f":"IFERROR(IF(AND(INDEX(Inventory!CB:CB,MATCH('Inspection Form'!B56,Inventory!B:B,0))=\"Not Qualified\",INDEX(Inventory!L:L,MATCH('Inspection Form'!B56,Inventory!B:B,0))<>\"\",$Q$5<>\"Pre\"),0,BY56*BZ56), 0)","v":0},null,{"$error":"#DIV/0!"},{"$error":"#DIV/0!"},53]
[null,53,null,null,null,null,null,null,null,null,null,null,null,null,null,null,null,null,null,null,null,null,null,null,null,null,null,null,null,null,null,null,null,null,null,null,null,null,null,null,null,null,null,null,null,null,null,null,null,null,null,null,null,null,null,null,null,null,null,null,null,null,null,null,null,null,null,null,null,null,null,null,null,{"$f":"INDEX('Fixture Descriptions'!A:K,MATCH('Inspection Form'!H57,'Fixture Descriptions'!A:A,0),8)","v":{"$error":"#N/A"}},{"$error":"#N/A"},null,{"$error":"#N/A"},1,null,null,null,{"$f":"IFERROR(IF(AND(INDEX(Inventory!CB:CB,MATCH('Inspection Form'!B57,Inventory!B:B,0))=\"Not Qualified\",INDEX(Inventory!L:L,MATCH('Inspection Form'!B57,Inventory!B:B,0))<>\"\",$Q$5<>\"Pre\"),0,BY57*BZ57), 0)","v":0},null,{"$error":"#DIV/0!"},{"$error":"#DIV/0!"},54]
[null,54,null,null,null,null,null,null,null,null,null,null,null,null,null,null,null,null,null,null,null,null,null,null,null,null,null,null,null,null,null,null,null,null,null,null,null,null,null,null,null,null,null,null,null,null,null,null,null,null,null,null,null,null,null,null,null,null,null,null,null,null,null,null,null,null,null,null,null,null,null,null,null,{"$f":"INDEX('Fixture Descriptions'!A:K,MATCH('Inspection Form'!H58,'Fixture Descriptions'!A:A,0),8)","v":{"$error":"#N/A"}},{"$error":"#N/A"},null,{"$error":"#N/A"},1,null,null,null,{"$f":"IFERROR(IF(AND(INDEX(Inventory!CB:CB,MATCH('Inspection Form'!B58,Inventory!B:B,0))=\"Not Qualified\",INDEX(Inventory!L:L,MATCH('Inspection Form'!B58,Inventory!B:B,0))<>\"\",$Q$5<>\"Pre\"),0,BY58*BZ58), 0)","v":0},null,{"$error":"#DIV/0!"},{"$error":"#DIV/0!"},55]
[null,55,null,null,null,null,null,null,null,null,null,null,null,null,null,null,null,null,null,null,null,null,null,null,null,null,null,null,null,null,null,null,null,null,null,null,null,null,null,null,null,null,null,null,null,null,null,null,null,null,null,null,null,null,null,null,null,null,null,null,null,null,null,null,null,null,null,null,null,null,null,null,null,{"$f":"INDEX('Fixture Descriptions'!A:K,MATCH('Inspection Form'!H59,'Fixture Descriptions'!A:A,0),8)","v":{"$error":"#N/A"}},{"$error":"#N/A"},null,{"$error":"#N/A"},1,null,null,null,{"$f":"IFERROR(IF(AND(INDEX(Inventory!CB:CB,MATCH('Inspection Form'!B59,Inventory!B:B,0))=\"Not Qualified\",INDEX(Inventory!L:L,MATCH('Inspection Form'!B59,Inventory!B:B,0))<>\"\",$Q$5<>\"Pre\"),0,BY59*BZ59), 0)","v":0},null,{"$error":"#DIV/0!"},{"$error":"#DIV/0!"},56]
[null,56,null,null,null,null,null,null,null,null,null,null,null,null,null,null,null,null,null,null,null,null,null,null,null,null,null,null,null,null,null,null,null,null,null,null,null,null,null,null,null,null,null,null,null,null,null,null,null,null,null,null,null,null,null,null,null,null,null,null,null,null,null,null,null,null,null,null,null,null,null,null,null,{"$f":"INDEX('Fixture Descriptions'!A:K,MATCH('Inspection Form'!H60,'Fixture Descriptions'!A:A,0),8)","v":{"$error":"#N/A"}},{"$error":"#N/A"},null,{"$error":"#N/A"},1,null,null,null,{"$f":"IFERROR(IF(AND(INDEX(Inventory!CB:CB,MATCH('Inspection Form'!B60,Inventory!B:B,0))=\"Not Qualified\",INDEX(Inventory!L:L,MATCH('Inspection Form'!B60,Inventory!B:B,0))<>\"\",$Q$5<>\"Pre\"),0,BY60*BZ60), 0)","v":0},null,{"$error":"#DIV/0!"},{"$error":"#DIV/0!"},57]
[null,57,null,null,null,null,null,null,null,null,null,null,null,null,null,null,null,null,null,null,null,null,null,null,null,null,null,null,null,null,null,null,null,null,null,null,null,null,null,null,null,null,null,null,null,null,null,null,null,null,null,null,null,null,null,null,null,null,null,null,null,null,null,null,null,null,null,null,null,null,null,null,null,{"$f":"INDEX('Fixture Descriptions'!A:K,MATCH('Inspection Form'!H61,'Fixture Descriptions'!A:A,0),8)","v":{"$error":"#N/A"}},{"$error":"#N/A"},null,{"$error":"#N/A"},1,null,null,null,{"$f":"IFERROR(IF(AND(INDEX(Inventory!CB:CB,MATCH('Inspection Form'!B61,Inventory!B:B,0))=\"Not Qualified\",INDEX(Inventory!L:L,MATCH('Inspection Form'!B61,Inventory!B:B,0))<>\"\",$Q$5<>\"Pre\"),0,BY61*BZ61), 0)","v":0},null,{"$error":"#DIV/0!"},{"$error":"#DIV/0!"},58]
[null,58,null,null,null,null,null,null,null,null,null,null,null,null,null,null,null,null,null,null,null,null,null,null,null,null,null,null,null,null,null,null,null,null,null,null,null,null,null,null,null,null,null,null,null,null,null,null,null,null,null,null,null,null,null,null,null,null,null,null,null,null,null,null,null,null,null,null,null,null,null,null,null,{"$f":"INDEX('Fixture Descriptions'!A:K,MATCH('Inspection Form'!H62,'Fixture Descriptions'!A:A,0),8)","v":{"$error":"#N/A"}},{"$error":"#N/A"},null,{"$error":"#N/A"},1,null,null,null,{"$f":"IFERROR(IF(AND(INDEX(Inventory!CB:CB,MATCH('Inspection Form'!B62,Inventory!B:B,0))=\"Not Qualified\",INDEX(Inventory!L:L,MATCH('Inspection Form'!B62,Inventory!B:B,0))<>\"\",$Q$5<>\"Pre\"),0,BY62*BZ62), 0)","v":0},null,{"$error":"#DIV/0!"},{"$error":"#DIV/0!"},59]
[null,59,null,null,null,null,null,null,null,null,null,null,null,null,null,null,null,null,null,null,null,null,null,null,null,null,null,null,null,null,null,null,null,null,null,null,null,null,null,null,null,null,null,null,null,null,null,null,null,null,null,null,null,null,null,null,null,null,null,null,null,null,null,null,null,null,null,null,null,null,null,null,null,{"$f":"INDEX('Fixture Descriptions'!A:K,MATCH('Inspection Form'!H63,'Fixture Descriptions'!A:A,0),8)","v":{"$error":"#N/A"}},{"$error":"#N/A"},null,{"$error":"#N/A"},1,null,null,null,{"$f":"IFERROR(IF(AND(INDEX(Inventory!CB:CB,MATCH('Inspection Form'!B63,Inventory!B:B,0))=\"Not Qualified\",INDEX(Inventory!L:L,MATCH('Inspection Form'!B63,Inventory!B:B,0))<>\"\",$Q$5<>\"Pre\"),0,BY63*BZ63), 0)","v":0},null,{"$error":"#DIV/0!"},{"$error":"#DIV/0!"},60]
[null,60,null,null,null,null,null,null,null,null,null,null,null,null,null,null,null,null,null,null,null,null,null,null,null,null,null,null,null,null,null,null,null,null,null,null,null,null,null,null,null,null,null,null,null,null,null,null,null,null,null,null,null,null,null,null,null,null,null,null,null,null,null,null,null,null,null,null,null,null,null,null,null,{"$f":"INDEX('Fixture Descriptions'!A:K,MATCH('Inspection Form'!H64,'Fixture Descriptions'!A:A,0),8)","v":{"$error":"#N/A"}},{"$error":"#N/A"},null,{"$error":"#N/A"},1,null,null,null,{"$f":"IFERROR(IF(AND(INDEX(Inventory!CB:CB,MATCH('Inspection Form'!B64,Inventory!B:B,0))=\"Not Qualified\",INDEX(Inventory!L:L,MATCH('Inspection Form'!B64,Inventory!B:B,0))<>\"\",$Q$5<>\"Pre\"),0,BY64*BZ64), 0)","v":0},null,{"$error":"#DIV/0!"},{"$error":"#DIV/0!"},61]
[null,61,null,null,null,null,null,null,null,null,null,null,null,null,null,null,null,null,null,null,null,null,null,null,null,null,null,null,null,null,null,null,null,null,null,null,null,null,null,null,null,null,null,null,null,null,null,null,null,null,null,null,null,null,null,null,null,null,null,null,null,null,null,null,null,null,null,null,null,null,null,null,null,{"$f":"INDEX('Fixture Descriptions'!A:K,MATCH('Inspection Form'!H65,'Fixture Descriptions'!A:A,0),8)","v":{"$error":"#N/A"}},{"$error":"#N/A"},null,{"$error":"#N/A"},1,null,null,null,{"$f":"IFERROR(IF(AND(INDEX(Inventory!CB:CB,MATCH('Inspection Form'!B65,Inventory!B:B,0))=\"Not Qualified\",INDEX(Inventory!L:L,MATCH('Inspection Form'!B65,Inventory!B:B,0))<>\"\",$Q$5<>\"Pre\"),0,BY65*BZ65), 0)","v":0},null,{"$error":"#DIV/0!"},{"$error":"#DIV/0!"},62]
[null,62,null,null,null,null,null,null,null,null,null,null,null,null,null,null,null,null,null,null,null,null,null,null,null,null,null,null,null,null,null,null,null,null,null,null,null,null,null,null,null,null,null,null,null,null,null,null,null,null,null,null,null,null,null,null,null,null,null,null,null,null,null,null,null,null,null,null,null,null,null,null,null,{"$f":"INDEX('Fixture Descriptions'!A:K,MATCH('Inspection Form'!H66,'Fixture Descriptions'!A:A,0),8)","v":{"$error":"#N/A"}},{"$error":"#N/A"},null,{"$error":"#N/A"},1,null,null,null,{"$f":"IFERROR(IF(AND(INDEX(Inventory!CB:CB,MATCH('Inspection Form'!B66,Inventory!B:B,0))=\"Not Qualified\",INDEX(Inventory!L:L,MATCH('Inspection Form'!B66,Inventory!B:B,0))<>\"\",$Q$5<>\"Pre\"),0,BY66*BZ66), 0)","v":0},null,{"$error":"#DIV/0!"},{"$error":"#DIV/0!"},63]
[null,63,null,null,null,null,null,null,null,null,null,null,null,null,null,null,null,null,null,null,null,null,null,null,null,null,null,null,null,null,null,null,null,null,null,null,null,null,null,null,null,null,null,null,null,null,null,null,null,null,null,null,null,null,null,null,null,null,null,null,null,null,null,null,null,null,null,null,null,null,null,null,null,{"$f":"INDEX('Fixture Descriptions'!A:K,MATCH('Inspection Form'!H67,'Fixture Descriptions'!A:A,0),8)","v":{"$error":"#N/A"}},{"$error":"#N/A"},null,{"$error":"#N/A"},1,null,null,null,{"$f":"IFERROR(IF(AND(INDEX(Inventory!CB:CB,MATCH('Inspection Form'!B67,Inventory!B:B,0))=\"Not Qualified\",INDEX(Inventory!L:L,MATCH('Inspection Form'!B67,Inventory!B:B,0))<>\"\",$Q$5<>\"Pre\"),0,BY67*BZ67), 0)","v":0},null,{"$error":"#DIV/0!"},{"$error":"#DIV/0!"},64]
[null,64,null,null,null,null,null,null,null,null,null,null,null,null,null,null,null,null,null,null,null,null,null,null,null,null,null,null,null,null,null,null,null,null,null,null,null,null,null,null,null,null,null,null,null,null,null,null,null,null,null,null,null,null,null,null,null,null,null,null,null,null,null,null,null,null,null,null,null,null,null,null,null,{"$f":"INDEX('Fixture Descriptions'!A:K,MATCH('Inspection Form'!H68,'Fixture Descriptions'!A:A,0),8)","v":{"$error":"#N/A"}},{"$error":"#N/A"},null,{"$error":"#N/A"},1,null,null,null,{"$f":"IFERROR(IF(AND(INDEX(Inventory!CB:CB,MATCH('Inspection Form'!B68,Inventory!B:B,0))=\"Not Qualified\",INDEX(Inventory!L:L,MATCH('Inspection Form'!B68,Inventory!B:B,0))<>\"\",$Q$5<>\"Pre\"),0,BY68*BZ68), 0)","v":0},null,{"$error":"#DIV/0!"},{"$error":"#DIV/0!"},65]
[null,65,null,null,null,null,null,null,null,null,null,null,null,null,null,null,null,null,null,null,null,null,null,null,null,null,null,null,null,null,null,null,null,null,null,null,null,null,null,null,null,null,null,null,null,null,null,null,null,null,null,null,null,null,null,null,null,null,null,null,null,null,null,null,null,null,null,null,null,null,null,null,null,{"$f":"INDEX('Fixture Descriptions'!A:K,MATCH('Inspection Form'!H69,'Fixture Descriptions'!A:A,0),8)","v":{"$error":"#N/A"}},{"$f":"BV69*I69","v":{"$error":"#N/A"}},null,{"$error":"#N/A"},1,null,null,null,{"$f":"IFERROR(IF(AND(INDEX(Inventory!CB:CB,MATCH('Inspection Form'!B69,Inventory!B:B,0))=\"Not Qualified\",INDEX(Inventory!L:L,MATCH('Inspection Form'!B69,Inventory!B:B,0))<>\"\",$Q$5<>\"Pre\"),0,BY69*BZ69), 0)","v":0},null,{"$error":"#DIV/0!"},{"$error":"#DIV/0!"},66]
[null,66,null,null,null,null,null,null,null,null,null,null,null,null,null,null,null,null,null,null,null,null,null,null,null,null,null,null,null,null,null,null,null,null,null,null,null,null,null,null,null,null,null,null,null,null,null,null,null,null,null,null,null,null,null,null,null,null,null,null,null,null,null,null,null,null,null,null,null,null,null,null,null,{"$f":"INDEX('Fixture Descriptions'!A:K,MATCH('Inspection Form'!H70,'Fixture Descriptions'!A:A,0),8)","v":{"$error":"#N/A"}},{"$error":"#N/A"},null,{"$f":"BW70","v":{"$error":"#N/A"}},{"$f":"IF($U$3=\"All\", 1, IF(AND(C70=$U$3, H70=$U$4), 1, 0))","v":1},null,null,null,{"$f":"IFERROR(IF(AND(INDEX(Inventory!CB:CB,MATCH('Inspection Form'!B70,Inventory!B:B,0))=\"Not Qualified\",INDEX(Inventory!L:L,MATCH('Inspection Form'!B70,Inventory!B:B,0))<>\"\",$Q$5<>\"Pre\"),0,BY70*BZ70), 0)","v":0},null,{"$f":"CD70/$CE$5","v":{"$error":"#DIV/0!"}},{"$f":"CF70+CG69","v":{"$error":"#DIV/0!"}},67]
[null,67,null,null,null,null,null,null,null,null,null,null,null,null,null,null,null,null,null,null,null,null,null,null,null,null,null,null,null,null,null,null,null,null,null,null,null,null,null,null,null,null,null,null,null,null,null,null,null,null,null,null,null,null,null,null,null,null,null,null,null,null,null,null,null,null,null,null,null,null,null,null,null,{"$f":"INDEX('Fixture Descriptions'!A:K,MATCH('Inspection Form'!H71,'Fixture Descriptions'!A:A,0),8)","v":{"$error":"#N/A"}},{"$error":"#N/A"},null,{"$error":"#N/A"},1,null,null,null,{"$f":"IFERROR(IF(AND(INDEX(Inventory!CB:CB,MATCH('Inspection Form'!B71,Inventory!B:B,0))=\"Not Qualified\",INDEX(Inventory!L:L,MATCH('Inspection Form'!B71,Inventory!B:B,0))<>\"\",$Q$5<>\"Pre\"),0,BY71*BZ71), 0)","v":0},null,{"$error":"#DIV/0!"},{"$error":"#DIV/0!"},68]
[null,68,null,null,null,null,null,null,null,null,null,null,null,null,null,null,null,null,null,null,null,null,null,null,null,null,null,null,null,null,null,null,null,null,null,null,null,null,null,null,null,null,null,null,null,null,null,null,null,null,null,null,null,null,null,null,null,null,null,null,null,null,null,null,null,null,null,null,null,null,null,null,null,{"$f":"INDEX('Fixture Descriptions'!A:K,MATCH('Inspection Form'!H72,'Fixture Descriptions'!A:A,0),8)","v":{"$error":"#N/A"}},{"$error":"#N/A"},null,{"$error":"#N/A"},1,null,null,null,{"$f":"IFERROR(IF(AND(INDEX(Inventory!CB:CB,MATCH('Inspection Form'!B72,Inventory!B:B,0))=\"Not Qualified\",INDEX(Inventory!L:L,MATCH('Inspection Form'!B72,Inventory!B:B,0))<>\"\",$Q$5<>\"Pre\"),0,BY72*BZ72), 0)","v":0},null,{"$error":"#DIV/0!"},{"$error":"#DIV/0!"},69]
[null,69,null,null,null,null,null,null,null,null,null,null,null,null,null,null,null,null,null,null,null,null,null,null,null,null,null,null,null,null,null,null,null,null,null,null,null,null,null,null,null,null,null,null,null,null,null,null,null,null,null,null,null,null,null,null,null,null,null,null,null,null,null,null,null,null,null,null,null,null,null,null,null,{"$f":"INDEX('Fixture Descriptions'!A:K,MATCH('Inspection Form'!H73,'Fixture Descriptions'!A:A,0),8)","v":{"$error":"#N/A"}},{"$error":"#N/A"},null,{"$error":"#N/A"},1,null,null,null,{"$f":"IFERROR(IF(AND(INDEX(Inventory!CB:CB,MATCH('Inspection Form'!B73,Inventory!B:B,0))=\"Not Qualified\",INDEX(Inventory!L:L,MATCH('Inspection Form'!B73,Inventory!B:B,0))<>\"\",$Q$5<>\"Pre\"),0,BY73*BZ73), 0)","v":0},null,{"$error":"#DIV/0!"},{"$error":"#DIV/0!"},70]
[null,70,null,null,null,null,null,null,null,null,null,null,null,null,null,null,null,null,null,null,null,null,null,null,null,null,null,null,null,null,null,null,null,null,null,null,null,null,null,null,null,null,null,null,null,null,null,null,null,null,null,null,null,null,null,null,null,null,null,null,null,null,null,null,null,null,null,null,null,null,null,null,null,{"$f":"INDEX('Fixture Descriptions'!A:K,MATCH('Inspection Form'!H74,'Fixture Descriptions'!A:A,0),8)","v":{"$error":"#N/A"}},{"$error":"#N/A"},null,{"$error":"#N/A"},1,null,null,null,{"$f":"IFERROR(IF(AND(INDEX(Inventory!CB:CB,MATCH('Inspection Form'!B74,Inventory!B:B,0))=\"Not Qualified\",INDEX(Inventory!L:L,MATCH('Inspection Form'!B74,Inventory!B:B,0))<>\"\",$Q$5<>\"Pre\"),0,BY74*BZ74), 0)","v":0},null,{"$error":"#DIV/0!"},{"$error":"#DIV/0!"},71]
[null,71,null,null,null,null,null,null,null,null,null,null,null,null,null,null,null,null,null,null,null,null,null,null,null,null,null,null,null,null,null,null,null,null,null,null,null,null,null,null,null,null,null,null,null,null,null,null,null,null,null,null,null,null,null,null,null,null,null,null,null,null,null,null,null,null,null,null,null,null,null,null,null,{"$f":"INDEX('Fixture Descriptions'!A:K,MATCH('Inspection Form'!H75,'Fixture Descriptions'!A:A,0),8)","v":{"$error":"#N/A"}},{"$error":"#N/A"},null,{"$error":"#N/A"},1,null,null,null,{"$f":"IFERROR(IF(AND(INDEX(Inventory!CB:CB,MATCH('Inspection Form'!B75,Inventory!B:B,0))=\"Not Qualified\",INDEX(Inventory!L:L,MATCH('Inspection Form'!B75,Inventory!B:B,0))<>\"\",$Q$5<>\"Pre\"),0,BY75*BZ75), 0)","v":0},null,{"$error":"#DIV/0!"},{"$error":"#DIV/0!"},72]
[null,72,null,null,null,null,null,null,null,null,null,null,null,null,null,null,null,null,null,null,null,null,null,null,null,null,null,null,null,null,null,null,null,null,null,null,null,null,null,null,null,null,null,null,null,null,null,null,null,null,null,null,null,null,null,null,null,null,null,null,null,null,null,null,null,null,null,null,null,null,null,null,null,{"$f":"INDEX('Fixture Descriptions'!A:K,MATCH('Inspection Form'!H76,'Fixture Descriptions'!A:A,0),8)","v":{"$error":"#N/A"}},{"$error":"#N/A"},null,{"$error":"#N/A"},1,null,null,null,{"$f":"IFERROR(IF(AND(INDEX(Inventory!CB:CB,MATCH('Inspection Form'!B76,Inventory!B:B,0))=\"Not Qualified\",INDEX(Inventory!L:L,MATCH('Inspection Form'!B76,Inventory!B:B,0))<>\"\",$Q$5<>\"Pre\"),0,BY76*BZ76), 0)","v":0},null,{"$error":"#DIV/0!"},{"$error":"#DIV/0!"},73]
[null,73,null,null,null,null,null,null,null,null,null,null,null,null,null,null,null,null,null,null,null,null,null,null,null,null,null,null,null,null,null,null,null,null,null,null,null,null,null,null,null,null,null,null,null,null,null,null,null,null,null,null,null,null,null,null,null,null,null,null,null,null,null,null,null,null,null,null,null,null,null,null,null,{"$f":"INDEX('Fixture Descriptions'!A:K,MATCH('Inspection Form'!H77,'Fixture Descriptions'!A:A,0),8)","v":{"$error":"#N/A"}},{"$error":"#N/A"},null,{"$error":"#N/A"},1,null,null,null,{"$f":"IFERROR(IF(AND(INDEX(Inventory!CB:CB,MATCH('Inspection Form'!B77,Inventory!B:B,0))=\"Not Qualified\",INDEX(Inventory!L:L,MATCH('Inspection Form'!B77,Inventory!B:B,0))<>\"\",$Q$5<>\"Pre\"),0,BY77*BZ77), 0)","v":0},null,{"$error":"#DIV/0!"},{"$error":"#DIV/0!"},74]
[null,74,null,null,null,null,null,null,null,null,null,null,null,null,null,null,null,null,null,null,null,null,null,null,null,null,null,null,null,null,null,null,null,null,null,null,null,null,null,null,null,null,null,null,null,null,null,null,null,null,null,null,null,null,null,null,null,null,null,null,null,null,null,null,null,null,null,null,null,null,null,null,null,{"$f":"INDEX('Fixture Descriptions'!A:K,MATCH('Inspection Form'!H78,'Fixture Descriptions'!A:A,0),8)","v":{"$error":"#N/A"}},{"$error":"#N/A"},null,{"$error":"#N/A"},1,null,null,null,{"$f":"IFERROR(IF(AND(INDEX(Inventory!CB:CB,MATCH('Inspection Form'!B78,Inventory!B:B,0))=\"Not Qualified\",INDEX(Inventory!L:L,MATCH('Inspection Form'!B78,Inventory!B:B,0))<>\"\",$Q$5<>\"Pre\"),0,BY78*BZ78), 0)","v":0},null,{"$error":"#DIV/0!"},{"$error":"#DIV/0!"},75]
[null,75,null,null,null,null,null,null,null,null,null,null,null,null,null,null,null,null,null,null,null,null,null,null,null,null,null,null,null,null,null,null,null,null,null,null,null,null,null,null,null,null,null,null,null,null,null,null,null,null,null,null,null,null,null,null,null,null,null,null,null,null,null,null,null,null,null,null,null,null,null,null,null,{"$f":"INDEX('Fixture Descriptions'!A:K,MATCH('Inspection Form'!H79,'Fixture Descriptions'!A:A,0),8)","v":{"$error":"#N/A"}},{"$error":"#N/A"},null,{"$error":"#N/A"},1,null,null,null,{"$f":"IFERROR(IF(AND(INDEX(Inventory!CB:CB,MATCH('Inspection Form'!B79,Inventory!B:B,0))=\"Not Qualified\",INDEX(Inventory!L:L,MATCH('Inspection Form'!B79,Inventory!B:B,0))<>\"\",$Q$5<>\"Pre\"),0,BY79*BZ79), 0)","v":0},null,{"$error":"#DIV/0!"},{"$error":"#DIV/0!"},76]
[null,76,null,null,null,null,null,null,null,null,null,null,null,null,null,null,null,null,null,null,null,null,null,null,null,null,null,null,null,null,null,null,null,null,null,null,null,null,null,null,null,null,null,null,null,null,null,null,null,null,null,null,null,null,null,null,null,null,null,null,null,null,null,null,null,null,null,null,null,null,null,null,null,{"$f":"INDEX('Fixture Descriptions'!A:K,MATCH('Inspection Form'!H80,'Fixture Descriptions'!A:A,0),8)","v":{"$error":"#N/A"}},{"$error":"#N/A"},null,{"$error":"#N/A"},1,null,null,null,{"$f":"IFERROR(IF(AND(INDEX(Inventory!CB:CB,MATCH('Inspection Form'!B80,Inventory!B:B,0))=\"Not Qualified\",INDEX(Inventory!L:L,MATCH('Inspection Form'!B80,Inventory!B:B,0))<>\"\",$Q$5<>\"Pre\"),0,BY80*BZ80), 0)","v":0},null,{"$error":"#DIV/0!"},{"$error":"#DIV/0!"},77]
[null,77,null,null,null,null,null,null,null,null,null,null,null,null,null,null,null,null,null,null,null,null,null,null,null,null,null,null,null,null,null,null,null,null,null,null,null,null,null,null,null,null,null,null,null,null,null,null,null,null,null,null,null,null,null,null,null,null,null,null,null,null,null,null,null,null,null,null,null,null,null,null,null,{"$f":"INDEX('Fixture Descriptions'!A:K,MATCH('Inspection Form'!H81,'Fixture Descriptions'!A:A,0),8)","v":{"$error":"#N/A"}},{"$error":"#N/A"},null,{"$error":"#N/A"},1,null,null,null,{"$f":"IFERROR(IF(AND(INDEX(Inventory!CB:CB,MATCH('Inspection Form'!B81,Inventory!B:B,0))=\"Not Qualified\",INDEX(Inventory!L:L,MATCH('Inspection Form'!B81,Inventory!B:B,0))<>\"\",$Q$5<>\"Pre\"),0,BY81*BZ81), 0)","v":0},null,{"$error":"#DIV/0!"},{"$error":"#DIV/0!"},78]
[null,78,null,null,null,null,null,null,null,null,null,null,null,null,null,null,null,null,null,null,null,null,null,null,null,null,null,null,null,null,null,null,null,null,null,null,null,null,null,null,null,null,null,null,null,null,null,null,null,null,null,null,null,null,null,null,null,null,null,null,null,null,null,null,null,null,null,null,null,null,null,null,null,{"$f":"INDEX('Fixture Descriptions'!A:K,MATCH('Inspection Form'!H82,'Fixture Descriptions'!A:A,0),8)","v":{"$error":"#N/A"}},{"$error":"#N/A"},null,{"$error":"#N/A"},1,null,null,null,{"$f":"IFERROR(IF(AND(INDEX(Inventory!CB:CB,MATCH('Inspection Form'!B82,Inventory!B:B,0))=\"Not Qualified\",INDEX(Inventory!L:L,MATCH('Inspection Form'!B82,Inventory!B:B,0))<>\"\",$Q$5<>\"Pre\"),0,BY82*BZ82), 0)","v":0},null,{"$error":"#DIV/0!"},{"$error":"#DIV/0!"},79]
[null,79,null,null,null,null,null,null,null,null,null,null,null,null,null,null,null,null,null,null,null,null,null,null,null,null,null,null,null,null,null,null,null,null,null,null,null,null,null,null,null,null,null,null,null,null,null,null,null,null,null,null,null,null,null,null,null,null,null,null,null,null,null,null,null,null,null,null,null,null,null,null,null,{"$f":"INDEX('Fixture Descriptions'!A:K,MATCH('Inspection Form'!H83,'Fixture Descriptions'!A:A,0),8)","v":{"$error":"#N/A"}},{"$error":"#N/A"},null,{"$error":"#N/A"},1,null,null,null,{"$f":"IFERROR(IF(AND(INDEX(Inventory!CB:CB,MATCH('Inspection Form'!B83,Inventory!B:B,0))=\"Not Qualified\",INDEX(Inventory!L:L,MATCH('Inspection Form'!B83,Inventory!B:B,0))<>\"\",$Q$5<>\"Pre\"),0,BY83*BZ83), 0)","v":0},null,{"$error":"#DIV/0!"},{"$error":"#DIV/0!"},80]
[null,80,null,null,null,null,null,null,null,null,null,null,null,null,null,null,null,null,null,null,null,null,null,null,null,null,null,null,null,null,null,null,null,null,null,null,null,null,null,null,null,null,null,null,null,null,null,null,null,null,null,null,null,null,null,null,null,null,null,null,null,null,null,null,null,null,null,null,null,null,null,null,null,{"$f":"INDEX('Fixture Descriptions'!A:K,MATCH('Inspection Form'!H84,'Fixture Descriptions'!A:A,0),8)","v":{"$error":"#N/A"}},{"$error":"#N/A"},null,{"$error":"#N/A"},1,null,null,null,{"$f":"IFERROR(IF(AND(INDEX(Inventory!CB:CB,MATCH('Inspection Form'!B84,Inventory!B:B,0))=\"Not Qualified\",INDEX(Inventory!L:L,MATCH('Inspection Form'!B84,Inventory!B:B,0))<>\"\",$Q$5<>\"Pre\"),0,BY84*BZ84), 0)","v":0},null,{"$error":"#DIV/0!"},{"$error":"#DIV/0!"},81]
[null,81,null,null,null,null,null,null,null,null,null,null,null,null,null,null,null,null,null,null,null,null,null,null,null,null,null,null,null,null,null,null,null,null,null,null,null,null,null,null,null,null,null,null,null,null,null,null,null,null,null,null,null,null,null,null,null,null,null,null,null,null,null,null,null,null,null,null,null,null,null,null,null,{"$f":"INDEX('Fixture Descriptions'!A:K,MATCH('Inspection Form'!H85,'Fixture Descriptions'!A:A,0),8)","v":{"$error":"#N/A"}},{"$error":"#N/A"},null,{"$error":"#N/A"},1,null,null,null,{"$f":"IFERROR(IF(AND(INDEX(Inventory!CB:CB,MATCH('Inspection Form'!B85,Inventory!B:B,0))=\"Not Qualified\",INDEX(Inventory!L:L,MATCH('Inspection Form'!B85,Inventory!B:B,0))<>\"\",$Q$5<>\"Pre\"),0,BY85*BZ85), 0)","v":0},null,{"$error":"#DIV/0!"},{"$error":"#DIV/0!"},82]
[null,82,null,null,null,null,null,null,null,null,null,null,null,null,null,null,null,null,null,null,null,null,null,null,null,null,null,null,null,null,null,null,null,null,null,null,null,null,null,null,null,null,null,null,null,null,null,null,null,null,null,null,null,null,null,null,null,null,null,null,null,null,null,null,null,null,null,null,null,null,null,null,null,{"$f":"INDEX('Fixture Descriptions'!A:K,MATCH('Inspection Form'!H86,'Fixture Descriptions'!A:A,0),8)","v":{"$error":"#N/A"}},{"$error":"#N/A"},null,{"$error":"#N/A"},1,null,null,null,{"$f":"IFERROR(IF(AND(INDEX(Inventory!CB:CB,MATCH('Inspection Form'!B86,Inventory!B:B,0))=\"Not Qualified\",INDEX(Inventory!L:L,MATCH('Inspection Form'!B86,Inventory!B:B,0))<>\"\",$Q$5<>\"Pre\"),0,BY86*BZ86), 0)","v":0},null,{"$error":"#DIV/0!"},{"$error":"#DIV/0!"},83]
[null,83,null,null,null,null,null,null,null,null,null,null,null,null,null,null,null,null,null,null,null,null,null,null,null,null,null,null,null,null,null,null,null,null,null,null,null,null,null,null,null,null,null,null,null,null,null,null,null,null,null,null,null,null,null,null,null,null,null,null,null,null,null,null,null,null,null,null,null,null,null,null,null,{"$f":"INDEX('Fixture Descriptions'!A:K,MATCH('Inspection Form'!H87,'Fixture Descriptions'!A:A,0),8)","v":{"$error":"#N/A"}},{"$error":"#N/A"},null,{"$error":"#N/A"},1,null,null,null,{"$f":"IFERROR(IF(AND(INDEX(Inventory!CB:CB,MATCH('Inspection Form'!B87,Inventory!B:B,0))=\"Not Qualified\",INDEX(Inventory!L:L,MATCH('Inspection Form'!B87,Inventory!B:B,0))<>\"\",$Q$5<>\"Pre\"),0,BY87*BZ87), 0)","v":0},null,{"$error":"#DIV/0!"},{"$error":"#DIV/0!"},84]
[null,84,null,null,null,null,null,null,null,null,null,null,null,null,null,null,null,null,null,null,null,null,null,null,null,null,null,null,null,null,null,null,null,null,null,null,null,null,null,null,null,null,null,null,null,null,null,null,null,null,null,null,null,null,null,null,null,null,null,null,null,null,null,null,null,null,null,null,null,null,null,null,null,{"$f":"INDEX('Fixture Descriptions'!A:K,MATCH('Inspection Form'!H88,'Fixture Descriptions'!A:A,0),8)","v":{"$error":"#N/A"}},{"$error":"#N/A"},null,{"$error":"#N/A"},1,null,null,null,{"$f":"IFERROR(IF(AND(INDEX(Inventory!CB:CB,MATCH('Inspection Form'!B88,Inventory!B:B,0))=\"Not Qualified\",INDEX(Inventory!L:L,MATCH('Inspection Form'!B88,Inventory!B:B,0))<>\"\",$Q$5<>\"Pre\"),0,BY88*BZ88), 0)","v":0},null,{"$error":"#DIV/0!"},{"$error":"#DIV/0!"},85]
[null,85,null,null,null,null,null,null,null,null,null,null,null,null,null,null,null,null,null,null,null,null,null,null,null,null,null,null,null,null,null,null,null,null,null,null,null,null,null,null,null,null,null,null,null,null,null,null,null,null,null,null,null,null,null,null,null,null,null,null,null,null,null,null,null,null,null,null,null,null,null,null,null,{"$f":"INDEX('Fixture Descriptions'!A:K,MATCH('Inspection Form'!H89,'Fixture Descriptions'!A:A,0),8)","v":{"$error":"#N/A"}},{"$error":"#N/A"},null,{"$error":"#N/A"},1,null,null,null,{"$f":"IFERROR(IF(AND(INDEX(Inventory!CB:CB,MATCH('Inspection Form'!B89,Inventory!B:B,0))=\"Not Qualified\",INDEX(Inventory!L:L,MATCH('Inspection Form'!B89,Inventory!B:B,0))<>\"\",$Q$5<>\"Pre\"),0,BY89*BZ89), 0)","v":0},null,{"$error":"#DIV/0!"},{"$error":"#DIV/0!"},86]
[null,86,null,null,null,null,null,null,null,null,null,null,null,null,null,null,null,null,null,null,null,null,null,null,null,null,null,null,null,null,null,null,null,null,null,null,null,null,null,null,null,null,null,null,null,null,null,null,null,null,null,null,null,null,null,null,null,null,null,null,null,null,null,null,null,null,null,null,null,null,null,null,null,{"$f":"INDEX('Fixture Descriptions'!A:K,MATCH('Inspection Form'!H90,'Fixture Descriptions'!A:A,0),8)","v":{"$error":"#N/A"}},{"$error":"#N/A"},null,{"$error":"#N/A"},1,null,null,null,{"$f":"IFERROR(IF(AND(INDEX(Inventory!CB:CB,MATCH('Inspection Form'!B90,Inventory!B:B,0))=\"Not Qualified\",INDEX(Inventory!L:L,MATCH('Inspection Form'!B90,Inventory!B:B,0))<>\"\",$Q$5<>\"Pre\"),0,BY90*BZ90), 0)","v":0},null,{"$error":"#DIV/0!"},{"$error":"#DIV/0!"},87]
[null,87,null,null,null,null,null,null,null,null,null,null,null,null,null,null,null,null,null,null,null,null,null,null,null,null,null,null,null,null,null,null,null,null,null,null,null,null,null,null,null,null,null,null,null,null,null,null,null,null,null,null,null,null,null,null,null,null,null,null,null,null,null,null,null,null,null,null,null,null,null,null,null,{"$f":"INDEX('Fixture Descriptions'!A:K,MATCH('Inspection Form'!H91,'Fixture Descriptions'!A:A,0),8)","v":{"$error":"#N/A"}},{"$error":"#N/A"},null,{"$error":"#N/A"},1,null,null,null,{"$f":"IFERROR(IF(AND(INDEX(Inventory!CB:CB,MATCH('Inspection Form'!B91,Inventory!B:B,0))=\"Not Qualified\",INDEX(Inventory!L:L,MATCH('Inspection Form'!B91,Inventory!B:B,0))<>\"\",$Q$5<>\"Pre\"),0,BY91*BZ91), 0)","v":0},null,{"$error":"#DIV/0!"},{"$error":"#DIV/0!"},88]
[null,88,null,null,null,null,null,null,null,null,null,null,null,null,null,null,null,null,null,null,null,null,null,null,null,null,null,null,null,null,null,null,null,null,null,null,null,null,null,null,null,null,null,null,null,null,null,null,null,null,null,null,null,null,null,null,null,null,null,null,null,null,null,null,null,null,null,null,null,null,null,null,null,{"$f":"INDEX('Fixture Descriptions'!A:K,MATCH('Inspection Form'!H92,'Fixture Descriptions'!A:A,0),8)","v":{"$error":"#N/A"}},{"$error":"#N/A"},null,{"$error":"#N/A"},1,null,null,null,{"$f":"IFERROR(IF(AND(INDEX(Inventory!CB:CB,MATCH('Inspection Form'!B92,Inventory!B:B,0))=\"Not Qualified\",INDEX(Inventory!L:L,MATCH('Inspection Form'!B92,Inventory!B:B,0))<>\"\",$Q$5<>\"Pre\"),0,BY92*BZ92), 0)","v":0},null,{"$error":"#DIV/0!"},{"$error":"#DIV/0!"},89]
[null,89,null,null,null,null,null,null,null,null,null,null,null,null,null,null,null,null,null,null,null,null,null,null,null,null,null,null,null,null,null,null,null,null,null,null,null,null,null,null,null,null,null,null,null,null,null,null,null,null,null,null,null,null,null,null,null,null,null,null,null,null,null,null,null,null,null,null,null,null,null,null,null,{"$f":"INDEX('Fixture Descriptions'!A:K,MATCH('Inspection Form'!H93,'Fixture Descriptions'!A:A,0),8)","v":{"$error":"#N/A"}},{"$error":"#N/A"},null,{"$error":"#N/A"},1,null,null,null,{"$f":"IFERROR(IF(AND(INDEX(Inventory!CB:CB,MATCH('Inspection Form'!B93,Inventory!B:B,0))=\"Not Qualified\",INDEX(Inventory!L:L,MATCH('Inspection Form'!B93,Inventory!B:B,0))<>\"\",$Q$5<>\"Pre\"),0,BY93*BZ93), 0)","v":0},null,{"$error":"#DIV/0!"},{"$error":"#DIV/0!"},90]
[null,90,null,null,null,null,null,null,null,null,null,null,null,null,null,null,null,null,null,null,null,null,null,null,null,null,null,null,null,null,null,null,null,null,null,null,null,null,null,null,null,null,null,null,null,null,null,null,null,null,null,null,null,null,null,null,null,null,null,null,null,null,null,null,null,null,null,null,null,null,null,null,null,{"$f":"INDEX('Fixture Descriptions'!A:K,MATCH('Inspection Form'!H94,'Fixture Descriptions'!A:A,0),8)","v":{"$error":"#N/A"}},{"$error":"#N/A"},null,{"$error":"#N/A"},1,null,null,null,{"$f":"IFERROR(IF(AND(INDEX(Inventory!CB:CB,MATCH('Inspection Form'!B94,Inventory!B:B,0))=\"Not Qualified\",INDEX(Inventory!L:L,MATCH('Inspection Form'!B94,Inventory!B:B,0))<>\"\",$Q$5<>\"Pre\"),0,BY94*BZ94), 0)","v":0},null,{"$error":"#DIV/0!"},{"$error":"#DIV/0!"},91]
[null,91,null,null,null,null,null,null,null,null,null,null,null,null,null,null,null,null,null,null,null,null,null,null,null,null,null,null,null,null,null,null,null,null,null,null,null,null,null,null,null,null,null,null,null,null,null,null,null,null,null,null,null,null,null,null,null,null,null,null,null,null,null,null,null,null,null,null,null,null,null,null,null,{"$f":"INDEX('Fixture Descriptions'!A:K,MATCH('Inspection Form'!H95,'Fixture Descriptions'!A:A,0),8)","v":{"$error":"#N/A"}},{"$error":"#N/A"},null,{"$error":"#N/A"},1,null,null,null,{"$f":"IFERROR(IF(AND(INDEX(Inventory!CB:CB,MATCH('Inspection Form'!B95,Inventory!B:B,0))=\"Not Qualified\",INDEX(Inventory!L:L,MATCH('Inspection Form'!B95,Inventory!B:B,0))<>\"\",$Q$5<>\"Pre\"),0,BY95*BZ95), 0)","v":0},null,{"$error":"#DIV/0!"},{"$error":"#DIV/0!"},92]
[null,92,null,null,null,null,null,null,null,null,null,null,null,null,null,null,null,null,null,null,null,null,null,null,null,null,null,null,null,null,null,null,null,null,null,null,null,null,null,null,null,null,null,null,null,null,null,null,null,null,null,null,null,null,null,null,null,null,null,null,null,null,null,null,null,null,null,null,null,null,null,null,null,{"$f":"INDEX('Fixture Descriptions'!A:K,MATCH('Inspection Form'!H96,'Fixture Descriptions'!A:A,0),8)","v":{"$error":"#N/A"}},{"$error":"#N/A"},null,{"$error":"#N/A"},1,null,null,null,{"$f":"IFERROR(IF(AND(INDEX(Inventory!CB:CB,MATCH('Inspection Form'!B96,Inventory!B:B,0))=\"Not Qualified\",INDEX(Inventory!L:L,MATCH('Inspection Form'!B96,Inventory!B:B,0))<>\"\",$Q$5<>\"Pre\"),0,BY96*BZ96), 0)","v":0},null,{"$error":"#DIV/0!"},{"$error":"#DIV/0!"},93]
[null,93,null,null,null,null,null,null,null,null,null,null,null,null,null,null,null,null,null,null,null,null,null,null,null,null,null,null,null,null,null,null,null,null,null,null,null,null,null,null,null,null,null,null,null,null,null,null,null,null,null,null,null,null,null,null,null,null,null,null,null,null,null,null,null,null,null,null,null,null,null,null,null,{"$f":"INDEX('Fixture Descriptions'!A:K,MATCH('Inspection Form'!H97,'Fixture Descriptions'!A:A,0),8)","v":{"$error":"#N/A"}},{"$error":"#N/A"},null,{"$error":"#N/A"},1,null,null,null,{"$f":"IFERROR(IF(AND(INDEX(Inventory!CB:CB,MATCH('Inspection Form'!B97,Inventory!B:B,0))=\"Not Qualified\",INDEX(Inventory!L:L,MATCH('Inspection Form'!B97,Inventory!B:B,0))<>\"\",$Q$5<>\"Pre\"),0,BY97*BZ97), 0)","v":0},null,{"$error":"#DIV/0!"},{"$error":"#DIV/0!"},94]
[null,94,null,null,null,null,null,null,null,null,null,null,null,null,null,null,null,null,null,null,null,null,null,null,null,null,null,null,null,null,null,null,null,null,null,null,null,null,null,null,null,null,null,null,null,null,null,null,null,null,null,null,null,null,null,null,null,null,null,null,null,null,null,null,null,null,null,null,null,null,null,null,null,{"$f":"INDEX('Fixture Descriptions'!A:K,MATCH('Inspection Form'!H98,'Fixture Descriptions'!A:A,0),8)","v":{"$error":"#N/A"}},{"$error":"#N/A"},null,{"$error":"#N/A"},1,null,null,null,{"$f":"IFERROR(IF(AND(INDEX(Inventory!CB:CB,MATCH('Inspection Form'!B98,Inventory!B:B,0))=\"Not Qualified\",INDEX(Inventory!L:L,MATCH('Inspection Form'!B98,Inventory!B:B,0))<>\"\",$Q$5<>\"Pre\"),0,BY98*BZ98), 0)","v":0},null,{"$error":"#DIV/0!"},{"$error":"#DIV/0!"},95]
[null,95,null,null,null,null,null,null,null,null,null,null,null,null,null,null,null,null,null,null,null,null,null,null,null,null,null,null,null,null,null,null,null,null,null,null,null,null,null,null,null,null,null,null,null,null,null,null,null,null,null,null,null,null,null,null,null,null,null,null,null,null,null,null,null,null,null,null,null,null,null,null,null,{"$f":"INDEX('Fixture Descriptions'!A:K,MATCH('Inspection Form'!H99,'Fixture Descriptions'!A:A,0),8)","v":{"$error":"#N/A"}},{"$error":"#N/A"},null,{"$error":"#N/A"},1,null,null,null,{"$f":"IFERROR(IF(AND(INDEX(Inventory!CB:CB,MATCH('Inspection Form'!B99,Inventory!B:B,0))=\"Not Qualified\",INDEX(Inventory!L:L,MATCH('Inspection Form'!B99,Inventory!B:B,0))<>\"\",$Q$5<>\"Pre\"),0,BY99*BZ99), 0)","v":0},null,{"$error":"#DIV/0!"},{"$error":"#DIV/0!"},96]
[null,96,null,null,null,null,null,null,null,null,null,null,null,null,null,null,null,null,null,null,null,null,null,null,null,null,null,null,null,null,null,null,null,null,null,null,null,null,null,null,null,null,null,null,null,null,null,null,null,null,null,null,null,null,null,null,null,null,null,null,null,null,null,null,null,null,null,null,null,null,null,null,null,{"$f":"INDEX('Fixture Descriptions'!A:K,MATCH('Inspection Form'!H100,'Fixture Descriptions'!A:A,0),8)","v":{"$error":"#N/A"}},{"$error":"#N/A"},null,{"$error":"#N/A"},1,null,null,null,{"$f":"IFERROR(IF(AND(INDEX(Inventory!CB:CB,MATCH('Inspection Form'!B100,Inventory!B:B,0))=\"Not Qualified\",INDEX(Inventory!L:L,MATCH('Inspection Form'!B100,Inventory!B:B,0))<>\"\",$Q$5<>\"Pre\"),0,BY100*BZ100), 0)","v":0},null,{"$error":"#DIV/0!"},{"$error":"#DIV/0!"},97]
[null,97,null,null,null,null,null,null,null,null,null,null,null,null,null,null,null,null,null,null,null,null,null,null,null,null,null,null,null,null,null,null,null,null,null,null,null,null,null,null,null,null,null,null,null,null,null,null,null,null,null,null,null,null,null,null,null,null,null,null,null,null,null,null,null,null,null,null,null,null,null,null,null,{"$f":"INDEX('Fixture Descriptions'!A:K,MATCH('Inspection Form'!H101,'Fixture Descriptions'!A:A,0),8)","v":{"$error":"#N/A"}},{"$error":"#N/A"},null,{"$error":"#N/A"},1,null,null,null,{"$f":"IFERROR(IF(AND(INDEX(Inventory!CB:CB,MATCH('Inspection Form'!B101,Inventory!B:B,0))=\"Not Qualified\",INDEX(Inventory!L:L,MATCH('Inspection Form'!B101,Inventory!B:B,0))<>\"\",$Q$5<>\"Pre\"),0,BY101*BZ101), 0)","v":0},null,{"$error":"#DIV/0!"},{"$error":"#DIV/0!"},98]
[null,98,null,null,null,null,null,null,null,null,null,null,null,null,null,null,null,null,null,null,null,null,null,null,null,null,null,null,null,null,null,null,null,null,null,null,null,null,null,null,null,null,null,null,null,null,null,null,null,null,null,null,null,null,null,null,null,null,null,null,null,null,null,null,null,null,null,null,null,null,null,null,null,{"$f":"INDEX('Fixture Descriptions'!A:K,MATCH('Inspection Form'!H102,'Fixture Descriptions'!A:A,0),8)","v":{"$error":"#N/A"}},{"$error":"#N/A"},null,{"$error":"#N/A"},1,null,null,null,{"$f":"IFERROR(IF(AND(INDEX(Inventory!CB:CB,MATCH('Inspection Form'!B102,Inventory!B:B,0))=\"Not Qualified\",INDEX(Inventory!L:L,MATCH('Inspection Form'!B102,Inventory!B:B,0))<>\"\",$Q$5<>\"Pre\"),0,BY102*BZ102), 0)","v":0},null,{"$error":"#DIV/0!"},{"$error":"#DIV/0!"},99]
[null,99,null,null,null,null,null,null,null,null,null,null,null,null,null,null,null,null,null,null,null,null,null,null,null,null,null,null,null,null,null,null,null,null,null,null,null,null,null,null,null,null,null,null,null,null,null,null,null,null,null,null,null,null,null,null,null,null,null,null,null,null,null,null,null,null,null,null,null,null,null,null,null,{"$f":"INDEX('Fixture Descriptions'!A:K,MATCH('Inspection Form'!H103,'Fixture Descriptions'!A:A,0),8)","v":{"$error":"#N/A"}},{"$error":"#N/A"},null,{"$error":"#N/A"},1,null,null,null,{"$f":"IFERROR(IF(AND(INDEX(Inventory!CB:CB,MATCH('Inspection Form'!B103,Inventory!B:B,0))=\"Not Qualified\",INDEX(Inventory!L:L,MATCH('Inspection Form'!B103,Inventory!B:B,0))<>\"\",$Q$5<>\"Pre\"),0,BY103*BZ103), 0)","v":0},null,{"$error":"#DIV/0!"},{"$error":"#DIV/0!"},100]
[null,100,null,null,null,null,null,null,null,null,null,null,null,null,null,null,null,null,null,null,null,null,null,null,null,null,null,null,null,null,null,null,null,null,null,null,null,null,null,null,null,null,null,null,null,null,null,null,null,null,null,null,null,null,null,null,null,null,null,null,null,null,null,null,null,null,null,null,null,null,null,null,null,{"$f":"INDEX('Fixture Descriptions'!A:K,MATCH('Inspection Form'!H104,'Fixture Descriptions'!A:A,0),8)","v":{"$error":"#N/A"}},{"$error":"#N/A"},null,{"$error":"#N/A"},1,null,null,null,{"$f":"IFERROR(IF(AND(INDEX(Inventory!CB:CB,MATCH('Inspection Form'!B104,Inventory!B:B,0))=\"Not Qualified\",INDEX(Inventory!L:L,MATCH('Inspection Form'!B104,Inventory!B:B,0))<>\"\",$Q$5<>\"Pre\"),0,BY104*BZ104), 0)","v":0},null,{"$error":"#DIV/0!"},{"$error":"#DIV/0!"},101]
[null,101,null,null,null,null,null,null,null,null,null,null,null,null,null,null,null,null,null,null,null,null,null,null,null,null,null,null,null,null,null,null,null,null,null,null,null,null,null,null,null,null,null,null,null,null,null,null,null,null,null,null,null,null,null,null,null,null,null,null,null,null,null,null,null,null,null,null,null,null,null,null,null,{"$f":"INDEX('Fixture Descriptions'!A:K,MATCH('Inspection Form'!H105,'Fixture Descriptions'!A:A,0),8)","v":{"$error":"#N/A"}},{"$error":"#N/A"},null,{"$error":"#N/A"},1,null,null,null,{"$f":"IFERROR(IF(AND(INDEX(Inventory!CB:CB,MATCH('Inspection Form'!B105,Inventory!B:B,0))=\"Not Qualified\",INDEX(Inventory!L:L,MATCH('Inspection Form'!B105,Inventory!B:B,0))<>\"\",$Q$5<>\"Pre\"),0,BY105*BZ105), 0)","v":0},null,{"$error":"#DIV/0!"},{"$error":"#DIV/0!"},102]
[null,102,null,null,null,null,null,null,null,null,null,null,null,null,null,null,null,null,null,null,null,null,null,null,null,null,null,null,null,null,null,null,null,null,null,null,null,null,null,null,null,null,null,null,null,null,null,null,null,null,null,null,null,null,null,null,null,null,null,null,null,null,null,null,null,null,null,null,null,null,null,null,null,{"$f":"INDEX('Fixture Descriptions'!A:K,MATCH('Inspection Form'!H106,'Fixture Descriptions'!A:A,0),8)","v":{"$error":"#N/A"}},{"$error":"#N/A"},null,{"$error":"#N/A"},1,null,null,null,{"$f":"IFERROR(IF(AND(INDEX(Inventory!CB:CB,MATCH('Inspection Form'!B106,Inventory!B:B,0))=\"Not Qualified\",INDEX(Inventory!L:L,MATCH('Inspection Form'!B106,Inventory!B:B,0))<>\"\",$Q$5<>\"Pre\"),0,BY106*BZ106), 0)","v":0},null,{"$error":"#DIV/0!"},{"$error":"#DIV/0!"},103]
[null,103,null,null,null,null,null,null,null,null,null,null,null,null,null,null,null,null,null,null,null,null,null,null,null,null,null,null,null,null,null,null,null,null,null,null,null,null,null,null,null,null,null,null,null,null,null,null,null,null,null,null,null,null,null,null,null,null,null,null,null,null,null,null,null,null,null,null,null,null,null,null,null,{"$f":"INDEX('Fixture Descriptions'!A:K,MATCH('Inspection Form'!H107,'Fixture Descriptions'!A:A,0),8)","v":{"$error":"#N/A"}},{"$error":"#N/A"},null,{"$error":"#N/A"},1,null,null,null,{"$f":"IFERROR(IF(AND(INDEX(Inventory!CB:CB,MATCH('Inspection Form'!B107,Inventory!B:B,0))=\"Not Qualified\",INDEX(Inventory!L:L,MATCH('Inspection Form'!B107,Inventory!B:B,0))<>\"\",$Q$5<>\"Pre\"),0,BY107*BZ107), 0)","v":0},null,{"$error":"#DIV/0!"},{"$error":"#DIV/0!"},104]
[null,104,null,null,null,null,null,null,null,null,null,null,null,null,null,null,null,null,null,null,null,null,null,null,null,null,null,null,null,null,null,null,null,null,null,null,null,null,null,null,null,null,null,null,null,null,null,null,null,null,null,null,null,null,null,null,null,null,null,null,null,null,null,null,null,null,null,null,null,null,null,null,null,{"$f":"INDEX('Fixture Descriptions'!A:K,MATCH('Inspection Form'!H108,'Fixture Descriptions'!A:A,0),8)","v":{"$error":"#N/A"}},{"$error":"#N/A"},null,{"$error":"#N/A"},1,null,null,null,{"$f":"IFERROR(IF(AND(INDEX(Inventory!CB:CB,MATCH('Inspection Form'!B108,Inventory!B:B,0))=\"Not Qualified\",INDEX(Inventory!L:L,MATCH('Inspection Form'!B108,Inventory!B:B,0))<>\"\",$Q$5<>\"Pre\"),0,BY108*BZ108), 0)","v":0},null,{"$error":"#DIV/0!"},{"$error":"#DIV/0!"},105]
[null,105,null,null,null,null,null,null,null,null,null,null,null,null,null,null,null,null,null,null,null,null,null,null,null,null,null,null,null,null,null,null,null,null,null,null,null,null,null,null,null,null,null,null,null,null,null,null,null,null,null,null,null,null,null,null,null,null,null,null,null,null,null,null,null,null,null,null,null,null,null,null,null,{"$f":"INDEX('Fixture Descriptions'!A:K,MATCH('Inspection Form'!H109,'Fixture Descriptions'!A:A,0),8)","v":{"$error":"#N/A"}},{"$error":"#N/A"},null,{"$error":"#N/A"},1,null,null,null,{"$f":"IFERROR(IF(AND(INDEX(Inventory!CB:CB,MATCH('Inspection Form'!B109,Inventory!B:B,0))=\"Not Qualified\",INDEX(Inventory!L:L,MATCH('Inspection Form'!B109,Inventory!B:B,0))<>\"\",$Q$5<>\"Pre\"),0,BY109*BZ109), 0)","v":0},null,{"$error":"#DIV/0!"},{"$error":"#DIV/0!"},106]
[null,106,null,null,null,null,null,null,null,null,null,null,null,null,null,null,null,null,null,null,null,null,null,null,null,null,null,null,null,null,null,null,null,null,null,null,null,null,null,null,null,null,null,null,null,null,null,null,null,null,null,null,null,null,null,null,null,null,null,null,null,null,null,null,null,null,null,null,null,null,null,null,null,{"$f":"INDEX('Fixture Descriptions'!A:K,MATCH('Inspection Form'!H110,'Fixture Descriptions'!A:A,0),8)","v":{"$error":"#N/A"}},{"$error":"#N/A"},null,{"$error":"#N/A"},1,null,null,null,{"$f":"IFERROR(IF(AND(INDEX(Inventory!CB:CB,MATCH('Inspection Form'!B110,Inventory!B:B,0))=\"Not Qualified\",INDEX(Inventory!L:L,MATCH('Inspection Form'!B110,Inventory!B:B,0))<>\"\",$Q$5<>\"Pre\"),0,BY110*BZ110), 0)","v":0},null,{"$error":"#DIV/0!"},{"$error":"#DIV/0!"},107]
[null,107,null,null,null,null,null,null,null,null,null,null,null,null,null,null,null,null,null,null,null,null,null,null,null,null,null,null,null,null,null,null,null,null,null,null,null,null,null,null,null,null,null,null,null,null,null,null,null,null,null,null,null,null,null,null,null,null,null,null,null,null,null,null,null,null,null,null,null,null,null,null,null,{"$f":"INDEX('Fixture Descriptions'!A:K,MATCH('Inspection Form'!H111,'Fixture Descriptions'!A:A,0),8)","v":{"$error":"#N/A"}},{"$error":"#N/A"},null,{"$error":"#N/A"},1,null,null,null,{"$f":"IFERROR(IF(AND(INDEX(Inventory!CB:CB,MATCH('Inspection Form'!B111,Inventory!B:B,0))=\"Not Qualified\",INDEX(Inventory!L:L,MATCH('Inspection Form'!B111,Inventory!B:B,0))<>\"\",$Q$5<>\"Pre\"),0,BY111*BZ111), 0)","v":0},null,{"$error":"#DIV/0!"},{"$error":"#DIV/0!"},108]
[null,108,null,null,null,null,null,null,null,null,null,null,null,null,null,null,null,null,null,null,null,null,null,null,null,null,null,null,null,null,null,null,null,null,null,null,null,null,null,null,null,null,null,null,null,null,null,null,null,null,null,null,null,null,null,null,null,null,null,null,null,null,null,null,null,null,null,null,null,null,null,null,null,{"$f":"INDEX('Fixture Descriptions'!A:K,MATCH('Inspection Form'!H112,'Fixture Descriptions'!A:A,0),8)","v":{"$error":"#N/A"}},{"$error":"#N/A"},null,{"$error":"#N/A"},1,null,null,null,{"$f":"IFERROR(IF(AND(INDEX(Inventory!CB:CB,MATCH('Inspection Form'!B112,Inventory!B:B,0))=\"Not Qualified\",INDEX(Inventory!L:L,MATCH('Inspection Form'!B112,Inventory!B:B,0))<>\"\",$Q$5<>\"Pre\"),0,BY112*BZ112), 0)","v":0},null,{"$error":"#DIV/0!"},{"$error":"#DIV/0!"},109]
[null,109,null,null,null,null,null,null,null,null,null,null,null,null,null,null,null,null,null,null,null,null,null,null,null,null,null,null,null,null,null,null,null,null,null,null,null,null,null,null,null,null,null,null,null,null,null,null,null,null,null,null,null,null,null,null,null,null,null,null,null,null,null,null,null,null,null,null,null,null,null,null,null,{"$f":"INDEX('Fixture Descriptions'!A:K,MATCH('Inspection Form'!H113,'Fixture Descriptions'!A:A,0),8)","v":{"$error":"#N/A"}},{"$error":"#N/A"},null,{"$error":"#N/A"},1,null,null,null,{"$f":"IFERROR(IF(AND(INDEX(Inventory!CB:CB,MATCH('Inspection Form'!B113,Inventory!B:B,0))=\"Not Qualified\",INDEX(Inventory!L:L,MATCH('Inspection Form'!B113,Inventory!B:B,0))<>\"\",$Q$5<>\"Pre\"),0,BY113*BZ113), 0)","v":0},null,{"$error":"#DIV/0!"},{"$error":"#DIV/0!"},110]
[null,110,null,null,null,null,null,null,null,null,null,null,null,null,null,null,null,null,null,null,null,null,null,null,null,null,null,null,null,null,null,null,null,null,null,null,null,null,null,null,null,null,null,null,null,null,null,null,null,null,null,null,null,null,null,null,null,null,null,null,null,null,null,null,null,null,null,null,null,null,null,null,null,{"$f":"INDEX('Fixture Descriptions'!A:K,MATCH('Inspection Form'!H114,'Fixture Descriptions'!A:A,0),8)","v":{"$error":"#N/A"}},{"$error":"#N/A"},null,{"$error":"#N/A"},1,null,null,null,{"$f":"IFERROR(IF(AND(INDEX(Inventory!CB:CB,MATCH('Inspection Form'!B114,Inventory!B:B,0))=\"Not Qualified\",INDEX(Inventory!L:L,MATCH('Inspection Form'!B114,Inventory!B:B,0))<>\"\",$Q$5<>\"Pre\"),0,BY114*BZ114), 0)","v":0},null,{"$error":"#DIV/0!"},{"$error":"#DIV/0!"},111]
[null,111,null,null,null,null,null,null,null,null,null,null,null,null,null,null,null,null,null,null,null,null,null,null,null,null,null,null,null,null,null,null,null,null,null,null,null,null,null,null,null,null,null,null,null,null,null,null,null,null,null,null,null,null,null,null,null,null,null,null,null,null,null,null,null,null,null,null,null,null,null,null,null,{"$f":"INDEX('Fixture Descriptions'!A:K,MATCH('Inspection Form'!H115,'Fixture Descriptions'!A:A,0),8)","v":{"$error":"#N/A"}},{"$error":"#N/A"},null,{"$error":"#N/A"},1,null,null,null,{"$f":"IFERROR(IF(AND(INDEX(Inventory!CB:CB,MATCH('Inspection Form'!B115,Inventory!B:B,0))=\"Not Qualified\",INDEX(Inventory!L:L,MATCH('Inspection Form'!B115,Inventory!B:B,0))<>\"\",$Q$5<>\"Pre\"),0,BY115*BZ115), 0)","v":0},null,{"$error":"#DIV/0!"},{"$error":"#DIV/0!"},112]
[null,112,null,null,null,null,null,null,null,null,null,null,null,null,null,null,null,null,null,null,null,null,null,null,null,null,null,null,null,null,null,null,null,null,null,null,null,null,null,null,null,null,null,null,null,null,null,null,null,null,null,null,null,null,null,null,null,null,null,null,null,null,null,null,null,null,null,null,null,null,null,null,null,{"$f":"INDEX('Fixture Descriptions'!A:K,MATCH('Inspection Form'!H116,'Fixture Descriptions'!A:A,0),8)","v":{"$error":"#N/A"}},{"$error":"#N/A"},null,{"$error":"#N/A"},1,null,null,null,{"$f":"IFERROR(IF(AND(INDEX(Inventory!CB:CB,MATCH('Inspection Form'!B116,Inventory!B:B,0))=\"Not Qualified\",INDEX(Inventory!L:L,MATCH('Inspection Form'!B116,Inventory!B:B,0))<>\"\",$Q$5<>\"Pre\"),0,BY116*BZ116), 0)","v":0},null,{"$error":"#DIV/0!"},{"$error":"#DIV/0!"},113]
[null,113,null,null,null,null,null,null,null,null,null,null,null,null,null,null,null,null,null,null,null,null,null,null,null,null,null,null,null,null,null,null,null,null,null,null,null,null,null,null,null,null,null,null,null,null,null,null,null,null,null,null,null,null,null,null,null,null,null,null,null,null,null,null,null,null,null,null,null,null,null,null,null,{"$f":"INDEX('Fixture Descriptions'!A:K,MATCH('Inspection Form'!H117,'Fixture Descriptions'!A:A,0),8)","v":{"$error":"#N/A"}},{"$error":"#N/A"},null,{"$error":"#N/A"},1,null,null,null,{"$f":"IFERROR(IF(AND(INDEX(Inventory!CB:CB,MATCH('Inspection Form'!B117,Inventory!B:B,0))=\"Not Qualified\",INDEX(Inventory!L:L,MATCH('Inspection Form'!B117,Inventory!B:B,0))<>\"\",$Q$5<>\"Pre\"),0,BY117*BZ117), 0)","v":0},null,{"$error":"#DIV/0!"},{"$error":"#DIV/0!"},114]
[null,114,null,null,null,null,null,null,null,null,null,null,null,null,null,null,null,null,null,null,null,null,null,null,null,null,null,null,null,null,null,null,null,null,null,null,null,null,null,null,null,null,null,null,null,null,null,null,null,null,null,null,null,null,null,null,null,null,null,null,null,null,null,null,null,null,null,null,null,null,null,null,null,{"$f":"INDEX('Fixture Descriptions'!A:K,MATCH('Inspection Form'!H118,'Fixture Descriptions'!A:A,0),8)","v":{"$error":"#N/A"}},{"$error":"#N/A"},null,{"$error":"#N/A"},1,null,null,null,{"$f":"IFERROR(IF(AND(INDEX(Inventory!CB:CB,MATCH('Inspection Form'!B118,Inventory!B:B,0))=\"Not Qualified\",INDEX(Inventory!L:L,MATCH('Inspection Form'!B118,Inventory!B:B,0))<>\"\",$Q$5<>\"Pre\"),0,BY118*BZ118), 0)","v":0},null,{"$error":"#DIV/0!"},{"$error":"#DIV/0!"},115]
[null,115,null,null,null,null,null,null,null,null,null,null,null,null,null,null,null,null,null,null,null,null,null,null,null,null,null,null,null,null,null,null,null,null,null,null,null,null,null,null,null,null,null,null,null,null,null,null,null,null,null,null,null,null,null,null,null,null,null,null,null,null,null,null,null,null,null,null,null,null,null,null,null,{"$f":"INDEX('Fixture Descriptions'!A:K,MATCH('Inspection Form'!H119,'Fixture Descriptions'!A:A,0),8)","v":{"$error":"#N/A"}},{"$error":"#N/A"},null,{"$error":"#N/A"},1,null,null,null,{"$f":"IFERROR(IF(AND(INDEX(Inventory!CB:CB,MATCH('Inspection Form'!B119,Inventory!B:B,0))=\"Not Qualified\",INDEX(Inventory!L:L,MATCH('Inspection Form'!B119,Inventory!B:B,0))<>\"\",$Q$5<>\"Pre\"),0,BY119*BZ119), 0)","v":0},null,{"$error":"#DIV/0!"},{"$error":"#DIV/0!"},116]
[null,116,null,null,null,null,null,null,null,null,null,null,null,null,null,null,null,null,null,null,null,null,null,null,null,null,null,null,null,null,null,null,null,null,null,null,null,null,null,null,null,null,null,null,null,null,null,null,null,null,null,null,null,null,null,null,null,null,null,null,null,null,null,null,null,null,null,null,null,null,null,null,null,{"$f":"INDEX('Fixture Descriptions'!A:K,MATCH('Inspection Form'!H120,'Fixture Descriptions'!A:A,0),8)","v":{"$error":"#N/A"}},{"$error":"#N/A"},null,{"$error":"#N/A"},1,null,null,null,{"$f":"IFERROR(IF(AND(INDEX(Inventory!CB:CB,MATCH('Inspection Form'!B120,Inventory!B:B,0))=\"Not Qualified\",INDEX(Inventory!L:L,MATCH('Inspection Form'!B120,Inventory!B:B,0))<>\"\",$Q$5<>\"Pre\"),0,BY120*BZ120), 0)","v":0},null,{"$error":"#DIV/0!"},{"$error":"#DIV/0!"},117]
[null,117,null,null,null,null,null,null,null,null,null,null,null,null,null,null,null,null,null,null,null,null,null,null,null,null,null,null,null,null,null,null,null,null,null,null,null,null,null,null,null,null,null,null,null,null,null,null,null,null,null,null,null,null,null,null,null,null,null,null,null,null,null,null,null,null,null,null,null,null,null,null,null,{"$f":"INDEX('Fixture Descriptions'!A:K,MATCH('Inspection Form'!H121,'Fixture Descriptions'!A:A,0),8)","v":{"$error":"#N/A"}},{"$error":"#N/A"},null,{"$error":"#N/A"},1,null,null,null,{"$f":"IFERROR(IF(AND(INDEX(Inventory!CB:CB,MATCH('Inspection Form'!B121,Inventory!B:B,0))=\"Not Qualified\",INDEX(Inventory!L:L,MATCH('Inspection Form'!B121,Inventory!B:B,0))<>\"\",$Q$5<>\"Pre\"),0,BY121*BZ121), 0)","v":0},null,{"$error":"#DIV/0!"},{"$error":"#DIV/0!"},118]
[null,118,null,null,null,null,null,null,null,null,null,null,null,null,null,null,null,null,null,null,null,null,null,null,null,null,null,null,null,null,null,null,null,null,null,null,null,null,null,null,null,null,null,null,null,null,null,null,null,null,null,null,null,null,null,null,null,null,null,null,null,null,null,null,null,null,null,null,null,null,null,null,null,{"$f":"INDEX('Fixture Descriptions'!A:K,MATCH('Inspection Form'!H122,'Fixture Descriptions'!A:A,0),8)","v":{"$error":"#N/A"}},{"$error":"#N/A"},null,{"$error":"#N/A"},1,null,null,null,{"$f":"IFERROR(IF(AND(INDEX(Inventory!CB:CB,MATCH('Inspection Form'!B122,Inventory!B:B,0))=\"Not Qualified\",INDEX(Inventory!L:L,MATCH('Inspection Form'!B122,Inventory!B:B,0))<>\"\",$Q$5<>\"Pre\"),0,BY122*BZ122), 0)","v":0},null,{"$error":"#DIV/0!"},{"$error":"#DIV/0!"},119]
[null,119,null,null,null,null,null,null,null,null,null,null,null,null,null,null,null,null,null,null,null,null,null,null,null,null,null,null,null,null,null,null,null,null,null,null,null,null,null,null,null,null,null,null,null,null,null,null,null,null,null,null,null,null,null,null,null,null,null,null,null,null,null,null,null,null,null,null,null,null,null,null,null,{"$f":"INDEX('Fixture Descriptions'!A:K,MATCH('Inspection Form'!H123,'Fixture Descriptions'!A:A,0),8)","v":{"$error":"#N/A"}},{"$error":"#N/A"},null,{"$error":"#N/A"},1,null,null,null,{"$f":"IFERROR(IF(AND(INDEX(Inventory!CB:CB,MATCH('Inspection Form'!B123,Inventory!B:B,0))=\"Not Qualified\",INDEX(Inventory!L:L,MATCH('Inspection Form'!B123,Inventory!B:B,0))<>\"\",$Q$5<>\"Pre\"),0,BY123*BZ123), 0)","v":0},null,{"$error":"#DIV/0!"},{"$error":"#DIV/0!"},120]
[null,120,null,null,null,null,null,null,null,null,null,null,null,null,null,null,null,null,null,null,null,null,null,null,null,null,null,null,null,null,null,null,null,null,null,null,null,null,null,null,null,null,null,null,null,null,null,null,null,null,null,null,null,null,null,null,null,null,null,null,null,null,null,null,null,null,null,null,null,null,null,null,null,{"$f":"INDEX('Fixture Descriptions'!A:K,MATCH('Inspection Form'!H124,'Fixture Descriptions'!A:A,0),8)","v":{"$error":"#N/A"}},{"$error":"#N/A"},null,{"$error":"#N/A"},1,null,null,null,{"$f":"IFERROR(IF(AND(INDEX(Inventory!CB:CB,MATCH('Inspection Form'!B124,Inventory!B:B,0))=\"Not Qualified\",INDEX(Inventory!L:L,MATCH('Inspection Form'!B124,Inventory!B:B,0))<>\"\",$Q$5<>\"Pre\"),0,BY124*BZ124), 0)","v":0},null,{"$error":"#DIV/0!"},{"$error":"#DIV/0!"},121]
[null,121,null,null,null,null,null,null,null,null,null,null,null,null,null,null,null,null,null,null,null,null,null,null,null,null,null,null,null,null,null,null,null,null,null,null,null,null,null,null,null,null,null,null,null,null,null,null,null,null,null,null,null,null,null,null,null,null,null,null,null,null,null,null,null,null,null,null,null,null,null,null,null,{"$f":"INDEX('Fixture Descriptions'!A:K,MATCH('Inspection Form'!H125,'Fixture Descriptions'!A:A,0),8)","v":{"$error":"#N/A"}},{"$error":"#N/A"},null,{"$error":"#N/A"},1,null,null,null,{"$f":"IFERROR(IF(AND(INDEX(Inventory!CB:CB,MATCH('Inspection Form'!B125,Inventory!B:B,0))=\"Not Qualified\",INDEX(Inventory!L:L,MATCH('Inspection Form'!B125,Inventory!B:B,0))<>\"\",$Q$5<>\"Pre\"),0,BY125*BZ125), 0)","v":0},null,{"$error":"#DIV/0!"},{"$error":"#DIV/0!"},122]
[null,122,null,null,null,null,null,null,null,null,null,null,null,null,null,null,null,null,null,null,null,null,null,null,null,null,null,null,null,null,null,null,null,null,null,null,null,null,null,null,null,null,null,null,null,null,null,null,null,null,null,null,null,null,null,null,null,null,null,null,null,null,null,null,null,null,null,null,null,null,null,null,null,{"$f":"INDEX('Fixture Descriptions'!A:K,MATCH('Inspection Form'!H126,'Fixture Descriptions'!A:A,0),8)","v":{"$error":"#N/A"}},{"$error":"#N/A"},null,{"$error":"#N/A"},1,null,null,null,{"$f":"IFERROR(IF(AND(INDEX(Inventory!CB:CB,MATCH('Inspection Form'!B126,Inventory!B:B,0))=\"Not Qualified\",INDEX(Inventory!L:L,MATCH('Inspection Form'!B126,Inventory!B:B,0))<>\"\",$Q$5<>\"Pre\"),0,BY126*BZ126), 0)","v":0},null,{"$error":"#DIV/0!"},{"$error":"#DIV/0!"},123]
[null,123,null,null,null,null,null,null,null,null,null,null,null,null,null,null,null,null,null,null,null,null,null,null,null,null,null,null,null,null,null,null,null,null,null,null,null,null,null,null,null,null,null,null,null,null,null,null,null,null,null,null,null,null,null,null,null,null,null,null,null,null,null,null,null,null,null,null,null,null,null,null,null,{"$f":"INDEX('Fixture Descriptions'!A:K,MATCH('Inspection Form'!H127,'Fixture Descriptions'!A:A,0),8)","v":{"$error":"#N/A"}},{"$error":"#N/A"},null,{"$error":"#N/A"},1,null,null,null,{"$f":"IFERROR(IF(AND(INDEX(Inventory!CB:CB,MATCH('Inspection Form'!B127,Inventory!B:B,0))=\"Not Qualified\",INDEX(Inventory!L:L,MATCH('Inspection Form'!B127,Inventory!B:B,0))<>\"\",$Q$5<>\"Pre\"),0,BY127*BZ127), 0)","v":0},null,{"$error":"#DIV/0!"},{"$error":"#DIV/0!"},124]
[null,124,null,null,null,null,null,null,null,null,null,null,null,null,null,null,null,null,null,null,null,null,null,null,null,null,null,null,null,null,null,null,null,null,null,null,null,null,null,null,null,null,null,null,null,null,null,null,null,null,null,null,null,null,null,null,null,null,null,null,null,null,null,null,null,null,null,null,null,null,null,null,null,{"$f":"INDEX('Fixture Descriptions'!A:K,MATCH('Inspection Form'!H128,'Fixture Descriptions'!A:A,0),8)","v":{"$error":"#N/A"}},{"$error":"#N/A"},null,{"$error":"#N/A"},1,null,null,null,{"$f":"IFERROR(IF(AND(INDEX(Inventory!CB:CB,MATCH('Inspection Form'!B128,Inventory!B:B,0))=\"Not Qualified\",INDEX(Inventory!L:L,MATCH('Inspection Form'!B128,Inventory!B:B,0))<>\"\",$Q$5<>\"Pre\"),0,BY128*BZ128), 0)","v":0},null,{"$error":"#DIV/0!"},{"$error":"#DIV/0!"},125]
[null,125,null,null,null,null,null,null,null,null,null,null,null,null,null,null,null,null,null,null,null,null,null,null,null,null,null,null,null,null,null,null,null,null,null,null,null,null,null,null,null,null,null,null,null,null,null,null,null,null,null,null,null,null,null,null,null,null,null,null,null,null,null,null,null,null,null,null,null,null,null,null,null,{"$f":"INDEX('Fixture Descriptions'!A:K,MATCH('Inspection Form'!H129,'Fixture Descriptions'!A:A,0),8)","v":{"$error":"#N/A"}},{"$error":"#N/A"},null,{"$error":"#N/A"},1,null,null,null,{"$f":"IFERROR(IF(AND(INDEX(Inventory!CB:CB,MATCH('Inspection Form'!B129,Inventory!B:B,0))=\"Not Qualified\",INDEX(Inventory!L:L,MATCH('Inspection Form'!B129,Inventory!B:B,0))<>\"\",$Q$5<>\"Pre\"),0,BY129*BZ129), 0)","v":0},null,{"$error":"#DIV/0!"},{"$error":"#DIV/0!"},126]
[null,126,null,null,null,null,null,null,null,null,null,null,null,null,null,null,null,null,null,null,null,null,null,null,null,null,null,null,null,null,null,null,null,null,null,null,null,null,null,null,null,null,null,null,null,null,null,null,null,null,null,null,null,null,null,null,null,null,null,null,null,null,null,null,null,null,null,null,null,null,null,null,null,{"$f":"INDEX('Fixture Descriptions'!A:K,MATCH('Inspection Form'!H130,'Fixture Descriptions'!A:A,0),8)","v":{"$error":"#N/A"}},{"$error":"#N/A"},null,{"$error":"#N/A"},1,null,null,null,{"$f":"IFERROR(IF(AND(INDEX(Inventory!CB:CB,MATCH('Inspection Form'!B130,Inventory!B:B,0))=\"Not Qualified\",INDEX(Inventory!L:L,MATCH('Inspection Form'!B130,Inventory!B:B,0))<>\"\",$Q$5<>\"Pre\"),0,BY130*BZ130), 0)","v":0},null,{"$error":"#DIV/0!"},{"$error":"#DIV/0!"},127]
[null,127,null,null,null,null,null,null,null,null,null,null,null,null,null,null,null,null,null,null,null,null,null,null,null,null,null,null,null,null,null,null,null,null,null,null,null,null,null,null,null,null,null,null,null,null,null,null,null,null,null,null,null,null,null,null,null,null,null,null,null,null,null,null,null,null,null,null,null,null,null,null,null,{"$f":"INDEX('Fixture Descriptions'!A:K,MATCH('Inspection Form'!H131,'Fixture Descriptions'!A:A,0),8)","v":{"$error":"#N/A"}},{"$error":"#N/A"},null,{"$error":"#N/A"},1,null,null,null,{"$f":"IFERROR(IF(AND(INDEX(Inventory!CB:CB,MATCH('Inspection Form'!B131,Inventory!B:B,0))=\"Not Qualified\",INDEX(Inventory!L:L,MATCH('Inspection Form'!B131,Inventory!B:B,0))<>\"\",$Q$5<>\"Pre\"),0,BY131*BZ131), 0)","v":0},null,{"$error":"#DIV/0!"},{"$error":"#DIV/0!"},128]
[null,128,null,null,null,null,null,null,null,null,null,null,null,null,null,null,null,null,null,null,null,null,null,null,null,null,null,null,null,null,null,null,null,null,null,null,null,null,null,null,null,null,null,null,null,null,null,null,null,null,null,null,null,null,null,null,null,null,null,null,null,null,null,null,null,null,null,null,null,null,null,null,null,{"$f":"INDEX('Fixture Descriptions'!A:K,MATCH('Inspection Form'!H132,'Fixture Descriptions'!A:A,0),8)","v":{"$error":"#N/A"}},{"$error":"#N/A"},null,{"$error":"#N/A"},1,null,null,null,{"$f":"IFERROR(IF(AND(INDEX(Inventory!CB:CB,MATCH('Inspection Form'!B132,Inventory!B:B,0))=\"Not Qualified\",INDEX(Inventory!L:L,MATCH('Inspection Form'!B132,Inventory!B:B,0))<>\"\",$Q$5<>\"Pre\"),0,BY132*BZ132), 0)","v":0},null,{"$error":"#DIV/0!"},{"$error":"#DIV/0!"},129]
[null,129,null,null,null,null,null,null,null,null,null,null,null,null,null,null,null,null,null,null,null,null,null,null,null,null,null,null,null,null,null,null,null,null,null,null,null,null,null,null,null,null,null,null,null,null,null,null,null,null,null,null,null,null,null,null,null,null,null,null,null,null,null,null,null,null,null,null,null,null,null,null,null,{"$f":"INDEX('Fixture Descriptions'!A:K,MATCH('Inspection Form'!H133,'Fixture Descriptions'!A:A,0),8)","v":{"$error":"#N/A"}},{"$f":"BV133*I133","v":{"$error":"#N/A"}},null,{"$error":"#N/A"},1,null,null,null,{"$f":"IFERROR(IF(AND(INDEX(Inventory!CB:CB,MATCH('Inspection Form'!B133,Inventory!B:B,0))=\"Not Qualified\",INDEX(Inventory!L:L,MATCH('Inspection Form'!B133,Inventory!B:B,0))<>\"\",$Q$5<>\"Pre\"),0,BY133*BZ133), 0)","v":0},null,{"$error":"#DIV/0!"},{"$error":"#DIV/0!"},130]
[null,130,null,null,null,null,null,null,null,null,null,null,null,null,null,null,null,null,null,null,null,null,null,null,null,null,null,null,null,null,null,null,null,null,null,null,null,null,null,null,null,null,null,null,null,null,null,null,null,null,null,null,null,null,null,null,null,null,null,null,null,null,null,null,null,null,null,null,null,null,null,null,null,{"$f":"INDEX('Fixture Descriptions'!A:K,MATCH('Inspection Form'!H134,'Fixture Descriptions'!A:A,0),8)","v":{"$error":"#N/A"}},{"$error":"#N/A"},null,{"$f":"BW134","v":{"$error":"#N/A"}},{"$f":"IF($U$3=\"All\", 1, IF(AND(C134=$U$3, H134=$U$4), 1, 0))","v":1},null,null,null,{"$f":"IFERROR(IF(AND(INDEX(Inventory!CB:CB,MATCH('Inspection Form'!B134,Inventory!B:B,0))=\"Not Qualified\",INDEX(Inventory!L:L,MATCH('Inspection Form'!B134,Inventory!B:B,0))<>\"\",$Q$5<>\"Pre\"),0,BY134*BZ134), 0)","v":0},null,{"$f":"CD134/$CE$5","v":{"$error":"#DIV/0!"}},{"$f":"CF134+CG133","v":{"$error":"#DIV/0!"}},131]
[null,131,null,null,null,null,null,null,null,null,null,null,null,null,null,null,null,null,null,null,null,null,null,null,null,null,null,null,null,null,null,null,null,null,null,null,null,null,null,null,null,null,null,null,null,null,null,null,null,null,null,null,null,null,null,null,null,null,null,null,null,null,null,null,null,null,null,null,null,null,null,null,null,{"$f":"INDEX('Fixture Descriptions'!A:K,MATCH('Inspection Form'!H135,'Fixture Descriptions'!A:A,0),8)","v":{"$error":"#N/A"}},{"$error":"#N/A"},null,{"$error":"#N/A"},1,null,null,null,{"$f":"IFERROR(IF(AND(INDEX(Inventory!CB:CB,MATCH('Inspection Form'!B135,Inventory!B:B,0))=\"Not Qualified\",INDEX(Inventory!L:L,MATCH('Inspection Form'!B135,Inventory!B:B,0))<>\"\",$Q$5<>\"Pre\"),0,BY135*BZ135), 0)","v":0},null,{"$error":"#DIV/0!"},{"$error":"#DIV/0!"},132]
[null,132,null,null,null,null,null,null,null,null,null,null,null,null,null,null,null,null,null,null,null,null,null,null,null,null,null,null,null,null,null,null,null,null,null,null,null,null,null,null,null,null,null,null,null,null,null,null,null,null,null,null,null,null,null,null,null,null,null,null,null,null,null,null,null,null,null,null,null,null,null,null,null,{"$f":"INDEX('Fixture Descriptions'!A:K,MATCH('Inspection Form'!H136,'Fixture Descriptions'!A:A,0),8)","v":{"$error":"#N/A"}},{"$error":"#N/A"},null,{"$error":"#N/A"},1,null,null,null,{"$f":"IFERROR(IF(AND(INDEX(Inventory!CB:CB,MATCH('Inspection Form'!B136,Inventory!B:B,0))=\"Not Qualified\",INDEX(Inventory!L:L,MATCH('Inspection Form'!B136,Inventory!B:B,0))<>\"\",$Q$5<>\"Pre\"),0,BY136*BZ136), 0)","v":0},null,{"$error":"#DIV/0!"},{"$error":"#DIV/0!"},133]
[null,133,null,null,null,null,null,null,null,null,null,null,null,null,null,null,null,null,null,null,null,null,null,null,null,null,null,null,null,null,null,null,null,null,null,null,null,null,null,null,null,null,null,null,null,null,null,null,null,null,null,null,null,null,null,null,null,null,null,null,null,null,null,null,null,null,null,null,null,null,null,null,null,{"$f":"INDEX('Fixture Descriptions'!A:K,MATCH('Inspection Form'!H137,'Fixture Descriptions'!A:A,0),8)","v":{"$error":"#N/A"}},{"$error":"#N/A"},null,{"$error":"#N/A"},1,null,null,null,{"$f":"IFERROR(IF(AND(INDEX(Inventory!CB:CB,MATCH('Inspection Form'!B137,Inventory!B:B,0))=\"Not Qualified\",INDEX(Inventory!L:L,MATCH('Inspection Form'!B137,Inventory!B:B,0))<>\"\",$Q$5<>\"Pre\"),0,BY137*BZ137), 0)","v":0},null,{"$error":"#DIV/0!"},{"$error":"#DIV/0!"},134]
[null,134,null,null,null,null,null,null,null,null,null,null,null,null,null,null,null,null,null,null,null,null,null,null,null,null,null,null,null,null,null,null,null,null,null,null,null,null,null,null,null,null,null,null,null,null,null,null,null,null,null,null,null,null,null,null,null,null,null,null,null,null,null,null,null,null,null,null,null,null,null,null,null,{"$f":"INDEX('Fixture Descriptions'!A:K,MATCH('Inspection Form'!H138,'Fixture Descriptions'!A:A,0),8)","v":{"$error":"#N/A"}},{"$error":"#N/A"},null,{"$error":"#N/A"},1,null,null,null,{"$f":"IFERROR(IF(AND(INDEX(Inventory!CB:CB,MATCH('Inspection Form'!B138,Inventory!B:B,0))=\"Not Qualified\",INDEX(Inventory!L:L,MATCH('Inspection Form'!B138,Inventory!B:B,0))<>\"\",$Q$5<>\"Pre\"),0,BY138*BZ138), 0)","v":0},null,{"$error":"#DIV/0!"},{"$error":"#DIV/0!"},135]
[null,135,null,null,null,null,null,null,null,null,null,null,null,null,null,null,null,null,null,null,null,null,null,null,null,null,null,null,null,null,null,null,null,null,null,null,null,null,null,null,null,null,null,null,null,null,null,null,null,null,null,null,null,null,null,null,null,null,null,null,null,null,null,null,null,null,null,null,null,null,null,null,null,{"$f":"INDEX('Fixture Descriptions'!A:K,MATCH('Inspection Form'!H139,'Fixture Descriptions'!A:A,0),8)","v":{"$error":"#N/A"}},{"$error":"#N/A"},null,{"$error":"#N/A"},1,null,null,null,{"$f":"IFERROR(IF(AND(INDEX(Inventory!CB:CB,MATCH('Inspection Form'!B139,Inventory!B:B,0))=\"Not Qualified\",INDEX(Inventory!L:L,MATCH('Inspection Form'!B139,Inventory!B:B,0))<>\"\",$Q$5<>\"Pre\"),0,BY139*BZ139), 0)","v":0},null,{"$error":"#DIV/0!"},{"$error":"#DIV/0!"},136]
[null,136,null,null,null,null,null,null,null,null,null,null,null,null,null,null,null,null,null,null,null,null,null,null,null,null,null,null,null,null,null,null,null,null,null,null,null,null,null,null,null,null,null,null,null,null,null,null,null,null,null,null,null,null,null,null,null,null,null,null,null,null,null,null,null,null,null,null,null,null,null,null,null,{"$f":"INDEX('Fixture Descriptions'!A:K,MATCH('Inspection Form'!H140,'Fixture Descriptions'!A:A,0),8)","v":{"$error":"#N/A"}},{"$error":"#N/A"},null,{"$error":"#N/A"},1,null,null,null,{"$f":"IFERROR(IF(AND(INDEX(Inventory!CB:CB,MATCH('Inspection Form'!B140,Inventory!B:B,0))=\"Not Qualified\",INDEX(Inventory!L:L,MATCH('Inspection Form'!B140,Inventory!B:B,0))<>\"\",$Q$5<>\"Pre\"),0,BY140*BZ140), 0)","v":0},null,{"$error":"#DIV/0!"},{"$error":"#DIV/0!"},137]
[null,137,null,null,null,null,null,null,null,null,null,null,null,null,null,null,null,null,null,null,null,null,null,null,null,null,null,null,null,null,null,null,null,null,null,null,null,null,null,null,null,null,null,null,null,null,null,null,null,null,null,null,null,null,null,null,null,null,null,null,null,null,null,null,null,null,null,null,null,null,null,null,null,{"$f":"INDEX('Fixture Descriptions'!A:K,MATCH('Inspection Form'!H141,'Fixture Descriptions'!A:A,0),8)","v":{"$error":"#N/A"}},{"$error":"#N/A"},null,{"$error":"#N/A"},1,null,null,null,{"$f":"IFERROR(IF(AND(INDEX(Inventory!CB:CB,MATCH('Inspection Form'!B141,Inventory!B:B,0))=\"Not Qualified\",INDEX(Inventory!L:L,MATCH('Inspection Form'!B141,Inventory!B:B,0))<>\"\",$Q$5<>\"Pre\"),0,BY141*BZ141), 0)","v":0},null,{"$error":"#DIV/0!"},{"$error":"#DIV/0!"},138]
[null,138,null,null,null,null,null,null,null,null,null,null,null,null,null,null,null,null,null,null,null,null,null,null,null,null,null,null,null,null,null,null,null,null,null,null,null,null,null,null,null,null,null,null,null,null,null,null,null,null,null,null,null,null,null,null,null,null,null,null,null,null,null,null,null,null,null,null,null,null,null,null,null,{"$f":"INDEX('Fixture Descriptions'!A:K,MATCH('Inspection Form'!H142,'Fixture Descriptions'!A:A,0),8)","v":{"$error":"#N/A"}},{"$error":"#N/A"},null,{"$error":"#N/A"},1,null,null,null,{"$f":"IFERROR(IF(AND(INDEX(Inventory!CB:CB,MATCH('Inspection Form'!B142,Inventory!B:B,0))=\"Not Qualified\",INDEX(Inventory!L:L,MATCH('Inspection Form'!B142,Inventory!B:B,0))<>\"\",$Q$5<>\"Pre\"),0,BY142*BZ142), 0)","v":0},null,{"$error":"#DIV/0!"},{"$error":"#DIV/0!"},139]
[null,139,null,null,null,null,null,null,null,null,null,null,null,null,null,null,null,null,null,null,null,null,null,null,null,null,null,null,null,null,null,null,null,null,null,null,null,null,null,null,null,null,null,null,null,null,null,null,null,null,null,null,null,null,null,null,null,null,null,null,null,null,null,null,null,null,null,null,null,null,null,null,null,{"$f":"INDEX('Fixture Descriptions'!A:K,MATCH('Inspection Form'!H143,'Fixture Descriptions'!A:A,0),8)","v":{"$error":"#N/A"}},{"$error":"#N/A"},null,{"$error":"#N/A"},1,null,null,null,{"$f":"IFERROR(IF(AND(INDEX(Inventory!CB:CB,MATCH('Inspection Form'!B143,Inventory!B:B,0))=\"Not Qualified\",INDEX(Inventory!L:L,MATCH('Inspection Form'!B143,Inventory!B:B,0))<>\"\",$Q$5<>\"Pre\"),0,BY143*BZ143), 0)","v":0},null,{"$error":"#DIV/0!"},{"$error":"#DIV/0!"},140]
[null,140,null,null,null,null,null,null,null,null,null,null,null,null,null,null,null,null,null,null,null,null,null,null,null,null,null,null,null,null,null,null,null,null,null,null,null,null,null,null,null,null,null,null,null,null,null,null,null,null,null,null,null,null,null,null,null,null,null,null,null,null,null,null,null,null,null,null,null,null,null,null,null,{"$f":"INDEX('Fixture Descriptions'!A:K,MATCH('Inspection Form'!H144,'Fixture Descriptions'!A:A,0),8)","v":{"$error":"#N/A"}},{"$error":"#N/A"},null,{"$error":"#N/A"},1,null,null,null,{"$f":"IFERROR(IF(AND(INDEX(Inventory!CB:CB,MATCH('Inspection Form'!B144,Inventory!B:B,0))=\"Not Qualified\",INDEX(Inventory!L:L,MATCH('Inspection Form'!B144,Inventory!B:B,0))<>\"\",$Q$5<>\"Pre\"),0,BY144*BZ144), 0)","v":0},null,{"$error":"#DIV/0!"},{"$error":"#DIV/0!"},141]
[null,141,null,null,null,null,null,null,null,null,null,null,null,null,null,null,null,null,null,null,null,null,null,null,null,null,null,null,null,null,null,null,null,null,null,null,null,null,null,null,null,null,null,null,null,null,null,null,null,null,null,null,null,null,null,null,null,null,null,null,null,null,null,null,null,null,null,null,null,null,null,null,null,{"$f":"INDEX('Fixture Descriptions'!A:K,MATCH('Inspection Form'!H145,'Fixture Descriptions'!A:A,0),8)","v":{"$error":"#N/A"}},{"$error":"#N/A"},null,{"$error":"#N/A"},1,null,null,null,{"$f":"IFERROR(IF(AND(INDEX(Inventory!CB:CB,MATCH('Inspection Form'!B145,Inventory!B:B,0))=\"Not Qualified\",INDEX(Inventory!L:L,MATCH('Inspection Form'!B145,Inventory!B:B,0))<>\"\",$Q$5<>\"Pre\"),0,BY145*BZ145), 0)","v":0},null,{"$error":"#DIV/0!"},{"$error":"#DIV/0!"},142]
[null,142,null,null,null,null,null,null,null,null,null,null,null,null,null,null,null,null,null,null,null,null,null,null,null,null,null,null,null,null,null,null,null,null,null,null,null,null,null,null,null,null,null,null,null,null,null,null,null,null,null,null,null,null,null,null,null,null,null,null,null,null,null,null,null,null,null,null,null,null,null,null,null,{"$f":"INDEX('Fixture Descriptions'!A:K,MATCH('Inspection Form'!H146,'Fixture Descriptions'!A:A,0),8)","v":{"$error":"#N/A"}},{"$error":"#N/A"},null,{"$error":"#N/A"},1,null,null,null,{"$f":"IFERROR(IF(AND(INDEX(Inventory!CB:CB,MATCH('Inspection Form'!B146,Inventory!B:B,0))=\"Not Qualified\",INDEX(Inventory!L:L,MATCH('Inspection Form'!B146,Inventory!B:B,0))<>\"\",$Q$5<>\"Pre\"),0,BY146*BZ146), 0)","v":0},null,{"$error":"#DIV/0!"},{"$error":"#DIV/0!"},143]
[null,143,null,null,null,null,null,null,null,null,null,null,null,null,null,null,null,null,null,null,null,null,null,null,null,null,null,null,null,null,null,null,null,null,null,null,null,null,null,null,null,null,null,null,null,null,null,null,null,null,null,null,null,null,null,null,null,null,null,null,null,null,null,null,null,null,null,null,null,null,null,null,null,{"$f":"INDEX('Fixture Descriptions'!A:K,MATCH('Inspection Form'!H147,'Fixture Descriptions'!A:A,0),8)","v":{"$error":"#N/A"}},{"$error":"#N/A"},null,{"$error":"#N/A"},1,null,null,null,{"$f":"IFERROR(IF(AND(INDEX(Inventory!CB:CB,MATCH('Inspection Form'!B147,Inventory!B:B,0))=\"Not Qualified\",INDEX(Inventory!L:L,MATCH('Inspection Form'!B147,Inventory!B:B,0))<>\"\",$Q$5<>\"Pre\"),0,BY147*BZ147), 0)","v":0},null,{"$error":"#DIV/0!"},{"$error":"#DIV/0!"},144]
[null,144,null,null,null,null,null,null,null,null,null,null,null,null,null,null,null,null,null,null,null,null,null,null,null,null,null,null,null,null,null,null,null,null,null,null,null,null,null,null,null,null,null,null,null,null,null,null,null,null,null,null,null,null,null,null,null,null,null,null,null,null,null,null,null,null,null,null,null,null,null,null,null,{"$f":"INDEX('Fixture Descriptions'!A:K,MATCH('Inspection Form'!H148,'Fixture Descriptions'!A:A,0),8)","v":{"$error":"#N/A"}},{"$error":"#N/A"},null,{"$error":"#N/A"},1,null,null,null,{"$f":"IFERROR(IF(AND(INDEX(Inventory!CB:CB,MATCH('Inspection Form'!B148,Inventory!B:B,0))=\"Not Qualified\",INDEX(Inventory!L:L,MATCH('Inspection Form'!B148,Inventory!B:B,0))<>\"\",$Q$5<>\"Pre\"),0,BY148*BZ148), 0)","v":0},null,{"$error":"#DIV/0!"},{"$error":"#DIV/0!"},145]
[null,145,null,null,null,null,null,null,null,null,null,null,null,null,null,null,null,null,null,null,null,null,null,null,null,null,null,null,null,null,null,null,null,null,null,null,null,null,null,null,null,null,null,null,null,null,null,null,null,null,null,null,null,null,null,null,null,null,null,null,null,null,null,null,null,null,null,null,null,null,null,null,null,{"$f":"INDEX('Fixture Descriptions'!A:K,MATCH('Inspection Form'!H149,'Fixture Descriptions'!A:A,0),8)","v":{"$error":"#N/A"}},{"$error":"#N/A"},null,{"$error":"#N/A"},1,null,null,null,{"$f":"IFERROR(IF(AND(INDEX(Inventory!CB:CB,MATCH('Inspection Form'!B149,Inventory!B:B,0))=\"Not Qualified\",INDEX(Inventory!L:L,MATCH('Inspection Form'!B149,Inventory!B:B,0))<>\"\",$Q$5<>\"Pre\"),0,BY149*BZ149), 0)","v":0},null,{"$error":"#DIV/0!"},{"$error":"#DIV/0!"},146]
[null,146,null,null,null,null,null,null,null,null,null,null,null,null,null,null,null,null,null,null,null,null,null,null,null,null,null,null,null,null,null,null,null,null,null,null,null,null,null,null,null,null,null,null,null,null,null,null,null,null,null,null,null,null,null,null,null,null,null,null,null,null,null,null,null,null,null,null,null,null,null,null,null,{"$f":"INDEX('Fixture Descriptions'!A:K,MATCH('Inspection Form'!H150,'Fixture Descriptions'!A:A,0),8)","v":{"$error":"#N/A"}},{"$error":"#N/A"},null,{"$error":"#N/A"},1,null,null,null,{"$f":"IFERROR(IF(AND(INDEX(Inventory!CB:CB,MATCH('Inspection Form'!B150,Inventory!B:B,0))=\"Not Qualified\",INDEX(Inventory!L:L,MATCH('Inspection Form'!B150,Inventory!B:B,0))<>\"\",$Q$5<>\"Pre\"),0,BY150*BZ150), 0)","v":0},null,{"$error":"#DIV/0!"},{"$error":"#DIV/0!"},147]
[null,147,null,null,null,null,null,null,null,null,null,null,null,null,null,null,null,null,null,null,null,null,null,null,null,null,null,null,null,null,null,null,null,null,null,null,null,null,null,null,null,null,null,null,null,null,null,null,null,null,null,null,null,null,null,null,null,null,null,null,null,null,null,null,null,null,null,null,null,null,null,null,null,{"$f":"INDEX('Fixture Descriptions'!A:K,MATCH('Inspection Form'!H151,'Fixture Descriptions'!A:A,0),8)","v":{"$error":"#N/A"}},{"$error":"#N/A"},null,{"$error":"#N/A"},1,null,null,null,{"$f":"IFERROR(IF(AND(INDEX(Inventory!CB:CB,MATCH('Inspection Form'!B151,Inventory!B:B,0))=\"Not Qualified\",INDEX(Inventory!L:L,MATCH('Inspection Form'!B151,Inventory!B:B,0))<>\"\",$Q$5<>\"Pre\"),0,BY151*BZ151), 0)","v":0},null,{"$error":"#DIV/0!"},{"$error":"#DIV/0!"},148]
[null,148,null,null,null,null,null,null,null,null,null,null,null,null,null,null,null,null,null,null,null,null,null,null,null,null,null,null,null,null,null,null,null,null,null,null,null,null,null,null,null,null,null,null,null,null,null,null,null,null,null,null,null,null,null,null,null,null,null,null,null,null,null,null,null,null,null,null,null,null,null,null,null,{"$f":"INDEX('Fixture Descriptions'!A:K,MATCH('Inspection Form'!H152,'Fixture Descriptions'!A:A,0),8)","v":{"$error":"#N/A"}},{"$error":"#N/A"},null,{"$error":"#N/A"},1,null,null,null,{"$f":"IFERROR(IF(AND(INDEX(Inventory!CB:CB,MATCH('Inspection Form'!B152,Inventory!B:B,0))=\"Not Qualified\",INDEX(Inventory!L:L,MATCH('Inspection Form'!B152,Inventory!B:B,0))<>\"\",$Q$5<>\"Pre\"),0,BY152*BZ152), 0)","v":0},null,{"$error":"#DIV/0!"},{"$error":"#DIV/0!"},149]
[null,149,null,null,null,null,null,null,null,null,null,null,null,null,null,null,null,null,null,null,null,null,null,null,null,null,null,null,null,null,null,null,null,null,null,null,null,null,null,null,null,null,null,null,null,null,null,null,null,null,null,null,null,null,null,null,null,null,null,null,null,null,null,null,null,null,null,null,null,null,null,null,null,{"$f":"INDEX('Fixture Descriptions'!A:K,MATCH('Inspection Form'!H153,'Fixture Descriptions'!A:A,0),8)","v":{"$error":"#N/A"}},{"$error":"#N/A"},null,{"$error":"#N/A"},1,null,null,null,{"$f":"IFERROR(IF(AND(INDEX(Inventory!CB:CB,MATCH('Inspection Form'!B153,Inventory!B:B,0))=\"Not Qualified\",INDEX(Inventory!L:L,MATCH('Inspection Form'!B153,Inventory!B:B,0))<>\"\",$Q$5<>\"Pre\"),0,BY153*BZ153), 0)","v":0},null,{"$error":"#DIV/0!"},{"$error":"#DIV/0!"},150]
[null,150,null,null,null,null,null,null,null,null,null,null,null,null,null,null,null,null,null,null,null,null,null,null,null,null,null,null,null,null,null,null,null,null,null,null,null,null,null,null,null,null,null,null,null,null,null,null,null,null,null,null,null,null,null,null,null,null,null,null,null,null,null,null,null,null,null,null,null,null,null,null,null,{"$f":"INDEX('Fixture Descriptions'!A:K,MATCH('Inspection Form'!H154,'Fixture Descriptions'!A:A,0),8)","v":{"$error":"#N/A"}},{"$error":"#N/A"},null,{"$error":"#N/A"},1,null,null,null,{"$f":"IFERROR(IF(AND(INDEX(Inventory!CB:CB,MATCH('Inspection Form'!B154,Inventory!B:B,0))=\"Not Qualified\",INDEX(Inventory!L:L,MATCH('Inspection Form'!B154,Inventory!B:B,0))<>\"\",$Q$5<>\"Pre\"),0,BY154*BZ154), 0)","v":0},null,{"$error":"#DIV/0!"},{"$error":"#DIV/0!"},151]
[null,151,null,null,null,null,null,null,null,null,null,null,null,null,null,null,null,null,null,null,null,null,null,null,null,null,null,null,null,null,null,null,null,null,null,null,null,null,null,null,null,null,null,null,null,null,null,null,null,null,null,null,null,null,null,null,null,null,null,null,null,null,null,null,null,null,null,null,null,null,null,null,null,{"$f":"INDEX('Fixture Descriptions'!A:K,MATCH('Inspection Form'!H155,'Fixture Descriptions'!A:A,0),8)","v":{"$error":"#N/A"}},{"$error":"#N/A"},null,{"$error":"#N/A"},1,null,null,null,{"$f":"IFERROR(IF(AND(INDEX(Inventory!CB:CB,MATCH('Inspection Form'!B155,Inventory!B:B,0))=\"Not Qualified\",INDEX(Inventory!L:L,MATCH('Inspection Form'!B155,Inventory!B:B,0))<>\"\",$Q$5<>\"Pre\"),0,BY155*BZ155), 0)","v":0},null,{"$error":"#DIV/0!"},{"$error":"#DIV/0!"},152]
[null,152,null,null,null,null,null,null,null,null,null,null,null,null,null,null,null,null,null,null,null,null,null,null,null,null,null,null,null,null,null,null,null,null,null,null,null,null,null,null,null,null,null,null,null,null,null,null,null,null,null,null,null,null,null,null,null,null,null,null,null,null,null,null,null,null,null,null,null,null,null,null,null,{"$f":"INDEX('Fixture Descriptions'!A:K,MATCH('Inspection Form'!H156,'Fixture Descriptions'!A:A,0),8)","v":{"$error":"#N/A"}},{"$error":"#N/A"},null,{"$error":"#N/A"},1,null,null,null,{"$f":"IFERROR(IF(AND(INDEX(Inventory!CB:CB,MATCH('Inspection Form'!B156,Inventory!B:B,0))=\"Not Qualified\",INDEX(Inventory!L:L,MATCH('Inspection Form'!B156,Inventory!B:B,0))<>\"\",$Q$5<>\"Pre\"),0,BY156*BZ156), 0)","v":0},null,{"$error":"#DIV/0!"},{"$error":"#DIV/0!"},153]
[null,153,null,null,null,null,null,null,null,null,null,null,null,null,null,null,null,null,null,null,null,null,null,null,null,null,null,null,null,null,null,null,null,null,null,null,null,null,null,null,null,null,null,null,null,null,null,null,null,null,null,null,null,null,null,null,null,null,null,null,null,null,null,null,null,null,null,null,null,null,null,null,null,{"$f":"INDEX('Fixture Descriptions'!A:K,MATCH('Inspection Form'!H157,'Fixture Descriptions'!A:A,0),8)","v":{"$error":"#N/A"}},{"$error":"#N/A"},null,{"$error":"#N/A"},1,null,null,null,{"$f":"IFERROR(IF(AND(INDEX(Inventory!CB:CB,MATCH('Inspection Form'!B157,Inventory!B:B,0))=\"Not Qualified\",INDEX(Inventory!L:L,MATCH('Inspection Form'!B157,Inventory!B:B,0))<>\"\",$Q$5<>\"Pre\"),0,BY157*BZ157), 0)","v":0},null,{"$error":"#DIV/0!"},{"$error":"#DIV/0!"},154]
[null,154,null,null,null,null,null,null,null,null,null,null,null,null,null,null,null,null,null,null,null,null,null,null,null,null,null,null,null,null,null,null,null,null,null,null,null,null,null,null,null,null,null,null,null,null,null,null,null,null,null,null,null,null,null,null,null,null,null,null,null,null,null,null,null,null,null,null,null,null,null,null,null,{"$f":"INDEX('Fixture Descriptions'!A:K,MATCH('Inspection Form'!H158,'Fixture Descriptions'!A:A,0),8)","v":{"$error":"#N/A"}},{"$error":"#N/A"},null,{"$error":"#N/A"},1,null,null,null,{"$f":"IFERROR(IF(AND(INDEX(Inventory!CB:CB,MATCH('Inspection Form'!B158,Inventory!B:B,0))=\"Not Qualified\",INDEX(Inventory!L:L,MATCH('Inspection Form'!B158,Inventory!B:B,0))<>\"\",$Q$5<>\"Pre\"),0,BY158*BZ158), 0)","v":0},null,{"$error":"#DIV/0!"},{"$error":"#DIV/0!"},155]
[null,155,null,null,null,null,null,null,null,null,null,null,null,null,null,null,null,null,null,null,null,null,null,null,null,null,null,null,null,null,null,null,null,null,null,null,null,null,null,null,null,null,null,null,null,null,null,null,null,null,null,null,null,null,null,null,null,null,null,null,null,null,null,null,null,null,null,null,null,null,null,null,null,{"$f":"INDEX('Fixture Descriptions'!A:K,MATCH('Inspection Form'!H159,'Fixture Descriptions'!A:A,0),8)","v":{"$error":"#N/A"}},{"$error":"#N/A"},null,{"$error":"#N/A"},1,null,null,null,{"$f":"IFERROR(IF(AND(INDEX(Inventory!CB:CB,MATCH('Inspection Form'!B159,Inventory!B:B,0))=\"Not Qualified\",INDEX(Inventory!L:L,MATCH('Inspection Form'!B159,Inventory!B:B,0))<>\"\",$Q$5<>\"Pre\"),0,BY159*BZ159), 0)","v":0},null,{"$error":"#DIV/0!"},{"$error":"#DIV/0!"},156]
[null,156,null,null,null,null,null,null,null,null,null,null,null,null,null,null,null,null,null,null,null,null,null,null,null,null,null,null,null,null,null,null,null,null,null,null,null,null,null,null,null,null,null,null,null,null,null,null,null,null,null,null,null,null,null,null,null,null,null,null,null,null,null,null,null,null,null,null,null,null,null,null,null,{"$f":"INDEX('Fixture Descriptions'!A:K,MATCH('Inspection Form'!H160,'Fixture Descriptions'!A:A,0),8)","v":{"$error":"#N/A"}},{"$error":"#N/A"},null,{"$error":"#N/A"},1,null,null,null,{"$f":"IFERROR(IF(AND(INDEX(Inventory!CB:CB,MATCH('Inspection Form'!B160,Inventory!B:B,0))=\"Not Qualified\",INDEX(Inventory!L:L,MATCH('Inspection Form'!B160,Inventory!B:B,0))<>\"\",$Q$5<>\"Pre\"),0,BY160*BZ160), 0)","v":0},null,{"$error":"#DIV/0!"},{"$error":"#DIV/0!"},157]
[null,157,null,null,null,null,null,null,null,null,null,null,null,null,null,null,null,null,null,null,null,null,null,null,null,null,null,null,null,null,null,null,null,null,null,null,null,null,null,null,null,null,null,null,null,null,null,null,null,null,null,null,null,null,null,null,null,null,null,null,null,null,null,null,null,null,null,null,null,null,null,null,null,{"$f":"INDEX('Fixture Descriptions'!A:K,MATCH('Inspection Form'!H161,'Fixture Descriptions'!A:A,0),8)","v":{"$error":"#N/A"}},{"$error":"#N/A"},null,{"$error":"#N/A"},1,null,null,null,{"$f":"IFERROR(IF(AND(INDEX(Inventory!CB:CB,MATCH('Inspection Form'!B161,Inventory!B:B,0))=\"Not Qualified\",INDEX(Inventory!L:L,MATCH('Inspection Form'!B161,Inventory!B:B,0))<>\"\",$Q$5<>\"Pre\"),0,BY161*BZ161), 0)","v":0},null,{"$error":"#DIV/0!"},{"$error":"#DIV/0!"},158]
[null,158,null,null,null,null,null,null,null,null,null,null,null,null,null,null,null,null,null,null,null,null,null,null,null,null,null,null,null,null,null,null,null,null,null,null,null,null,null,null,null,null,null,null,null,null,null,null,null,null,null,null,null,null,null,null,null,null,null,null,null,null,null,null,null,null,null,null,null,null,null,null,null,{"$f":"INDEX('Fixture Descriptions'!A:K,MATCH('Inspection Form'!H162,'Fixture Descriptions'!A:A,0),8)","v":{"$error":"#N/A"}},{"$error":"#N/A"},null,{"$error":"#N/A"},1,null,null,null,{"$f":"IFERROR(IF(AND(INDEX(Inventory!CB:CB,MATCH('Inspection Form'!B162,Inventory!B:B,0))=\"Not Qualified\",INDEX(Inventory!L:L,MATCH('Inspection Form'!B162,Inventory!B:B,0))<>\"\",$Q$5<>\"Pre\"),0,BY162*BZ162), 0)","v":0},null,{"$error":"#DIV/0!"},{"$error":"#DIV/0!"},159]
[null,159,null,null,null,null,null,null,null,null,null,null,null,null,null,null,null,null,null,null,null,null,null,null,null,null,null,null,null,null,null,null,null,null,null,null,null,null,null,null,null,null,null,null,null,null,null,null,null,null,null,null,null,null,null,null,null,null,null,null,null,null,null,null,null,null,null,null,null,null,null,null,null,{"$f":"INDEX('Fixture Descriptions'!A:K,MATCH('Inspection Form'!H163,'Fixture Descriptions'!A:A,0),8)","v":{"$error":"#N/A"}},{"$error":"#N/A"},null,{"$error":"#N/A"},1,null,null,null,{"$f":"IFERROR(IF(AND(INDEX(Inventory!CB:CB,MATCH('Inspection Form'!B163,Inventory!B:B,0))=\"Not Qualified\",INDEX(Inventory!L:L,MATCH('Inspection Form'!B163,Inventory!B:B,0))<>\"\",$Q$5<>\"Pre\"),0,BY163*BZ163), 0)","v":0},null,{"$error":"#DIV/0!"},{"$error":"#DIV/0!"},160]
[null,160,null,null,null,null,null,null,null,null,null,null,null,null,null,null,null,null,null,null,null,null,null,null,null,null,null,null,null,null,null,null,null,null,null,null,null,null,null,null,null,null,null,null,null,null,null,null,null,null,null,null,null,null,null,null,null,null,null,null,null,null,null,null,null,null,null,null,null,null,null,null,null,{"$f":"INDEX('Fixture Descriptions'!A:K,MATCH('Inspection Form'!H164,'Fixture Descriptions'!A:A,0),8)","v":{"$error":"#N/A"}},{"$error":"#N/A"},null,{"$error":"#N/A"},1,null,null,null,{"$f":"IFERROR(IF(AND(INDEX(Inventory!CB:CB,MATCH('Inspection Form'!B164,Inventory!B:B,0))=\"Not Qualified\",INDEX(Inventory!L:L,MATCH('Inspection Form'!B164,Inventory!B:B,0))<>\"\",$Q$5<>\"Pre\"),0,BY164*BZ164), 0)","v":0},null,{"$error":"#DIV/0!"},{"$error":"#DIV/0!"},161]
[null,161,null,null,null,null,null,null,null,null,null,null,null,null,null,null,null,null,null,null,null,null,null,null,null,null,null,null,null,null,null,null,null,null,null,null,null,null,null,null,null,null,null,null,null,null,null,null,null,null,null,null,null,null,null,null,null,null,null,null,null,null,null,null,null,null,null,null,null,null,null,null,null,{"$f":"INDEX('Fixture Descriptions'!A:K,MATCH('Inspection Form'!H165,'Fixture Descriptions'!A:A,0),8)","v":{"$error":"#N/A"}},{"$error":"#N/A"},null,{"$error":"#N/A"},1,null,null,null,{"$f":"IFERROR(IF(AND(INDEX(Inventory!CB:CB,MATCH('Inspection Form'!B165,Inventory!B:B,0))=\"Not Qualified\",INDEX(Inventory!L:L,MATCH('Inspection Form'!B165,Inventory!B:B,0))<>\"\",$Q$5<>\"Pre\"),0,BY165*BZ165), 0)","v":0},null,{"$error":"#DIV/0!"},{"$error":"#DIV/0!"},162]
[null,162,null,null,null,null,null,null,null,null,null,null,null,null,null,null,null,null,null,null,null,null,null,null,null,null,null,null,null,null,null,null,null,null,null,null,null,null,null,null,null,null,null,null,null,null,null,null,null,null,null,null,null,null,null,null,null,null,null,null,null,null,null,null,null,null,null,null,null,null,null,null,null,{"$f":"INDEX('Fixture Descriptions'!A:K,MATCH('Inspection Form'!H166,'Fixture Descriptions'!A:A,0),8)","v":{"$error":"#N/A"}},{"$error":"#N/A"},null,{"$error":"#N/A"},1,null,null,null,{"$f":"IFERROR(IF(AND(INDEX(Inventory!CB:CB,MATCH('Inspection Form'!B166,Inventory!B:B,0))=\"Not Qualified\",INDEX(Inventory!L:L,MATCH('Inspection Form'!B166,Inventory!B:B,0))<>\"\",$Q$5<>\"Pre\"),0,BY166*BZ166), 0)","v":0},null,{"$error":"#DIV/0!"},{"$error":"#DIV/0!"},163]
[null,163,null,null,null,null,null,null,null,null,null,null,null,null,null,null,null,null,null,null,null,null,null,null,null,null,null,null,null,null,null,null,null,null,null,null,null,null,null,null,null,null,null,null,null,null,null,null,null,null,null,null,null,null,null,null,null,null,null,null,null,null,null,null,null,null,null,null,null,null,null,null,null,{"$f":"INDEX('Fixture Descriptions'!A:K,MATCH('Inspection Form'!H167,'Fixture Descriptions'!A:A,0),8)","v":{"$error":"#N/A"}},{"$error":"#N/A"},null,{"$error":"#N/A"},1,null,null,null,{"$f":"IFERROR(IF(AND(INDEX(Inventory!CB:CB,MATCH('Inspection Form'!B167,Inventory!B:B,0))=\"Not Qualified\",INDEX(Inventory!L:L,MATCH('Inspection Form'!B167,Inventory!B:B,0))<>\"\",$Q$5<>\"Pre\"),0,BY167*BZ167), 0)","v":0},null,{"$error":"#DIV/0!"},{"$error":"#DIV/0!"},164]
[null,164,null,null,null,null,null,null,null,null,null,null,null,null,null,null,null,null,null,null,null,null,null,null,null,null,null,null,null,null,null,null,null,null,null,null,null,null,null,null,null,null,null,null,null,null,null,null,null,null,null,null,null,null,null,null,null,null,null,null,null,null,null,null,null,null,null,null,null,null,null,null,null,{"$f":"INDEX('Fixture Descriptions'!A:K,MATCH('Inspection Form'!H168,'Fixture Descriptions'!A:A,0),8)","v":{"$error":"#N/A"}},{"$error":"#N/A"},null,{"$error":"#N/A"},1,null,null,null,{"$f":"IFERROR(IF(AND(INDEX(Inventory!CB:CB,MATCH('Inspection Form'!B168,Inventory!B:B,0))=\"Not Qualified\",INDEX(Inventory!L:L,MATCH('Inspection Form'!B168,Inventory!B:B,0))<>\"\",$Q$5<>\"Pre\"),0,BY168*BZ168), 0)","v":0},null,{"$error":"#DIV/0!"},{"$error":"#DIV/0!"},165]
[null,165,null,null,null,null,null,null,null,null,null,null,null,null,null,null,null,null,null,null,null,null,null,null,null,null,null,null,null,null,null,null,null,null,null,null,null,null,null,null,null,null,null,null,null,null,null,null,null,null,null,null,null,null,null,null,null,null,null,null,null,null,null,null,null,null,null,null,null,null,null,null,null,{"$f":"INDEX('Fixture Descriptions'!A:K,MATCH('Inspection Form'!H169,'Fixture Descriptions'!A:A,0),8)","v":{"$error":"#N/A"}},{"$error":"#N/A"},null,{"$error":"#N/A"},1,null,null,null,{"$f":"IFERROR(IF(AND(INDEX(Inventory!CB:CB,MATCH('Inspection Form'!B169,Inventory!B:B,0))=\"Not Qualified\",INDEX(Inventory!L:L,MATCH('Inspection Form'!B169,Inventory!B:B,0))<>\"\",$Q$5<>\"Pre\"),0,BY169*BZ169), 0)","v":0},null,{"$error":"#DIV/0!"},{"$error":"#DIV/0!"},166]
[null,166,null,null,null,null,null,null,null,null,null,null,null,null,null,null,null,null,null,null,null,null,null,null,null,null,null,null,null,null,null,null,null,null,null,null,null,null,null,null,null,null,null,null,null,null,null,null,null,null,null,null,null,null,null,null,null,null,null,null,null,null,null,null,null,null,null,null,null,null,null,null,null,{"$f":"INDEX('Fixture Descriptions'!A:K,MATCH('Inspection Form'!H170,'Fixture Descriptions'!A:A,0),8)","v":{"$error":"#N/A"}},{"$error":"#N/A"},null,{"$error":"#N/A"},1,null,null,null,{"$f":"IFERROR(IF(AND(INDEX(Inventory!CB:CB,MATCH('Inspection Form'!B170,Inventory!B:B,0))=\"Not Qualified\",INDEX(Inventory!L:L,MATCH('Inspection Form'!B170,Inventory!B:B,0))<>\"\",$Q$5<>\"Pre\"),0,BY170*BZ170), 0)","v":0},null,{"$error":"#DIV/0!"},{"$error":"#DIV/0!"},167]
[null,167,null,null,null,null,null,null,null,null,null,null,null,null,null,null,null,null,null,null,null,null,null,null,null,null,null,null,null,null,null,null,null,null,null,null,null,null,null,null,null,null,null,null,null,null,null,null,null,null,null,null,null,null,null,null,null,null,null,null,null,null,null,null,null,null,null,null,null,null,null,null,null,{"$f":"INDEX('Fixture Descriptions'!A:K,MATCH('Inspection Form'!H171,'Fixture Descriptions'!A:A,0),8)","v":{"$error":"#N/A"}},{"$error":"#N/A"},null,{"$error":"#N/A"},1,null,null,null,{"$f":"IFERROR(IF(AND(INDEX(Inventory!CB:CB,MATCH('Inspection Form'!B171,Inventory!B:B,0))=\"Not Qualified\",INDEX(Inventory!L:L,MATCH('Inspection Form'!B171,Inventory!B:B,0))<>\"\",$Q$5<>\"Pre\"),0,BY171*BZ171), 0)","v":0},null,{"$error":"#DIV/0!"},{"$error":"#DIV/0!"},168]
[null,168,null,null,null,null,null,null,null,null,null,null,null,null,null,null,null,null,null,null,null,null,null,null,null,null,null,null,null,null,null,null,null,null,null,null,null,null,null,null,null,null,null,null,null,null,null,null,null,null,null,null,null,null,null,null,null,null,null,null,null,null,null,null,null,null,null,null,null,null,null,null,null,{"$f":"INDEX('Fixture Descriptions'!A:K,MATCH('Inspection Form'!H172,'Fixture Descriptions'!A:A,0),8)","v":{"$error":"#N/A"}},{"$error":"#N/A"},null,{"$error":"#N/A"},1,null,null,null,{"$f":"IFERROR(IF(AND(INDEX(Inventory!CB:CB,MATCH('Inspection Form'!B172,Inventory!B:B,0))=\"Not Qualified\",INDEX(Inventory!L:L,MATCH('Inspection Form'!B172,Inventory!B:B,0))<>\"\",$Q$5<>\"Pre\"),0,BY172*BZ172), 0)","v":0},null,{"$error":"#DIV/0!"},{"$error":"#DIV/0!"},169]
[null,169,null,null,null,null,null,null,null,null,null,null,null,null,null,null,null,null,null,null,null,null,null,null,null,null,null,null,null,null,null,null,null,null,null,null,null,null,null,null,null,null,null,null,null,null,null,null,null,null,null,null,null,null,null,null,null,null,null,null,null,null,null,null,null,null,null,null,null,null,null,null,null,{"$f":"INDEX('Fixture Descriptions'!A:K,MATCH('Inspection Form'!H173,'Fixture Descriptions'!A:A,0),8)","v":{"$error":"#N/A"}},{"$error":"#N/A"},null,{"$error":"#N/A"},1,null,null,null,{"$f":"IFERROR(IF(AND(INDEX(Inventory!CB:CB,MATCH('Inspection Form'!B173,Inventory!B:B,0))=\"Not Qualified\",INDEX(Inventory!L:L,MATCH('Inspection Form'!B173,Inventory!B:B,0))<>\"\",$Q$5<>\"Pre\"),0,BY173*BZ173), 0)","v":0},null,{"$error":"#DIV/0!"},{"$error":"#DIV/0!"},170]
[null,170,null,null,null,null,null,null,null,null,null,null,null,null,null,null,null,null,null,null,null,null,null,null,null,null,null,null,null,null,null,null,null,null,null,null,null,null,null,null,null,null,null,null,null,null,null,null,null,null,null,null,null,null,null,null,null,null,null,null,null,null,null,null,null,null,null,null,null,null,null,null,null,{"$f":"INDEX('Fixture Descriptions'!A:K,MATCH('Inspection Form'!H174,'Fixture Descriptions'!A:A,0),8)","v":{"$error":"#N/A"}},{"$error":"#N/A"},null,{"$error":"#N/A"},1,null,null,null,{"$f":"IFERROR(IF(AND(INDEX(Inventory!CB:CB,MATCH('Inspection Form'!B174,Inventory!B:B,0))=\"Not Qualified\",INDEX(Inventory!L:L,MATCH('Inspection Form'!B174,Inventory!B:B,0))<>\"\",$Q$5<>\"Pre\"),0,BY174*BZ174), 0)","v":0},null,{"$error":"#DIV/0!"},{"$error":"#DIV/0!"},171]
[null,171,null,null,null,null,null,null,null,null,null,null,null,null,null,null,null,null,null,null,null,null,null,null,null,null,null,null,null,null,null,null,null,null,null,null,null,null,null,null,null,null,null,null,null,null,null,null,null,null,null,null,null,null,null,null,null,null,null,null,null,null,null,null,null,null,null,null,null,null,null,null,null,{"$f":"INDEX('Fixture Descriptions'!A:K,MATCH('Inspection Form'!H175,'Fixture Descriptions'!A:A,0),8)","v":{"$error":"#N/A"}},{"$error":"#N/A"},null,{"$error":"#N/A"},1,null,null,null,{"$f":"IFERROR(IF(AND(INDEX(Inventory!CB:CB,MATCH('Inspection Form'!B175,Inventory!B:B,0))=\"Not Qualified\",INDEX(Inventory!L:L,MATCH('Inspection Form'!B175,Inventory!B:B,0))<>\"\",$Q$5<>\"Pre\"),0,BY175*BZ175), 0)","v":0},null,{"$error":"#DIV/0!"},{"$error":"#DIV/0!"},172]
[null,172,null,null,null,null,null,null,null,null,null,null,null,null,null,null,null,null,null,null,null,null,null,null,null,null,null,null,null,null,null,null,null,null,null,null,null,null,null,null,null,null,null,null,null,null,null,null,null,null,null,null,null,null,null,null,null,null,null,null,null,null,null,null,null,null,null,null,null,null,null,null,null,{"$f":"INDEX('Fixture Descriptions'!A:K,MATCH('Inspection Form'!H176,'Fixture Descriptions'!A:A,0),8)","v":{"$error":"#N/A"}},{"$error":"#N/A"},null,{"$error":"#N/A"},1,null,null,null,{"$f":"IFERROR(IF(AND(INDEX(Inventory!CB:CB,MATCH('Inspection Form'!B176,Inventory!B:B,0))=\"Not Qualified\",INDEX(Inventory!L:L,MATCH('Inspection Form'!B176,Inventory!B:B,0))<>\"\",$Q$5<>\"Pre\"),0,BY176*BZ176), 0)","v":0},null,{"$error":"#DIV/0!"},{"$error":"#DIV/0!"},173]
[null,173,null,null,null,null,null,null,null,null,null,null,null,null,null,null,null,null,null,null,null,null,null,null,null,null,null,null,null,null,null,null,null,null,null,null,null,null,null,null,null,null,null,null,null,null,null,null,null,null,null,null,null,null,null,null,null,null,null,null,null,null,null,null,null,null,null,null,null,null,null,null,null,{"$f":"INDEX('Fixture Descriptions'!A:K,MATCH('Inspection Form'!H177,'Fixture Descriptions'!A:A,0),8)","v":{"$error":"#N/A"}},{"$error":"#N/A"},null,{"$error":"#N/A"},1,null,null,null,{"$f":"IFERROR(IF(AND(INDEX(Inventory!CB:CB,MATCH('Inspection Form'!B177,Inventory!B:B,0))=\"Not Qualified\",INDEX(Inventory!L:L,MATCH('Inspection Form'!B177,Inventory!B:B,0))<>\"\",$Q$5<>\"Pre\"),0,BY177*BZ177), 0)","v":0},null,{"$error":"#DIV/0!"},{"$error":"#DIV/0!"},174]
[null,174,null,null,null,null,null,null,null,null,null,null,null,null,null,null,null,null,null,null,null,null,null,null,null,null,null,null,null,null,null,null,null,null,null,null,null,null,null,null,null,null,null,null,null,null,null,null,null,null,null,null,null,null,null,null,null,null,null,null,null,null,null,null,null,null,null,null,null,null,null,null,null,{"$f":"INDEX('Fixture Descriptions'!A:K,MATCH('Inspection Form'!H178,'Fixture Descriptions'!A:A,0),8)","v":{"$error":"#N/A"}},{"$error":"#N/A"},null,{"$error":"#N/A"},1,null,null,null,{"$f":"IFERROR(IF(AND(INDEX(Inventory!CB:CB,MATCH('Inspection Form'!B178,Inventory!B:B,0))=\"Not Qualified\",INDEX(Inventory!L:L,MATCH('Inspection Form'!B178,Inventory!B:B,0))<>\"\",$Q$5<>\"Pre\"),0,BY178*BZ178), 0)","v":0},null,{"$error":"#DIV/0!"},{"$error":"#DIV/0!"},175]
[null,175,null,null,null,null,null,null,null,null,null,null,null,null,null,null,null,null,null,null,null,null,null,null,null,null,null,null,null,null,null,null,null,null,null,null,null,null,null,null,null,null,null,null,null,null,null,null,null,null,null,null,null,null,null,null,null,null,null,null,null,null,null,null,null,null,null,null,null,null,null,null,null,{"$f":"INDEX('Fixture Descriptions'!A:K,MATCH('Inspection Form'!H179,'Fixture Descriptions'!A:A,0),8)","v":{"$error":"#N/A"}},{"$error":"#N/A"},null,{"$error":"#N/A"},1,null,null,null,{"$f":"IFERROR(IF(AND(INDEX(Inventory!CB:CB,MATCH('Inspection Form'!B179,Inventory!B:B,0))=\"Not Qualified\",INDEX(Inventory!L:L,MATCH('Inspection Form'!B179,Inventory!B:B,0))<>\"\",$Q$5<>\"Pre\"),0,BY179*BZ179), 0)","v":0},null,{"$error":"#DIV/0!"},{"$error":"#DIV/0!"},176]
[null,176,null,null,null,null,null,null,null,null,null,null,null,null,null,null,null,null,null,null,null,null,null,null,null,null,null,null,null,null,null,null,null,null,null,null,null,null,null,null,null,null,null,null,null,null,null,null,null,null,null,null,null,null,null,null,null,null,null,null,null,null,null,null,null,null,null,null,null,null,null,null,null,{"$f":"INDEX('Fixture Descriptions'!A:K,MATCH('Inspection Form'!H180,'Fixture Descriptions'!A:A,0),8)","v":{"$error":"#N/A"}},{"$error":"#N/A"},null,{"$error":"#N/A"},1,null,null,null,{"$f":"IFERROR(IF(AND(INDEX(Inventory!CB:CB,MATCH('Inspection Form'!B180,Inventory!B:B,0))=\"Not Qualified\",INDEX(Inventory!L:L,MATCH('Inspection Form'!B180,Inventory!B:B,0))<>\"\",$Q$5<>\"Pre\"),0,BY180*BZ180), 0)","v":0},null,{"$error":"#DIV/0!"},{"$error":"#DIV/0!"},177]
[null,177,null,null,null,null,null,null,null,null,null,null,null,null,null,null,null,null,null,null,null,null,null,null,null,null,null,null,null,null,null,null,null,null,null,null,null,null,null,null,null,null,null,null,null,null,null,null,null,null,null,null,null,null,null,null,null,null,null,null,null,null,null,null,null,null,null,null,null,null,null,null,null,{"$f":"INDEX('Fixture Descriptions'!A:K,MATCH('Inspection Form'!H181,'Fixture Descriptions'!A:A,0),8)","v":{"$error":"#N/A"}},{"$error":"#N/A"},null,{"$error":"#N/A"},1,null,null,null,{"$f":"IFERROR(IF(AND(INDEX(Inventory!CB:CB,MATCH('Inspection Form'!B181,Inventory!B:B,0))=\"Not Qualified\",INDEX(Inventory!L:L,MATCH('Inspection Form'!B181,Inventory!B:B,0))<>\"\",$Q$5<>\"Pre\"),0,BY181*BZ181), 0)","v":0},null,{"$error":"#DIV/0!"},{"$error":"#DIV/0!"},178]
[null,178,null,null,null,null,null,null,null,null,null,null,null,null,null,null,null,null,null,null,null,null,null,null,null,null,null,null,null,null,null,null,null,null,null,null,null,null,null,null,null,null,null,null,null,null,null,null,null,null,null,null,null,null,null,null,null,null,null,null,null,null,null,null,null,null,null,null,null,null,null,null,null,{"$f":"INDEX('Fixture Descriptions'!A:K,MATCH('Inspection Form'!H182,'Fixture Descriptions'!A:A,0),8)","v":{"$error":"#N/A"}},{"$error":"#N/A"},null,{"$error":"#N/A"},1,null,null,null,{"$f":"IFERROR(IF(AND(INDEX(Inventory!CB:CB,MATCH('Inspection Form'!B182,Inventory!B:B,0))=\"Not Qualified\",INDEX(Inventory!L:L,MATCH('Inspection Form'!B182,Inventory!B:B,0))<>\"\",$Q$5<>\"Pre\"),0,BY182*BZ182), 0)","v":0},null,{"$error":"#DIV/0!"},{"$error":"#DIV/0!"},179]
[null,179,null,null,null,null,null,null,null,null,null,null,null,null,null,null,null,null,null,null,null,null,null,null,null,null,null,null,null,null,null,null,null,null,null,null,null,null,null,null,null,null,null,null,null,null,null,null,null,null,null,null,null,null,null,null,null,null,null,null,null,null,null,null,null,null,null,null,null,null,null,null,null,{"$f":"INDEX('Fixture Descriptions'!A:K,MATCH('Inspection Form'!H183,'Fixture Descriptions'!A:A,0),8)","v":{"$error":"#N/A"}},{"$error":"#N/A"},null,{"$error":"#N/A"},1,null,null,null,{"$f":"IFERROR(IF(AND(INDEX(Inventory!CB:CB,MATCH('Inspection Form'!B183,Inventory!B:B,0))=\"Not Qualified\",INDEX(Inventory!L:L,MATCH('Inspection Form'!B183,Inventory!B:B,0))<>\"\",$Q$5<>\"Pre\"),0,BY183*BZ183), 0)","v":0},null,{"$error":"#DIV/0!"},{"$error":"#DIV/0!"},180]
[null,180,null,null,null,null,null,null,null,null,null,null,null,null,null,null,null,null,null,null,null,null,null,null,null,null,null,null,null,null,null,null,null,null,null,null,null,null,null,null,null,null,null,null,null,null,null,null,null,null,null,null,null,null,null,null,null,null,null,null,null,null,null,null,null,null,null,null,null,null,null,null,null,{"$f":"INDEX('Fixture Descriptions'!A:K,MATCH('Inspection Form'!H184,'Fixture Descriptions'!A:A,0),8)","v":{"$error":"#N/A"}},{"$error":"#N/A"},null,{"$error":"#N/A"},1,null,null,null,{"$f":"IFERROR(IF(AND(INDEX(Inventory!CB:CB,MATCH('Inspection Form'!B184,Inventory!B:B,0))=\"Not Qualified\",INDEX(Inventory!L:L,MATCH('Inspection Form'!B184,Inventory!B:B,0))<>\"\",$Q$5<>\"Pre\"),0,BY184*BZ184), 0)","v":0},null,{"$error":"#DIV/0!"},{"$error":"#DIV/0!"},181]
[null,181,null,null,null,null,null,null,null,null,null,null,null,null,null,null,null,null,null,null,null,null,null,null,null,null,null,null,null,null,null,null,null,null,null,null,null,null,null,null,null,null,null,null,null,null,null,null,null,null,null,null,null,null,null,null,null,null,null,null,null,null,null,null,null,null,null,null,null,null,null,null,null,{"$f":"INDEX('Fixture Descriptions'!A:K,MATCH('Inspection Form'!H185,'Fixture Descriptions'!A:A,0),8)","v":{"$error":"#N/A"}},{"$error":"#N/A"},null,{"$error":"#N/A"},1,null,null,null,{"$f":"IFERROR(IF(AND(INDEX(Inventory!CB:CB,MATCH('Inspection Form'!B185,Inventory!B:B,0))=\"Not Qualified\",INDEX(Inventory!L:L,MATCH('Inspection Form'!B185,Inventory!B:B,0))<>\"\",$Q$5<>\"Pre\"),0,BY185*BZ185), 0)","v":0},null,{"$error":"#DIV/0!"},{"$error":"#DIV/0!"},182]
[null,182,null,null,null,null,null,null,null,null,null,null,null,null,null,null,null,null,null,null,null,null,null,null,null,null,null,null,null,null,null,null,null,null,null,null,null,null,null,null,null,null,null,null,null,null,null,null,null,null,null,null,null,null,null,null,null,null,null,null,null,null,null,null,null,null,null,null,null,null,null,null,null,{"$f":"INDEX('Fixture Descriptions'!A:K,MATCH('Inspection Form'!H186,'Fixture Descriptions'!A:A,0),8)","v":{"$error":"#N/A"}},{"$error":"#N/A"},null,{"$error":"#N/A"},1,null,null,null,{"$f":"IFERROR(IF(AND(INDEX(Inventory!CB:CB,MATCH('Inspection Form'!B186,Inventory!B:B,0))=\"Not Qualified\",INDEX(Inventory!L:L,MATCH('Inspection Form'!B186,Inventory!B:B,0))<>\"\",$Q$5<>\"Pre\"),0,BY186*BZ186), 0)","v":0},null,{"$error":"#DIV/0!"},{"$error":"#DIV/0!"},183]
[null,183,null,null,null,null,null,null,null,null,null,null,null,null,null,null,null,null,null,null,null,null,null,null,null,null,null,null,null,null,null,null,null,null,null,null,null,null,null,null,null,null,null,null,null,null,null,null,null,null,null,null,null,null,null,null,null,null,null,null,null,null,null,null,null,null,null,null,null,null,null,null,null,{"$f":"INDEX('Fixture Descriptions'!A:K,MATCH('Inspection Form'!H187,'Fixture Descriptions'!A:A,0),8)","v":{"$error":"#N/A"}},{"$error":"#N/A"},null,{"$error":"#N/A"},1,null,null,null,{"$f":"IFERROR(IF(AND(INDEX(Inventory!CB:CB,MATCH('Inspection Form'!B187,Inventory!B:B,0))=\"Not Qualified\",INDEX(Inventory!L:L,MATCH('Inspection Form'!B187,Inventory!B:B,0))<>\"\",$Q$5<>\"Pre\"),0,BY187*BZ187), 0)","v":0},null,{"$error":"#DIV/0!"},{"$error":"#DIV/0!"},184]
[null,184,null,null,null,null,null,null,null,null,null,null,null,null,null,null,null,null,null,null,null,null,null,null,null,null,null,null,null,null,null,null,null,null,null,null,null,null,null,null,null,null,null,null,null,null,null,null,null,null,null,null,null,null,null,null,null,null,null,null,null,null,null,null,null,null,null,null,null,null,null,null,null,{"$f":"INDEX('Fixture Descriptions'!A:K,MATCH('Inspection Form'!H188,'Fixture Descriptions'!A:A,0),8)","v":{"$error":"#N/A"}},{"$error":"#N/A"},null,{"$error":"#N/A"},1,null,null,null,{"$f":"IFERROR(IF(AND(INDEX(Inventory!CB:CB,MATCH('Inspection Form'!B188,Inventory!B:B,0))=\"Not Qualified\",INDEX(Inventory!L:L,MATCH('Inspection Form'!B188,Inventory!B:B,0))<>\"\",$Q$5<>\"Pre\"),0,BY188*BZ188), 0)","v":0},null,{"$error":"#DIV/0!"},{"$error":"#DIV/0!"},185]
[null,185,null,null,null,null,null,null,null,null,null,null,null,null,null,null,null,null,null,null,null,null,null,null,null,null,null,null,null,null,null,null,null,null,null,null,null,null,null,null,null,null,null,null,null,null,null,null,null,null,null,null,null,null,null,null,null,null,null,null,null,null,null,null,null,null,null,null,null,null,null,null,null,{"$f":"INDEX('Fixture Descriptions'!A:K,MATCH('Inspection Form'!H189,'Fixture Descriptions'!A:A,0),8)","v":{"$error":"#N/A"}},{"$error":"#N/A"},null,{"$error":"#N/A"},1,null,null,null,{"$f":"IFERROR(IF(AND(INDEX(Inventory!CB:CB,MATCH('Inspection Form'!B189,Inventory!B:B,0))=\"Not Qualified\",INDEX(Inventory!L:L,MATCH('Inspection Form'!B189,Inventory!B:B,0))<>\"\",$Q$5<>\"Pre\"),0,BY189*BZ189), 0)","v":0},null,{"$error":"#DIV/0!"},{"$error":"#DIV/0!"},186]
[null,186,null,null,null,null,null,null,null,null,null,null,null,null,null,null,null,null,null,null,null,null,null,null,null,null,null,null,null,null,null,null,null,null,null,null,null,null,null,null,null,null,null,null,null,null,null,null,null,null,null,null,null,null,null,null,null,null,null,null,null,null,null,null,null,null,null,null,null,null,null,null,null,{"$f":"INDEX('Fixture Descriptions'!A:K,MATCH('Inspection Form'!H190,'Fixture Descriptions'!A:A,0),8)","v":{"$error":"#N/A"}},{"$error":"#N/A"},null,{"$error":"#N/A"},1,null,null,null,{"$f":"IFERROR(IF(AND(INDEX(Inventory!CB:CB,MATCH('Inspection Form'!B190,Inventory!B:B,0))=\"Not Qualified\",INDEX(Inventory!L:L,MATCH('Inspection Form'!B190,Inventory!B:B,0))<>\"\",$Q$5<>\"Pre\"),0,BY190*BZ190), 0)","v":0},null,{"$error":"#DIV/0!"},{"$error":"#DIV/0!"},187]
[null,187,null,null,null,null,null,null,null,null,null,null,null,null,null,null,null,null,null,null,null,null,null,null,null,null,null,null,null,null,null,null,null,null,null,null,null,null,null,null,null,null,null,null,null,null,null,null,null,null,null,null,null,null,null,null,null,null,null,null,null,null,null,null,null,null,null,null,null,null,null,null,null,{"$f":"INDEX('Fixture Descriptions'!A:K,MATCH('Inspection Form'!H191,'Fixture Descriptions'!A:A,0),8)","v":{"$error":"#N/A"}},{"$error":"#N/A"},null,{"$error":"#N/A"},1,null,null,null,{"$f":"IFERROR(IF(AND(INDEX(Inventory!CB:CB,MATCH('Inspection Form'!B191,Inventory!B:B,0))=\"Not Qualified\",INDEX(Inventory!L:L,MATCH('Inspection Form'!B191,Inventory!B:B,0))<>\"\",$Q$5<>\"Pre\"),0,BY191*BZ191), 0)","v":0},null,{"$error":"#DIV/0!"},{"$error":"#DIV/0!"},188]
[null,188,null,null,null,null,null,null,null,null,null,null,null,null,null,null,null,null,null,null,null,null,null,null,null,null,null,null,null,null,null,null,null,null,null,null,null,null,null,null,null,null,null,null,null,null,null,null,null,null,null,null,null,null,null,null,null,null,null,null,null,null,null,null,null,null,null,null,null,null,null,null,null,{"$f":"INDEX('Fixture Descriptions'!A:K,MATCH('Inspection Form'!H192,'Fixture Descriptions'!A:A,0),8)","v":{"$error":"#N/A"}},{"$error":"#N/A"},null,{"$error":"#N/A"},1,null,null,null,{"$f":"IFERROR(IF(AND(INDEX(Inventory!CB:CB,MATCH('Inspection Form'!B192,Inventory!B:B,0))=\"Not Qualified\",INDEX(Inventory!L:L,MATCH('Inspection Form'!B192,Inventory!B:B,0))<>\"\",$Q$5<>\"Pre\"),0,BY192*BZ192), 0)","v":0},null,{"$error":"#DIV/0!"},{"$error":"#DIV/0!"},189]
[null,189,null,null,null,null,null,null,null,null,null,null,null,null,null,null,null,null,null,null,null,null,null,null,null,null,null,null,null,null,null,null,null,null,null,null,null,null,null,null,null,null,null,null,null,null,null,null,null,null,null,null,null,null,null,null,null,null,null,null,null,null,null,null,null,null,null,null,null,null,null,null,null,{"$f":"INDEX('Fixture Descriptions'!A:K,MATCH('Inspection Form'!H193,'Fixture Descriptions'!A:A,0),8)","v":{"$error":"#N/A"}},{"$error":"#N/A"},null,{"$error":"#N/A"},1,null,null,null,{"$f":"IFERROR(IF(AND(INDEX(Inventory!CB:CB,MATCH('Inspection Form'!B193,Inventory!B:B,0))=\"Not Qualified\",INDEX(Inventory!L:L,MATCH('Inspection Form'!B193,Inventory!B:B,0))<>\"\",$Q$5<>\"Pre\"),0,BY193*BZ193), 0)","v":0},null,{"$error":"#DIV/0!"},{"$error":"#DIV/0!"},190]
[null,190,null,null,null,null,null,null,null,null,null,null,null,null,null,null,null,null,null,null,null,null,null,null,null,null,null,null,null,null,null,null,null,null,null,null,null,null,null,null,null,null,null,null,null,null,null,null,null,null,null,null,null,null,null,null,null,null,null,null,null,null,null,null,null,null,null,null,null,null,null,null,null,{"$f":"INDEX('Fixture Descriptions'!A:K,MATCH('Inspection Form'!H194,'Fixture Descriptions'!A:A,0),8)","v":{"$error":"#N/A"}},{"$error":"#N/A"},null,{"$error":"#N/A"},1,null,null,null,{"$f":"IFERROR(IF(AND(INDEX(Inventory!CB:CB,MATCH('Inspection Form'!B194,Inventory!B:B,0))=\"Not Qualified\",INDEX(Inventory!L:L,MATCH('Inspection Form'!B194,Inventory!B:B,0))<>\"\",$Q$5<>\"Pre\"),0,BY194*BZ194), 0)","v":0},null,{"$error":"#DIV/0!"},{"$error":"#DIV/0!"},191]
[null,191,null,null,null,null,null,null,null,null,null,null,null,null,null,null,null,null,null,null,null,null,null,null,null,null,null,null,null,null,null,null,null,null,null,null,null,null,null,null,null,null,null,null,null,null,null,null,null,null,null,null,null,null,null,null,null,null,null,null,null,null,null,null,null,null,null,null,null,null,null,null,null,{"$f":"INDEX('Fixture Descriptions'!A:K,MATCH('Inspection Form'!H195,'Fixture Descriptions'!A:A,0),8)","v":{"$error":"#N/A"}},{"$error":"#N/A"},null,{"$error":"#N/A"},1,null,null,null,{"$f":"IFERROR(IF(AND(INDEX(Inventory!CB:CB,MATCH('Inspection Form'!B195,Inventory!B:B,0))=\"Not Qualified\",INDEX(Inventory!L:L,MATCH('Inspection Form'!B195,Inventory!B:B,0))<>\"\",$Q$5<>\"Pre\"),0,BY195*BZ195), 0)","v":0},null,{"$error":"#DIV/0!"},{"$error":"#DIV/0!"},192]
[null,192,null,null,null,null,null,null,null,null,null,null,null,null,null,null,null,null,null,null,null,null,null,null,null,null,null,null,null,null,null,null,null,null,null,null,null,null,null,null,null,null,null,null,null,null,null,null,null,null,null,null,null,null,null,null,null,null,null,null,null,null,null,null,null,null,null,null,null,null,null,null,null,{"$f":"INDEX('Fixture Descriptions'!A:K,MATCH('Inspection Form'!H196,'Fixture Descriptions'!A:A,0),8)","v":{"$error":"#N/A"}},{"$error":"#N/A"},null,{"$error":"#N/A"},1,null,null,null,{"$f":"IFERROR(IF(AND(INDEX(Inventory!CB:CB,MATCH('Inspection Form'!B196,Inventory!B:B,0))=\"Not Qualified\",INDEX(Inventory!L:L,MATCH('Inspection Form'!B196,Inventory!B:B,0))<>\"\",$Q$5<>\"Pre\"),0,BY196*BZ196), 0)","v":0},null,{"$error":"#DIV/0!"},{"$error":"#DIV/0!"},193]
[null,193,null,null,null,null,null,null,null,null,null,null,null,null,null,null,null,null,null,null,null,null,null,null,null,null,null,null,null,null,null,null,null,null,null,null,null,null,null,null,null,null,null,null,null,null,null,null,null,null,null,null,null,null,null,null,null,null,null,null,null,null,null,null,null,null,null,null,null,null,null,null,null,{"$f":"INDEX('Fixture Descriptions'!A:K,MATCH('Inspection Form'!H197,'Fixture Descriptions'!A:A,0),8)","v":{"$error":"#N/A"}},{"$f":"BV197*I197","v":{"$error":"#N/A"}},null,{"$error":"#N/A"},1,null,null,null,{"$f":"IFERROR(IF(AND(INDEX(Inventory!CB:CB,MATCH('Inspection Form'!B197,Inventory!B:B,0))=\"Not Qualified\",INDEX(Inventory!L:L,MATCH('Inspection Form'!B197,Inventory!B:B,0))<>\"\",$Q$5<>\"Pre\"),0,BY197*BZ197), 0)","v":0},null,{"$error":"#DIV/0!"},{"$error":"#DIV/0!"},194]
[null,194,null,null,null,null,null,null,null,null,null,null,null,null,null,null,null,null,null,null,null,null,null,null,null,null,null,null,null,null,null,null,null,null,null,null,null,null,null,null,null,null,null,null,null,null,null,null,null,null,null,null,null,null,null,null,null,null,null,null,null,null,null,null,null,null,null,null,null,null,null,null,null,{"$f":"INDEX('Fixture Descriptions'!A:K,MATCH('Inspection Form'!H198,'Fixture Descriptions'!A:A,0),8)","v":{"$error":"#N/A"}},{"$error":"#N/A"},null,{"$f":"BW198","v":{"$error":"#N/A"}},{"$f":"IF($U$3=\"All\", 1, IF(AND(C198=$U$3, H198=$U$4), 1, 0))","v":1},null,null,null,{"$f":"IFERROR(IF(AND(INDEX(Inventory!CB:CB,MATCH('Inspection Form'!B198,Inventory!B:B,0))=\"Not Qualified\",INDEX(Inventory!L:L,MATCH('Inspection Form'!B198,Inventory!B:B,0))<>\"\",$Q$5<>\"Pre\"),0,BY198*BZ198), 0)","v":0},null,{"$f":"CD198/$CE$5","v":{"$error":"#DIV/0!"}},{"$f":"CF198+CG197","v":{"$error":"#DIV/0!"}},195]
[null,195,null,null,null,null,null,null,null,null,null,null,null,null,null,null,null,null,null,null,null,null,null,null,null,null,null,null,null,null,null,null,null,null,null,null,null,null,null,null,null,null,null,null,null,null,null,null,null,null,null,null,null,null,null,null,null,null,null,null,null,null,null,null,null,null,null,null,null,null,null,null,null,{"$f":"INDEX('Fixture Descriptions'!A:K,MATCH('Inspection Form'!H199,'Fixture Descriptions'!A:A,0),8)","v":{"$error":"#N/A"}},{"$error":"#N/A"},null,{"$error":"#N/A"},1,null,null,null,{"$f":"IFERROR(IF(AND(INDEX(Inventory!CB:CB,MATCH('Inspection Form'!B199,Inventory!B:B,0))=\"Not Qualified\",INDEX(Inventory!L:L,MATCH('Inspection Form'!B199,Inventory!B:B,0))<>\"\",$Q$5<>\"Pre\"),0,BY199*BZ199), 0)","v":0},null,{"$error":"#DIV/0!"},{"$error":"#DIV/0!"},196]
[null,196,null,null,null,null,null,null,null,null,null,null,null,null,null,null,null,null,null,null,null,null,null,null,null,null,null,null,null,null,null,null,null,null,null,null,null,null,null,null,null,null,null,null,null,null,null,null,null,null,null,null,null,null,null,null,null,null,null,null,null,null,null,null,null,null,null,null,null,null,null,null,null,{"$f":"INDEX('Fixture Descriptions'!A:K,MATCH('Inspection Form'!H200,'Fixture Descriptions'!A:A,0),8)","v":{"$error":"#N/A"}},{"$error":"#N/A"},null,{"$error":"#N/A"},1,null,null,null,{"$f":"IFERROR(IF(AND(INDEX(Inventory!CB:CB,MATCH('Inspection Form'!B200,Inventory!B:B,0))=\"Not Qualified\",INDEX(Inventory!L:L,MATCH('Inspection Form'!B200,Inventory!B:B,0))<>\"\",$Q$5<>\"Pre\"),0,BY200*BZ200), 0)","v":0},null,{"$error":"#DIV/0!"},{"$error":"#DIV/0!"},197]
[null,197,null,null,null,null,null,null,null,null,null,null,null,null,null,null,null,null,null,null,null,null,null,null,null,null,null,null,null,null,null,null,null,null,null,null,null,null,null,null,null,null,null,null,null,null,null,null,null,null,null,null,null,null,null,null,null,null,null,null,null,null,null,null,null,null,null,null,null,null,null,null,null,{"$f":"INDEX('Fixture Descriptions'!A:K,MATCH('Inspection Form'!H201,'Fixture Descriptions'!A:A,0),8)","v":{"$error":"#N/A"}},{"$error":"#N/A"},null,{"$error":"#N/A"},1,null,null,null,{"$f":"IFERROR(IF(AND(INDEX(Inventory!CB:CB,MATCH('Inspection Form'!B201,Inventory!B:B,0))=\"Not Qualified\",INDEX(Inventory!L:L,MATCH('Inspection Form'!B201,Inventory!B:B,0))<>\"\",$Q$5<>\"Pre\"),0,BY201*BZ201), 0)","v":0},null,{"$error":"#DIV/0!"},{"$error":"#DIV/0!"},198]
[null,198,null,null,null,null,null,null,null,null,null,null,null,null,null,null,null,null,null,null,null,null,null,null,null,null,null,null,null,null,null,null,null,null,null,null,null,null,null,null,null,null,null,null,null,null,null,null,null,null,null,null,null,null,null,null,null,null,null,null,null,null,null,null,null,null,null,null,null,null,null,null,null,{"$f":"INDEX('Fixture Descriptions'!A:K,MATCH('Inspection Form'!H202,'Fixture Descriptions'!A:A,0),8)","v":{"$error":"#N/A"}},{"$error":"#N/A"},null,{"$error":"#N/A"},1,null,null,null,{"$f":"IFERROR(IF(AND(INDEX(Inventory!CB:CB,MATCH('Inspection Form'!B202,Inventory!B:B,0))=\"Not Qualified\",INDEX(Inventory!L:L,MATCH('Inspection Form'!B202,Inventory!B:B,0))<>\"\",$Q$5<>\"Pre\"),0,BY202*BZ202), 0)","v":0},null,{"$error":"#DIV/0!"},{"$error":"#DIV/0!"},199]
[null,199,null,null,null,null,null,null,null,null,null,null,null,null,null,null,null,null,null,null,null,null,null,null,null,null,null,null,null,null,null,null,null,null,null,null,null,null,null,null,null,null,null,null,null,null,null,null,null,null,null,null,null,null,null,null,null,null,null,null,null,null,null,null,null,null,null,null,null,null,null,null,null,{"$f":"INDEX('Fixture Descriptions'!A:K,MATCH('Inspection Form'!H203,'Fixture Descriptions'!A:A,0),8)","v":{"$error":"#N/A"}},{"$error":"#N/A"},null,{"$error":"#N/A"},1,null,null,null,{"$f":"IFERROR(IF(AND(INDEX(Inventory!CB:CB,MATCH('Inspection Form'!B203,Inventory!B:B,0))=\"Not Qualified\",INDEX(Inventory!L:L,MATCH('Inspection Form'!B203,Inventory!B:B,0))<>\"\",$Q$5<>\"Pre\"),0,BY203*BZ203), 0)","v":0},null,{"$error":"#DIV/0!"},{"$error":"#DIV/0!"},200]
[null,200,null,null,null,null,null,null,null,null,null,null,null,null,null,null,null,null,null,null,null,null,null,null,null,null,null,null,null,null,null,null,null,null,null,null,null,null,null,null,null,null,null,null,null,null,null,null,null,null,null,null,null,null,null,null,null,null,null,null,null,null,null,null,null,null,null,null,null,null,null,null,null,{"$f":"INDEX('Fixture Descriptions'!A:K,MATCH('Inspection Form'!H204,'Fixture Descriptions'!A:A,0),8)","v":{"$error":"#N/A"}},{"$error":"#N/A"},null,{"$error":"#N/A"},1,null,null,null,{"$f":"IFERROR(IF(AND(INDEX(Inventory!CB:CB,MATCH('Inspection Form'!B204,Inventory!B:B,0))=\"Not Qualified\",INDEX(Inventory!L:L,MATCH('Inspection Form'!B204,Inventory!B:B,0))<>\"\",$Q$5<>\"Pre\"),0,BY204*BZ204), 0)","v":0},null,{"$error":"#DIV/0!"},{"$error":"#DIV/0!"},201]
[null,201,null,null,null,null,null,null,null,null,null,null,null,null,null,null,null,null,null,null,null,null,null,null,null,null,null,null,null,null,null,null,null,null,null,null,null,null,null,null,null,null,null,null,null,null,null,null,null,null,null,null,null,null,null,null,null,null,null,null,null,null,null,null,null,null,null,null,null,null,null,null,null,{"$f":"INDEX('Fixture Descriptions'!A:K,MATCH('Inspection Form'!H205,'Fixture Descriptions'!A:A,0),8)","v":{"$error":"#N/A"}},{"$error":"#N/A"},null,{"$error":"#N/A"},1,null,null,null,{"$f":"IFERROR(IF(AND(INDEX(Inventory!CB:CB,MATCH('Inspection Form'!B205,Inventory!B:B,0))=\"Not Qualified\",INDEX(Inventory!L:L,MATCH('Inspection Form'!B205,Inventory!B:B,0))<>\"\",$Q$5<>\"Pre\"),0,BY205*BZ205), 0)","v":0},null,{"$error":"#DIV/0!"},{"$error":"#DIV/0!"},202]
[null,202,null,null,null,null,null,null,null,null,null,null,null,null,null,null,null,null,null,null,null,null,null,null,null,null,null,null,null,null,null,null,null,null,null,null,null,null,null,null,null,null,null,null,null,null,null,null,null,null,null,null,null,null,null,null,null,null,null,null,null,null,null,null,null,null,null,null,null,null,null,null,null,{"$f":"INDEX('Fixture Descriptions'!A:K,MATCH('Inspection Form'!H206,'Fixture Descriptions'!A:A,0),8)","v":{"$error":"#N/A"}},{"$error":"#N/A"},null,{"$error":"#N/A"},1,null,null,null,{"$f":"IFERROR(IF(AND(INDEX(Inventory!CB:CB,MATCH('Inspection Form'!B206,Inventory!B:B,0))=\"Not Qualified\",INDEX(Inventory!L:L,MATCH('Inspection Form'!B206,Inventory!B:B,0))<>\"\",$Q$5<>\"Pre\"),0,BY206*BZ206), 0)","v":0},null,{"$error":"#DIV/0!"},{"$error":"#DIV/0!"},203]
[null,203,null,null,null,null,null,null,null,null,null,null,null,null,null,null,null,null,null,null,null,null,null,null,null,null,null,null,null,null,null,null,null,null,null,null,null,null,null,null,null,null,null,null,null,null,null,null,null,null,null,null,null,null,null,null,null,null,null,null,null,null,null,null,null,null,null,null,null,null,null,null,null,{"$f":"INDEX('Fixture Descriptions'!A:K,MATCH('Inspection Form'!H207,'Fixture Descriptions'!A:A,0),8)","v":{"$error":"#N/A"}},{"$error":"#N/A"},null,{"$error":"#N/A"},1,null,null,null,{"$f":"IFERROR(IF(AND(INDEX(Inventory!CB:CB,MATCH('Inspection Form'!B207,Inventory!B:B,0))=\"Not Qualified\",INDEX(Inventory!L:L,MATCH('Inspection Form'!B207,Inventory!B:B,0))<>\"\",$Q$5<>\"Pre\"),0,BY207*BZ207), 0)","v":0},null,{"$error":"#DIV/0!"},{"$error":"#DIV/0!"},204]
[null,204,null,null,null,null,null,null,null,null,null,null,null,null,null,null,null,null,null,null,null,null,null,null,null,null,null,null,null,null,null,null,null,null,null,null,null,null,null,null,null,null,null,null,null,null,null,null,null,null,null,null,null,null,null,null,null,null,null,null,null,null,null,null,null,null,null,null,null,null,null,null,null,{"$f":"INDEX('Fixture Descriptions'!A:K,MATCH('Inspection Form'!H208,'Fixture Descriptions'!A:A,0),8)","v":{"$error":"#N/A"}},{"$error":"#N/A"},null,{"$error":"#N/A"},1,null,null,null,{"$f":"IFERROR(IF(AND(INDEX(Inventory!CB:CB,MATCH('Inspection Form'!B208,Inventory!B:B,0))=\"Not Qualified\",INDEX(Inventory!L:L,MATCH('Inspection Form'!B208,Inventory!B:B,0))<>\"\",$Q$5<>\"Pre\"),0,BY208*BZ208), 0)","v":0},null,{"$error":"#DIV/0!"},{"$error":"#DIV/0!"},205]
[null,205,null,null,null,null,null,null,null,null,null,null,null,null,null,null,null,null,null,null,null,null,null,null,null,null,null,null,null,null,null,null,null,null,null,null,null,null,null,null,null,null,null,null,null,null,null,null,null,null,null,null,null,null,null,null,null,null,null,null,null,null,null,null,null,null,null,null,null,null,null,null,null,{"$f":"INDEX('Fixture Descriptions'!A:K,MATCH('Inspection Form'!H209,'Fixture Descriptions'!A:A,0),8)","v":{"$error":"#N/A"}},{"$error":"#N/A"},null,{"$error":"#N/A"},1,null,null,null,{"$f":"IFERROR(IF(AND(INDEX(Inventory!CB:CB,MATCH('Inspection Form'!B209,Inventory!B:B,0))=\"Not Qualified\",INDEX(Inventory!L:L,MATCH('Inspection Form'!B209,Inventory!B:B,0))<>\"\",$Q$5<>\"Pre\"),0,BY209*BZ209), 0)","v":0},null,{"$error":"#DIV/0!"},{"$error":"#DIV/0!"},206]
[null,206,null,null,null,null,null,null,null,null,null,null,null,null,null,null,null,null,null,null,null,null,null,null,null,null,null,null,null,null,null,null,null,null,null,null,null,null,null,null,null,null,null,null,null,null,null,null,null,null,null,null,null,null,null,null,null,null,null,null,null,null,null,null,null,null,null,null,null,null,null,null,null,{"$f":"INDEX('Fixture Descriptions'!A:K,MATCH('Inspection Form'!H210,'Fixture Descriptions'!A:A,0),8)","v":{"$error":"#N/A"}},{"$error":"#N/A"},null,{"$error":"#N/A"},1,null,null,null,{"$f":"IFERROR(IF(AND(INDEX(Inventory!CB:CB,MATCH('Inspection Form'!B210,Inventory!B:B,0))=\"Not Qualified\",INDEX(Inventory!L:L,MATCH('Inspection Form'!B210,Inventory!B:B,0))<>\"\",$Q$5<>\"Pre\"),0,BY210*BZ210), 0)","v":0},null,{"$error":"#DIV/0!"},{"$error":"#DIV/0!"},207]
[null,207,null,null,null,null,null,null,null,null,null,null,null,null,null,null,null,null,null,null,null,null,null,null,null,null,null,null,null,null,null,null,null,null,null,null,null,null,null,null,null,null,null,null,null,null,null,null,null,null,null,null,null,null,null,null,null,null,null,null,null,null,null,null,null,null,null,null,null,null,null,null,null,{"$f":"INDEX('Fixture Descriptions'!A:K,MATCH('Inspection Form'!H211,'Fixture Descriptions'!A:A,0),8)","v":{"$error":"#N/A"}},{"$error":"#N/A"},null,{"$error":"#N/A"},1,null,null,null,{"$f":"IFERROR(IF(AND(INDEX(Inventory!CB:CB,MATCH('Inspection Form'!B211,Inventory!B:B,0))=\"Not Qualified\",INDEX(Inventory!L:L,MATCH('Inspection Form'!B211,Inventory!B:B,0))<>\"\",$Q$5<>\"Pre\"),0,BY211*BZ211), 0)","v":0},null,{"$error":"#DIV/0!"},{"$error":"#DIV/0!"},208]
[null,208,null,null,null,null,null,null,null,null,null,null,null,null,null,null,null,null,null,null,null,null,null,null,null,null,null,null,null,null,null,null,null,null,null,null,null,null,null,null,null,null,null,null,null,null,null,null,null,null,null,null,null,null,null,null,null,null,null,null,null,null,null,null,null,null,null,null,null,null,null,null,null,{"$f":"INDEX('Fixture Descriptions'!A:K,MATCH('Inspection Form'!H212,'Fixture Descriptions'!A:A,0),8)","v":{"$error":"#N/A"}},{"$error":"#N/A"},null,{"$error":"#N/A"},1,null,null,null,{"$f":"IFERROR(IF(AND(INDEX(Inventory!CB:CB,MATCH('Inspection Form'!B212,Inventory!B:B,0))=\"Not Qualified\",INDEX(Inventory!L:L,MATCH('Inspection Form'!B212,Inventory!B:B,0))<>\"\",$Q$5<>\"Pre\"),0,BY212*BZ212), 0)","v":0},null,{"$error":"#DIV/0!"},{"$error":"#DIV/0!"},209]
[null,209,null,null,null,null,null,null,null,null,null,null,null,null,null,null,null,null,null,null,null,null,null,null,null,null,null,null,null,null,null,null,null,null,null,null,null,null,null,null,null,null,null,null,null,null,null,null,null,null,null,null,null,null,null,null,null,null,null,null,null,null,null,null,null,null,null,null,null,null,null,null,null,{"$f":"INDEX('Fixture Descriptions'!A:K,MATCH('Inspection Form'!H213,'Fixture Descriptions'!A:A,0),8)","v":{"$error":"#N/A"}},{"$error":"#N/A"},null,{"$error":"#N/A"},1,null,null,null,{"$f":"IFERROR(IF(AND(INDEX(Inventory!CB:CB,MATCH('Inspection Form'!B213,Inventory!B:B,0))=\"Not Qualified\",INDEX(Inventory!L:L,MATCH('Inspection Form'!B213,Inventory!B:B,0))<>\"\",$Q$5<>\"Pre\"),0,BY213*BZ213), 0)","v":0},null,{"$error":"#DIV/0!"},{"$error":"#DIV/0!"},210]
[null,210,null,null,null,null,null,null,null,null,null,null,null,null,null,null,null,null,null,null,null,null,null,null,null,null,null,null,null,null,null,null,null,null,null,null,null,null,null,null,null,null,null,null,null,null,null,null,null,null,null,null,null,null,null,null,null,null,null,null,null,null,null,null,null,null,null,null,null,null,null,null,null,{"$f":"INDEX('Fixture Descriptions'!A:K,MATCH('Inspection Form'!H214,'Fixture Descriptions'!A:A,0),8)","v":{"$error":"#N/A"}},{"$error":"#N/A"},null,{"$error":"#N/A"},1,null,null,null,{"$f":"IFERROR(IF(AND(INDEX(Inventory!CB:CB,MATCH('Inspection Form'!B214,Inventory!B:B,0))=\"Not Qualified\",INDEX(Inventory!L:L,MATCH('Inspection Form'!B214,Inventory!B:B,0))<>\"\",$Q$5<>\"Pre\"),0,BY214*BZ214), 0)","v":0},null,{"$error":"#DIV/0!"},{"$error":"#DIV/0!"},211]
[null,211,null,null,null,null,null,null,null,null,null,null,null,null,null,null,null,null,null,null,null,null,null,null,null,null,null,null,null,null,null,null,null,null,null,null,null,null,null,null,null,null,null,null,null,null,null,null,null,null,null,null,null,null,null,null,null,null,null,null,null,null,null,null,null,null,null,null,null,null,null,null,null,{"$f":"INDEX('Fixture Descriptions'!A:K,MATCH('Inspection Form'!H215,'Fixture Descriptions'!A:A,0),8)","v":{"$error":"#N/A"}},{"$error":"#N/A"},null,{"$error":"#N/A"},1,null,null,null,{"$f":"IFERROR(IF(AND(INDEX(Inventory!CB:CB,MATCH('Inspection Form'!B215,Inventory!B:B,0))=\"Not Qualified\",INDEX(Inventory!L:L,MATCH('Inspection Form'!B215,Inventory!B:B,0))<>\"\",$Q$5<>\"Pre\"),0,BY215*BZ215), 0)","v":0},null,{"$error":"#DIV/0!"},{"$error":"#DIV/0!"},212]
[null,212,null,null,null,null,null,null,null,null,null,null,null,null,null,null,null,null,null,null,null,null,null,null,null,null,null,null,null,null,null,null,null,null,null,null,null,null,null,null,null,null,null,null,null,null,null,null,null,null,null,null,null,null,null,null,null,null,null,null,null,null,null,null,null,null,null,null,null,null,null,null,null,{"$f":"INDEX('Fixture Descriptions'!A:K,MATCH('Inspection Form'!H216,'Fixture Descriptions'!A:A,0),8)","v":{"$error":"#N/A"}},{"$error":"#N/A"},null,{"$error":"#N/A"},1,null,null,null,{"$f":"IFERROR(IF(AND(INDEX(Inventory!CB:CB,MATCH('Inspection Form'!B216,Inventory!B:B,0))=\"Not Qualified\",INDEX(Inventory!L:L,MATCH('Inspection Form'!B216,Inventory!B:B,0))<>\"\",$Q$5<>\"Pre\"),0,BY216*BZ216), 0)","v":0},null,{"$error":"#DIV/0!"},{"$error":"#DIV/0!"},213]
[null,213,null,null,null,null,null,null,null,null,null,null,null,null,null,null,null,null,null,null,null,null,null,null,null,null,null,null,null,null,null,null,null,null,null,null,null,null,null,null,null,null,null,null,null,null,null,null,null,null,null,null,null,null,null,null,null,null,null,null,null,null,null,null,null,null,null,null,null,null,null,null,null,{"$f":"INDEX('Fixture Descriptions'!A:K,MATCH('Inspection Form'!H217,'Fixture Descriptions'!A:A,0),8)","v":{"$error":"#N/A"}},{"$error":"#N/A"},null,{"$error":"#N/A"},1,null,null,null,{"$f":"IFERROR(IF(AND(INDEX(Inventory!CB:CB,MATCH('Inspection Form'!B217,Inventory!B:B,0))=\"Not Qualified\",INDEX(Inventory!L:L,MATCH('Inspection Form'!B217,Inventory!B:B,0))<>\"\",$Q$5<>\"Pre\"),0,BY217*BZ217), 0)","v":0},null,{"$error":"#DIV/0!"},{"$error":"#DIV/0!"},214]
[null,214,null,null,null,null,null,null,null,null,null,null,null,null,null,null,null,null,null,null,null,null,null,null,null,null,null,null,null,null,null,null,null,null,null,null,null,null,null,null,null,null,null,null,null,null,null,null,null,null,null,null,null,null,null,null,null,null,null,null,null,null,null,null,null,null,null,null,null,null,null,null,null,{"$f":"INDEX('Fixture Descriptions'!A:K,MATCH('Inspection Form'!H218,'Fixture Descriptions'!A:A,0),8)","v":{"$error":"#N/A"}},{"$error":"#N/A"},null,{"$error":"#N/A"},1,null,null,null,{"$f":"IFERROR(IF(AND(INDEX(Inventory!CB:CB,MATCH('Inspection Form'!B218,Inventory!B:B,0))=\"Not Qualified\",INDEX(Inventory!L:L,MATCH('Inspection Form'!B218,Inventory!B:B,0))<>\"\",$Q$5<>\"Pre\"),0,BY218*BZ218), 0)","v":0},null,{"$error":"#DIV/0!"},{"$error":"#DIV/0!"},215]
[null,215,null,null,null,null,null,null,null,null,null,null,null,null,null,null,null,null,null,null,null,null,null,null,null,null,null,null,null,null,null,null,null,null,null,null,null,null,null,null,null,null,null,null,null,null,null,null,null,null,null,null,null,null,null,null,null,null,null,null,null,null,null,null,null,null,null,null,null,null,null,null,null,{"$f":"INDEX('Fixture Descriptions'!A:K,MATCH('Inspection Form'!H219,'Fixture Descriptions'!A:A,0),8)","v":{"$error":"#N/A"}},{"$error":"#N/A"},null,{"$error":"#N/A"},1,null,null,null,{"$f":"IFERROR(IF(AND(INDEX(Inventory!CB:CB,MATCH('Inspection Form'!B219,Inventory!B:B,0))=\"Not Qualified\",INDEX(Inventory!L:L,MATCH('Inspection Form'!B219,Inventory!B:B,0))<>\"\",$Q$5<>\"Pre\"),0,BY219*BZ219), 0)","v":0},null,{"$error":"#DIV/0!"},{"$error":"#DIV/0!"},216]
[null,216,null,null,null,null,null,null,null,null,null,null,null,null,null,null,null,null,null,null,null,null,null,null,null,null,null,null,null,null,null,null,null,null,null,null,null,null,null,null,null,null,null,null,null,null,null,null,null,null,null,null,null,null,null,null,null,null,null,null,null,null,null,null,null,null,null,null,null,null,null,null,null,{"$f":"INDEX('Fixture Descriptions'!A:K,MATCH('Inspection Form'!H220,'Fixture Descriptions'!A:A,0),8)","v":{"$error":"#N/A"}},{"$error":"#N/A"},null,{"$error":"#N/A"},1,null,null,null,{"$f":"IFERROR(IF(AND(INDEX(Inventory!CB:CB,MATCH('Inspection Form'!B220,Inventory!B:B,0))=\"Not Qualified\",INDEX(Inventory!L:L,MATCH('Inspection Form'!B220,Inventory!B:B,0))<>\"\",$Q$5<>\"Pre\"),0,BY220*BZ220), 0)","v":0},null,{"$error":"#DIV/0!"},{"$error":"#DIV/0!"},217]
[null,217,null,null,null,null,null,null,null,null,null,null,null,null,null,null,null,null,null,null,null,null,null,null,null,null,null,null,null,null,null,null,null,null,null,null,null,null,null,null,null,null,null,null,null,null,null,null,null,null,null,null,null,null,null,null,null,null,null,null,null,null,null,null,null,null,null,null,null,null,null,null,null,{"$f":"INDEX('Fixture Descriptions'!A:K,MATCH('Inspection Form'!H221,'Fixture Descriptions'!A:A,0),8)","v":{"$error":"#N/A"}},{"$error":"#N/A"},null,{"$error":"#N/A"},1,null,null,null,{"$f":"IFERROR(IF(AND(INDEX(Inventory!CB:CB,MATCH('Inspection Form'!B221,Inventory!B:B,0))=\"Not Qualified\",INDEX(Inventory!L:L,MATCH('Inspection Form'!B221,Inventory!B:B,0))<>\"\",$Q$5<>\"Pre\"),0,BY221*BZ221), 0)","v":0},null,{"$error":"#DIV/0!"},{"$error":"#DIV/0!"},218]
[null,218,null,null,null,null,null,null,null,null,null,null,null,null,null,null,null,null,null,null,null,null,null,null,null,null,null,null,null,null,null,null,null,null,null,null,null,null,null,null,null,null,null,null,null,null,null,null,null,null,null,null,null,null,null,null,null,null,null,null,null,null,null,null,null,null,null,null,null,null,null,null,null,{"$f":"INDEX('Fixture Descriptions'!A:K,MATCH('Inspection Form'!H222,'Fixture Descriptions'!A:A,0),8)","v":{"$error":"#N/A"}},{"$error":"#N/A"},null,{"$error":"#N/A"},1,null,null,null,{"$f":"IFERROR(IF(AND(INDEX(Inventory!CB:CB,MATCH('Inspection Form'!B222,Inventory!B:B,0))=\"Not Qualified\",INDEX(Inventory!L:L,MATCH('Inspection Form'!B222,Inventory!B:B,0))<>\"\",$Q$5<>\"Pre\"),0,BY222*BZ222), 0)","v":0},null,{"$error":"#DIV/0!"},{"$error":"#DIV/0!"},219]
[null,219,null,null,null,null,null,null,null,null,null,null,null,null,null,null,null,null,null,null,null,null,null,null,null,null,null,null,null,null,null,null,null,null,null,null,null,null,null,null,null,null,null,null,null,null,null,null,null,null,null,null,null,null,null,null,null,null,null,null,null,null,null,null,null,null,null,null,null,null,null,null,null,{"$f":"INDEX('Fixture Descriptions'!A:K,MATCH('Inspection Form'!H223,'Fixture Descriptions'!A:A,0),8)","v":{"$error":"#N/A"}},{"$error":"#N/A"},null,{"$error":"#N/A"},1,null,null,null,{"$f":"IFERROR(IF(AND(INDEX(Inventory!CB:CB,MATCH('Inspection Form'!B223,Inventory!B:B,0))=\"Not Qualified\",INDEX(Inventory!L:L,MATCH('Inspection Form'!B223,Inventory!B:B,0))<>\"\",$Q$5<>\"Pre\"),0,BY223*BZ223), 0)","v":0},null,{"$error":"#DIV/0!"},{"$error":"#DIV/0!"},220]
[null,220,null,null,null,null,null,null,null,null,null,null,null,null,null,null,null,null,null,null,null,null,null,null,null,null,null,null,null,null,null,null,null,null,null,null,null,null,null,null,null,null,null,null,null,null,null,null,null,null,null,null,null,null,null,null,null,null,null,null,null,null,null,null,null,null,null,null,null,null,null,null,null,{"$f":"INDEX('Fixture Descriptions'!A:K,MATCH('Inspection Form'!H224,'Fixture Descriptions'!A:A,0),8)","v":{"$error":"#N/A"}},{"$error":"#N/A"},null,{"$error":"#N/A"},1,null,null,null,{"$f":"IFERROR(IF(AND(INDEX(Inventory!CB:CB,MATCH('Inspection Form'!B224,Inventory!B:B,0))=\"Not Qualified\",INDEX(Inventory!L:L,MATCH('Inspection Form'!B224,Inventory!B:B,0))<>\"\",$Q$5<>\"Pre\"),0,BY224*BZ224), 0)","v":0},null,{"$error":"#DIV/0!"},{"$error":"#DIV/0!"},221]
[null,221,null,null,null,null,null,null,null,null,null,null,null,null,null,null,null,null,null,null,null,null,null,null,null,null,null,null,null,null,null,null,null,null,null,null,null,null,null,null,null,null,null,null,null,null,null,null,null,null,null,null,null,null,null,null,null,null,null,null,null,null,null,null,null,null,null,null,null,null,null,null,null,{"$f":"INDEX('Fixture Descriptions'!A:K,MATCH('Inspection Form'!H225,'Fixture Descriptions'!A:A,0),8)","v":{"$error":"#N/A"}},{"$error":"#N/A"},null,{"$error":"#N/A"},1,null,null,null,{"$f":"IFERROR(IF(AND(INDEX(Inventory!CB:CB,MATCH('Inspection Form'!B225,Inventory!B:B,0))=\"Not Qualified\",INDEX(Inventory!L:L,MATCH('Inspection Form'!B225,Inventory!B:B,0))<>\"\",$Q$5<>\"Pre\"),0,BY225*BZ225), 0)","v":0},null,{"$error":"#DIV/0!"},{"$error":"#DIV/0!"},222]
[null,222,null,null,null,null,null,null,null,null,null,null,null,null,null,null,null,null,null,null,null,null,null,null,null,null,null,null,null,null,null,null,null,null,null,null,null,null,null,null,null,null,null,null,null,null,null,null,null,null,null,null,null,null,null,null,null,null,null,null,null,null,null,null,null,null,null,null,null,null,null,null,null,{"$f":"INDEX('Fixture Descriptions'!A:K,MATCH('Inspection Form'!H226,'Fixture Descriptions'!A:A,0),8)","v":{"$error":"#N/A"}},{"$error":"#N/A"},null,{"$error":"#N/A"},1,null,null,null,{"$f":"IFERROR(IF(AND(INDEX(Inventory!CB:CB,MATCH('Inspection Form'!B226,Inventory!B:B,0))=\"Not Qualified\",INDEX(Inventory!L:L,MATCH('Inspection Form'!B226,Inventory!B:B,0))<>\"\",$Q$5<>\"Pre\"),0,BY226*BZ226), 0)","v":0},null,{"$error":"#DIV/0!"},{"$error":"#DIV/0!"},223]
[null,223,null,null,null,null,null,null,null,null,null,null,null,null,null,null,null,null,null,null,null,null,null,null,null,null,null,null,null,null,null,null,null,null,null,null,null,null,null,null,null,null,null,null,null,null,null,null,null,null,null,null,null,null,null,null,null,null,null,null,null,null,null,null,null,null,null,null,null,null,null,null,null,{"$f":"INDEX('Fixture Descriptions'!A:K,MATCH('Inspection Form'!H227,'Fixture Descriptions'!A:A,0),8)","v":{"$error":"#N/A"}},{"$error":"#N/A"},null,{"$error":"#N/A"},1,null,null,null,{"$f":"IFERROR(IF(AND(INDEX(Inventory!CB:CB,MATCH('Inspection Form'!B227,Inventory!B:B,0))=\"Not Qualified\",INDEX(Inventory!L:L,MATCH('Inspection Form'!B227,Inventory!B:B,0))<>\"\",$Q$5<>\"Pre\"),0,BY227*BZ227), 0)","v":0},null,{"$error":"#DIV/0!"},{"$error":"#DIV/0!"},224]
[null,224,null,null,null,null,null,null,null,null,null,null,null,null,null,null,null,null,null,null,null,null,null,null,null,null,null,null,null,null,null,null,null,null,null,null,null,null,null,null,null,null,null,null,null,null,null,null,null,null,null,null,null,null,null,null,null,null,null,null,null,null,null,null,null,null,null,null,null,null,null,null,null,{"$f":"INDEX('Fixture Descriptions'!A:K,MATCH('Inspection Form'!H228,'Fixture Descriptions'!A:A,0),8)","v":{"$error":"#N/A"}},{"$error":"#N/A"},null,{"$error":"#N/A"},1,null,null,null,{"$f":"IFERROR(IF(AND(INDEX(Inventory!CB:CB,MATCH('Inspection Form'!B228,Inventory!B:B,0))=\"Not Qualified\",INDEX(Inventory!L:L,MATCH('Inspection Form'!B228,Inventory!B:B,0))<>\"\",$Q$5<>\"Pre\"),0,BY228*BZ228), 0)","v":0},null,{"$error":"#DIV/0!"},{"$error":"#DIV/0!"},225]
[null,225,null,null,null,null,null,null,null,null,null,null,null,null,null,null,null,null,null,null,null,null,null,null,null,null,null,null,null,null,null,null,null,null,null,null,null,null,null,null,null,null,null,null,null,null,null,null,null,null,null,null,null,null,null,null,null,null,null,null,null,null,null,null,null,null,null,null,null,null,null,null,null,{"$f":"INDEX('Fixture Descriptions'!A:K,MATCH('Inspection Form'!H229,'Fixture Descriptions'!A:A,0),8)","v":{"$error":"#N/A"}},{"$error":"#N/A"},null,{"$error":"#N/A"},1,null,null,null,{"$f":"IFERROR(IF(AND(INDEX(Inventory!CB:CB,MATCH('Inspection Form'!B229,Inventory!B:B,0))=\"Not Qualified\",INDEX(Inventory!L:L,MATCH('Inspection Form'!B229,Inventory!B:B,0))<>\"\",$Q$5<>\"Pre\"),0,BY229*BZ229), 0)","v":0},null,{"$error":"#DIV/0!"},{"$error":"#DIV/0!"},226]
[null,226,null,null,null,null,null,null,null,null,null,null,null,null,null,null,null,null,null,null,null,null,null,null,null,null,null,null,null,null,null,null,null,null,null,null,null,null,null,null,null,null,null,null,null,null,null,null,null,null,null,null,null,null,null,null,null,null,null,null,null,null,null,null,null,null,null,null,null,null,null,null,null,{"$f":"INDEX('Fixture Descriptions'!A:K,MATCH('Inspection Form'!H230,'Fixture Descriptions'!A:A,0),8)","v":{"$error":"#N/A"}},{"$error":"#N/A"},null,{"$error":"#N/A"},1,null,null,null,{"$f":"IFERROR(IF(AND(INDEX(Inventory!CB:CB,MATCH('Inspection Form'!B230,Inventory!B:B,0))=\"Not Qualified\",INDEX(Inventory!L:L,MATCH('Inspection Form'!B230,Inventory!B:B,0))<>\"\",$Q$5<>\"Pre\"),0,BY230*BZ230), 0)","v":0},null,{"$error":"#DIV/0!"},{"$error":"#DIV/0!"},227]
[null,227,null,null,null,null,null,null,null,null,null,null,null,null,null,null,null,null,null,null,null,null,null,null,null,null,null,null,null,null,null,null,null,null,null,null,null,null,null,null,null,null,null,null,null,null,null,null,null,null,null,null,null,null,null,null,null,null,null,null,null,null,null,null,null,null,null,null,null,null,null,null,null,{"$f":"INDEX('Fixture Descriptions'!A:K,MATCH('Inspection Form'!H231,'Fixture Descriptions'!A:A,0),8)","v":{"$error":"#N/A"}},{"$error":"#N/A"},null,{"$error":"#N/A"},1,null,null,null,{"$f":"IFERROR(IF(AND(INDEX(Inventory!CB:CB,MATCH('Inspection Form'!B231,Inventory!B:B,0))=\"Not Qualified\",INDEX(Inventory!L:L,MATCH('Inspection Form'!B231,Inventory!B:B,0))<>\"\",$Q$5<>\"Pre\"),0,BY231*BZ231), 0)","v":0},null,{"$error":"#DIV/0!"},{"$error":"#DIV/0!"},228]
[null,228,null,null,null,null,null,null,null,null,null,null,null,null,null,null,null,null,null,null,null,null,null,null,null,null,null,null,null,null,null,null,null,null,null,null,null,null,null,null,null,null,null,null,null,null,null,null,null,null,null,null,null,null,null,null,null,null,null,null,null,null,null,null,null,null,null,null,null,null,null,null,null,{"$f":"INDEX('Fixture Descriptions'!A:K,MATCH('Inspection Form'!H232,'Fixture Descriptions'!A:A,0),8)","v":{"$error":"#N/A"}},{"$error":"#N/A"},null,{"$error":"#N/A"},1,null,null,null,{"$f":"IFERROR(IF(AND(INDEX(Inventory!CB:CB,MATCH('Inspection Form'!B232,Inventory!B:B,0))=\"Not Qualified\",INDEX(Inventory!L:L,MATCH('Inspection Form'!B232,Inventory!B:B,0))<>\"\",$Q$5<>\"Pre\"),0,BY232*BZ232), 0)","v":0},null,{"$error":"#DIV/0!"},{"$error":"#DIV/0!"},229]
[null,229,null,null,null,null,null,null,null,null,null,null,null,null,null,null,null,null,null,null,null,null,null,null,null,null,null,null,null,null,null,null,null,null,null,null,null,null,null,null,null,null,null,null,null,null,null,null,null,null,null,null,null,null,null,null,null,null,null,null,null,null,null,null,null,null,null,null,null,null,null,null,null,{"$f":"INDEX('Fixture Descriptions'!A:K,MATCH('Inspection Form'!H233,'Fixture Descriptions'!A:A,0),8)","v":{"$error":"#N/A"}},{"$error":"#N/A"},null,{"$error":"#N/A"},1,null,null,null,{"$f":"IFERROR(IF(AND(INDEX(Inventory!CB:CB,MATCH('Inspection Form'!B233,Inventory!B:B,0))=\"Not Qualified\",INDEX(Inventory!L:L,MATCH('Inspection Form'!B233,Inventory!B:B,0))<>\"\",$Q$5<>\"Pre\"),0,BY233*BZ233), 0)","v":0},null,{"$error":"#DIV/0!"},{"$error":"#DIV/0!"},230]
[null,230,null,null,null,null,null,null,null,null,null,null,null,null,null,null,null,null,null,null,null,null,null,null,null,null,null,null,null,null,null,null,null,null,null,null,null,null,null,null,null,null,null,null,null,null,null,null,null,null,null,null,null,null,null,null,null,null,null,null,null,null,null,null,null,null,null,null,null,null,null,null,null,{"$f":"INDEX('Fixture Descriptions'!A:K,MATCH('Inspection Form'!H234,'Fixture Descriptions'!A:A,0),8)","v":{"$error":"#N/A"}},{"$error":"#N/A"},null,{"$error":"#N/A"},1,null,null,null,{"$f":"IFERROR(IF(AND(INDEX(Inventory!CB:CB,MATCH('Inspection Form'!B234,Inventory!B:B,0))=\"Not Qualified\",INDEX(Inventory!L:L,MATCH('Inspection Form'!B234,Inventory!B:B,0))<>\"\",$Q$5<>\"Pre\"),0,BY234*BZ234), 0)","v":0},null,{"$error":"#DIV/0!"},{"$error":"#DIV/0!"},231]
[null,231,null,null,null,null,null,null,null,null,null,null,null,null,null,null,null,null,null,null,null,null,null,null,null,null,null,null,null,null,null,null,null,null,null,null,null,null,null,null,null,null,null,null,null,null,null,null,null,null,null,null,null,null,null,null,null,null,null,null,null,null,null,null,null,null,null,null,null,null,null,null,null,{"$f":"INDEX('Fixture Descriptions'!A:K,MATCH('Inspection Form'!H235,'Fixture Descriptions'!A:A,0),8)","v":{"$error":"#N/A"}},{"$error":"#N/A"},null,{"$error":"#N/A"},1,null,null,null,{"$f":"IFERROR(IF(AND(INDEX(Inventory!CB:CB,MATCH('Inspection Form'!B235,Inventory!B:B,0))=\"Not Qualified\",INDEX(Inventory!L:L,MATCH('Inspection Form'!B235,Inventory!B:B,0))<>\"\",$Q$5<>\"Pre\"),0,BY235*BZ235), 0)","v":0},null,{"$error":"#DIV/0!"},{"$error":"#DIV/0!"},232]
[null,232,null,null,null,null,null,null,null,null,null,null,null,null,null,null,null,null,null,null,null,null,null,null,null,null,null,null,null,null,null,null,null,null,null,null,null,null,null,null,null,null,null,null,null,null,null,null,null,null,null,null,null,null,null,null,null,null,null,null,null,null,null,null,null,null,null,null,null,null,null,null,null,{"$f":"INDEX('Fixture Descriptions'!A:K,MATCH('Inspection Form'!H236,'Fixture Descriptions'!A:A,0),8)","v":{"$error":"#N/A"}},{"$error":"#N/A"},null,{"$error":"#N/A"},1,null,null,null,{"$f":"IFERROR(IF(AND(INDEX(Inventory!CB:CB,MATCH('Inspection Form'!B236,Inventory!B:B,0))=\"Not Qualified\",INDEX(Inventory!L:L,MATCH('Inspection Form'!B236,Inventory!B:B,0))<>\"\",$Q$5<>\"Pre\"),0,BY236*BZ236), 0)","v":0},null,{"$error":"#DIV/0!"},{"$error":"#DIV/0!"},233]
[null,233,null,null,null,null,null,null,null,null,null,null,null,null,null,null,null,null,null,null,null,null,null,null,null,null,null,null,null,null,null,null,null,null,null,null,null,null,null,null,null,null,null,null,null,null,null,null,null,null,null,null,null,null,null,null,null,null,null,null,null,null,null,null,null,null,null,null,null,null,null,null,null,{"$f":"INDEX('Fixture Descriptions'!A:K,MATCH('Inspection Form'!H237,'Fixture Descriptions'!A:A,0),8)","v":{"$error":"#N/A"}},{"$error":"#N/A"},null,{"$error":"#N/A"},1,null,null,null,{"$f":"IFERROR(IF(AND(INDEX(Inventory!CB:CB,MATCH('Inspection Form'!B237,Inventory!B:B,0))=\"Not Qualified\",INDEX(Inventory!L:L,MATCH('Inspection Form'!B237,Inventory!B:B,0))<>\"\",$Q$5<>\"Pre\"),0,BY237*BZ237), 0)","v":0},null,{"$error":"#DIV/0!"},{"$error":"#DIV/0!"},234]
[null,234,null,null,null,null,null,null,null,null,null,null,null,null,null,null,null,null,null,null,null,null,null,null,null,null,null,null,null,null,null,null,null,null,null,null,null,null,null,null,null,null,null,null,null,null,null,null,null,null,null,null,null,null,null,null,null,null,null,null,null,null,null,null,null,null,null,null,null,null,null,null,null,{"$f":"INDEX('Fixture Descriptions'!A:K,MATCH('Inspection Form'!H238,'Fixture Descriptions'!A:A,0),8)","v":{"$error":"#N/A"}},{"$error":"#N/A"},null,{"$error":"#N/A"},1,null,null,null,{"$f":"IFERROR(IF(AND(INDEX(Inventory!CB:CB,MATCH('Inspection Form'!B238,Inventory!B:B,0))=\"Not Qualified\",INDEX(Inventory!L:L,MATCH('Inspection Form'!B238,Inventory!B:B,0))<>\"\",$Q$5<>\"Pre\"),0,BY238*BZ238), 0)","v":0},null,{"$error":"#DIV/0!"},{"$error":"#DIV/0!"},235]
[null,235,null,null,null,null,null,null,null,null,null,null,null,null,null,null,null,null,null,null,null,null,null,null,null,null,null,null,null,null,null,null,null,null,null,null,null,null,null,null,null,null,null,null,null,null,null,null,null,null,null,null,null,null,null,null,null,null,null,null,null,null,null,null,null,null,null,null,null,null,null,null,null,{"$f":"INDEX('Fixture Descriptions'!A:K,MATCH('Inspection Form'!H239,'Fixture Descriptions'!A:A,0),8)","v":{"$error":"#N/A"}},{"$error":"#N/A"},null,{"$error":"#N/A"},1,null,null,null,{"$f":"IFERROR(IF(AND(INDEX(Inventory!CB:CB,MATCH('Inspection Form'!B239,Inventory!B:B,0))=\"Not Qualified\",INDEX(Inventory!L:L,MATCH('Inspection Form'!B239,Inventory!B:B,0))<>\"\",$Q$5<>\"Pre\"),0,BY239*BZ239), 0)","v":0},null,{"$error":"#DIV/0!"},{"$error":"#DIV/0!"},236]
[null,236,null,null,null,null,null,null,null,null,null,null,null,null,null,null,null,null,null,null,null,null,null,null,null,null,null,null,null,null,null,null,null,null,null,null,null,null,null,null,null,null,null,null,null,null,null,null,null,null,null,null,null,null,null,null,null,null,null,null,null,null,null,null,null,null,null,null,null,null,null,null,null,{"$f":"INDEX('Fixture Descriptions'!A:K,MATCH('Inspection Form'!H240,'Fixture Descriptions'!A:A,0),8)","v":{"$error":"#N/A"}},{"$error":"#N/A"},null,{"$error":"#N/A"},1,null,null,null,{"$f":"IFERROR(IF(AND(INDEX(Inventory!CB:CB,MATCH('Inspection Form'!B240,Inventory!B:B,0))=\"Not Qualified\",INDEX(Inventory!L:L,MATCH('Inspection Form'!B240,Inventory!B:B,0))<>\"\",$Q$5<>\"Pre\"),0,BY240*BZ240), 0)","v":0},null,{"$error":"#DIV/0!"},{"$error":"#DIV/0!"},237]
[null,237,null,null,null,null,null,null,null,null,null,null,null,null,null,null,null,null,null,null,null,null,null,null,null,null,null,null,null,null,null,null,null,null,null,null,null,null,null,null,null,null,null,null,null,null,null,null,null,null,null,null,null,null,null,null,null,null,null,null,null,null,null,null,null,null,null,null,null,null,null,null,null,{"$f":"INDEX('Fixture Descriptions'!A:K,MATCH('Inspection Form'!H241,'Fixture Descriptions'!A:A,0),8)","v":{"$error":"#N/A"}},{"$error":"#N/A"},null,{"$error":"#N/A"},1,null,null,null,{"$f":"IFERROR(IF(AND(INDEX(Inventory!CB:CB,MATCH('Inspection Form'!B241,Inventory!B:B,0))=\"Not Qualified\",INDEX(Inventory!L:L,MATCH('Inspection Form'!B241,Inventory!B:B,0))<>\"\",$Q$5<>\"Pre\"),0,BY241*BZ241), 0)","v":0},null,{"$error":"#DIV/0!"},{"$error":"#DIV/0!"},238]
[null,238,null,null,null,null,null,null,null,null,null,null,null,null,null,null,null,null,null,null,null,null,null,null,null,null,null,null,null,null,null,null,null,null,null,null,null,null,null,null,null,null,null,null,null,null,null,null,null,null,null,null,null,null,null,null,null,null,null,null,null,null,null,null,null,null,null,null,null,null,null,null,null,{"$f":"INDEX('Fixture Descriptions'!A:K,MATCH('Inspection Form'!H242,'Fixture Descriptions'!A:A,0),8)","v":{"$error":"#N/A"}},{"$error":"#N/A"},null,{"$error":"#N/A"},1,null,null,null,{"$f":"IFERROR(IF(AND(INDEX(Inventory!CB:CB,MATCH('Inspection Form'!B242,Inventory!B:B,0))=\"Not Qualified\",INDEX(Inventory!L:L,MATCH('Inspection Form'!B242,Inventory!B:B,0))<>\"\",$Q$5<>\"Pre\"),0,BY242*BZ242), 0)","v":0},null,{"$error":"#DIV/0!"},{"$error":"#DIV/0!"},239]
[null,239,null,null,null,null,null,null,null,null,null,null,null,null,null,null,null,null,null,null,null,null,null,null,null,null,null,null,null,null,null,null,null,null,null,null,null,null,null,null,null,null,null,null,null,null,null,null,null,null,null,null,null,null,null,null,null,null,null,null,null,null,null,null,null,null,null,null,null,null,null,null,null,{"$f":"INDEX('Fixture Descriptions'!A:K,MATCH('Inspection Form'!H243,'Fixture Descriptions'!A:A,0),8)","v":{"$error":"#N/A"}},{"$error":"#N/A"},null,{"$error":"#N/A"},1,null,null,null,{"$f":"IFERROR(IF(AND(INDEX(Inventory!CB:CB,MATCH('Inspection Form'!B243,Inventory!B:B,0))=\"Not Qualified\",INDEX(Inventory!L:L,MATCH('Inspection Form'!B243,Inventory!B:B,0))<>\"\",$Q$5<>\"Pre\"),0,BY243*BZ243), 0)","v":0},null,{"$error":"#DIV/0!"},{"$error":"#DIV/0!"},240]
[null,240,null,null,null,null,null,null,null,null,null,null,null,null,null,null,null,null,null,null,null,null,null,null,null,null,null,null,null,null,null,null,null,null,null,null,null,null,null,null,null,null,null,null,null,null,null,null,null,null,null,null,null,null,null,null,null,null,null,null,null,null,null,null,null,null,null,null,null,null,null,null,null,{"$f":"INDEX('Fixture Descriptions'!A:K,MATCH('Inspection Form'!H244,'Fixture Descriptions'!A:A,0),8)","v":{"$error":"#N/A"}},{"$error":"#N/A"},null,{"$error":"#N/A"},1,null,null,null,{"$f":"IFERROR(IF(AND(INDEX(Inventory!CB:CB,MATCH('Inspection Form'!B244,Inventory!B:B,0))=\"Not Qualified\",INDEX(Inventory!L:L,MATCH('Inspection Form'!B244,Inventory!B:B,0))<>\"\",$Q$5<>\"Pre\"),0,BY244*BZ244), 0)","v":0},null,{"$error":"#DIV/0!"},{"$error":"#DIV/0!"},241]
[null,241,null,null,null,null,null,null,null,null,null,null,null,null,null,null,null,null,null,null,null,null,null,null,null,null,null,null,null,null,null,null,null,null,null,null,null,null,null,null,null,null,null,null,null,null,null,null,null,null,null,null,null,null,null,null,null,null,null,null,null,null,null,null,null,null,null,null,null,null,null,null,null,{"$f":"INDEX('Fixture Descriptions'!A:K,MATCH('Inspection Form'!H245,'Fixture Descriptions'!A:A,0),8)","v":{"$error":"#N/A"}},{"$error":"#N/A"},null,{"$error":"#N/A"},1,null,null,null,{"$f":"IFERROR(IF(AND(INDEX(Inventory!CB:CB,MATCH('Inspection Form'!B245,Inventory!B:B,0))=\"Not Qualified\",INDEX(Inventory!L:L,MATCH('Inspection Form'!B245,Inventory!B:B,0))<>\"\",$Q$5<>\"Pre\"),0,BY245*BZ245), 0)","v":0},null,{"$error":"#DIV/0!"},{"$error":"#DIV/0!"},242]
[null,242,null,null,null,null,null,null,null,null,null,null,null,null,null,null,null,null,null,null,null,null,null,null,null,null,null,null,null,null,null,null,null,null,null,null,null,null,null,null,null,null,null,null,null,null,null,null,null,null,null,null,null,null,null,null,null,null,null,null,null,null,null,null,null,null,null,null,null,null,null,null,null,{"$f":"INDEX('Fixture Descriptions'!A:K,MATCH('Inspection Form'!H246,'Fixture Descriptions'!A:A,0),8)","v":{"$error":"#N/A"}},{"$error":"#N/A"},null,{"$error":"#N/A"},1,null,null,null,{"$f":"IFERROR(IF(AND(INDEX(Inventory!CB:CB,MATCH('Inspection Form'!B246,Inventory!B:B,0))=\"Not Qualified\",INDEX(Inventory!L:L,MATCH('Inspection Form'!B246,Inventory!B:B,0))<>\"\",$Q$5<>\"Pre\"),0,BY246*BZ246), 0)","v":0},null,{"$error":"#DIV/0!"},{"$error":"#DIV/0!"},243]
[null,243,null,null,null,null,null,null,null,null,null,null,null,null,null,null,null,null,null,null,null,null,null,null,null,null,null,null,null,null,null,null,null,null,null,null,null,null,null,null,null,null,null,null,null,null,null,null,null,null,null,null,null,null,null,null,null,null,null,null,null,null,null,null,null,null,null,null,null,null,null,null,null,{"$f":"INDEX('Fixture Descriptions'!A:K,MATCH('Inspection Form'!H247,'Fixture Descriptions'!A:A,0),8)","v":{"$error":"#N/A"}},{"$error":"#N/A"},null,{"$error":"#N/A"},1,null,null,null,{"$f":"IFERROR(IF(AND(INDEX(Inventory!CB:CB,MATCH('Inspection Form'!B247,Inventory!B:B,0))=\"Not Qualified\",INDEX(Inventory!L:L,MATCH('Inspection Form'!B247,Inventory!B:B,0))<>\"\",$Q$5<>\"Pre\"),0,BY247*BZ247), 0)","v":0},null,{"$error":"#DIV/0!"},{"$error":"#DIV/0!"},244]
[null,244,null,null,null,null,null,null,null,null,null,null,null,null,null,null,null,null,null,null,null,null,null,null,null,null,null,null,null,null,null,null,null,null,null,null,null,null,null,null,null,null,null,null,null,null,null,null,null,null,null,null,null,null,null,null,null,null,null,null,null,null,null,null,null,null,null,null,null,null,null,null,null,{"$f":"INDEX('Fixture Descriptions'!A:K,MATCH('Inspection Form'!H248,'Fixture Descriptions'!A:A,0),8)","v":{"$error":"#N/A"}},{"$error":"#N/A"},null,{"$error":"#N/A"},1,null,null,null,{"$f":"IFERROR(IF(AND(INDEX(Inventory!CB:CB,MATCH('Inspection Form'!B248,Inventory!B:B,0))=\"Not Qualified\",INDEX(Inventory!L:L,MATCH('Inspection Form'!B248,Inventory!B:B,0))<>\"\",$Q$5<>\"Pre\"),0,BY248*BZ248), 0)","v":0},null,{"$error":"#DIV/0!"},{"$error":"#DIV/0!"},245]
[null,245,null,null,null,null,null,null,null,null,null,null,null,null,null,null,null,null,null,null,null,null,null,null,null,null,null,null,null,null,null,null,null,null,null,null,null,null,null,null,null,null,null,null,null,null,null,null,null,null,null,null,null,null,null,null,null,null,null,null,null,null,null,null,null,null,null,null,null,null,null,null,null,{"$f":"INDEX('Fixture Descriptions'!A:K,MATCH('Inspection Form'!H249,'Fixture Descriptions'!A:A,0),8)","v":{"$error":"#N/A"}},{"$error":"#N/A"},null,{"$error":"#N/A"},1,null,null,null,{"$f":"IFERROR(IF(AND(INDEX(Inventory!CB:CB,MATCH('Inspection Form'!B249,Inventory!B:B,0))=\"Not Qualified\",INDEX(Inventory!L:L,MATCH('Inspection Form'!B249,Inventory!B:B,0))<>\"\",$Q$5<>\"Pre\"),0,BY249*BZ249), 0)","v":0},null,{"$error":"#DIV/0!"},{"$error":"#DIV/0!"},246]
[null,246,null,null,null,null,null,null,null,null,null,null,null,null,null,null,null,null,null,null,null,null,null,null,null,null,null,null,null,null,null,null,null,null,null,null,null,null,null,null,null,null,null,null,null,null,null,null,null,null,null,null,null,null,null,null,null,null,null,null,null,null,null,null,null,null,null,null,null,null,null,null,null,{"$f":"INDEX('Fixture Descriptions'!A:K,MATCH('Inspection Form'!H250,'Fixture Descriptions'!A:A,0),8)","v":{"$error":"#N/A"}},{"$error":"#N/A"},null,{"$error":"#N/A"},1,null,null,null,{"$f":"IFERROR(IF(AND(INDEX(Inventory!CB:CB,MATCH('Inspection Form'!B250,Inventory!B:B,0))=\"Not Qualified\",INDEX(Inventory!L:L,MATCH('Inspection Form'!B250,Inventory!B:B,0))<>\"\",$Q$5<>\"Pre\"),0,BY250*BZ250), 0)","v":0},null,{"$error":"#DIV/0!"},{"$error":"#DIV/0!"},247]
[null,247,null,null,null,null,null,null,null,null,null,null,null,null,null,null,null,null,null,null,null,null,null,null,null,null,null,null,null,null,null,null,null,null,null,null,null,null,null,null,null,null,null,null,null,null,null,null,null,null,null,null,null,null,null,null,null,null,null,null,null,null,null,null,null,null,null,null,null,null,null,null,null,{"$f":"INDEX('Fixture Descriptions'!A:K,MATCH('Inspection Form'!H251,'Fixture Descriptions'!A:A,0),8)","v":{"$error":"#N/A"}},{"$error":"#N/A"},null,{"$error":"#N/A"},1,null,null,null,{"$f":"IFERROR(IF(AND(INDEX(Inventory!CB:CB,MATCH('Inspection Form'!B251,Inventory!B:B,0))=\"Not Qualified\",INDEX(Inventory!L:L,MATCH('Inspection Form'!B251,Inventory!B:B,0))<>\"\",$Q$5<>\"Pre\"),0,BY251*BZ251), 0)","v":0},null,{"$error":"#DIV/0!"},{"$error":"#DIV/0!"},248]
[null,248,null,null,null,null,null,null,null,null,null,null,null,null,null,null,null,null,null,null,null,null,null,null,null,null,null,null,null,null,null,null,null,null,null,null,null,null,null,null,null,null,null,null,null,null,null,null,null,null,null,null,null,null,null,null,null,null,null,null,null,null,null,null,null,null,null,null,null,null,null,null,null,{"$f":"INDEX('Fixture Descriptions'!A:K,MATCH('Inspection Form'!H252,'Fixture Descriptions'!A:A,0),8)","v":{"$error":"#N/A"}},{"$error":"#N/A"},null,{"$error":"#N/A"},1,null,null,null,{"$f":"IFERROR(IF(AND(INDEX(Inventory!CB:CB,MATCH('Inspection Form'!B252,Inventory!B:B,0))=\"Not Qualified\",INDEX(Inventory!L:L,MATCH('Inspection Form'!B252,Inventory!B:B,0))<>\"\",$Q$5<>\"Pre\"),0,BY252*BZ252), 0)","v":0},null,{"$error":"#DIV/0!"},{"$error":"#DIV/0!"},249]
[null,249,null,null,null,null,null,null,null,null,null,null,null,null,null,null,null,null,null,null,null,null,null,null,null,null,null,null,null,null,null,null,null,null,null,null,null,null,null,null,null,null,null,null,null,null,null,null,null,null,null,null,null,null,null,null,null,null,null,null,null,null,null,null,null,null,null,null,null,null,null,null,null,{"$f":"INDEX('Fixture Descriptions'!A:K,MATCH('Inspection Form'!H253,'Fixture Descriptions'!A:A,0),8)","v":{"$error":"#N/A"}},{"$error":"#N/A"},null,{"$error":"#N/A"},1,null,null,null,{"$f":"IFERROR(IF(AND(INDEX(Inventory!CB:CB,MATCH('Inspection Form'!B253,Inventory!B:B,0))=\"Not Qualified\",INDEX(Inventory!L:L,MATCH('Inspection Form'!B253,Inventory!B:B,0))<>\"\",$Q$5<>\"Pre\"),0,BY253*BZ253), 0)","v":0},null,{"$error":"#DIV/0!"},{"$error":"#DIV/0!"},250]
[null,250,null,null,null,null,null,null,null,null,null,null,null,null,null,null,null,null,null,null,null,null,null,null,null,null,null,null,null,null,null,null,null,null,null,null,null,null,null,null,null,null,null,null,null,null,null,null,null,null,null,null,null,null,null,null,null,null,null,null,null,null,null,null,null,null,null,null,null,null,null,null,null,{"$f":"INDEX('Fixture Descriptions'!A:K,MATCH('Inspection Form'!H254,'Fixture Descriptions'!A:A,0),8)","v":{"$error":"#N/A"}},{"$error":"#N/A"},null,{"$error":"#N/A"},1,null,null,null,{"$f":"IFERROR(IF(AND(INDEX(Inventory!CB:CB,MATCH('Inspection Form'!B254,Inventory!B:B,0))=\"Not Qualified\",INDEX(Inventory!L:L,MATCH('Inspection Form'!B254,Inventory!B:B,0))<>\"\",$Q$5<>\"Pre\"),0,BY254*BZ254), 0)","v":0},null,{"$error":"#DIV/0!"},{"$error":"#DIV/0!"},251]
[null,251,null,null,null,null,null,null,null,null,null,null,null,null,null,null,null,null,null,null,null,null,null,null,null,null,null,null,null,null,null,null,null,null,null,null,null,null,null,null,null,null,null,null,null,null,null,null,null,null,null,null,null,null,null,null,null,null,null,null,null,null,null,null,null,null,null,null,null,null,null,null,null,{"$f":"INDEX('Fixture Descriptions'!A:K,MATCH('Inspection Form'!H255,'Fixture Descriptions'!A:A,0),8)","v":{"$error":"#N/A"}},{"$error":"#N/A"},null,{"$error":"#N/A"},1,null,null,null,{"$f":"IFERROR(IF(AND(INDEX(Inventory!CB:CB,MATCH('Inspection Form'!B255,Inventory!B:B,0))=\"Not Qualified\",INDEX(Inventory!L:L,MATCH('Inspection Form'!B255,Inventory!B:B,0))<>\"\",$Q$5<>\"Pre\"),0,BY255*BZ255), 0)","v":0},null,{"$error":"#DIV/0!"},{"$error":"#DIV/0!"},252]
[null,252,null,null,null,null,null,null,null,null,null,null,null,null,null,null,null,null,null,null,null,null,null,null,null,null,null,null,null,null,null,null,null,null,null,null,null,null,null,null,null,null,null,null,null,null,null,null,null,null,null,null,null,null,null,null,null,null,null,null,null,null,null,null,null,null,null,null,null,null,null,null,null,{"$f":"INDEX('Fixture Descriptions'!A:K,MATCH('Inspection Form'!H256,'Fixture Descriptions'!A:A,0),8)","v":{"$error":"#N/A"}},{"$error":"#N/A"},null,{"$error":"#N/A"},1,null,null,null,{"$f":"IFERROR(IF(AND(INDEX(Inventory!CB:CB,MATCH('Inspection Form'!B256,Inventory!B:B,0))=\"Not Qualified\",INDEX(Inventory!L:L,MATCH('Inspection Form'!B256,Inventory!B:B,0))<>\"\",$Q$5<>\"Pre\"),0,BY256*BZ256), 0)","v":0},null,{"$error":"#DIV/0!"},{"$error":"#DIV/0!"},253]
[null,253,null,null,null,null,null,null,null,null,null,null,null,null,null,null,null,null,null,null,null,null,null,null,null,null,null,null,null,null,null,null,null,null,null,null,null,null,null,null,null,null,null,null,null,null,null,null,null,null,null,null,null,null,null,null,null,null,null,null,null,null,null,null,null,null,null,null,null,null,null,null,null,{"$f":"INDEX('Fixture Descriptions'!A:K,MATCH('Inspection Form'!H257,'Fixture Descriptions'!A:A,0),8)","v":{"$error":"#N/A"}},{"$error":"#N/A"},null,{"$error":"#N/A"},1,null,null,null,{"$f":"IFERROR(IF(AND(INDEX(Inventory!CB:CB,MATCH('Inspection Form'!B257,Inventory!B:B,0))=\"Not Qualified\",INDEX(Inventory!L:L,MATCH('Inspection Form'!B257,Inventory!B:B,0))<>\"\",$Q$5<>\"Pre\"),0,BY257*BZ257), 0)","v":0},null,{"$error":"#DIV/0!"},{"$error":"#DIV/0!"},254]
[null,254,null,null,null,null,null,null,null,null,null,null,null,null,null,null,null,null,null,null,null,null,null,null,null,null,null,null,null,null,null,null,null,null,null,null,null,null,null,null,null,null,null,null,null,null,null,null,null,null,null,null,null,null,null,null,null,null,null,null,null,null,null,null,null,null,null,null,null,null,null,null,null,{"$f":"INDEX('Fixture Descriptions'!A:K,MATCH('Inspection Form'!H258,'Fixture Descriptions'!A:A,0),8)","v":{"$error":"#N/A"}},{"$error":"#N/A"},null,{"$error":"#N/A"},1,null,null,null,{"$f":"IFERROR(IF(AND(INDEX(Inventory!CB:CB,MATCH('Inspection Form'!B258,Inventory!B:B,0))=\"Not Qualified\",INDEX(Inventory!L:L,MATCH('Inspection Form'!B258,Inventory!B:B,0))<>\"\",$Q$5<>\"Pre\"),0,BY258*BZ258), 0)","v":0},null,{"$error":"#DIV/0!"},{"$error":"#DIV/0!"},255]
[null,255,null,null,null,null,null,null,null,null,null,null,null,null,null,null,null,null,null,null,null,null,null,null,null,null,null,null,null,null,null,null,null,null,null,null,null,null,null,null,null,null,null,null,null,null,null,null,null,null,null,null,null,null,null,null,null,null,null,null,null,null,null,null,null,null,null,null,null,null,null,null,null,{"$f":"INDEX('Fixture Descriptions'!A:K,MATCH('Inspection Form'!H259,'Fixture Descriptions'!A:A,0),8)","v":{"$error":"#N/A"}},{"$error":"#N/A"},null,{"$error":"#N/A"},1,null,null,null,{"$f":"IFERROR(IF(AND(INDEX(Inventory!CB:CB,MATCH('Inspection Form'!B259,Inventory!B:B,0))=\"Not Qualified\",INDEX(Inventory!L:L,MATCH('Inspection Form'!B259,Inventory!B:B,0))<>\"\",$Q$5<>\"Pre\"),0,BY259*BZ259), 0)","v":0},null,{"$error":"#DIV/0!"},{"$error":"#DIV/0!"},256]
[null,256,null,null,null,null,null,null,null,null,null,null,null,null,null,null,null,null,null,null,null,null,null,null,null,null,null,null,null,null,null,null,null,null,null,null,null,null,null,null,null,null,null,null,null,null,null,null,null,null,null,null,null,null,null,null,null,null,null,null,null,null,null,null,null,null,null,null,null,null,null,null,null,{"$f":"INDEX('Fixture Descriptions'!A:K,MATCH('Inspection Form'!H260,'Fixture Descriptions'!A:A,0),8)","v":{"$error":"#N/A"}},{"$error":"#N/A"},null,{"$error":"#N/A"},1,null,null,null,{"$f":"IFERROR(IF(AND(INDEX(Inventory!CB:CB,MATCH('Inspection Form'!B260,Inventory!B:B,0))=\"Not Qualified\",INDEX(Inventory!L:L,MATCH('Inspection Form'!B260,Inventory!B:B,0))<>\"\",$Q$5<>\"Pre\"),0,BY260*BZ260), 0)","v":0},null,{"$error":"#DIV/0!"},{"$error":"#DIV/0!"},257]
[null,257,null,null,null,null,null,null,null,null,null,null,null,null,null,null,null,null,null,null,null,null,null,null,null,null,null,null,null,null,null,null,null,null,null,null,null,null,null,null,null,null,null,null,null,null,null,null,null,null,null,null,null,null,null,null,null,null,null,null,null,null,null,null,null,null,null,null,null,null,null,null,null,{"$f":"INDEX('Fixture Descriptions'!A:K,MATCH('Inspection Form'!H261,'Fixture Descriptions'!A:A,0),8)","v":{"$error":"#N/A"}},{"$f":"BV261*I261","v":{"$error":"#N/A"}},null,{"$error":"#N/A"},1,null,null,null,{"$f":"IFERROR(IF(AND(INDEX(Inventory!CB:CB,MATCH('Inspection Form'!B261,Inventory!B:B,0))=\"Not Qualified\",INDEX(Inventory!L:L,MATCH('Inspection Form'!B261,Inventory!B:B,0))<>\"\",$Q$5<>\"Pre\"),0,BY261*BZ261), 0)","v":0},null,{"$error":"#DIV/0!"},{"$error":"#DIV/0!"},258]
[null,258,null,null,null,null,null,null,null,null,null,null,null,null,null,null,null,null,null,null,null,null,null,null,null,null,null,null,null,null,null,null,null,null,null,null,null,null,null,null,null,null,null,null,null,null,null,null,null,null,null,null,null,null,null,null,null,null,null,null,null,null,null,null,null,null,null,null,null,null,null,null,null,{"$f":"INDEX('Fixture Descriptions'!A:K,MATCH('Inspection Form'!H262,'Fixture Descriptions'!A:A,0),8)","v":{"$error":"#N/A"}},{"$error":"#N/A"},null,{"$f":"BW262","v":{"$error":"#N/A"}},{"$f":"IF($U$3=\"All\", 1, IF(AND(C262=$U$3, H262=$U$4), 1, 0))","v":1},null,null,null,{"$f":"IFERROR(IF(AND(INDEX(Inventory!CB:CB,MATCH('Inspection Form'!B262,Inventory!B:B,0))=\"Not Qualified\",INDEX(Inventory!L:L,MATCH('Inspection Form'!B262,Inventory!B:B,0))<>\"\",$Q$5<>\"Pre\"),0,BY262*BZ262), 0)","v":0},null,{"$f":"CD262/$CE$5","v":{"$error":"#DIV/0!"}},{"$f":"CF262+CG261","v":{"$error":"#DIV/0!"}},259]
[null,259,null,null,null,null,null,null,null,null,null,null,null,null,null,null,null,null,null,null,null,null,null,null,null,null,null,null,null,null,null,null,null,null,null,null,null,null,null,null,null,null,null,null,null,null,null,null,null,null,null,null,null,null,null,null,null,null,null,null,null,null,null,null,null,null,null,null,null,null,null,null,null,{"$f":"INDEX('Fixture Descriptions'!A:K,MATCH('Inspection Form'!H263,'Fixture Descriptions'!A:A,0),8)","v":{"$error":"#N/A"}},{"$error":"#N/A"},null,{"$error":"#N/A"},1,null,null,null,{"$f":"IFERROR(IF(AND(INDEX(Inventory!CB:CB,MATCH('Inspection Form'!B263,Inventory!B:B,0))=\"Not Qualified\",INDEX(Inventory!L:L,MATCH('Inspection Form'!B263,Inventory!B:B,0))<>\"\",$Q$5<>\"Pre\"),0,BY263*BZ263), 0)","v":0},null,{"$error":"#DIV/0!"},{"$error":"#DIV/0!"},260]
[null,260,null,null,null,null,null,null,null,null,null,null,null,null,null,null,null,null,null,null,null,null,null,null,null,null,null,null,null,null,null,null,null,null,null,null,null,null,null,null,null,null,null,null,null,null,null,null,null,null,null,null,null,null,null,null,null,null,null,null,null,null,null,null,null,null,null,null,null,null,null,null,null,{"$f":"INDEX('Fixture Descriptions'!A:K,MATCH('Inspection Form'!H264,'Fixture Descriptions'!A:A,0),8)","v":{"$error":"#N/A"}},{"$error":"#N/A"},null,{"$error":"#N/A"},1,null,null,null,{"$f":"IFERROR(IF(AND(INDEX(Inventory!CB:CB,MATCH('Inspection Form'!B264,Inventory!B:B,0))=\"Not Qualified\",INDEX(Inventory!L:L,MATCH('Inspection Form'!B264,Inventory!B:B,0))<>\"\",$Q$5<>\"Pre\"),0,BY264*BZ264), 0)","v":0},null,{"$error":"#DIV/0!"},{"$error":"#DIV/0!"},261]
[null,261,null,null,null,null,null,null,null,null,null,null,null,null,null,null,null,null,null,null,null,null,null,null,null,null,null,null,null,null,null,null,null,null,null,null,null,null,null,null,null,null,null,null,null,null,null,null,null,null,null,null,null,null,null,null,null,null,null,null,null,null,null,null,null,null,null,null,null,null,null,null,null,{"$f":"INDEX('Fixture Descriptions'!A:K,MATCH('Inspection Form'!H265,'Fixture Descriptions'!A:A,0),8)","v":{"$error":"#N/A"}},{"$error":"#N/A"},null,{"$error":"#N/A"},1,null,null,null,{"$f":"IFERROR(IF(AND(INDEX(Inventory!CB:CB,MATCH('Inspection Form'!B265,Inventory!B:B,0))=\"Not Qualified\",INDEX(Inventory!L:L,MATCH('Inspection Form'!B265,Inventory!B:B,0))<>\"\",$Q$5<>\"Pre\"),0,BY265*BZ265), 0)","v":0},null,{"$error":"#DIV/0!"},{"$error":"#DIV/0!"},262]
[null,262,null,null,null,null,null,null,null,null,null,null,null,null,null,null,null,null,null,null,null,null,null,null,null,null,null,null,null,null,null,null,null,null,null,null,null,null,null,null,null,null,null,null,null,null,null,null,null,null,null,null,null,null,null,null,null,null,null,null,null,null,null,null,null,null,null,null,null,null,null,null,null,{"$f":"INDEX('Fixture Descriptions'!A:K,MATCH('Inspection Form'!H266,'Fixture Descriptions'!A:A,0),8)","v":{"$error":"#N/A"}},{"$error":"#N/A"},null,{"$error":"#N/A"},1,null,null,null,{"$f":"IFERROR(IF(AND(INDEX(Inventory!CB:CB,MATCH('Inspection Form'!B266,Inventory!B:B,0))=\"Not Qualified\",INDEX(Inventory!L:L,MATCH('Inspection Form'!B266,Inventory!B:B,0))<>\"\",$Q$5<>\"Pre\"),0,BY266*BZ266), 0)","v":0},null,{"$error":"#DIV/0!"},{"$error":"#DIV/0!"},263]
[null,263,null,null,null,null,null,null,null,null,null,null,null,null,null,null,null,null,null,null,null,null,null,null,null,null,null,null,null,null,null,null,null,null,null,null,null,null,null,null,null,null,null,null,null,null,null,null,null,null,null,null,null,null,null,null,null,null,null,null,null,null,null,null,null,null,null,null,null,null,null,null,null,{"$f":"INDEX('Fixture Descriptions'!A:K,MATCH('Inspection Form'!H267,'Fixture Descriptions'!A:A,0),8)","v":{"$error":"#N/A"}},{"$error":"#N/A"},null,{"$error":"#N/A"},1,null,null,null,{"$f":"IFERROR(IF(AND(INDEX(Inventory!CB:CB,MATCH('Inspection Form'!B267,Inventory!B:B,0))=\"Not Qualified\",INDEX(Inventory!L:L,MATCH('Inspection Form'!B267,Inventory!B:B,0))<>\"\",$Q$5<>\"Pre\"),0,BY267*BZ267), 0)","v":0},null,{"$error":"#DIV/0!"},{"$error":"#DIV/0!"},264]
[null,264,null,null,null,null,null,null,null,null,null,null,null,null,null,null,null,null,null,null,null,null,null,null,null,null,null,null,null,null,null,null,null,null,null,null,null,null,null,null,null,null,null,null,null,null,null,null,null,null,null,null,null,null,null,null,null,null,null,null,null,null,null,null,null,null,null,null,null,null,null,null,null,{"$f":"INDEX('Fixture Descriptions'!A:K,MATCH('Inspection Form'!H268,'Fixture Descriptions'!A:A,0),8)","v":{"$error":"#N/A"}},{"$error":"#N/A"},null,{"$error":"#N/A"},1,null,null,null,{"$f":"IFERROR(IF(AND(INDEX(Inventory!CB:CB,MATCH('Inspection Form'!B268,Inventory!B:B,0))=\"Not Qualified\",INDEX(Inventory!L:L,MATCH('Inspection Form'!B268,Inventory!B:B,0))<>\"\",$Q$5<>\"Pre\"),0,BY268*BZ268), 0)","v":0},null,{"$error":"#DIV/0!"},{"$error":"#DIV/0!"},265]
[null,265,null,null,null,null,null,null,null,null,null,null,null,null,null,null,null,null,null,null,null,null,null,null,null,null,null,null,null,null,null,null,null,null,null,null,null,null,null,null,null,null,null,null,null,null,null,null,null,null,null,null,null,null,null,null,null,null,null,null,null,null,null,null,null,null,null,null,null,null,null,null,null,{"$f":"INDEX('Fixture Descriptions'!A:K,MATCH('Inspection Form'!H269,'Fixture Descriptions'!A:A,0),8)","v":{"$error":"#N/A"}},{"$error":"#N/A"},null,{"$error":"#N/A"},1,null,null,null,{"$f":"IFERROR(IF(AND(INDEX(Inventory!CB:CB,MATCH('Inspection Form'!B269,Inventory!B:B,0))=\"Not Qualified\",INDEX(Inventory!L:L,MATCH('Inspection Form'!B269,Inventory!B:B,0))<>\"\",$Q$5<>\"Pre\"),0,BY269*BZ269), 0)","v":0},null,{"$error":"#DIV/0!"},{"$error":"#DIV/0!"},266]
[null,266,null,null,null,null,null,null,null,null,null,null,null,null,null,null,null,null,null,null,null,null,null,null,null,null,null,null,null,null,null,null,null,null,null,null,null,null,null,null,null,null,null,null,null,null,null,null,null,null,null,null,null,null,null,null,null,null,null,null,null,null,null,null,null,null,null,null,null,null,null,null,null,{"$f":"INDEX('Fixture Descriptions'!A:K,MATCH('Inspection Form'!H270,'Fixture Descriptions'!A:A,0),8)","v":{"$error":"#N/A"}},{"$error":"#N/A"},null,{"$error":"#N/A"},1,null,null,null,{"$f":"IFERROR(IF(AND(INDEX(Inventory!CB:CB,MATCH('Inspection Form'!B270,Inventory!B:B,0))=\"Not Qualified\",INDEX(Inventory!L:L,MATCH('Inspection Form'!B270,Inventory!B:B,0))<>\"\",$Q$5<>\"Pre\"),0,BY270*BZ270), 0)","v":0},null,{"$error":"#DIV/0!"},{"$error":"#DIV/0!"},267]
[null,267,null,null,null,null,null,null,null,null,null,null,null,null,null,null,null,null,null,null,null,null,null,null,null,null,null,null,null,null,null,null,null,null,null,null,null,null,null,null,null,null,null,null,null,null,null,null,null,null,null,null,null,null,null,null,null,null,null,null,null,null,null,null,null,null,null,null,null,null,null,null,null,{"$f":"INDEX('Fixture Descriptions'!A:K,MATCH('Inspection Form'!H271,'Fixture Descriptions'!A:A,0),8)","v":{"$error":"#N/A"}},{"$error":"#N/A"},null,{"$error":"#N/A"},1,null,null,null,{"$f":"IFERROR(IF(AND(INDEX(Inventory!CB:CB,MATCH('Inspection Form'!B271,Inventory!B:B,0))=\"Not Qualified\",INDEX(Inventory!L:L,MATCH('Inspection Form'!B271,Inventory!B:B,0))<>\"\",$Q$5<>\"Pre\"),0,BY271*BZ271), 0)","v":0},null,{"$error":"#DIV/0!"},{"$error":"#DIV/0!"},268]
[null,268,null,null,null,null,null,null,null,null,null,null,null,null,null,null,null,null,null,null,null,null,null,null,null,null,null,null,null,null,null,null,null,null,null,null,null,null,null,null,null,null,null,null,null,null,null,null,null,null,null,null,null,null,null,null,null,null,null,null,null,null,null,null,null,null,null,null,null,null,null,null,null,{"$f":"INDEX('Fixture Descriptions'!A:K,MATCH('Inspection Form'!H272,'Fixture Descriptions'!A:A,0),8)","v":{"$error":"#N/A"}},{"$error":"#N/A"},null,{"$error":"#N/A"},1,null,null,null,{"$f":"IFERROR(IF(AND(INDEX(Inventory!CB:CB,MATCH('Inspection Form'!B272,Inventory!B:B,0))=\"Not Qualified\",INDEX(Inventory!L:L,MATCH('Inspection Form'!B272,Inventory!B:B,0))<>\"\",$Q$5<>\"Pre\"),0,BY272*BZ272), 0)","v":0},null,{"$error":"#DIV/0!"},{"$error":"#DIV/0!"},269]
[null,269,null,null,null,null,null,null,null,null,null,null,null,null,null,null,null,null,null,null,null,null,null,null,null,null,null,null,null,null,null,null,null,null,null,null,null,null,null,null,null,null,null,null,null,null,null,null,null,null,null,null,null,null,null,null,null,null,null,null,null,null,null,null,null,null,null,null,null,null,null,null,null,{"$f":"INDEX('Fixture Descriptions'!A:K,MATCH('Inspection Form'!H273,'Fixture Descriptions'!A:A,0),8)","v":{"$error":"#N/A"}},{"$error":"#N/A"},null,{"$error":"#N/A"},1,null,null,null,{"$f":"IFERROR(IF(AND(INDEX(Inventory!CB:CB,MATCH('Inspection Form'!B273,Inventory!B:B,0))=\"Not Qualified\",INDEX(Inventory!L:L,MATCH('Inspection Form'!B273,Inventory!B:B,0))<>\"\",$Q$5<>\"Pre\"),0,BY273*BZ273), 0)","v":0},null,{"$error":"#DIV/0!"},{"$error":"#DIV/0!"},270]
[null,270,null,null,null,null,null,null,null,null,null,null,null,null,null,null,null,null,null,null,null,null,null,null,null,null,null,null,null,null,null,null,null,null,null,null,null,null,null,null,null,null,null,null,null,null,null,null,null,null,null,null,null,null,null,null,null,null,null,null,null,null,null,null,null,null,null,null,null,null,null,null,null,{"$f":"INDEX('Fixture Descriptions'!A:K,MATCH('Inspection Form'!H274,'Fixture Descriptions'!A:A,0),8)","v":{"$error":"#N/A"}},{"$error":"#N/A"},null,{"$error":"#N/A"},1,null,null,null,{"$f":"IFERROR(IF(AND(INDEX(Inventory!CB:CB,MATCH('Inspection Form'!B274,Inventory!B:B,0))=\"Not Qualified\",INDEX(Inventory!L:L,MATCH('Inspection Form'!B274,Inventory!B:B,0))<>\"\",$Q$5<>\"Pre\"),0,BY274*BZ274), 0)","v":0},null,{"$error":"#DIV/0!"},{"$error":"#DIV/0!"},271]
[null,271,null,null,null,null,null,null,null,null,null,null,null,null,null,null,null,null,null,null,null,null,null,null,null,null,null,null,null,null,null,null,null,null,null,null,null,null,null,null,null,null,null,null,null,null,null,null,null,null,null,null,null,null,null,null,null,null,null,null,null,null,null,null,null,null,null,null,null,null,null,null,null,{"$f":"INDEX('Fixture Descriptions'!A:K,MATCH('Inspection Form'!H275,'Fixture Descriptions'!A:A,0),8)","v":{"$error":"#N/A"}},{"$error":"#N/A"},null,{"$error":"#N/A"},1,null,null,null,{"$f":"IFERROR(IF(AND(INDEX(Inventory!CB:CB,MATCH('Inspection Form'!B275,Inventory!B:B,0))=\"Not Qualified\",INDEX(Inventory!L:L,MATCH('Inspection Form'!B275,Inventory!B:B,0))<>\"\",$Q$5<>\"Pre\"),0,BY275*BZ275), 0)","v":0},null,{"$error":"#DIV/0!"},{"$error":"#DIV/0!"},272]
[null,272,null,null,null,null,null,null,null,null,null,null,null,null,null,null,null,null,null,null,null,null,null,null,null,null,null,null,null,null,null,null,null,null,null,null,null,null,null,null,null,null,null,null,null,null,null,null,null,null,null,null,null,null,null,null,null,null,null,null,null,null,null,null,null,null,null,null,null,null,null,null,null,{"$f":"INDEX('Fixture Descriptions'!A:K,MATCH('Inspection Form'!H276,'Fixture Descriptions'!A:A,0),8)","v":{"$error":"#N/A"}},{"$error":"#N/A"},null,{"$error":"#N/A"},1,null,null,null,{"$f":"IFERROR(IF(AND(INDEX(Inventory!CB:CB,MATCH('Inspection Form'!B276,Inventory!B:B,0))=\"Not Qualified\",INDEX(Inventory!L:L,MATCH('Inspection Form'!B276,Inventory!B:B,0))<>\"\",$Q$5<>\"Pre\"),0,BY276*BZ276), 0)","v":0},null,{"$error":"#DIV/0!"},{"$error":"#DIV/0!"},273]
[null,273,null,null,null,null,null,null,null,null,null,null,null,null,null,null,null,null,null,null,null,null,null,null,null,null,null,null,null,null,null,null,null,null,null,null,null,null,null,null,null,null,null,null,null,null,null,null,null,null,null,null,null,null,null,null,null,null,null,null,null,null,null,null,null,null,null,null,null,null,null,null,null,{"$f":"INDEX('Fixture Descriptions'!A:K,MATCH('Inspection Form'!H277,'Fixture Descriptions'!A:A,0),8)","v":{"$error":"#N/A"}},{"$error":"#N/A"},null,{"$error":"#N/A"},1,null,null,null,{"$f":"IFERROR(IF(AND(INDEX(Inventory!CB:CB,MATCH('Inspection Form'!B277,Inventory!B:B,0))=\"Not Qualified\",INDEX(Inventory!L:L,MATCH('Inspection Form'!B277,Inventory!B:B,0))<>\"\",$Q$5<>\"Pre\"),0,BY277*BZ277), 0)","v":0},null,{"$error":"#DIV/0!"},{"$error":"#DIV/0!"},274]
[null,274,null,null,null,null,null,null,null,null,null,null,null,null,null,null,null,null,null,null,null,null,null,null,null,null,null,null,null,null,null,null,null,null,null,null,null,null,null,null,null,null,null,null,null,null,null,null,null,null,null,null,null,null,null,null,null,null,null,null,null,null,null,null,null,null,null,null,null,null,null,null,null,{"$f":"INDEX('Fixture Descriptions'!A:K,MATCH('Inspection Form'!H278,'Fixture Descriptions'!A:A,0),8)","v":{"$error":"#N/A"}},{"$error":"#N/A"},null,{"$error":"#N/A"},1,null,null,null,{"$f":"IFERROR(IF(AND(INDEX(Inventory!CB:CB,MATCH('Inspection Form'!B278,Inventory!B:B,0))=\"Not Qualified\",INDEX(Inventory!L:L,MATCH('Inspection Form'!B278,Inventory!B:B,0))<>\"\",$Q$5<>\"Pre\"),0,BY278*BZ278), 0)","v":0},null,{"$error":"#DIV/0!"},{"$error":"#DIV/0!"},275]
[null,275,null,null,null,null,null,null,null,null,null,null,null,null,null,null,null,null,null,null,null,null,null,null,null,null,null,null,null,null,null,null,null,null,null,null,null,null,null,null,null,null,null,null,null,null,null,null,null,null,null,null,null,null,null,null,null,null,null,null,null,null,null,null,null,null,null,null,null,null,null,null,null,{"$f":"INDEX('Fixture Descriptions'!A:K,MATCH('Inspection Form'!H279,'Fixture Descriptions'!A:A,0),8)","v":{"$error":"#N/A"}},{"$error":"#N/A"},null,{"$error":"#N/A"},1,null,null,null,{"$f":"IFERROR(IF(AND(INDEX(Inventory!CB:CB,MATCH('Inspection Form'!B279,Inventory!B:B,0))=\"Not Qualified\",INDEX(Inventory!L:L,MATCH('Inspection Form'!B279,Inventory!B:B,0))<>\"\",$Q$5<>\"Pre\"),0,BY279*BZ279), 0)","v":0},null,{"$error":"#DIV/0!"},{"$error":"#DIV/0!"},276]
[null,276,null,null,null,null,null,null,null,null,null,null,null,null,null,null,null,null,null,null,null,null,null,null,null,null,null,null,null,null,null,null,null,null,null,null,null,null,null,null,null,null,null,null,null,null,null,null,null,null,null,null,null,null,null,null,null,null,null,null,null,null,null,null,null,null,null,null,null,null,null,null,null,{"$f":"INDEX('Fixture Descriptions'!A:K,MATCH('Inspection Form'!H280,'Fixture Descriptions'!A:A,0),8)","v":{"$error":"#N/A"}},{"$error":"#N/A"},null,{"$error":"#N/A"},1,null,null,null,{"$f":"IFERROR(IF(AND(INDEX(Inventory!CB:CB,MATCH('Inspection Form'!B280,Inventory!B:B,0))=\"Not Qualified\",INDEX(Inventory!L:L,MATCH('Inspection Form'!B280,Inventory!B:B,0))<>\"\",$Q$5<>\"Pre\"),0,BY280*BZ280), 0)","v":0},null,{"$error":"#DIV/0!"},{"$error":"#DIV/0!"},277]
[null,277,null,null,null,null,null,null,null,null,null,null,null,null,null,null,null,null,null,null,null,null,null,null,null,null,null,null,null,null,null,null,null,null,null,null,null,null,null,null,null,null,null,null,null,null,null,null,null,null,null,null,null,null,null,null,null,null,null,null,null,null,null,null,null,null,null,null,null,null,null,null,null,{"$f":"INDEX('Fixture Descriptions'!A:K,MATCH('Inspection Form'!H281,'Fixture Descriptions'!A:A,0),8)","v":{"$error":"#N/A"}},{"$error":"#N/A"},null,{"$error":"#N/A"},1,null,null,null,{"$f":"IFERROR(IF(AND(INDEX(Inventory!CB:CB,MATCH('Inspection Form'!B281,Inventory!B:B,0))=\"Not Qualified\",INDEX(Inventory!L:L,MATCH('Inspection Form'!B281,Inventory!B:B,0))<>\"\",$Q$5<>\"Pre\"),0,BY281*BZ281), 0)","v":0},null,{"$error":"#DIV/0!"},{"$error":"#DIV/0!"},278]
[null,278,null,null,null,null,null,null,null,null,null,null,null,null,null,null,null,null,null,null,null,null,null,null,null,null,null,null,null,null,null,null,null,null,null,null,null,null,null,null,null,null,null,null,null,null,null,null,null,null,null,null,null,null,null,null,null,null,null,null,null,null,null,null,null,null,null,null,null,null,null,null,null,{"$f":"INDEX('Fixture Descriptions'!A:K,MATCH('Inspection Form'!H282,'Fixture Descriptions'!A:A,0),8)","v":{"$error":"#N/A"}},{"$error":"#N/A"},null,{"$error":"#N/A"},1,null,null,null,{"$f":"IFERROR(IF(AND(INDEX(Inventory!CB:CB,MATCH('Inspection Form'!B282,Inventory!B:B,0))=\"Not Qualified\",INDEX(Inventory!L:L,MATCH('Inspection Form'!B282,Inventory!B:B,0))<>\"\",$Q$5<>\"Pre\"),0,BY282*BZ282), 0)","v":0},null,{"$error":"#DIV/0!"},{"$error":"#DIV/0!"},279]
[null,279,null,null,null,null,null,null,null,null,null,null,null,null,null,null,null,null,null,null,null,null,null,null,null,null,null,null,null,null,null,null,null,null,null,null,null,null,null,null,null,null,null,null,null,null,null,null,null,null,null,null,null,null,null,null,null,null,null,null,null,null,null,null,null,null,null,null,null,null,null,null,null,{"$f":"INDEX('Fixture Descriptions'!A:K,MATCH('Inspection Form'!H283,'Fixture Descriptions'!A:A,0),8)","v":{"$error":"#N/A"}},{"$error":"#N/A"},null,{"$error":"#N/A"},1,null,null,null,{"$f":"IFERROR(IF(AND(INDEX(Inventory!CB:CB,MATCH('Inspection Form'!B283,Inventory!B:B,0))=\"Not Qualified\",INDEX(Inventory!L:L,MATCH('Inspection Form'!B283,Inventory!B:B,0))<>\"\",$Q$5<>\"Pre\"),0,BY283*BZ283), 0)","v":0},null,{"$error":"#DIV/0!"},{"$error":"#DIV/0!"},280]
[null,280,null,null,null,null,null,null,null,null,null,null,null,null,null,null,null,null,null,null,null,null,null,null,null,null,null,null,null,null,null,null,null,null,null,null,null,null,null,null,null,null,null,null,null,null,null,null,null,null,null,null,null,null,null,null,null,null,null,null,null,null,null,null,null,null,null,null,null,null,null,null,null,{"$f":"INDEX('Fixture Descriptions'!A:K,MATCH('Inspection Form'!H284,'Fixture Descriptions'!A:A,0),8)","v":{"$error":"#N/A"}},{"$error":"#N/A"},null,{"$error":"#N/A"},1,null,null,null,{"$f":"IFERROR(IF(AND(INDEX(Inventory!CB:CB,MATCH('Inspection Form'!B284,Inventory!B:B,0))=\"Not Qualified\",INDEX(Inventory!L:L,MATCH('Inspection Form'!B284,Inventory!B:B,0))<>\"\",$Q$5<>\"Pre\"),0,BY284*BZ284), 0)","v":0},null,{"$error":"#DIV/0!"},{"$error":"#DIV/0!"},281]
[null,281,null,null,null,null,null,null,null,null,null,null,null,null,null,null,null,null,null,null,null,null,null,null,null,null,null,null,null,null,null,null,null,null,null,null,null,null,null,null,null,null,null,null,null,null,null,null,null,null,null,null,null,null,null,null,null,null,null,null,null,null,null,null,null,null,null,null,null,null,null,null,null,{"$f":"INDEX('Fixture Descriptions'!A:K,MATCH('Inspection Form'!H285,'Fixture Descriptions'!A:A,0),8)","v":{"$error":"#N/A"}},{"$error":"#N/A"},null,{"$error":"#N/A"},1,null,null,null,{"$f":"IFERROR(IF(AND(INDEX(Inventory!CB:CB,MATCH('Inspection Form'!B285,Inventory!B:B,0))=\"Not Qualified\",INDEX(Inventory!L:L,MATCH('Inspection Form'!B285,Inventory!B:B,0))<>\"\",$Q$5<>\"Pre\"),0,BY285*BZ285), 0)","v":0},null,{"$error":"#DIV/0!"},{"$error":"#DIV/0!"},282]
[null,282,null,null,null,null,null,null,null,null,null,null,null,null,null,null,null,null,null,null,null,null,null,null,null,null,null,null,null,null,null,null,null,null,null,null,null,null,null,null,null,null,null,null,null,null,null,null,null,null,null,null,null,null,null,null,null,null,null,null,null,null,null,null,null,null,null,null,null,null,null,null,null,{"$f":"INDEX('Fixture Descriptions'!A:K,MATCH('Inspection Form'!H286,'Fixture Descriptions'!A:A,0),8)","v":{"$error":"#N/A"}},{"$error":"#N/A"},null,{"$error":"#N/A"},1,null,null,null,{"$f":"IFERROR(IF(AND(INDEX(Inventory!CB:CB,MATCH('Inspection Form'!B286,Inventory!B:B,0))=\"Not Qualified\",INDEX(Inventory!L:L,MATCH('Inspection Form'!B286,Inventory!B:B,0))<>\"\",$Q$5<>\"Pre\"),0,BY286*BZ286), 0)","v":0},null,{"$error":"#DIV/0!"},{"$error":"#DIV/0!"},283]
[null,283,null,null,null,null,null,null,null,null,null,null,null,null,null,null,null,null,null,null,null,null,null,null,null,null,null,null,null,null,null,null,null,null,null,null,null,null,null,null,null,null,null,null,null,null,null,null,null,null,null,null,null,null,null,null,null,null,null,null,null,null,null,null,null,null,null,null,null,null,null,null,null,{"$f":"INDEX('Fixture Descriptions'!A:K,MATCH('Inspection Form'!H287,'Fixture Descriptions'!A:A,0),8)","v":{"$error":"#N/A"}},{"$error":"#N/A"},null,{"$error":"#N/A"},1,null,null,null,{"$f":"IFERROR(IF(AND(INDEX(Inventory!CB:CB,MATCH('Inspection Form'!B287,Inventory!B:B,0))=\"Not Qualified\",INDEX(Inventory!L:L,MATCH('Inspection Form'!B287,Inventory!B:B,0))<>\"\",$Q$5<>\"Pre\"),0,BY287*BZ287), 0)","v":0},null,{"$error":"#DIV/0!"},{"$error":"#DIV/0!"},284]
[null,284,null,null,null,null,null,null,null,null,null,null,null,null,null,null,null,null,null,null,null,null,null,null,null,null,null,null,null,null,null,null,null,null,null,null,null,null,null,null,null,null,null,null,null,null,null,null,null,null,null,null,null,null,null,null,null,null,null,null,null,null,null,null,null,null,null,null,null,null,null,null,null,{"$f":"INDEX('Fixture Descriptions'!A:K,MATCH('Inspection Form'!H288,'Fixture Descriptions'!A:A,0),8)","v":{"$error":"#N/A"}},{"$error":"#N/A"},null,{"$error":"#N/A"},1,null,null,null,{"$f":"IFERROR(IF(AND(INDEX(Inventory!CB:CB,MATCH('Inspection Form'!B288,Inventory!B:B,0))=\"Not Qualified\",INDEX(Inventory!L:L,MATCH('Inspection Form'!B288,Inventory!B:B,0))<>\"\",$Q$5<>\"Pre\"),0,BY288*BZ288), 0)","v":0},null,{"$error":"#DIV/0!"},{"$error":"#DIV/0!"},285]
[null,285,null,null,null,null,null,null,null,null,null,null,null,null,null,null,null,null,null,null,null,null,null,null,null,null,null,null,null,null,null,null,null,null,null,null,null,null,null,null,null,null,null,null,null,null,null,null,null,null,null,null,null,null,null,null,null,null,null,null,null,null,null,null,null,null,null,null,null,null,null,null,null,{"$f":"INDEX('Fixture Descriptions'!A:K,MATCH('Inspection Form'!H289,'Fixture Descriptions'!A:A,0),8)","v":{"$error":"#N/A"}},{"$error":"#N/A"},null,{"$error":"#N/A"},1,null,null,null,{"$f":"IFERROR(IF(AND(INDEX(Inventory!CB:CB,MATCH('Inspection Form'!B289,Inventory!B:B,0))=\"Not Qualified\",INDEX(Inventory!L:L,MATCH('Inspection Form'!B289,Inventory!B:B,0))<>\"\",$Q$5<>\"Pre\"),0,BY289*BZ289), 0)","v":0},null,{"$error":"#DIV/0!"},{"$error":"#DIV/0!"},286]
[null,286,null,null,null,null,null,null,null,null,null,null,null,null,null,null,null,null,null,null,null,null,null,null,null,null,null,null,null,null,null,null,null,null,null,null,null,null,null,null,null,null,null,null,null,null,null,null,null,null,null,null,null,null,null,null,null,null,null,null,null,null,null,null,null,null,null,null,null,null,null,null,null,{"$f":"INDEX('Fixture Descriptions'!A:K,MATCH('Inspection Form'!H290,'Fixture Descriptions'!A:A,0),8)","v":{"$error":"#N/A"}},{"$error":"#N/A"},null,{"$error":"#N/A"},1,null,null,null,{"$f":"IFERROR(IF(AND(INDEX(Inventory!CB:CB,MATCH('Inspection Form'!B290,Inventory!B:B,0))=\"Not Qualified\",INDEX(Inventory!L:L,MATCH('Inspection Form'!B290,Inventory!B:B,0))<>\"\",$Q$5<>\"Pre\"),0,BY290*BZ290), 0)","v":0},null,{"$error":"#DIV/0!"},{"$error":"#DIV/0!"},287]
[null,287,null,null,null,null,null,null,null,null,null,null,null,null,null,null,null,null,null,null,null,null,null,null,null,null,null,null,null,null,null,null,null,null,null,null,null,null,null,null,null,null,null,null,null,null,null,null,null,null,null,null,null,null,null,null,null,null,null,null,null,null,null,null,null,null,null,null,null,null,null,null,null,{"$f":"INDEX('Fixture Descriptions'!A:K,MATCH('Inspection Form'!H291,'Fixture Descriptions'!A:A,0),8)","v":{"$error":"#N/A"}},{"$error":"#N/A"},null,{"$error":"#N/A"},1,null,null,null,{"$f":"IFERROR(IF(AND(INDEX(Inventory!CB:CB,MATCH('Inspection Form'!B291,Inventory!B:B,0))=\"Not Qualified\",INDEX(Inventory!L:L,MATCH('Inspection Form'!B291,Inventory!B:B,0))<>\"\",$Q$5<>\"Pre\"),0,BY291*BZ291), 0)","v":0},null,{"$error":"#DIV/0!"},{"$error":"#DIV/0!"},288]
[null,288,null,null,null,null,null,null,null,null,null,null,null,null,null,null,null,null,null,null,null,null,null,null,null,null,null,null,null,null,null,null,null,null,null,null,null,null,null,null,null,null,null,null,null,null,null,null,null,null,null,null,null,null,null,null,null,null,null,null,null,null,null,null,null,null,null,null,null,null,null,null,null,{"$f":"INDEX('Fixture Descriptions'!A:K,MATCH('Inspection Form'!H292,'Fixture Descriptions'!A:A,0),8)","v":{"$error":"#N/A"}},{"$error":"#N/A"},null,{"$error":"#N/A"},1,null,null,null,{"$f":"IFERROR(IF(AND(INDEX(Inventory!CB:CB,MATCH('Inspection Form'!B292,Inventory!B:B,0))=\"Not Qualified\",INDEX(Inventory!L:L,MATCH('Inspection Form'!B292,Inventory!B:B,0))<>\"\",$Q$5<>\"Pre\"),0,BY292*BZ292), 0)","v":0},null,{"$error":"#DIV/0!"},{"$error":"#DIV/0!"},289]
[null,289,null,null,null,null,null,null,null,null,null,null,null,null,null,null,null,null,null,null,null,null,null,null,null,null,null,null,null,null,null,null,null,null,null,null,null,null,null,null,null,null,null,null,null,null,null,null,null,null,null,null,null,null,null,null,null,null,null,null,null,null,null,null,null,null,null,null,null,null,null,null,null,{"$f":"INDEX('Fixture Descriptions'!A:K,MATCH('Inspection Form'!H293,'Fixture Descriptions'!A:A,0),8)","v":{"$error":"#N/A"}},{"$error":"#N/A"},null,{"$error":"#N/A"},1,null,null,null,{"$f":"IFERROR(IF(AND(INDEX(Inventory!CB:CB,MATCH('Inspection Form'!B293,Inventory!B:B,0))=\"Not Qualified\",INDEX(Inventory!L:L,MATCH('Inspection Form'!B293,Inventory!B:B,0))<>\"\",$Q$5<>\"Pre\"),0,BY293*BZ293), 0)","v":0},null,{"$error":"#DIV/0!"},{"$error":"#DIV/0!"},290]
[null,290,null,null,null,null,null,null,null,null,null,null,null,null,null,null,null,null,null,null,null,null,null,null,null,null,null,null,null,null,null,null,null,null,null,null,null,null,null,null,null,null,null,null,null,null,null,null,null,null,null,null,null,null,null,null,null,null,null,null,null,null,null,null,null,null,null,null,null,null,null,null,null,{"$f":"INDEX('Fixture Descriptions'!A:K,MATCH('Inspection Form'!H294,'Fixture Descriptions'!A:A,0),8)","v":{"$error":"#N/A"}},{"$error":"#N/A"},null,{"$error":"#N/A"},1,null,null,null,{"$f":"IFERROR(IF(AND(INDEX(Inventory!CB:CB,MATCH('Inspection Form'!B294,Inventory!B:B,0))=\"Not Qualified\",INDEX(Inventory!L:L,MATCH('Inspection Form'!B294,Inventory!B:B,0))<>\"\",$Q$5<>\"Pre\"),0,BY294*BZ294), 0)","v":0},null,{"$error":"#DIV/0!"},{"$error":"#DIV/0!"},291]
[null,291,null,null,null,null,null,null,null,null,null,null,null,null,null,null,null,null,null,null,null,null,null,null,null,null,null,null,null,null,null,null,null,null,null,null,null,null,null,null,null,null,null,null,null,null,null,null,null,null,null,null,null,null,null,null,null,null,null,null,null,null,null,null,null,null,null,null,null,null,null,null,null,{"$f":"INDEX('Fixture Descriptions'!A:K,MATCH('Inspection Form'!H295,'Fixture Descriptions'!A:A,0),8)","v":{"$error":"#N/A"}},{"$error":"#N/A"},null,{"$error":"#N/A"},1,null,null,null,{"$f":"IFERROR(IF(AND(INDEX(Inventory!CB:CB,MATCH('Inspection Form'!B295,Inventory!B:B,0))=\"Not Qualified\",INDEX(Inventory!L:L,MATCH('Inspection Form'!B295,Inventory!B:B,0))<>\"\",$Q$5<>\"Pre\"),0,BY295*BZ295), 0)","v":0},null,{"$error":"#DIV/0!"},{"$error":"#DIV/0!"},292]
[null,292,null,null,null,null,null,null,null,null,null,null,null,null,null,null,null,null,null,null,null,null,null,null,null,null,null,null,null,null,null,null,null,null,null,null,null,null,null,null,null,null,null,null,null,null,null,null,null,null,null,null,null,null,null,null,null,null,null,null,null,null,null,null,null,null,null,null,null,null,null,null,null,{"$f":"INDEX('Fixture Descriptions'!A:K,MATCH('Inspection Form'!H296,'Fixture Descriptions'!A:A,0),8)","v":{"$error":"#N/A"}},{"$error":"#N/A"},null,{"$error":"#N/A"},1,null,null,null,{"$f":"IFERROR(IF(AND(INDEX(Inventory!CB:CB,MATCH('Inspection Form'!B296,Inventory!B:B,0))=\"Not Qualified\",INDEX(Inventory!L:L,MATCH('Inspection Form'!B296,Inventory!B:B,0))<>\"\",$Q$5<>\"Pre\"),0,BY296*BZ296), 0)","v":0},null,{"$error":"#DIV/0!"},{"$error":"#DIV/0!"},293]
[null,293,null,null,null,null,null,null,null,null,null,null,null,null,null,null,null,null,null,null,null,null,null,null,null,null,null,null,null,null,null,null,null,null,null,null,null,null,null,null,null,null,null,null,null,null,null,null,null,null,null,null,null,null,null,null,null,null,null,null,null,null,null,null,null,null,null,null,null,null,null,null,null,{"$f":"INDEX('Fixture Descriptions'!A:K,MATCH('Inspection Form'!H297,'Fixture Descriptions'!A:A,0),8)","v":{"$error":"#N/A"}},{"$error":"#N/A"},null,{"$error":"#N/A"},1,null,null,null,{"$f":"IFERROR(IF(AND(INDEX(Inventory!CB:CB,MATCH('Inspection Form'!B297,Inventory!B:B,0))=\"Not Qualified\",INDEX(Inventory!L:L,MATCH('Inspection Form'!B297,Inventory!B:B,0))<>\"\",$Q$5<>\"Pre\"),0,BY297*BZ297), 0)","v":0},null,{"$error":"#DIV/0!"},{"$error":"#DIV/0!"},294]
[null,294,null,null,null,null,null,null,null,null,null,null,null,null,null,null,null,null,null,null,null,null,null,null,null,null,null,null,null,null,null,null,null,null,null,null,null,null,null,null,null,null,null,null,null,null,null,null,null,null,null,null,null,null,null,null,null,null,null,null,null,null,null,null,null,null,null,null,null,null,null,null,null,{"$f":"INDEX('Fixture Descriptions'!A:K,MATCH('Inspection Form'!H298,'Fixture Descriptions'!A:A,0),8)","v":{"$error":"#N/A"}},{"$error":"#N/A"},null,{"$error":"#N/A"},1,null,null,null,{"$f":"IFERROR(IF(AND(INDEX(Inventory!CB:CB,MATCH('Inspection Form'!B298,Inventory!B:B,0))=\"Not Qualified\",INDEX(Inventory!L:L,MATCH('Inspection Form'!B298,Inventory!B:B,0))<>\"\",$Q$5<>\"Pre\"),0,BY298*BZ298), 0)","v":0},null,{"$error":"#DIV/0!"},{"$error":"#DIV/0!"},295]
[null,295,null,null,null,null,null,null,null,null,null,null,null,null,null,null,null,null,null,null,null,null,null,null,null,null,null,null,null,null,null,null,null,null,null,null,null,null,null,null,null,null,null,null,null,null,null,null,null,null,null,null,null,null,null,null,null,null,null,null,null,null,null,null,null,null,null,null,null,null,null,null,null,{"$f":"INDEX('Fixture Descriptions'!A:K,MATCH('Inspection Form'!H299,'Fixture Descriptions'!A:A,0),8)","v":{"$error":"#N/A"}},{"$error":"#N/A"},null,{"$error":"#N/A"},1,null,null,null,{"$f":"IFERROR(IF(AND(INDEX(Inventory!CB:CB,MATCH('Inspection Form'!B299,Inventory!B:B,0))=\"Not Qualified\",INDEX(Inventory!L:L,MATCH('Inspection Form'!B299,Inventory!B:B,0))<>\"\",$Q$5<>\"Pre\"),0,BY299*BZ299), 0)","v":0},null,{"$error":"#DIV/0!"},{"$error":"#DIV/0!"},296]
[null,296,null,null,null,null,null,null,null,null,null,null,null,null,null,null,null,null,null,null,null,null,null,null,null,null,null,null,null,null,null,null,null,null,null,null,null,null,null,null,null,null,null,null,null,null,null,null,null,null,null,null,null,null,null,null,null,null,null,null,null,null,null,null,null,null,null,null,null,null,null,null,null,{"$f":"INDEX('Fixture Descriptions'!A:K,MATCH('Inspection Form'!H300,'Fixture Descriptions'!A:A,0),8)","v":{"$error":"#N/A"}},{"$error":"#N/A"},null,{"$error":"#N/A"},1,null,null,null,{"$f":"IFERROR(IF(AND(INDEX(Inventory!CB:CB,MATCH('Inspection Form'!B300,Inventory!B:B,0))=\"Not Qualified\",INDEX(Inventory!L:L,MATCH('Inspection Form'!B300,Inventory!B:B,0))<>\"\",$Q$5<>\"Pre\"),0,BY300*BZ300), 0)","v":0},null,{"$error":"#DIV/0!"},{"$error":"#DIV/0!"},297]
[null,297,null,null,null,null,null,null,null,null,null,null,null,null,null,null,null,null,null,null,null,null,null,null,null,null,null,null,null,null,null,null,null,null,null,null,null,null,null,null,null,null,null,null,null,null,null,null,null,null,null,null,null,null,null,null,null,null,null,null,null,null,null,null,null,null,null,null,null,null,null,null,null,{"$f":"INDEX('Fixture Descriptions'!A:K,MATCH('Inspection Form'!H301,'Fixture Descriptions'!A:A,0),8)","v":{"$error":"#N/A"}},{"$error":"#N/A"},null,{"$error":"#N/A"},1,null,null,null,{"$f":"IFERROR(IF(AND(INDEX(Inventory!CB:CB,MATCH('Inspection Form'!B301,Inventory!B:B,0))=\"Not Qualified\",INDEX(Inventory!L:L,MATCH('Inspection Form'!B301,Inventory!B:B,0))<>\"\",$Q$5<>\"Pre\"),0,BY301*BZ301), 0)","v":0},null,{"$error":"#DIV/0!"},{"$error":"#DIV/0!"},298]
[null,298,null,null,null,null,null,null,null,null,null,null,null,null,null,null,null,null,null,null,null,null,null,null,null,null,null,null,null,null,null,null,null,null,null,null,null,null,null,null,null,null,null,null,null,null,null,null,null,null,null,null,null,null,null,null,null,null,null,null,null,null,null,null,null,null,null,null,null,null,null,null,null,{"$f":"INDEX('Fixture Descriptions'!A:K,MATCH('Inspection Form'!H302,'Fixture Descriptions'!A:A,0),8)","v":{"$error":"#N/A"}},{"$error":"#N/A"},null,{"$error":"#N/A"},1,null,null,null,{"$f":"IFERROR(IF(AND(INDEX(Inventory!CB:CB,MATCH('Inspection Form'!B302,Inventory!B:B,0))=\"Not Qualified\",INDEX(Inventory!L:L,MATCH('Inspection Form'!B302,Inventory!B:B,0))<>\"\",$Q$5<>\"Pre\"),0,BY302*BZ302), 0)","v":0},null,{"$error":"#DIV/0!"},{"$error":"#DIV/0!"},299]
[null,299,null,null,null,null,null,null,null,null,null,null,null,null,null,null,null,null,null,null,null,null,null,null,null,null,null,null,null,null,null,null,null,null,null,null,null,null,null,null,null,null,null,null,null,null,null,null,null,null,null,null,null,null,null,null,null,null,null,null,null,null,null,null,null,null,null,null,null,null,null,null,null,{"$f":"INDEX('Fixture Descriptions'!A:K,MATCH('Inspection Form'!H303,'Fixture Descriptions'!A:A,0),8)","v":{"$error":"#N/A"}},{"$error":"#N/A"},null,{"$error":"#N/A"},1,null,null,null,{"$f":"IFERROR(IF(AND(INDEX(Inventory!CB:CB,MATCH('Inspection Form'!B303,Inventory!B:B,0))=\"Not Qualified\",INDEX(Inventory!L:L,MATCH('Inspection Form'!B303,Inventory!B:B,0))<>\"\",$Q$5<>\"Pre\"),0,BY303*BZ303), 0)","v":0},null,{"$error":"#DIV/0!"},{"$error":"#DIV/0!"},300]
[null,300,null,null,null,null,null,null,null,null,null,null,null,null,null,null,null,null,null,null,null,null,null,null,null,null,null,null,null,null,null,null,null,null,null,null,null,null,null,null,null,null,null,null,null,null,null,null,null,null,null,null,null,null,null,null,null,null,null,null,null,null,null,null,null,null,null,null,null,null,null,null,null,{"$f":"INDEX('Fixture Descriptions'!A:K,MATCH('Inspection Form'!H304,'Fixture Descriptions'!A:A,0),8)","v":{"$error":"#N/A"}},{"$error":"#N/A"},null,{"$error":"#N/A"},1,null,null,null,{"$f":"IFERROR(IF(AND(INDEX(Inventory!CB:CB,MATCH('Inspection Form'!B304,Inventory!B:B,0))=\"Not Qualified\",INDEX(Inventory!L:L,MATCH('Inspection Form'!B304,Inventory!B:B,0))<>\"\",$Q$5<>\"Pre\"),0,BY304*BZ304), 0)","v":0},null,{"$error":"#DIV/0!"},{"$error":"#DIV/0!"},301]
[null,301,null,null,null,null,null,null,null,null,null,null,null,null,null,null,null,null,null,null,null,null,null,null,null,null,null,null,null,null,null,null,null,null,null,null,null,null,null,null,null,null,null,null,null,null,null,null,null,null,null,null,null,null,null,null,null,null,null,null,null,null,null,null,null,null,null,null,null,null,null,null,null,{"$f":"INDEX('Fixture Descriptions'!A:K,MATCH('Inspection Form'!H305,'Fixture Descriptions'!A:A,0),8)","v":{"$error":"#N/A"}},{"$error":"#N/A"},null,{"$error":"#N/A"},1,null,null,null,{"$f":"IFERROR(IF(AND(INDEX(Inventory!CB:CB,MATCH('Inspection Form'!B305,Inventory!B:B,0))=\"Not Qualified\",INDEX(Inventory!L:L,MATCH('Inspection Form'!B305,Inventory!B:B,0))<>\"\",$Q$5<>\"Pre\"),0,BY305*BZ305), 0)","v":0},null,{"$error":"#DIV/0!"},{"$error":"#DIV/0!"},302]
[null,302,null,null,null,null,null,null,null,null,null,null,null,null,null,null,null,null,null,null,null,null,null,null,null,null,null,null,null,null,null,null,null,null,null,null,null,null,null,null,null,null,null,null,null,null,null,null,null,null,null,null,null,null,null,null,null,null,null,null,null,null,null,null,null,null,null,null,null,null,null,null,null,{"$f":"INDEX('Fixture Descriptions'!A:K,MATCH('Inspection Form'!H306,'Fixture Descriptions'!A:A,0),8)","v":{"$error":"#N/A"}},{"$error":"#N/A"},null,{"$error":"#N/A"},1,null,null,null,{"$f":"IFERROR(IF(AND(INDEX(Inventory!CB:CB,MATCH('Inspection Form'!B306,Inventory!B:B,0))=\"Not Qualified\",INDEX(Inventory!L:L,MATCH('Inspection Form'!B306,Inventory!B:B,0))<>\"\",$Q$5<>\"Pre\"),0,BY306*BZ306), 0)","v":0},null,{"$error":"#DIV/0!"},{"$error":"#DIV/0!"},303]
[null,303,null,null,null,null,null,null,null,null,null,null,null,null,null,null,null,null,null,null,null,null,null,null,null,null,null,null,null,null,null,null,null,null,null,null,null,null,null,null,null,null,null,null,null,null,null,null,null,null,null,null,null,null,null,null,null,null,null,null,null,null,null,null,null,null,null,null,null,null,null,null,null,{"$f":"INDEX('Fixture Descriptions'!A:K,MATCH('Inspection Form'!H307,'Fixture Descriptions'!A:A,0),8)","v":{"$error":"#N/A"}},{"$error":"#N/A"},null,{"$error":"#N/A"},1,null,null,null,{"$f":"IFERROR(IF(AND(INDEX(Inventory!CB:CB,MATCH('Inspection Form'!B307,Inventory!B:B,0))=\"Not Qualified\",INDEX(Inventory!L:L,MATCH('Inspection Form'!B307,Inventory!B:B,0))<>\"\",$Q$5<>\"Pre\"),0,BY307*BZ307), 0)","v":0},null,{"$error":"#DIV/0!"},{"$error":"#DIV/0!"},304]
[null,304,null,null,null,null,null,null,null,null,null,null,null,null,null,null,null,null,null,null,null,null,null,null,null,null,null,null,null,null,null,null,null,null,null,null,null,null,null,null,null,null,null,null,null,null,null,null,null,null,null,null,null,null,null,null,null,null,null,null,null,null,null,null,null,null,null,null,null,null,null,null,null,{"$f":"INDEX('Fixture Descriptions'!A:K,MATCH('Inspection Form'!H308,'Fixture Descriptions'!A:A,0),8)","v":{"$error":"#N/A"}},{"$error":"#N/A"},null,{"$error":"#N/A"},1,null,null,null,{"$f":"IFERROR(IF(AND(INDEX(Inventory!CB:CB,MATCH('Inspection Form'!B308,Inventory!B:B,0))=\"Not Qualified\",INDEX(Inventory!L:L,MATCH('Inspection Form'!B308,Inventory!B:B,0))<>\"\",$Q$5<>\"Pre\"),0,BY308*BZ308), 0)","v":0},null,{"$error":"#DIV/0!"},{"$error":"#DIV/0!"},305]
[null,305,null,null,null,null,null,null,null,null,null,null,null,null,null,null,null,null,null,null,null,null,null,null,null,null,null,null,null,null,null,null,null,null,null,null,null,null,null,null,null,null,null,null,null,null,null,null,null,null,null,null,null,null,null,null,null,null,null,null,null,null,null,null,null,null,null,null,null,null,null,null,null,{"$f":"INDEX('Fixture Descriptions'!A:K,MATCH('Inspection Form'!H309,'Fixture Descriptions'!A:A,0),8)","v":{"$error":"#N/A"}},{"$error":"#N/A"},null,{"$error":"#N/A"},1,null,null,null,{"$f":"IFERROR(IF(AND(INDEX(Inventory!CB:CB,MATCH('Inspection Form'!B309,Inventory!B:B,0))=\"Not Qualified\",INDEX(Inventory!L:L,MATCH('Inspection Form'!B309,Inventory!B:B,0))<>\"\",$Q$5<>\"Pre\"),0,BY309*BZ309), 0)","v":0},null,{"$error":"#DIV/0!"},{"$error":"#DIV/0!"},306]
[null,306,null,null,null,null,null,null,null,null,null,null,null,null,null,null,null,null,null,null,null,null,null,null,null,null,null,null,null,null,null,null,null,null,null,null,null,null,null,null,null,null,null,null,null,null,null,null,null,null,null,null,null,null,null,null,null,null,null,null,null,null,null,null,null,null,null,null,null,null,null,null,null,{"$f":"INDEX('Fixture Descriptions'!A:K,MATCH('Inspection Form'!H310,'Fixture Descriptions'!A:A,0),8)","v":{"$error":"#N/A"}},{"$error":"#N/A"},null,{"$error":"#N/A"},1,null,null,null,{"$f":"IFERROR(IF(AND(INDEX(Inventory!CB:CB,MATCH('Inspection Form'!B310,Inventory!B:B,0))=\"Not Qualified\",INDEX(Inventory!L:L,MATCH('Inspection Form'!B310,Inventory!B:B,0))<>\"\",$Q$5<>\"Pre\"),0,BY310*BZ310), 0)","v":0},null,{"$error":"#DIV/0!"},{"$error":"#DIV/0!"},307]
[null,307,null,null,null,null,null,null,null,null,null,null,null,null,null,null,null,null,null,null,null,null,null,null,null,null,null,null,null,null,null,null,null,null,null,null,null,null,null,null,null,null,null,null,null,null,null,null,null,null,null,null,null,null,null,null,null,null,null,null,null,null,null,null,null,null,null,null,null,null,null,null,null,{"$f":"INDEX('Fixture Descriptions'!A:K,MATCH('Inspection Form'!H311,'Fixture Descriptions'!A:A,0),8)","v":{"$error":"#N/A"}},{"$error":"#N/A"},null,{"$error":"#N/A"},1,null,null,null,{"$f":"IFERROR(IF(AND(INDEX(Inventory!CB:CB,MATCH('Inspection Form'!B311,Inventory!B:B,0))=\"Not Qualified\",INDEX(Inventory!L:L,MATCH('Inspection Form'!B311,Inventory!B:B,0))<>\"\",$Q$5<>\"Pre\"),0,BY311*BZ311), 0)","v":0},null,{"$error":"#DIV/0!"},{"$error":"#DIV/0!"},308]
[null,308,null,null,null,null,null,null,null,null,null,null,null,null,null,null,null,null,null,null,null,null,null,null,null,null,null,null,null,null,null,null,null,null,null,null,null,null,null,null,null,null,null,null,null,null,null,null,null,null,null,null,null,null,null,null,null,null,null,null,null,null,null,null,null,null,null,null,null,null,null,null,null,{"$f":"INDEX('Fixture Descriptions'!A:K,MATCH('Inspection Form'!H312,'Fixture Descriptions'!A:A,0),8)","v":{"$error":"#N/A"}},{"$error":"#N/A"},null,{"$error":"#N/A"},1,null,null,null,{"$f":"IFERROR(IF(AND(INDEX(Inventory!CB:CB,MATCH('Inspection Form'!B312,Inventory!B:B,0))=\"Not Qualified\",INDEX(Inventory!L:L,MATCH('Inspection Form'!B312,Inventory!B:B,0))<>\"\",$Q$5<>\"Pre\"),0,BY312*BZ312), 0)","v":0},null,{"$error":"#DIV/0!"},{"$error":"#DIV/0!"},309]
[null,309,null,null,null,null,null,null,null,null,null,null,null,null,null,null,null,null,null,null,null,null,null,null,null,null,null,null,null,null,null,null,null,null,null,null,null,null,null,null,null,null,null,null,null,null,null,null,null,null,null,null,null,null,null,null,null,null,null,null,null,null,null,null,null,null,null,null,null,null,null,null,null,{"$f":"INDEX('Fixture Descriptions'!A:K,MATCH('Inspection Form'!H313,'Fixture Descriptions'!A:A,0),8)","v":{"$error":"#N/A"}},{"$error":"#N/A"},null,{"$error":"#N/A"},1,null,null,null,{"$f":"IFERROR(IF(AND(INDEX(Inventory!CB:CB,MATCH('Inspection Form'!B313,Inventory!B:B,0))=\"Not Qualified\",INDEX(Inventory!L:L,MATCH('Inspection Form'!B313,Inventory!B:B,0))<>\"\",$Q$5<>\"Pre\"),0,BY313*BZ313), 0)","v":0},null,{"$error":"#DIV/0!"},{"$error":"#DIV/0!"},310]
[null,310,null,null,null,null,null,null,null,null,null,null,null,null,null,null,null,null,null,null,null,null,null,null,null,null,null,null,null,null,null,null,null,null,null,null,null,null,null,null,null,null,null,null,null,null,null,null,null,null,null,null,null,null,null,null,null,null,null,null,null,null,null,null,null,null,null,null,null,null,null,null,null,{"$f":"INDEX('Fixture Descriptions'!A:K,MATCH('Inspection Form'!H314,'Fixture Descriptions'!A:A,0),8)","v":{"$error":"#N/A"}},{"$error":"#N/A"},null,{"$error":"#N/A"},1,null,null,null,{"$f":"IFERROR(IF(AND(INDEX(Inventory!CB:CB,MATCH('Inspection Form'!B314,Inventory!B:B,0))=\"Not Qualified\",INDEX(Inventory!L:L,MATCH('Inspection Form'!B314,Inventory!B:B,0))<>\"\",$Q$5<>\"Pre\"),0,BY314*BZ314), 0)","v":0},null,{"$error":"#DIV/0!"},{"$error":"#DIV/0!"},311]
[null,311,null,null,null,null,null,null,null,null,null,null,null,null,null,null,null,null,null,null,null,null,null,null,null,null,null,null,null,null,null,null,null,null,null,null,null,null,null,null,null,null,null,null,null,null,null,null,null,null,null,null,null,null,null,null,null,null,null,null,null,null,null,null,null,null,null,null,null,null,null,null,null,{"$f":"INDEX('Fixture Descriptions'!A:K,MATCH('Inspection Form'!H315,'Fixture Descriptions'!A:A,0),8)","v":{"$error":"#N/A"}},{"$error":"#N/A"},null,{"$error":"#N/A"},1,null,null,null,{"$f":"IFERROR(IF(AND(INDEX(Inventory!CB:CB,MATCH('Inspection Form'!B315,Inventory!B:B,0))=\"Not Qualified\",INDEX(Inventory!L:L,MATCH('Inspection Form'!B315,Inventory!B:B,0))<>\"\",$Q$5<>\"Pre\"),0,BY315*BZ315), 0)","v":0},null,{"$error":"#DIV/0!"},{"$error":"#DIV/0!"},312]
[null,312,null,null,null,null,null,null,null,null,null,null,null,null,null,null,null,null,null,null,null,null,null,null,null,null,null,null,null,null,null,null,null,null,null,null,null,null,null,null,null,null,null,null,null,null,null,null,null,null,null,null,null,null,null,null,null,null,null,null,null,null,null,null,null,null,null,null,null,null,null,null,null,{"$f":"INDEX('Fixture Descriptions'!A:K,MATCH('Inspection Form'!H316,'Fixture Descriptions'!A:A,0),8)","v":{"$error":"#N/A"}},{"$error":"#N/A"},null,{"$error":"#N/A"},1,null,null,null,{"$f":"IFERROR(IF(AND(INDEX(Inventory!CB:CB,MATCH('Inspection Form'!B316,Inventory!B:B,0))=\"Not Qualified\",INDEX(Inventory!L:L,MATCH('Inspection Form'!B316,Inventory!B:B,0))<>\"\",$Q$5<>\"Pre\"),0,BY316*BZ316), 0)","v":0},null,{"$error":"#DIV/0!"},{"$error":"#DIV/0!"},313]
[null,313,null,null,null,null,null,null,null,null,null,null,null,null,null,null,null,null,null,null,null,null,null,null,null,null,null,null,null,null,null,null,null,null,null,null,null,null,null,null,null,null,null,null,null,null,null,null,null,null,null,null,null,null,null,null,null,null,null,null,null,null,null,null,null,null,null,null,null,null,null,null,null,{"$f":"INDEX('Fixture Descriptions'!A:K,MATCH('Inspection Form'!H317,'Fixture Descriptions'!A:A,0),8)","v":{"$error":"#N/A"}},{"$error":"#N/A"},null,{"$error":"#N/A"},1,null,null,null,{"$f":"IFERROR(IF(AND(INDEX(Inventory!CB:CB,MATCH('Inspection Form'!B317,Inventory!B:B,0))=\"Not Qualified\",INDEX(Inventory!L:L,MATCH('Inspection Form'!B317,Inventory!B:B,0))<>\"\",$Q$5<>\"Pre\"),0,BY317*BZ317), 0)","v":0},null,{"$error":"#DIV/0!"},{"$error":"#DIV/0!"},314]
[null,314,null,null,null,null,null,null,null,null,null,null,null,null,null,null,null,null,null,null,null,null,null,null,null,null,null,null,null,null,null,null,null,null,null,null,null,null,null,null,null,null,null,null,null,null,null,null,null,null,null,null,null,null,null,null,null,null,null,null,null,null,null,null,null,null,null,null,null,null,null,null,null,{"$f":"INDEX('Fixture Descriptions'!A:K,MATCH('Inspection Form'!H318,'Fixture Descriptions'!A:A,0),8)","v":{"$error":"#N/A"}},{"$error":"#N/A"},null,{"$error":"#N/A"},1,null,null,null,{"$f":"IFERROR(IF(AND(INDEX(Inventory!CB:CB,MATCH('Inspection Form'!B318,Inventory!B:B,0))=\"Not Qualified\",INDEX(Inventory!L:L,MATCH('Inspection Form'!B318,Inventory!B:B,0))<>\"\",$Q$5<>\"Pre\"),0,BY318*BZ318), 0)","v":0},null,{"$error":"#DIV/0!"},{"$error":"#DIV/0!"},315]
[null,315,null,null,null,null,null,null,null,null,null,null,null,null,null,null,null,null,null,null,null,null,null,null,null,null,null,null,null,null,null,null,null,null,null,null,null,null,null,null,null,null,null,null,null,null,null,null,null,null,null,null,null,null,null,null,null,null,null,null,null,null,null,null,null,null,null,null,null,null,null,null,null,{"$f":"INDEX('Fixture Descriptions'!A:K,MATCH('Inspection Form'!H319,'Fixture Descriptions'!A:A,0),8)","v":{"$error":"#N/A"}},{"$error":"#N/A"},null,{"$error":"#N/A"},1,null,null,null,{"$f":"IFERROR(IF(AND(INDEX(Inventory!CB:CB,MATCH('Inspection Form'!B319,Inventory!B:B,0))=\"Not Qualified\",INDEX(Inventory!L:L,MATCH('Inspection Form'!B319,Inventory!B:B,0))<>\"\",$Q$5<>\"Pre\"),0,BY319*BZ319), 0)","v":0},null,{"$error":"#DIV/0!"},{"$error":"#DIV/0!"},316]
[null,316,null,null,null,null,null,null,null,null,null,null,null,null,null,null,null,null,null,null,null,null,null,null,null,null,null,null,null,null,null,null,null,null,null,null,null,null,null,null,null,null,null,null,null,null,null,null,null,null,null,null,null,null,null,null,null,null,null,null,null,null,null,null,null,null,null,null,null,null,null,null,null,{"$f":"INDEX('Fixture Descriptions'!A:K,MATCH('Inspection Form'!H320,'Fixture Descriptions'!A:A,0),8)","v":{"$error":"#N/A"}},{"$error":"#N/A"},null,{"$error":"#N/A"},1,null,null,null,{"$f":"IFERROR(IF(AND(INDEX(Inventory!CB:CB,MATCH('Inspection Form'!B320,Inventory!B:B,0))=\"Not Qualified\",INDEX(Inventory!L:L,MATCH('Inspection Form'!B320,Inventory!B:B,0))<>\"\",$Q$5<>\"Pre\"),0,BY320*BZ320), 0)","v":0},null,{"$error":"#DIV/0!"},{"$error":"#DIV/0!"},317]
[null,317,null,null,null,null,null,null,null,null,null,null,null,null,null,null,null,null,null,null,null,null,null,null,null,null,null,null,null,null,null,null,null,null,null,null,null,null,null,null,null,null,null,null,null,null,null,null,null,null,null,null,null,null,null,null,null,null,null,null,null,null,null,null,null,null,null,null,null,null,null,null,null,{"$f":"INDEX('Fixture Descriptions'!A:K,MATCH('Inspection Form'!H321,'Fixture Descriptions'!A:A,0),8)","v":{"$error":"#N/A"}},{"$error":"#N/A"},null,{"$error":"#N/A"},1,null,null,null,{"$f":"IFERROR(IF(AND(INDEX(Inventory!CB:CB,MATCH('Inspection Form'!B321,Inventory!B:B,0))=\"Not Qualified\",INDEX(Inventory!L:L,MATCH('Inspection Form'!B321,Inventory!B:B,0))<>\"\",$Q$5<>\"Pre\"),0,BY321*BZ321), 0)","v":0},null,{"$error":"#DIV/0!"},{"$error":"#DIV/0!"},318]
[null,318,null,null,null,null,null,null,null,null,null,null,null,null,null,null,null,null,null,null,null,null,null,null,null,null,null,null,null,null,null,null,null,null,null,null,null,null,null,null,null,null,null,null,null,null,null,null,null,null,null,null,null,null,null,null,null,null,null,null,null,null,null,null,null,null,null,null,null,null,null,null,null,{"$f":"INDEX('Fixture Descriptions'!A:K,MATCH('Inspection Form'!H322,'Fixture Descriptions'!A:A,0),8)","v":{"$error":"#N/A"}},{"$error":"#N/A"},null,{"$error":"#N/A"},1,null,null,null,{"$f":"IFERROR(IF(AND(INDEX(Inventory!CB:CB,MATCH('Inspection Form'!B322,Inventory!B:B,0))=\"Not Qualified\",INDEX(Inventory!L:L,MATCH('Inspection Form'!B322,Inventory!B:B,0))<>\"\",$Q$5<>\"Pre\"),0,BY322*BZ322), 0)","v":0},null,{"$error":"#DIV/0!"},{"$error":"#DIV/0!"},319]
[null,319,null,null,null,null,null,null,null,null,null,null,null,null,null,null,null,null,null,null,null,null,null,null,null,null,null,null,null,null,null,null,null,null,null,null,null,null,null,null,null,null,null,null,null,null,null,null,null,null,null,null,null,null,null,null,null,null,null,null,null,null,null,null,null,null,null,null,null,null,null,null,null,{"$f":"INDEX('Fixture Descriptions'!A:K,MATCH('Inspection Form'!H323,'Fixture Descriptions'!A:A,0),8)","v":{"$error":"#N/A"}},{"$error":"#N/A"},null,{"$error":"#N/A"},1,null,null,null,{"$f":"IFERROR(IF(AND(INDEX(Inventory!CB:CB,MATCH('Inspection Form'!B323,Inventory!B:B,0))=\"Not Qualified\",INDEX(Inventory!L:L,MATCH('Inspection Form'!B323,Inventory!B:B,0))<>\"\",$Q$5<>\"Pre\"),0,BY323*BZ323), 0)","v":0},null,{"$error":"#DIV/0!"},{"$error":"#DIV/0!"},320]
[null,320,null,null,null,null,null,null,null,null,null,null,null,null,null,null,null,null,null,null,null,null,null,null,null,null,null,null,null,null,null,null,null,null,null,null,null,null,null,null,null,null,null,null,null,null,null,null,null,null,null,null,null,null,null,null,null,null,null,null,null,null,null,null,null,null,null,null,null,null,null,null,null,{"$f":"INDEX('Fixture Descriptions'!A:K,MATCH('Inspection Form'!H324,'Fixture Descriptions'!A:A,0),8)","v":{"$error":"#N/A"}},{"$error":"#N/A"},null,{"$error":"#N/A"},1,null,null,null,{"$f":"IFERROR(IF(AND(INDEX(Inventory!CB:CB,MATCH('Inspection Form'!B324,Inventory!B:B,0))=\"Not Qualified\",INDEX(Inventory!L:L,MATCH('Inspection Form'!B324,Inventory!B:B,0))<>\"\",$Q$5<>\"Pre\"),0,BY324*BZ324), 0)","v":0},null,{"$error":"#DIV/0!"},{"$error":"#DIV/0!"},321]
[null,321,null,null,null,null,null,null,null,null,null,null,null,null,null,null,null,null,null,null,null,null,null,null,null,null,null,null,null,null,null,null,null,null,null,null,null,null,null,null,null,null,null,null,null,null,null,null,null,null,null,null,null,null,null,null,null,null,null,null,null,null,null,null,null,null,null,null,null,null,null,null,null,{"$f":"INDEX('Fixture Descriptions'!A:K,MATCH('Inspection Form'!H325,'Fixture Descriptions'!A:A,0),8)","v":{"$error":"#N/A"}},{"$f":"BV325*I325","v":{"$error":"#N/A"}},null,{"$error":"#N/A"},1,null,null,null,{"$f":"IFERROR(IF(AND(INDEX(Inventory!CB:CB,MATCH('Inspection Form'!B325,Inventory!B:B,0))=\"Not Qualified\",INDEX(Inventory!L:L,MATCH('Inspection Form'!B325,Inventory!B:B,0))<>\"\",$Q$5<>\"Pre\"),0,BY325*BZ325), 0)","v":0},null,{"$error":"#DIV/0!"},{"$error":"#DIV/0!"},322]
[null,322,null,null,null,null,null,null,null,null,null,null,null,null,null,null,null,null,null,null,null,null,null,null,null,null,null,null,null,null,null,null,null,null,null,null,null,null,null,null,null,null,null,null,null,null,null,null,null,null,null,null,null,null,null,null,null,null,null,null,null,null,null,null,null,null,null,null,null,null,null,null,null,{"$f":"INDEX('Fixture Descriptions'!A:K,MATCH('Inspection Form'!H326,'Fixture Descriptions'!A:A,0),8)","v":{"$error":"#N/A"}},{"$error":"#N/A"},null,{"$f":"BW326","v":{"$error":"#N/A"}},{"$f":"IF($U$3=\"All\", 1, IF(AND(C326=$U$3, H326=$U$4), 1, 0))","v":1},null,null,null,{"$f":"IFERROR(IF(AND(INDEX(Inventory!CB:CB,MATCH('Inspection Form'!B326,Inventory!B:B,0))=\"Not Qualified\",INDEX(Inventory!L:L,MATCH('Inspection Form'!B326,Inventory!B:B,0))<>\"\",$Q$5<>\"Pre\"),0,BY326*BZ326), 0)","v":0},null,{"$f":"CD326/$CE$5","v":{"$error":"#DIV/0!"}},{"$f":"CF326+CG325","v":{"$error":"#DIV/0!"}},323]
[null,323,null,null,null,null,null,null,null,null,null,null,null,null,null,null,null,null,null,null,null,null,null,null,null,null,null,null,null,null,null,null,null,null,null,null,null,null,null,null,null,null,null,null,null,null,null,null,null,null,null,null,null,null,null,null,null,null,null,null,null,null,null,null,null,null,null,null,null,null,null,null,null,{"$f":"INDEX('Fixture Descriptions'!A:K,MATCH('Inspection Form'!H327,'Fixture Descriptions'!A:A,0),8)","v":{"$error":"#N/A"}},{"$error":"#N/A"},null,{"$error":"#N/A"},1,null,null,null,{"$f":"IFERROR(IF(AND(INDEX(Inventory!CB:CB,MATCH('Inspection Form'!B327,Inventory!B:B,0))=\"Not Qualified\",INDEX(Inventory!L:L,MATCH('Inspection Form'!B327,Inventory!B:B,0))<>\"\",$Q$5<>\"Pre\"),0,BY327*BZ327), 0)","v":0},null,{"$error":"#DIV/0!"},{"$error":"#DIV/0!"},324]
[null,324,null,null,null,null,null,null,null,null,null,null,null,null,null,null,null,null,null,null,null,null,null,null,null,null,null,null,null,null,null,null,null,null,null,null,null,null,null,null,null,null,null,null,null,null,null,null,null,null,null,null,null,null,null,null,null,null,null,null,null,null,null,null,null,null,null,null,null,null,null,null,null,{"$f":"INDEX('Fixture Descriptions'!A:K,MATCH('Inspection Form'!H328,'Fixture Descriptions'!A:A,0),8)","v":{"$error":"#N/A"}},{"$error":"#N/A"},null,{"$error":"#N/A"},1,null,null,null,{"$f":"IFERROR(IF(AND(INDEX(Inventory!CB:CB,MATCH('Inspection Form'!B328,Inventory!B:B,0))=\"Not Qualified\",INDEX(Inventory!L:L,MATCH('Inspection Form'!B328,Inventory!B:B,0))<>\"\",$Q$5<>\"Pre\"),0,BY328*BZ328), 0)","v":0},null,{"$error":"#DIV/0!"},{"$error":"#DIV/0!"},325]
[null,325,null,null,null,null,null,null,null,null,null,null,null,null,null,null,null,null,null,null,null,null,null,null,null,null,null,null,null,null,null,null,null,null,null,null,null,null,null,null,null,null,null,null,null,null,null,null,null,null,null,null,null,null,null,null,null,null,null,null,null,null,null,null,null,null,null,null,null,null,null,null,null,{"$f":"INDEX('Fixture Descriptions'!A:K,MATCH('Inspection Form'!H329,'Fixture Descriptions'!A:A,0),8)","v":{"$error":"#N/A"}},{"$error":"#N/A"},null,{"$error":"#N/A"},1,null,null,null,{"$f":"IFERROR(IF(AND(INDEX(Inventory!CB:CB,MATCH('Inspection Form'!B329,Inventory!B:B,0))=\"Not Qualified\",INDEX(Inventory!L:L,MATCH('Inspection Form'!B329,Inventory!B:B,0))<>\"\",$Q$5<>\"Pre\"),0,BY329*BZ329), 0)","v":0},null,{"$error":"#DIV/0!"},{"$error":"#DIV/0!"},326]
[null,326,null,null,null,null,null,null,null,null,null,null,null,null,null,null,null,null,null,null,null,null,null,null,null,null,null,null,null,null,null,null,null,null,null,null,null,null,null,null,null,null,null,null,null,null,null,null,null,null,null,null,null,null,null,null,null,null,null,null,null,null,null,null,null,null,null,null,null,null,null,null,null,{"$f":"INDEX('Fixture Descriptions'!A:K,MATCH('Inspection Form'!H330,'Fixture Descriptions'!A:A,0),8)","v":{"$error":"#N/A"}},{"$error":"#N/A"},null,{"$error":"#N/A"},1,null,null,null,{"$f":"IFERROR(IF(AND(INDEX(Inventory!CB:CB,MATCH('Inspection Form'!B330,Inventory!B:B,0))=\"Not Qualified\",INDEX(Inventory!L:L,MATCH('Inspection Form'!B330,Inventory!B:B,0))<>\"\",$Q$5<>\"Pre\"),0,BY330*BZ330), 0)","v":0},null,{"$error":"#DIV/0!"},{"$error":"#DIV/0!"},327]
[null,327,null,null,null,null,null,null,null,null,null,null,null,null,null,null,null,null,null,null,null,null,null,null,null,null,null,null,null,null,null,null,null,null,null,null,null,null,null,null,null,null,null,null,null,null,null,null,null,null,null,null,null,null,null,null,null,null,null,null,null,null,null,null,null,null,null,null,null,null,null,null,null,{"$f":"INDEX('Fixture Descriptions'!A:K,MATCH('Inspection Form'!H331,'Fixture Descriptions'!A:A,0),8)","v":{"$error":"#N/A"}},{"$error":"#N/A"},null,{"$error":"#N/A"},1,null,null,null,{"$f":"IFERROR(IF(AND(INDEX(Inventory!CB:CB,MATCH('Inspection Form'!B331,Inventory!B:B,0))=\"Not Qualified\",INDEX(Inventory!L:L,MATCH('Inspection Form'!B331,Inventory!B:B,0))<>\"\",$Q$5<>\"Pre\"),0,BY331*BZ331), 0)","v":0},null,{"$error":"#DIV/0!"},{"$error":"#DIV/0!"},328]
[null,328,null,null,null,null,null,null,null,null,null,null,null,null,null,null,null,null,null,null,null,null,null,null,null,null,null,null,null,null,null,null,null,null,null,null,null,null,null,null,null,null,null,null,null,null,null,null,null,null,null,null,null,null,null,null,null,null,null,null,null,null,null,null,null,null,null,null,null,null,null,null,null,{"$f":"INDEX('Fixture Descriptions'!A:K,MATCH('Inspection Form'!H332,'Fixture Descriptions'!A:A,0),8)","v":{"$error":"#N/A"}},{"$error":"#N/A"},null,{"$error":"#N/A"},1,null,null,null,{"$f":"IFERROR(IF(AND(INDEX(Inventory!CB:CB,MATCH('Inspection Form'!B332,Inventory!B:B,0))=\"Not Qualified\",INDEX(Inventory!L:L,MATCH('Inspection Form'!B332,Inventory!B:B,0))<>\"\",$Q$5<>\"Pre\"),0,BY332*BZ332), 0)","v":0},null,{"$error":"#DIV/0!"},{"$error":"#DIV/0!"},329]
[null,329,null,null,null,null,null,null,null,null,null,null,null,null,null,null,null,null,null,null,null,null,null,null,null,null,null,null,null,null,null,null,null,null,null,null,null,null,null,null,null,null,null,null,null,null,null,null,null,null,null,null,null,null,null,null,null,null,null,null,null,null,null,null,null,null,null,null,null,null,null,null,null,{"$f":"INDEX('Fixture Descriptions'!A:K,MATCH('Inspection Form'!H333,'Fixture Descriptions'!A:A,0),8)","v":{"$error":"#N/A"}},{"$error":"#N/A"},null,{"$error":"#N/A"},1,null,null,null,{"$f":"IFERROR(IF(AND(INDEX(Inventory!CB:CB,MATCH('Inspection Form'!B333,Inventory!B:B,0))=\"Not Qualified\",INDEX(Inventory!L:L,MATCH('Inspection Form'!B333,Inventory!B:B,0))<>\"\",$Q$5<>\"Pre\"),0,BY333*BZ333), 0)","v":0},null,{"$error":"#DIV/0!"},{"$error":"#DIV/0!"},330]
[null,330,null,null,null,null,null,null,null,null,null,null,null,null,null,null,null,null,null,null,null,null,null,null,null,null,null,null,null,null,null,null,null,null,null,null,null,null,null,null,null,null,null,null,null,null,null,null,null,null,null,null,null,null,null,null,null,null,null,null,null,null,null,null,null,null,null,null,null,null,null,null,null,{"$f":"INDEX('Fixture Descriptions'!A:K,MATCH('Inspection Form'!H334,'Fixture Descriptions'!A:A,0),8)","v":{"$error":"#N/A"}},{"$error":"#N/A"},null,{"$error":"#N/A"},1,null,null,null,{"$f":"IFERROR(IF(AND(INDEX(Inventory!CB:CB,MATCH('Inspection Form'!B334,Inventory!B:B,0))=\"Not Qualified\",INDEX(Inventory!L:L,MATCH('Inspection Form'!B334,Inventory!B:B,0))<>\"\",$Q$5<>\"Pre\"),0,BY334*BZ334), 0)","v":0},null,{"$error":"#DIV/0!"},{"$error":"#DIV/0!"},331]
[null,331,null,null,null,null,null,null,null,null,null,null,null,null,null,null,null,null,null,null,null,null,null,null,null,null,null,null,null,null,null,null,null,null,null,null,null,null,null,null,null,null,null,null,null,null,null,null,null,null,null,null,null,null,null,null,null,null,null,null,null,null,null,null,null,null,null,null,null,null,null,null,null,{"$f":"INDEX('Fixture Descriptions'!A:K,MATCH('Inspection Form'!H335,'Fixture Descriptions'!A:A,0),8)","v":{"$error":"#N/A"}},{"$error":"#N/A"},null,{"$error":"#N/A"},1,null,null,null,{"$f":"IFERROR(IF(AND(INDEX(Inventory!CB:CB,MATCH('Inspection Form'!B335,Inventory!B:B,0))=\"Not Qualified\",INDEX(Inventory!L:L,MATCH('Inspection Form'!B335,Inventory!B:B,0))<>\"\",$Q$5<>\"Pre\"),0,BY335*BZ335), 0)","v":0},null,{"$error":"#DIV/0!"},{"$error":"#DIV/0!"},332]
[null,332,null,null,null,null,null,null,null,null,null,null,null,null,null,null,null,null,null,null,null,null,null,null,null,null,null,null,null,null,null,null,null,null,null,null,null,null,null,null,null,null,null,null,null,null,null,null,null,null,null,null,null,null,null,null,null,null,null,null,null,null,null,null,null,null,null,null,null,null,null,null,null,{"$f":"INDEX('Fixture Descriptions'!A:K,MATCH('Inspection Form'!H336,'Fixture Descriptions'!A:A,0),8)","v":{"$error":"#N/A"}},{"$error":"#N/A"},null,{"$error":"#N/A"},1,null,null,null,{"$f":"IFERROR(IF(AND(INDEX(Inventory!CB:CB,MATCH('Inspection Form'!B336,Inventory!B:B,0))=\"Not Qualified\",INDEX(Inventory!L:L,MATCH('Inspection Form'!B336,Inventory!B:B,0))<>\"\",$Q$5<>\"Pre\"),0,BY336*BZ336), 0)","v":0},null,{"$error":"#DIV/0!"},{"$error":"#DIV/0!"},333]
[null,333,null,null,null,null,null,null,null,null,null,null,null,null,null,null,null,null,null,null,null,null,null,null,null,null,null,null,null,null,null,null,null,null,null,null,null,null,null,null,null,null,null,null,null,null,null,null,null,null,null,null,null,null,null,null,null,null,null,null,null,null,null,null,null,null,null,null,null,null,null,null,null,{"$f":"INDEX('Fixture Descriptions'!A:K,MATCH('Inspection Form'!H337,'Fixture Descriptions'!A:A,0),8)","v":{"$error":"#N/A"}},{"$error":"#N/A"},null,{"$error":"#N/A"},1,null,null,null,{"$f":"IFERROR(IF(AND(INDEX(Inventory!CB:CB,MATCH('Inspection Form'!B337,Inventory!B:B,0))=\"Not Qualified\",INDEX(Inventory!L:L,MATCH('Inspection Form'!B337,Inventory!B:B,0))<>\"\",$Q$5<>\"Pre\"),0,BY337*BZ337), 0)","v":0},null,{"$error":"#DIV/0!"},{"$error":"#DIV/0!"},334]
[null,334,null,null,null,null,null,null,null,null,null,null,null,null,null,null,null,null,null,null,null,null,null,null,null,null,null,null,null,null,null,null,null,null,null,null,null,null,null,null,null,null,null,null,null,null,null,null,null,null,null,null,null,null,null,null,null,null,null,null,null,null,null,null,null,null,null,null,null,null,null,null,null,{"$f":"INDEX('Fixture Descriptions'!A:K,MATCH('Inspection Form'!H338,'Fixture Descriptions'!A:A,0),8)","v":{"$error":"#N/A"}},{"$error":"#N/A"},null,{"$error":"#N/A"},1,null,null,null,{"$f":"IFERROR(IF(AND(INDEX(Inventory!CB:CB,MATCH('Inspection Form'!B338,Inventory!B:B,0))=\"Not Qualified\",INDEX(Inventory!L:L,MATCH('Inspection Form'!B338,Inventory!B:B,0))<>\"\",$Q$5<>\"Pre\"),0,BY338*BZ338), 0)","v":0},null,{"$error":"#DIV/0!"},{"$error":"#DIV/0!"},335]
[null,335,null,null,null,null,null,null,null,null,null,null,null,null,null,null,null,null,null,null,null,null,null,null,null,null,null,null,null,null,null,null,null,null,null,null,null,null,null,null,null,null,null,null,null,null,null,null,null,null,null,null,null,null,null,null,null,null,null,null,null,null,null,null,null,null,null,null,null,null,null,null,null,{"$f":"INDEX('Fixture Descriptions'!A:K,MATCH('Inspection Form'!H339,'Fixture Descriptions'!A:A,0),8)","v":{"$error":"#N/A"}},{"$error":"#N/A"},null,{"$error":"#N/A"},1,null,null,null,{"$f":"IFERROR(IF(AND(INDEX(Inventory!CB:CB,MATCH('Inspection Form'!B339,Inventory!B:B,0))=\"Not Qualified\",INDEX(Inventory!L:L,MATCH('Inspection Form'!B339,Inventory!B:B,0))<>\"\",$Q$5<>\"Pre\"),0,BY339*BZ339), 0)","v":0},null,{"$error":"#DIV/0!"},{"$error":"#DIV/0!"},336]
[null,336,null,null,null,null,null,null,null,null,null,null,null,null,null,null,null,null,null,null,null,null,null,null,null,null,null,null,null,null,null,null,null,null,null,null,null,null,null,null,null,null,null,null,null,null,null,null,null,null,null,null,null,null,null,null,null,null,null,null,null,null,null,null,null,null,null,null,null,null,null,null,null,{"$f":"INDEX('Fixture Descriptions'!A:K,MATCH('Inspection Form'!H340,'Fixture Descriptions'!A:A,0),8)","v":{"$error":"#N/A"}},{"$error":"#N/A"},null,{"$error":"#N/A"},1,null,null,null,{"$f":"IFERROR(IF(AND(INDEX(Inventory!CB:CB,MATCH('Inspection Form'!B340,Inventory!B:B,0))=\"Not Qualified\",INDEX(Inventory!L:L,MATCH('Inspection Form'!B340,Inventory!B:B,0))<>\"\",$Q$5<>\"Pre\"),0,BY340*BZ340), 0)","v":0},null,{"$error":"#DIV/0!"},{"$error":"#DIV/0!"},337]
[null,337,null,null,null,null,null,null,null,null,null,null,null,null,null,null,null,null,null,null,null,null,null,null,null,null,null,null,null,null,null,null,null,null,null,null,null,null,null,null,null,null,null,null,null,null,null,null,null,null,null,null,null,null,null,null,null,null,null,null,null,null,null,null,null,null,null,null,null,null,null,null,null,{"$f":"INDEX('Fixture Descriptions'!A:K,MATCH('Inspection Form'!H341,'Fixture Descriptions'!A:A,0),8)","v":{"$error":"#N/A"}},{"$error":"#N/A"},null,{"$error":"#N/A"},1,null,null,null,{"$f":"IFERROR(IF(AND(INDEX(Inventory!CB:CB,MATCH('Inspection Form'!B341,Inventory!B:B,0))=\"Not Qualified\",INDEX(Inventory!L:L,MATCH('Inspection Form'!B341,Inventory!B:B,0))<>\"\",$Q$5<>\"Pre\"),0,BY341*BZ341), 0)","v":0},null,{"$error":"#DIV/0!"},{"$error":"#DIV/0!"},338]
[null,338,null,null,null,null,null,null,null,null,null,null,null,null,null,null,null,null,null,null,null,null,null,null,null,null,null,null,null,null,null,null,null,null,null,null,null,null,null,null,null,null,null,null,null,null,null,null,null,null,null,null,null,null,null,null,null,null,null,null,null,null,null,null,null,null,null,null,null,null,null,null,null,{"$f":"INDEX('Fixture Descriptions'!A:K,MATCH('Inspection Form'!H342,'Fixture Descriptions'!A:A,0),8)","v":{"$error":"#N/A"}},{"$error":"#N/A"},null,{"$error":"#N/A"},1,null,null,null,{"$f":"IFERROR(IF(AND(INDEX(Inventory!CB:CB,MATCH('Inspection Form'!B342,Inventory!B:B,0))=\"Not Qualified\",INDEX(Inventory!L:L,MATCH('Inspection Form'!B342,Inventory!B:B,0))<>\"\",$Q$5<>\"Pre\"),0,BY342*BZ342), 0)","v":0},null,{"$error":"#DIV/0!"},{"$error":"#DIV/0!"},339]
[null,339,null,null,null,null,null,null,null,null,null,null,null,null,null,null,null,null,null,null,null,null,null,null,null,null,null,null,null,null,null,null,null,null,null,null,null,null,null,null,null,null,null,null,null,null,null,null,null,null,null,null,null,null,null,null,null,null,null,null,null,null,null,null,null,null,null,null,null,null,null,null,null,{"$f":"INDEX('Fixture Descriptions'!A:K,MATCH('Inspection Form'!H343,'Fixture Descriptions'!A:A,0),8)","v":{"$error":"#N/A"}},{"$error":"#N/A"},null,{"$error":"#N/A"},1,null,null,null,{"$f":"IFERROR(IF(AND(INDEX(Inventory!CB:CB,MATCH('Inspection Form'!B343,Inventory!B:B,0))=\"Not Qualified\",INDEX(Inventory!L:L,MATCH('Inspection Form'!B343,Inventory!B:B,0))<>\"\",$Q$5<>\"Pre\"),0,BY343*BZ343), 0)","v":0},null,{"$error":"#DIV/0!"},{"$error":"#DIV/0!"},340]
[null,340,null,null,null,null,null,null,null,null,null,null,null,null,null,null,null,null,null,null,null,null,null,null,null,null,null,null,null,null,null,null,null,null,null,null,null,null,null,null,null,null,null,null,null,null,null,null,null,null,null,null,null,null,null,null,null,null,null,null,null,null,null,null,null,null,null,null,null,null,null,null,null,{"$f":"INDEX('Fixture Descriptions'!A:K,MATCH('Inspection Form'!H344,'Fixture Descriptions'!A:A,0),8)","v":{"$error":"#N/A"}},{"$error":"#N/A"},null,{"$error":"#N/A"},1,null,null,null,{"$f":"IFERROR(IF(AND(INDEX(Inventory!CB:CB,MATCH('Inspection Form'!B344,Inventory!B:B,0))=\"Not Qualified\",INDEX(Inventory!L:L,MATCH('Inspection Form'!B344,Inventory!B:B,0))<>\"\",$Q$5<>\"Pre\"),0,BY344*BZ344), 0)","v":0},null,{"$error":"#DIV/0!"},{"$error":"#DIV/0!"},341]
[null,341,null,null,null,null,null,null,null,null,null,null,null,null,null,null,null,null,null,null,null,null,null,null,null,null,null,null,null,null,null,null,null,null,null,null,null,null,null,null,null,null,null,null,null,null,null,null,null,null,null,null,null,null,null,null,null,null,null,null,null,null,null,null,null,null,null,null,null,null,null,null,null,{"$f":"INDEX('Fixture Descriptions'!A:K,MATCH('Inspection Form'!H345,'Fixture Descriptions'!A:A,0),8)","v":{"$error":"#N/A"}},{"$error":"#N/A"},null,{"$error":"#N/A"},1,null,null,null,{"$f":"IFERROR(IF(AND(INDEX(Inventory!CB:CB,MATCH('Inspection Form'!B345,Inventory!B:B,0))=\"Not Qualified\",INDEX(Inventory!L:L,MATCH('Inspection Form'!B345,Inventory!B:B,0))<>\"\",$Q$5<>\"Pre\"),0,BY345*BZ345), 0)","v":0},null,{"$error":"#DIV/0!"},{"$error":"#DIV/0!"},342]
[null,342,null,null,null,null,null,null,null,null,null,null,null,null,null,null,null,null,null,null,null,null,null,null,null,null,null,null,null,null,null,null,null,null,null,null,null,null,null,null,null,null,null,null,null,null,null,null,null,null,null,null,null,null,null,null,null,null,null,null,null,null,null,null,null,null,null,null,null,null,null,null,null,{"$f":"INDEX('Fixture Descriptions'!A:K,MATCH('Inspection Form'!H346,'Fixture Descriptions'!A:A,0),8)","v":{"$error":"#N/A"}},{"$error":"#N/A"},null,{"$error":"#N/A"},1,null,null,null,{"$f":"IFERROR(IF(AND(INDEX(Inventory!CB:CB,MATCH('Inspection Form'!B346,Inventory!B:B,0))=\"Not Qualified\",INDEX(Inventory!L:L,MATCH('Inspection Form'!B346,Inventory!B:B,0))<>\"\",$Q$5<>\"Pre\"),0,BY346*BZ346), 0)","v":0},null,{"$error":"#DIV/0!"},{"$error":"#DIV/0!"},343]
[null,343,null,null,null,null,null,null,null,null,null,null,null,null,null,null,null,null,null,null,null,null,null,null,null,null,null,null,null,null,null,null,null,null,null,null,null,null,null,null,null,null,null,null,null,null,null,null,null,null,null,null,null,null,null,null,null,null,null,null,null,null,null,null,null,null,null,null,null,null,null,null,null,{"$f":"INDEX('Fixture Descriptions'!A:K,MATCH('Inspection Form'!H347,'Fixture Descriptions'!A:A,0),8)","v":{"$error":"#N/A"}},{"$error":"#N/A"},null,{"$error":"#N/A"},1,null,null,null,{"$f":"IFERROR(IF(AND(INDEX(Inventory!CB:CB,MATCH('Inspection Form'!B347,Inventory!B:B,0))=\"Not Qualified\",INDEX(Inventory!L:L,MATCH('Inspection Form'!B347,Inventory!B:B,0))<>\"\",$Q$5<>\"Pre\"),0,BY347*BZ347), 0)","v":0},null,{"$error":"#DIV/0!"},{"$error":"#DIV/0!"},344]
[null,344,null,null,null,null,null,null,null,null,null,null,null,null,null,null,null,null,null,null,null,null,null,null,null,null,null,null,null,null,null,null,null,null,null,null,null,null,null,null,null,null,null,null,null,null,null,null,null,null,null,null,null,null,null,null,null,null,null,null,null,null,null,null,null,null,null,null,null,null,null,null,null,{"$f":"INDEX('Fixture Descriptions'!A:K,MATCH('Inspection Form'!H348,'Fixture Descriptions'!A:A,0),8)","v":{"$error":"#N/A"}},{"$error":"#N/A"},null,{"$error":"#N/A"},1,null,null,null,{"$f":"IFERROR(IF(AND(INDEX(Inventory!CB:CB,MATCH('Inspection Form'!B348,Inventory!B:B,0))=\"Not Qualified\",INDEX(Inventory!L:L,MATCH('Inspection Form'!B348,Inventory!B:B,0))<>\"\",$Q$5<>\"Pre\"),0,BY348*BZ348), 0)","v":0},null,{"$error":"#DIV/0!"},{"$error":"#DIV/0!"},345]
[null,345,null,null,null,null,null,null,null,null,null,null,null,null,null,null,null,null,null,null,null,null,null,null,null,null,null,null,null,null,null,null,null,null,null,null,null,null,null,null,null,null,null,null,null,null,null,null,null,null,null,null,null,null,null,null,null,null,null,null,null,null,null,null,null,null,null,null,null,null,null,null,null,{"$f":"INDEX('Fixture Descriptions'!A:K,MATCH('Inspection Form'!H349,'Fixture Descriptions'!A:A,0),8)","v":{"$error":"#N/A"}},{"$error":"#N/A"},null,{"$error":"#N/A"},1,null,null,null,{"$f":"IFERROR(IF(AND(INDEX(Inventory!CB:CB,MATCH('Inspection Form'!B349,Inventory!B:B,0))=\"Not Qualified\",INDEX(Inventory!L:L,MATCH('Inspection Form'!B349,Inventory!B:B,0))<>\"\",$Q$5<>\"Pre\"),0,BY349*BZ349), 0)","v":0},null,{"$error":"#DIV/0!"},{"$error":"#DIV/0!"},346]
[null,346,null,null,null,null,null,null,null,null,null,null,null,null,null,null,null,null,null,null,null,null,null,null,null,null,null,null,null,null,null,null,null,null,null,null,null,null,null,null,null,null,null,null,null,null,null,null,null,null,null,null,null,null,null,null,null,null,null,null,null,null,null,null,null,null,null,null,null,null,null,null,null,{"$f":"INDEX('Fixture Descriptions'!A:K,MATCH('Inspection Form'!H350,'Fixture Descriptions'!A:A,0),8)","v":{"$error":"#N/A"}},{"$error":"#N/A"},null,{"$error":"#N/A"},1,null,null,null,{"$f":"IFERROR(IF(AND(INDEX(Inventory!CB:CB,MATCH('Inspection Form'!B350,Inventory!B:B,0))=\"Not Qualified\",INDEX(Inventory!L:L,MATCH('Inspection Form'!B350,Inventory!B:B,0))<>\"\",$Q$5<>\"Pre\"),0,BY350*BZ350), 0)","v":0},null,{"$error":"#DIV/0!"},{"$error":"#DIV/0!"},347]
[null,347,null,null,null,null,null,null,null,null,null,null,null,null,null,null,null,null,null,null,null,null,null,null,null,null,null,null,null,null,null,null,null,null,null,null,null,null,null,null,null,null,null,null,null,null,null,null,null,null,null,null,null,null,null,null,null,null,null,null,null,null,null,null,null,null,null,null,null,null,null,null,null,{"$f":"INDEX('Fixture Descriptions'!A:K,MATCH('Inspection Form'!H351,'Fixture Descriptions'!A:A,0),8)","v":{"$error":"#N/A"}},{"$error":"#N/A"},null,{"$error":"#N/A"},1,null,null,null,{"$f":"IFERROR(IF(AND(INDEX(Inventory!CB:CB,MATCH('Inspection Form'!B351,Inventory!B:B,0))=\"Not Qualified\",INDEX(Inventory!L:L,MATCH('Inspection Form'!B351,Inventory!B:B,0))<>\"\",$Q$5<>\"Pre\"),0,BY351*BZ351), 0)","v":0},null,{"$error":"#DIV/0!"},{"$error":"#DIV/0!"},348]
[null,348,null,null,null,null,null,null,null,null,null,null,null,null,null,null,null,null,null,null,null,null,null,null,null,null,null,null,null,null,null,null,null,null,null,null,null,null,null,null,null,null,null,null,null,null,null,null,null,null,null,null,null,null,null,null,null,null,null,null,null,null,null,null,null,null,null,null,null,null,null,null,null,{"$f":"INDEX('Fixture Descriptions'!A:K,MATCH('Inspection Form'!H352,'Fixture Descriptions'!A:A,0),8)","v":{"$error":"#N/A"}},{"$error":"#N/A"},null,{"$error":"#N/A"},1,null,null,null,{"$f":"IFERROR(IF(AND(INDEX(Inventory!CB:CB,MATCH('Inspection Form'!B352,Inventory!B:B,0))=\"Not Qualified\",INDEX(Inventory!L:L,MATCH('Inspection Form'!B352,Inventory!B:B,0))<>\"\",$Q$5<>\"Pre\"),0,BY352*BZ352), 0)","v":0},null,{"$error":"#DIV/0!"},{"$error":"#DIV/0!"},349]
[null,349,null,null,null,null,null,null,null,null,null,null,null,null,null,null,null,null,null,null,null,null,null,null,null,null,null,null,null,null,null,null,null,null,null,null,null,null,null,null,null,null,null,null,null,null,null,null,null,null,null,null,null,null,null,null,null,null,null,null,null,null,null,null,null,null,null,null,null,null,null,null,null,{"$f":"INDEX('Fixture Descriptions'!A:K,MATCH('Inspection Form'!H353,'Fixture Descriptions'!A:A,0),8)","v":{"$error":"#N/A"}},{"$error":"#N/A"},null,{"$error":"#N/A"},1,null,null,null,{"$f":"IFERROR(IF(AND(INDEX(Inventory!CB:CB,MATCH('Inspection Form'!B353,Inventory!B:B,0))=\"Not Qualified\",INDEX(Inventory!L:L,MATCH('Inspection Form'!B353,Inventory!B:B,0))<>\"\",$Q$5<>\"Pre\"),0,BY353*BZ353), 0)","v":0},null,{"$error":"#DIV/0!"},{"$error":"#DIV/0!"},350]
[null,350,null,null,null,null,null,null,null,null,null,null,null,null,null,null,null,null,null,null,null,null,null,null,null,null,null,null,null,null,null,null,null,null,null,null,null,null,null,null,null,null,null,null,null,null,null,null,null,null,null,null,null,null,null,null,null,null,null,null,null,null,null,null,null,null,null,null,null,null,null,null,null,{"$f":"INDEX('Fixture Descriptions'!A:K,MATCH('Inspection Form'!H354,'Fixture Descriptions'!A:A,0),8)","v":{"$error":"#N/A"}},{"$error":"#N/A"},null,{"$error":"#N/A"},1,null,null,null,{"$f":"IFERROR(IF(AND(INDEX(Inventory!CB:CB,MATCH('Inspection Form'!B354,Inventory!B:B,0))=\"Not Qualified\",INDEX(Inventory!L:L,MATCH('Inspection Form'!B354,Inventory!B:B,0))<>\"\",$Q$5<>\"Pre\"),0,BY354*BZ354), 0)","v":0},null,{"$error":"#DIV/0!"},{"$error":"#DIV/0!"},351]
[null,351,null,null,null,null,null,null,null,null,null,null,null,null,null,null,null,null,null,null,null,null,null,null,null,null,null,null,null,null,null,null,null,null,null,null,null,null,null,null,null,null,null,null,null,null,null,null,null,null,null,null,null,null,null,null,null,null,null,null,null,null,null,null,null,null,null,null,null,null,null,null,null,{"$f":"INDEX('Fixture Descriptions'!A:K,MATCH('Inspection Form'!H355,'Fixture Descriptions'!A:A,0),8)","v":{"$error":"#N/A"}},{"$error":"#N/A"},null,{"$error":"#N/A"},1,null,null,null,{"$f":"IFERROR(IF(AND(INDEX(Inventory!CB:CB,MATCH('Inspection Form'!B355,Inventory!B:B,0))=\"Not Qualified\",INDEX(Inventory!L:L,MATCH('Inspection Form'!B355,Inventory!B:B,0))<>\"\",$Q$5<>\"Pre\"),0,BY355*BZ355), 0)","v":0},null,{"$error":"#DIV/0!"},{"$error":"#DIV/0!"},352]
[null,352,null,null,null,null,null,null,null,null,null,null,null,null,null,null,null,null,null,null,null,null,null,null,null,null,null,null,null,null,null,null,null,null,null,null,null,null,null,null,null,null,null,null,null,null,null,null,null,null,null,null,null,null,null,null,null,null,null,null,null,null,null,null,null,null,null,null,null,null,null,null,null,{"$f":"INDEX('Fixture Descriptions'!A:K,MATCH('Inspection Form'!H356,'Fixture Descriptions'!A:A,0),8)","v":{"$error":"#N/A"}},{"$error":"#N/A"},null,{"$error":"#N/A"},1,null,null,null,{"$f":"IFERROR(IF(AND(INDEX(Inventory!CB:CB,MATCH('Inspection Form'!B356,Inventory!B:B,0))=\"Not Qualified\",INDEX(Inventory!L:L,MATCH('Inspection Form'!B356,Inventory!B:B,0))<>\"\",$Q$5<>\"Pre\"),0,BY356*BZ356), 0)","v":0},null,{"$error":"#DIV/0!"},{"$error":"#DIV/0!"},353]
[null,353,null,null,null,null,null,null,null,null,null,null,null,null,null,null,null,null,null,null,null,null,null,null,null,null,null,null,null,null,null,null,null,null,null,null,null,null,null,null,null,null,null,null,null,null,null,null,null,null,null,null,null,null,null,null,null,null,null,null,null,null,null,null,null,null,null,null,null,null,null,null,null,{"$f":"INDEX('Fixture Descriptions'!A:K,MATCH('Inspection Form'!H357,'Fixture Descriptions'!A:A,0),8)","v":{"$error":"#N/A"}},{"$error":"#N/A"},null,{"$error":"#N/A"},1,null,null,null,{"$f":"IFERROR(IF(AND(INDEX(Inventory!CB:CB,MATCH('Inspection Form'!B357,Inventory!B:B,0))=\"Not Qualified\",INDEX(Inventory!L:L,MATCH('Inspection Form'!B357,Inventory!B:B,0))<>\"\",$Q$5<>\"Pre\"),0,BY357*BZ357), 0)","v":0},null,{"$error":"#DIV/0!"},{"$error":"#DIV/0!"},354]
[null,354,null,null,null,null,null,null,null,null,null,null,null,null,null,null,null,null,null,null,null,null,null,null,null,null,null,null,null,null,null,null,null,null,null,null,null,null,null,null,null,null,null,null,null,null,null,null,null,null,null,null,null,null,null,null,null,null,null,null,null,null,null,null,null,null,null,null,null,null,null,null,null,{"$f":"INDEX('Fixture Descriptions'!A:K,MATCH('Inspection Form'!H358,'Fixture Descriptions'!A:A,0),8)","v":{"$error":"#N/A"}},{"$error":"#N/A"},null,{"$error":"#N/A"},1,null,null,null,{"$f":"IFERROR(IF(AND(INDEX(Inventory!CB:CB,MATCH('Inspection Form'!B358,Inventory!B:B,0))=\"Not Qualified\",INDEX(Inventory!L:L,MATCH('Inspection Form'!B358,Inventory!B:B,0))<>\"\",$Q$5<>\"Pre\"),0,BY358*BZ358), 0)","v":0},null,{"$error":"#DIV/0!"},{"$error":"#DIV/0!"},355]
[null,355,null,null,null,null,null,null,null,null,null,null,null,null,null,null,null,null,null,null,null,null,null,null,null,null,null,null,null,null,null,null,null,null,null,null,null,null,null,null,null,null,null,null,null,null,null,null,null,null,null,null,null,null,null,null,null,null,null,null,null,null,null,null,null,null,null,null,null,null,null,null,null,{"$f":"INDEX('Fixture Descriptions'!A:K,MATCH('Inspection Form'!H359,'Fixture Descriptions'!A:A,0),8)","v":{"$error":"#N/A"}},{"$error":"#N/A"},null,{"$error":"#N/A"},1,null,null,null,{"$f":"IFERROR(IF(AND(INDEX(Inventory!CB:CB,MATCH('Inspection Form'!B359,Inventory!B:B,0))=\"Not Qualified\",INDEX(Inventory!L:L,MATCH('Inspection Form'!B359,Inventory!B:B,0))<>\"\",$Q$5<>\"Pre\"),0,BY359*BZ359), 0)","v":0},null,{"$error":"#DIV/0!"},{"$error":"#DIV/0!"},356]
[null,356,null,null,null,null,null,null,null,null,null,null,null,null,null,null,null,null,null,null,null,null,null,null,null,null,null,null,null,null,null,null,null,null,null,null,null,null,null,null,null,null,null,null,null,null,null,null,null,null,null,null,null,null,null,null,null,null,null,null,null,null,null,null,null,null,null,null,null,null,null,null,null,{"$f":"INDEX('Fixture Descriptions'!A:K,MATCH('Inspection Form'!H360,'Fixture Descriptions'!A:A,0),8)","v":{"$error":"#N/A"}},{"$error":"#N/A"},null,{"$error":"#N/A"},1,null,null,null,{"$f":"IFERROR(IF(AND(INDEX(Inventory!CB:CB,MATCH('Inspection Form'!B360,Inventory!B:B,0))=\"Not Qualified\",INDEX(Inventory!L:L,MATCH('Inspection Form'!B360,Inventory!B:B,0))<>\"\",$Q$5<>\"Pre\"),0,BY360*BZ360), 0)","v":0},null,{"$error":"#DIV/0!"},{"$error":"#DIV/0!"},357]
[null,357,null,null,null,null,null,null,null,null,null,null,null,null,null,null,null,null,null,null,null,null,null,null,null,null,null,null,null,null,null,null,null,null,null,null,null,null,null,null,null,null,null,null,null,null,null,null,null,null,null,null,null,null,null,null,null,null,null,null,null,null,null,null,null,null,null,null,null,null,null,null,null,{"$f":"INDEX('Fixture Descriptions'!A:K,MATCH('Inspection Form'!H361,'Fixture Descriptions'!A:A,0),8)","v":{"$error":"#N/A"}},{"$error":"#N/A"},null,{"$error":"#N/A"},1,null,null,null,{"$f":"IFERROR(IF(AND(INDEX(Inventory!CB:CB,MATCH('Inspection Form'!B361,Inventory!B:B,0))=\"Not Qualified\",INDEX(Inventory!L:L,MATCH('Inspection Form'!B361,Inventory!B:B,0))<>\"\",$Q$5<>\"Pre\"),0,BY361*BZ361), 0)","v":0},null,{"$error":"#DIV/0!"},{"$error":"#DIV/0!"},358]
[null,358,null,null,null,null,null,null,null,null,null,null,null,null,null,null,null,null,null,null,null,null,null,null,null,null,null,null,null,null,null,null,null,null,null,null,null,null,null,null,null,null,null,null,null,null,null,null,null,null,null,null,null,null,null,null,null,null,null,null,null,null,null,null,null,null,null,null,null,null,null,null,null,{"$f":"INDEX('Fixture Descriptions'!A:K,MATCH('Inspection Form'!H362,'Fixture Descriptions'!A:A,0),8)","v":{"$error":"#N/A"}},{"$error":"#N/A"},null,{"$error":"#N/A"},1,null,null,null,{"$f":"IFERROR(IF(AND(INDEX(Inventory!CB:CB,MATCH('Inspection Form'!B362,Inventory!B:B,0))=\"Not Qualified\",INDEX(Inventory!L:L,MATCH('Inspection Form'!B362,Inventory!B:B,0))<>\"\",$Q$5<>\"Pre\"),0,BY362*BZ362), 0)","v":0},null,{"$error":"#DIV/0!"},{"$error":"#DIV/0!"},359]
[null,359,null,null,null,null,null,null,null,null,null,null,null,null,null,null,null,null,null,null,null,null,null,null,null,null,null,null,null,null,null,null,null,null,null,null,null,null,null,null,null,null,null,null,null,null,null,null,null,null,null,null,null,null,null,null,null,null,null,null,null,null,null,null,null,null,null,null,null,null,null,null,null,{"$f":"INDEX('Fixture Descriptions'!A:K,MATCH('Inspection Form'!H363,'Fixture Descriptions'!A:A,0),8)","v":{"$error":"#N/A"}},{"$error":"#N/A"},null,{"$error":"#N/A"},1,null,null,null,{"$f":"IFERROR(IF(AND(INDEX(Inventory!CB:CB,MATCH('Inspection Form'!B363,Inventory!B:B,0))=\"Not Qualified\",INDEX(Inventory!L:L,MATCH('Inspection Form'!B363,Inventory!B:B,0))<>\"\",$Q$5<>\"Pre\"),0,BY363*BZ363), 0)","v":0},null,{"$error":"#DIV/0!"},{"$error":"#DIV/0!"},360]
[null,360,null,null,null,null,null,null,null,null,null,null,null,null,null,null,null,null,null,null,null,null,null,null,null,null,null,null,null,null,null,null,null,null,null,null,null,null,null,null,null,null,null,null,null,null,null,null,null,null,null,null,null,null,null,null,null,null,null,null,null,null,null,null,null,null,null,null,null,null,null,null,null,{"$f":"INDEX('Fixture Descriptions'!A:K,MATCH('Inspection Form'!H364,'Fixture Descriptions'!A:A,0),8)","v":{"$error":"#N/A"}},{"$error":"#N/A"},null,{"$error":"#N/A"},1,null,null,null,{"$f":"IFERROR(IF(AND(INDEX(Inventory!CB:CB,MATCH('Inspection Form'!B364,Inventory!B:B,0))=\"Not Qualified\",INDEX(Inventory!L:L,MATCH('Inspection Form'!B364,Inventory!B:B,0))<>\"\",$Q$5<>\"Pre\"),0,BY364*BZ364), 0)","v":0},null,{"$error":"#DIV/0!"},{"$error":"#DIV/0!"},361]
[null,361,null,null,null,null,null,null,null,null,null,null,null,null,null,null,null,null,null,null,null,null,null,null,null,null,null,null,null,null,null,null,null,null,null,null,null,null,null,null,null,null,null,null,null,null,null,null,null,null,null,null,null,null,null,null,null,null,null,null,null,null,null,null,null,null,null,null,null,null,null,null,null,{"$f":"INDEX('Fixture Descriptions'!A:K,MATCH('Inspection Form'!H365,'Fixture Descriptions'!A:A,0),8)","v":{"$error":"#N/A"}},{"$error":"#N/A"},null,{"$error":"#N/A"},1,null,null,null,{"$f":"IFERROR(IF(AND(INDEX(Inventory!CB:CB,MATCH('Inspection Form'!B365,Inventory!B:B,0))=\"Not Qualified\",INDEX(Inventory!L:L,MATCH('Inspection Form'!B365,Inventory!B:B,0))<>\"\",$Q$5<>\"Pre\"),0,BY365*BZ365), 0)","v":0},null,{"$error":"#DIV/0!"},{"$error":"#DIV/0!"},362]
[null,362,null,null,null,null,null,null,null,null,null,null,null,null,null,null,null,null,null,null,null,null,null,null,null,null,null,null,null,null,null,null,null,null,null,null,null,null,null,null,null,null,null,null,null,null,null,null,null,null,null,null,null,null,null,null,null,null,null,null,null,null,null,null,null,null,null,null,null,null,null,null,null,{"$f":"INDEX('Fixture Descriptions'!A:K,MATCH('Inspection Form'!H366,'Fixture Descriptions'!A:A,0),8)","v":{"$error":"#N/A"}},{"$error":"#N/A"},null,{"$error":"#N/A"},1,null,null,null,{"$f":"IFERROR(IF(AND(INDEX(Inventory!CB:CB,MATCH('Inspection Form'!B366,Inventory!B:B,0))=\"Not Qualified\",INDEX(Inventory!L:L,MATCH('Inspection Form'!B366,Inventory!B:B,0))<>\"\",$Q$5<>\"Pre\"),0,BY366*BZ366), 0)","v":0},null,{"$error":"#DIV/0!"},{"$error":"#DIV/0!"},363]
[null,363,null,null,null,null,null,null,null,null,null,null,null,null,null,null,null,null,null,null,null,null,null,null,null,null,null,null,null,null,null,null,null,null,null,null,null,null,null,null,null,null,null,null,null,null,null,null,null,null,null,null,null,null,null,null,null,null,null,null,null,null,null,null,null,null,null,null,null,null,null,null,null,{"$f":"INDEX('Fixture Descriptions'!A:K,MATCH('Inspection Form'!H367,'Fixture Descriptions'!A:A,0),8)","v":{"$error":"#N/A"}},{"$error":"#N/A"},null,{"$error":"#N/A"},1,null,null,null,{"$f":"IFERROR(IF(AND(INDEX(Inventory!CB:CB,MATCH('Inspection Form'!B367,Inventory!B:B,0))=\"Not Qualified\",INDEX(Inventory!L:L,MATCH('Inspection Form'!B367,Inventory!B:B,0))<>\"\",$Q$5<>\"Pre\"),0,BY367*BZ367), 0)","v":0},null,{"$error":"#DIV/0!"},{"$error":"#DIV/0!"},364]
[null,364,null,null,null,null,null,null,null,null,null,null,null,null,null,null,null,null,null,null,null,null,null,null,null,null,null,null,null,null,null,null,null,null,null,null,null,null,null,null,null,null,null,null,null,null,null,null,null,null,null,null,null,null,null,null,null,null,null,null,null,null,null,null,null,null,null,null,null,null,null,null,null,{"$f":"INDEX('Fixture Descriptions'!A:K,MATCH('Inspection Form'!H368,'Fixture Descriptions'!A:A,0),8)","v":{"$error":"#N/A"}},{"$error":"#N/A"},null,{"$error":"#N/A"},1,null,null,null,{"$f":"IFERROR(IF(AND(INDEX(Inventory!CB:CB,MATCH('Inspection Form'!B368,Inventory!B:B,0))=\"Not Qualified\",INDEX(Inventory!L:L,MATCH('Inspection Form'!B368,Inventory!B:B,0))<>\"\",$Q$5<>\"Pre\"),0,BY368*BZ368), 0)","v":0},null,{"$error":"#DIV/0!"},{"$error":"#DIV/0!"},365]
[null,365,null,null,null,null,null,null,null,null,null,null,null,null,null,null,null,null,null,null,null,null,null,null,null,null,null,null,null,null,null,null,null,null,null,null,null,null,null,null,null,null,null,null,null,null,null,null,null,null,null,null,null,null,null,null,null,null,null,null,null,null,null,null,null,null,null,null,null,null,null,null,null,{"$f":"INDEX('Fixture Descriptions'!A:K,MATCH('Inspection Form'!H369,'Fixture Descriptions'!A:A,0),8)","v":{"$error":"#N/A"}},{"$error":"#N/A"},null,{"$error":"#N/A"},1,null,null,null,{"$f":"IFERROR(IF(AND(INDEX(Inventory!CB:CB,MATCH('Inspection Form'!B369,Inventory!B:B,0))=\"Not Qualified\",INDEX(Inventory!L:L,MATCH('Inspection Form'!B369,Inventory!B:B,0))<>\"\",$Q$5<>\"Pre\"),0,BY369*BZ369), 0)","v":0},null,{"$error":"#DIV/0!"},{"$error":"#DIV/0!"},366]
[null,366,null,null,null,null,null,null,null,null,null,null,null,null,null,null,null,null,null,null,null,null,null,null,null,null,null,null,null,null,null,null,null,null,null,null,null,null,null,null,null,null,null,null,null,null,null,null,null,null,null,null,null,null,null,null,null,null,null,null,null,null,null,null,null,null,null,null,null,null,null,null,null,{"$f":"INDEX('Fixture Descriptions'!A:K,MATCH('Inspection Form'!H370,'Fixture Descriptions'!A:A,0),8)","v":{"$error":"#N/A"}},{"$error":"#N/A"},null,{"$error":"#N/A"},1,null,null,null,{"$f":"IFERROR(IF(AND(INDEX(Inventory!CB:CB,MATCH('Inspection Form'!B370,Inventory!B:B,0))=\"Not Qualified\",INDEX(Inventory!L:L,MATCH('Inspection Form'!B370,Inventory!B:B,0))<>\"\",$Q$5<>\"Pre\"),0,BY370*BZ370), 0)","v":0},null,{"$error":"#DIV/0!"},{"$error":"#DIV/0!"},367]
[null,367,null,null,null,null,null,null,null,null,null,null,null,null,null,null,null,null,null,null,null,null,null,null,null,null,null,null,null,null,null,null,null,null,null,null,null,null,null,null,null,null,null,null,null,null,null,null,null,null,null,null,null,null,null,null,null,null,null,null,null,null,null,null,null,null,null,null,null,null,null,null,null,{"$f":"INDEX('Fixture Descriptions'!A:K,MATCH('Inspection Form'!H371,'Fixture Descriptions'!A:A,0),8)","v":{"$error":"#N/A"}},{"$error":"#N/A"},null,{"$error":"#N/A"},1,null,null,null,{"$f":"IFERROR(IF(AND(INDEX(Inventory!CB:CB,MATCH('Inspection Form'!B371,Inventory!B:B,0))=\"Not Qualified\",INDEX(Inventory!L:L,MATCH('Inspection Form'!B371,Inventory!B:B,0))<>\"\",$Q$5<>\"Pre\"),0,BY371*BZ371), 0)","v":0},null,{"$error":"#DIV/0!"},{"$error":"#DIV/0!"},368]
[null,368,null,null,null,null,null,null,null,null,null,null,null,null,null,null,null,null,null,null,null,null,null,null,null,null,null,null,null,null,null,null,null,null,null,null,null,null,null,null,null,null,null,null,null,null,null,null,null,null,null,null,null,null,null,null,null,null,null,null,null,null,null,null,null,null,null,null,null,null,null,null,null,{"$f":"INDEX('Fixture Descriptions'!A:K,MATCH('Inspection Form'!H372,'Fixture Descriptions'!A:A,0),8)","v":{"$error":"#N/A"}},{"$error":"#N/A"},null,{"$error":"#N/A"},1,null,null,null,{"$f":"IFERROR(IF(AND(INDEX(Inventory!CB:CB,MATCH('Inspection Form'!B372,Inventory!B:B,0))=\"Not Qualified\",INDEX(Inventory!L:L,MATCH('Inspection Form'!B372,Inventory!B:B,0))<>\"\",$Q$5<>\"Pre\"),0,BY372*BZ372), 0)","v":0},null,{"$error":"#DIV/0!"},{"$error":"#DIV/0!"},369]
[null,369,null,null,null,null,null,null,null,null,null,null,null,null,null,null,null,null,null,null,null,null,null,null,null,null,null,null,null,null,null,null,null,null,null,null,null,null,null,null,null,null,null,null,null,null,null,null,null,null,null,null,null,null,null,null,null,null,null,null,null,null,null,null,null,null,null,null,null,null,null,null,null,{"$f":"INDEX('Fixture Descriptions'!A:K,MATCH('Inspection Form'!H373,'Fixture Descriptions'!A:A,0),8)","v":{"$error":"#N/A"}},{"$error":"#N/A"},null,{"$error":"#N/A"},1,null,null,null,{"$f":"IFERROR(IF(AND(INDEX(Inventory!CB:CB,MATCH('Inspection Form'!B373,Inventory!B:B,0))=\"Not Qualified\",INDEX(Inventory!L:L,MATCH('Inspection Form'!B373,Inventory!B:B,0))<>\"\",$Q$5<>\"Pre\"),0,BY373*BZ373), 0)","v":0},null,{"$error":"#DIV/0!"},{"$error":"#DIV/0!"},370]
[null,370,null,null,null,null,null,null,null,null,null,null,null,null,null,null,null,null,null,null,null,null,null,null,null,null,null,null,null,null,null,null,null,null,null,null,null,null,null,null,null,null,null,null,null,null,null,null,null,null,null,null,null,null,null,null,null,null,null,null,null,null,null,null,null,null,null,null,null,null,null,null,null,{"$f":"INDEX('Fixture Descriptions'!A:K,MATCH('Inspection Form'!H374,'Fixture Descriptions'!A:A,0),8)","v":{"$error":"#N/A"}},{"$error":"#N/A"},null,{"$error":"#N/A"},1,null,null,null,{"$f":"IFERROR(IF(AND(INDEX(Inventory!CB:CB,MATCH('Inspection Form'!B374,Inventory!B:B,0))=\"Not Qualified\",INDEX(Inventory!L:L,MATCH('Inspection Form'!B374,Inventory!B:B,0))<>\"\",$Q$5<>\"Pre\"),0,BY374*BZ374), 0)","v":0},null,{"$error":"#DIV/0!"},{"$error":"#DIV/0!"},371]
[null,371,null,null,null,null,null,null,null,null,null,null,null,null,null,null,null,null,null,null,null,null,null,null,null,null,null,null,null,null,null,null,null,null,null,null,null,null,null,null,null,null,null,null,null,null,null,null,null,null,null,null,null,null,null,null,null,null,null,null,null,null,null,null,null,null,null,null,null,null,null,null,null,{"$f":"INDEX('Fixture Descriptions'!A:K,MATCH('Inspection Form'!H375,'Fixture Descriptions'!A:A,0),8)","v":{"$error":"#N/A"}},{"$error":"#N/A"},null,{"$error":"#N/A"},1,null,null,null,{"$f":"IFERROR(IF(AND(INDEX(Inventory!CB:CB,MATCH('Inspection Form'!B375,Inventory!B:B,0))=\"Not Qualified\",INDEX(Inventory!L:L,MATCH('Inspection Form'!B375,Inventory!B:B,0))<>\"\",$Q$5<>\"Pre\"),0,BY375*BZ375), 0)","v":0},null,{"$error":"#DIV/0!"},{"$error":"#DIV/0!"},372]
[null,372,null,null,null,null,null,null,null,null,null,null,null,null,null,null,null,null,null,null,null,null,null,null,null,null,null,null,null,null,null,null,null,null,null,null,null,null,null,null,null,null,null,null,null,null,null,null,null,null,null,null,null,null,null,null,null,null,null,null,null,null,null,null,null,null,null,null,null,null,null,null,null,{"$f":"INDEX('Fixture Descriptions'!A:K,MATCH('Inspection Form'!H376,'Fixture Descriptions'!A:A,0),8)","v":{"$error":"#N/A"}},{"$error":"#N/A"},null,{"$error":"#N/A"},1,null,null,null,{"$f":"IFERROR(IF(AND(INDEX(Inventory!CB:CB,MATCH('Inspection Form'!B376,Inventory!B:B,0))=\"Not Qualified\",INDEX(Inventory!L:L,MATCH('Inspection Form'!B376,Inventory!B:B,0))<>\"\",$Q$5<>\"Pre\"),0,BY376*BZ376), 0)","v":0},null,{"$error":"#DIV/0!"},{"$error":"#DIV/0!"},373]
[null,373,null,null,null,null,null,null,null,null,null,null,null,null,null,null,null,null,null,null,null,null,null,null,null,null,null,null,null,null,null,null,null,null,null,null,null,null,null,null,null,null,null,null,null,null,null,null,null,null,null,null,null,null,null,null,null,null,null,null,null,null,null,null,null,null,null,null,null,null,null,null,null,{"$f":"INDEX('Fixture Descriptions'!A:K,MATCH('Inspection Form'!H377,'Fixture Descriptions'!A:A,0),8)","v":{"$error":"#N/A"}},{"$error":"#N/A"},null,{"$error":"#N/A"},1,null,null,null,{"$f":"IFERROR(IF(AND(INDEX(Inventory!CB:CB,MATCH('Inspection Form'!B377,Inventory!B:B,0))=\"Not Qualified\",INDEX(Inventory!L:L,MATCH('Inspection Form'!B377,Inventory!B:B,0))<>\"\",$Q$5<>\"Pre\"),0,BY377*BZ377), 0)","v":0},null,{"$error":"#DIV/0!"},{"$error":"#DIV/0!"},374]
[null,374,null,null,null,null,null,null,null,null,null,null,null,null,null,null,null,null,null,null,null,null,null,null,null,null,null,null,null,null,null,null,null,null,null,null,null,null,null,null,null,null,null,null,null,null,null,null,null,null,null,null,null,null,null,null,null,null,null,null,null,null,null,null,null,null,null,null,null,null,null,null,null,{"$f":"INDEX('Fixture Descriptions'!A:K,MATCH('Inspection Form'!H378,'Fixture Descriptions'!A:A,0),8)","v":{"$error":"#N/A"}},{"$error":"#N/A"},null,{"$error":"#N/A"},1,null,null,null,{"$f":"IFERROR(IF(AND(INDEX(Inventory!CB:CB,MATCH('Inspection Form'!B378,Inventory!B:B,0))=\"Not Qualified\",INDEX(Inventory!L:L,MATCH('Inspection Form'!B378,Inventory!B:B,0))<>\"\",$Q$5<>\"Pre\"),0,BY378*BZ378), 0)","v":0},null,{"$error":"#DIV/0!"},{"$error":"#DIV/0!"},375]
[null,375,null,null,null,null,null,null,null,null,null,null,null,null,null,null,null,null,null,null,null,null,null,null,null,null,null,null,null,null,null,null,null,null,null,null,null,null,null,null,null,null,null,null,null,null,null,null,null,null,null,null,null,null,null,null,null,null,null,null,null,null,null,null,null,null,null,null,null,null,null,null,null,{"$f":"INDEX('Fixture Descriptions'!A:K,MATCH('Inspection Form'!H379,'Fixture Descriptions'!A:A,0),8)","v":{"$error":"#N/A"}},{"$error":"#N/A"},null,{"$error":"#N/A"},1,null,null,null,{"$f":"IFERROR(IF(AND(INDEX(Inventory!CB:CB,MATCH('Inspection Form'!B379,Inventory!B:B,0))=\"Not Qualified\",INDEX(Inventory!L:L,MATCH('Inspection Form'!B379,Inventory!B:B,0))<>\"\",$Q$5<>\"Pre\"),0,BY379*BZ379), 0)","v":0},null,{"$error":"#DIV/0!"},{"$error":"#DIV/0!"},376]
[null,376,null,null,null,null,null,null,null,null,null,null,null,null,null,null,null,null,null,null,null,null,null,null,null,null,null,null,null,null,null,null,null,null,null,null,null,null,null,null,null,null,null,null,null,null,null,null,null,null,null,null,null,null,null,null,null,null,null,null,null,null,null,null,null,null,null,null,null,null,null,null,null,{"$f":"INDEX('Fixture Descriptions'!A:K,MATCH('Inspection Form'!H380,'Fixture Descriptions'!A:A,0),8)","v":{"$error":"#N/A"}},{"$error":"#N/A"},null,{"$error":"#N/A"},1,null,null,null,{"$f":"IFERROR(IF(AND(INDEX(Inventory!CB:CB,MATCH('Inspection Form'!B380,Inventory!B:B,0))=\"Not Qualified\",INDEX(Inventory!L:L,MATCH('Inspection Form'!B380,Inventory!B:B,0))<>\"\",$Q$5<>\"Pre\"),0,BY380*BZ380), 0)","v":0},null,{"$error":"#DIV/0!"},{"$error":"#DIV/0!"},377]
[null,377,null,null,null,null,null,null,null,null,null,null,null,null,null,null,null,null,null,null,null,null,null,null,null,null,null,null,null,null,null,null,null,null,null,null,null,null,null,null,null,null,null,null,null,null,null,null,null,null,null,null,null,null,null,null,null,null,null,null,null,null,null,null,null,null,null,null,null,null,null,null,null,{"$f":"INDEX('Fixture Descriptions'!A:K,MATCH('Inspection Form'!H381,'Fixture Descriptions'!A:A,0),8)","v":{"$error":"#N/A"}},{"$error":"#N/A"},null,{"$error":"#N/A"},1,null,null,null,{"$f":"IFERROR(IF(AND(INDEX(Inventory!CB:CB,MATCH('Inspection Form'!B381,Inventory!B:B,0))=\"Not Qualified\",INDEX(Inventory!L:L,MATCH('Inspection Form'!B381,Inventory!B:B,0))<>\"\",$Q$5<>\"Pre\"),0,BY381*BZ381), 0)","v":0},null,{"$error":"#DIV/0!"},{"$error":"#DIV/0!"},378]
[null,378,null,null,null,null,null,null,null,null,null,null,null,null,null,null,null,null,null,null,null,null,null,null,null,null,null,null,null,null,null,null,null,null,null,null,null,null,null,null,null,null,null,null,null,null,null,null,null,null,null,null,null,null,null,null,null,null,null,null,null,null,null,null,null,null,null,null,null,null,null,null,null,{"$f":"INDEX('Fixture Descriptions'!A:K,MATCH('Inspection Form'!H382,'Fixture Descriptions'!A:A,0),8)","v":{"$error":"#N/A"}},{"$error":"#N/A"},null,{"$error":"#N/A"},1,null,null,null,{"$f":"IFERROR(IF(AND(INDEX(Inventory!CB:CB,MATCH('Inspection Form'!B382,Inventory!B:B,0))=\"Not Qualified\",INDEX(Inventory!L:L,MATCH('Inspection Form'!B382,Inventory!B:B,0))<>\"\",$Q$5<>\"Pre\"),0,BY382*BZ382), 0)","v":0},null,{"$error":"#DIV/0!"},{"$error":"#DIV/0!"},379]
[null,379,null,null,null,null,null,null,null,null,null,null,null,null,null,null,null,null,null,null,null,null,null,null,null,null,null,null,null,null,null,null,null,null,null,null,null,null,null,null,null,null,null,null,null,null,null,null,null,null,null,null,null,null,null,null,null,null,null,null,null,null,null,null,null,null,null,null,null,null,null,null,null,{"$f":"INDEX('Fixture Descriptions'!A:K,MATCH('Inspection Form'!H383,'Fixture Descriptions'!A:A,0),8)","v":{"$error":"#N/A"}},{"$error":"#N/A"},null,{"$error":"#N/A"},1,null,null,null,{"$f":"IFERROR(IF(AND(INDEX(Inventory!CB:CB,MATCH('Inspection Form'!B383,Inventory!B:B,0))=\"Not Qualified\",INDEX(Inventory!L:L,MATCH('Inspection Form'!B383,Inventory!B:B,0))<>\"\",$Q$5<>\"Pre\"),0,BY383*BZ383), 0)","v":0},null,{"$error":"#DIV/0!"},{"$error":"#DIV/0!"},380]
[null,380,null,null,null,null,null,null,null,null,null,null,null,null,null,null,null,null,null,null,null,null,null,null,null,null,null,null,null,null,null,null,null,null,null,null,null,null,null,null,null,null,null,null,null,null,null,null,null,null,null,null,null,null,null,null,null,null,null,null,null,null,null,null,null,null,null,null,null,null,null,null,null,{"$f":"INDEX('Fixture Descriptions'!A:K,MATCH('Inspection Form'!H384,'Fixture Descriptions'!A:A,0),8)","v":{"$error":"#N/A"}},{"$error":"#N/A"},null,{"$error":"#N/A"},1,null,null,null,{"$f":"IFERROR(IF(AND(INDEX(Inventory!CB:CB,MATCH('Inspection Form'!B384,Inventory!B:B,0))=\"Not Qualified\",INDEX(Inventory!L:L,MATCH('Inspection Form'!B384,Inventory!B:B,0))<>\"\",$Q$5<>\"Pre\"),0,BY384*BZ384), 0)","v":0},null,{"$error":"#DIV/0!"},{"$error":"#DIV/0!"},381]
[null,381,null,null,null,null,null,null,null,null,null,null,null,null,null,null,null,null,null,null,null,null,null,null,null,null,null,null,null,null,null,null,null,null,null,null,null,null,null,null,null,null,null,null,null,null,null,null,null,null,null,null,null,null,null,null,null,null,null,null,null,null,null,null,null,null,null,null,null,null,null,null,null,{"$f":"INDEX('Fixture Descriptions'!A:K,MATCH('Inspection Form'!H385,'Fixture Descriptions'!A:A,0),8)","v":{"$error":"#N/A"}},{"$error":"#N/A"},null,{"$error":"#N/A"},1,null,null,null,{"$f":"IFERROR(IF(AND(INDEX(Inventory!CB:CB,MATCH('Inspection Form'!B385,Inventory!B:B,0))=\"Not Qualified\",INDEX(Inventory!L:L,MATCH('Inspection Form'!B385,Inventory!B:B,0))<>\"\",$Q$5<>\"Pre\"),0,BY385*BZ385), 0)","v":0},null,{"$error":"#DIV/0!"},{"$error":"#DIV/0!"},382]
[null,382,null,null,null,null,null,null,null,null,null,null,null,null,null,null,null,null,null,null,null,null,null,null,null,null,null,null,null,null,null,null,null,null,null,null,null,null,null,null,null,null,null,null,null,null,null,null,null,null,null,null,null,null,null,null,null,null,null,null,null,null,null,null,null,null,null,null,null,null,null,null,null,{"$f":"INDEX('Fixture Descriptions'!A:K,MATCH('Inspection Form'!H386,'Fixture Descriptions'!A:A,0),8)","v":{"$error":"#N/A"}},{"$error":"#N/A"},null,{"$error":"#N/A"},1,null,null,null,{"$f":"IFERROR(IF(AND(INDEX(Inventory!CB:CB,MATCH('Inspection Form'!B386,Inventory!B:B,0))=\"Not Qualified\",INDEX(Inventory!L:L,MATCH('Inspection Form'!B386,Inventory!B:B,0))<>\"\",$Q$5<>\"Pre\"),0,BY386*BZ386), 0)","v":0},null,{"$error":"#DIV/0!"},{"$error":"#DIV/0!"},383]
[null,383,null,null,null,null,null,null,null,null,null,null,null,null,null,null,null,null,null,null,null,null,null,null,null,null,null,null,null,null,null,null,null,null,null,null,null,null,null,null,null,null,null,null,null,null,null,null,null,null,null,null,null,null,null,null,null,null,null,null,null,null,null,null,null,null,null,null,null,null,null,null,null,{"$f":"INDEX('Fixture Descriptions'!A:K,MATCH('Inspection Form'!H387,'Fixture Descriptions'!A:A,0),8)","v":{"$error":"#N/A"}},{"$error":"#N/A"},null,{"$error":"#N/A"},1,null,null,null,{"$f":"IFERROR(IF(AND(INDEX(Inventory!CB:CB,MATCH('Inspection Form'!B387,Inventory!B:B,0))=\"Not Qualified\",INDEX(Inventory!L:L,MATCH('Inspection Form'!B387,Inventory!B:B,0))<>\"\",$Q$5<>\"Pre\"),0,BY387*BZ387), 0)","v":0},null,{"$error":"#DIV/0!"},{"$error":"#DIV/0!"},384]
[null,384,null,null,null,null,null,null,null,null,null,null,null,null,null,null,null,null,null,null,null,null,null,null,null,null,null,null,null,null,null,null,null,null,null,null,null,null,null,null,null,null,null,null,null,null,null,null,null,null,null,null,null,null,null,null,null,null,null,null,null,null,null,null,null,null,null,null,null,null,null,null,null,{"$f":"INDEX('Fixture Descriptions'!A:K,MATCH('Inspection Form'!H388,'Fixture Descriptions'!A:A,0),8)","v":{"$error":"#N/A"}},{"$error":"#N/A"},null,{"$error":"#N/A"},1,null,null,null,{"$f":"IFERROR(IF(AND(INDEX(Inventory!CB:CB,MATCH('Inspection Form'!B388,Inventory!B:B,0))=\"Not Qualified\",INDEX(Inventory!L:L,MATCH('Inspection Form'!B388,Inventory!B:B,0))<>\"\",$Q$5<>\"Pre\"),0,BY388*BZ388), 0)","v":0},null,{"$error":"#DIV/0!"},{"$error":"#DIV/0!"},385]
[null,385,null,null,null,null,null,null,null,null,null,null,null,null,null,null,null,null,null,null,null,null,null,null,null,null,null,null,null,null,null,null,null,null,null,null,null,null,null,null,null,null,null,null,null,null,null,null,null,null,null,null,null,null,null,null,null,null,null,null,null,null,null,null,null,null,null,null,null,null,null,null,null,{"$f":"INDEX('Fixture Descriptions'!A:K,MATCH('Inspection Form'!H389,'Fixture Descriptions'!A:A,0),8)","v":{"$error":"#N/A"}},{"$f":"BV389*I389","v":{"$error":"#N/A"}},null,{"$error":"#N/A"},1,null,null,null,{"$f":"IFERROR(IF(AND(INDEX(Inventory!CB:CB,MATCH('Inspection Form'!B389,Inventory!B:B,0))=\"Not Qualified\",INDEX(Inventory!L:L,MATCH('Inspection Form'!B389,Inventory!B:B,0))<>\"\",$Q$5<>\"Pre\"),0,BY389*BZ389), 0)","v":0},null,{"$error":"#DIV/0!"},{"$error":"#DIV/0!"},386]
[null,386,null,null,null,null,null,null,null,null,null,null,null,null,null,null,null,null,null,null,null,null,null,null,null,null,null,null,null,null,null,null,null,null,null,null,null,null,null,null,null,null,null,null,null,null,null,null,null,null,null,null,null,null,null,null,null,null,null,null,null,null,null,null,null,null,null,null,null,null,null,null,null,{"$f":"INDEX('Fixture Descriptions'!A:K,MATCH('Inspection Form'!H390,'Fixture Descriptions'!A:A,0),8)","v":{"$error":"#N/A"}},{"$error":"#N/A"},null,{"$f":"BW390","v":{"$error":"#N/A"}},{"$f":"IF($U$3=\"All\", 1, IF(AND(C390=$U$3, H390=$U$4), 1, 0))","v":1},null,null,null,{"$f":"IFERROR(IF(AND(INDEX(Inventory!CB:CB,MATCH('Inspection Form'!B390,Inventory!B:B,0))=\"Not Qualified\",INDEX(Inventory!L:L,MATCH('Inspection Form'!B390,Inventory!B:B,0))<>\"\",$Q$5<>\"Pre\"),0,BY390*BZ390), 0)","v":0},null,{"$f":"CD390/$CE$5","v":{"$error":"#DIV/0!"}},{"$f":"CF390+CG389","v":{"$error":"#DIV/0!"}},387]
[null,387,null,null,null,null,null,null,null,null,null,null,null,null,null,null,null,null,null,null,null,null,null,null,null,null,null,null,null,null,null,null,null,null,null,null,null,null,null,null,null,null,null,null,null,null,null,null,null,null,null,null,null,null,null,null,null,null,null,null,null,null,null,null,null,null,null,null,null,null,null,null,null,{"$f":"INDEX('Fixture Descriptions'!A:K,MATCH('Inspection Form'!H391,'Fixture Descriptions'!A:A,0),8)","v":{"$error":"#N/A"}},{"$error":"#N/A"},null,{"$error":"#N/A"},1,null,null,null,{"$f":"IFERROR(IF(AND(INDEX(Inventory!CB:CB,MATCH('Inspection Form'!B391,Inventory!B:B,0))=\"Not Qualified\",INDEX(Inventory!L:L,MATCH('Inspection Form'!B391,Inventory!B:B,0))<>\"\",$Q$5<>\"Pre\"),0,BY391*BZ391), 0)","v":0},null,{"$error":"#DIV/0!"},{"$error":"#DIV/0!"},388]
[null,388,null,null,null,null,null,null,null,null,null,null,null,null,null,null,null,null,null,null,null,null,null,null,null,null,null,null,null,null,null,null,null,null,null,null,null,null,null,null,null,null,null,null,null,null,null,null,null,null,null,null,null,null,null,null,null,null,null,null,null,null,null,null,null,null,null,null,null,null,null,null,null,{"$f":"INDEX('Fixture Descriptions'!A:K,MATCH('Inspection Form'!H392,'Fixture Descriptions'!A:A,0),8)","v":{"$error":"#N/A"}},{"$error":"#N/A"},null,{"$error":"#N/A"},1,null,null,null,{"$f":"IFERROR(IF(AND(INDEX(Inventory!CB:CB,MATCH('Inspection Form'!B392,Inventory!B:B,0))=\"Not Qualified\",INDEX(Inventory!L:L,MATCH('Inspection Form'!B392,Inventory!B:B,0))<>\"\",$Q$5<>\"Pre\"),0,BY392*BZ392), 0)","v":0},null,{"$error":"#DIV/0!"},{"$error":"#DIV/0!"},389]
[null,389,null,null,null,null,null,null,null,null,null,null,null,null,null,null,null,null,null,null,null,null,null,null,null,null,null,null,null,null,null,null,null,null,null,null,null,null,null,null,null,null,null,null,null,null,null,null,null,null,null,null,null,null,null,null,null,null,null,null,null,null,null,null,null,null,null,null,null,null,null,null,null,{"$f":"INDEX('Fixture Descriptions'!A:K,MATCH('Inspection Form'!H393,'Fixture Descriptions'!A:A,0),8)","v":{"$error":"#N/A"}},{"$error":"#N/A"},null,{"$error":"#N/A"},1,null,null,null,{"$f":"IFERROR(IF(AND(INDEX(Inventory!CB:CB,MATCH('Inspection Form'!B393,Inventory!B:B,0))=\"Not Qualified\",INDEX(Inventory!L:L,MATCH('Inspection Form'!B393,Inventory!B:B,0))<>\"\",$Q$5<>\"Pre\"),0,BY393*BZ393), 0)","v":0},null,{"$error":"#DIV/0!"},{"$error":"#DIV/0!"},390]
[null,390,null,null,null,null,null,null,null,null,null,null,null,null,null,null,null,null,null,null,null,null,null,null,null,null,null,null,null,null,null,null,null,null,null,null,null,null,null,null,null,null,null,null,null,null,null,null,null,null,null,null,null,null,null,null,null,null,null,null,null,null,null,null,null,null,null,null,null,null,null,null,null,{"$f":"INDEX('Fixture Descriptions'!A:K,MATCH('Inspection Form'!H394,'Fixture Descriptions'!A:A,0),8)","v":{"$error":"#N/A"}},{"$error":"#N/A"},null,{"$error":"#N/A"},1,null,null,null,{"$f":"IFERROR(IF(AND(INDEX(Inventory!CB:CB,MATCH('Inspection Form'!B394,Inventory!B:B,0))=\"Not Qualified\",INDEX(Inventory!L:L,MATCH('Inspection Form'!B394,Inventory!B:B,0))<>\"\",$Q$5<>\"Pre\"),0,BY394*BZ394), 0)","v":0},null,{"$error":"#DIV/0!"},{"$error":"#DIV/0!"},391]
[null,391,null,null,null,null,null,null,null,null,null,null,null,null,null,null,null,null,null,null,null,null,null,null,null,null,null,null,null,null,null,null,null,null,null,null,null,null,null,null,null,null,null,null,null,null,null,null,null,null,null,null,null,null,null,null,null,null,null,null,null,null,null,null,null,null,null,null,null,null,null,null,null,{"$f":"INDEX('Fixture Descriptions'!A:K,MATCH('Inspection Form'!H395,'Fixture Descriptions'!A:A,0),8)","v":{"$error":"#N/A"}},{"$error":"#N/A"},null,{"$error":"#N/A"},1,null,null,null,{"$f":"IFERROR(IF(AND(INDEX(Inventory!CB:CB,MATCH('Inspection Form'!B395,Inventory!B:B,0))=\"Not Qualified\",INDEX(Inventory!L:L,MATCH('Inspection Form'!B395,Inventory!B:B,0))<>\"\",$Q$5<>\"Pre\"),0,BY395*BZ395), 0)","v":0},null,{"$error":"#DIV/0!"},{"$error":"#DIV/0!"},392]
[null,392,null,null,null,null,null,null,null,null,null,null,null,null,null,null,null,null,null,null,null,null,null,null,null,null,null,null,null,null,null,null,null,null,null,null,null,null,null,null,null,null,null,null,null,null,null,null,null,null,null,null,null,null,null,null,null,null,null,null,null,null,null,null,null,null,null,null,null,null,null,null,null,{"$f":"INDEX('Fixture Descriptions'!A:K,MATCH('Inspection Form'!H396,'Fixture Descriptions'!A:A,0),8)","v":{"$error":"#N/A"}},{"$error":"#N/A"},null,{"$error":"#N/A"},1,null,null,null,{"$f":"IFERROR(IF(AND(INDEX(Inventory!CB:CB,MATCH('Inspection Form'!B396,Inventory!B:B,0))=\"Not Qualified\",INDEX(Inventory!L:L,MATCH('Inspection Form'!B396,Inventory!B:B,0))<>\"\",$Q$5<>\"Pre\"),0,BY396*BZ396), 0)","v":0},null,{"$error":"#DIV/0!"},{"$error":"#DIV/0!"},393]
[null,393,null,null,null,null,null,null,null,null,null,null,null,null,null,null,null,null,null,null,null,null,null,null,null,null,null,null,null,null,null,null,null,null,null,null,null,null,null,null,null,null,null,null,null,null,null,null,null,null,null,null,null,null,null,null,null,null,null,null,null,null,null,null,null,null,null,null,null,null,null,null,null,{"$f":"INDEX('Fixture Descriptions'!A:K,MATCH('Inspection Form'!H397,'Fixture Descriptions'!A:A,0),8)","v":{"$error":"#N/A"}},{"$error":"#N/A"},null,{"$error":"#N/A"},1,null,null,null,{"$f":"IFERROR(IF(AND(INDEX(Inventory!CB:CB,MATCH('Inspection Form'!B397,Inventory!B:B,0))=\"Not Qualified\",INDEX(Inventory!L:L,MATCH('Inspection Form'!B397,Inventory!B:B,0))<>\"\",$Q$5<>\"Pre\"),0,BY397*BZ397), 0)","v":0},null,{"$error":"#DIV/0!"},{"$error":"#DIV/0!"},394]
[null,394,null,null,null,null,null,null,null,null,null,null,null,null,null,null,null,null,null,null,null,null,null,null,null,null,null,null,null,null,null,null,null,null,null,null,null,null,null,null,null,null,null,null,null,null,null,null,null,null,null,null,null,null,null,null,null,null,null,null,null,null,null,null,null,null,null,null,null,null,null,null,null,{"$f":"INDEX('Fixture Descriptions'!A:K,MATCH('Inspection Form'!H398,'Fixture Descriptions'!A:A,0),8)","v":{"$error":"#N/A"}},{"$error":"#N/A"},null,{"$error":"#N/A"},1,null,null,null,{"$f":"IFERROR(IF(AND(INDEX(Inventory!CB:CB,MATCH('Inspection Form'!B398,Inventory!B:B,0))=\"Not Qualified\",INDEX(Inventory!L:L,MATCH('Inspection Form'!B398,Inventory!B:B,0))<>\"\",$Q$5<>\"Pre\"),0,BY398*BZ398), 0)","v":0},null,{"$error":"#DIV/0!"},{"$error":"#DIV/0!"},395]
[null,395,null,null,null,null,null,null,null,null,null,null,null,null,null,null,null,null,null,null,null,null,null,null,null,null,null,null,null,null,null,null,null,null,null,null,null,null,null,null,null,null,null,null,null,null,null,null,null,null,null,null,null,null,null,null,null,null,null,null,null,null,null,null,null,null,null,null,null,null,null,null,null,{"$f":"INDEX('Fixture Descriptions'!A:K,MATCH('Inspection Form'!H399,'Fixture Descriptions'!A:A,0),8)","v":{"$error":"#N/A"}},{"$error":"#N/A"},null,{"$error":"#N/A"},1,null,null,null,{"$f":"IFERROR(IF(AND(INDEX(Inventory!CB:CB,MATCH('Inspection Form'!B399,Inventory!B:B,0))=\"Not Qualified\",INDEX(Inventory!L:L,MATCH('Inspection Form'!B399,Inventory!B:B,0))<>\"\",$Q$5<>\"Pre\"),0,BY399*BZ399), 0)","v":0},null,{"$error":"#DIV/0!"},{"$error":"#DIV/0!"},396]
[null,396,null,null,null,null,null,null,null,null,null,null,null,null,null,null,null,null,null,null,null,null,null,null,null,null,null,null,null,null,null,null,null,null,null,null,null,null,null,null,null,null,null,null,null,null,null,null,null,null,null,null,null,null,null,null,null,null,null,null,null,null,null,null,null,null,null,null,null,null,null,null,null,{"$f":"INDEX('Fixture Descriptions'!A:K,MATCH('Inspection Form'!H400,'Fixture Descriptions'!A:A,0),8)","v":{"$error":"#N/A"}},{"$error":"#N/A"},null,{"$error":"#N/A"},1,null,null,null,{"$f":"IFERROR(IF(AND(INDEX(Inventory!CB:CB,MATCH('Inspection Form'!B400,Inventory!B:B,0))=\"Not Qualified\",INDEX(Inventory!L:L,MATCH('Inspection Form'!B400,Inventory!B:B,0))<>\"\",$Q$5<>\"Pre\"),0,BY400*BZ400), 0)","v":0},null,{"$error":"#DIV/0!"},{"$error":"#DIV/0!"},397]
[null,397,null,null,null,null,null,null,null,null,null,null,null,null,null,null,null,null,null,null,null,null,null,null,null,null,null,null,null,null,null,null,null,null,null,null,null,null,null,null,null,null,null,null,null,null,null,null,null,null,null,null,null,null,null,null,null,null,null,null,null,null,null,null,null,null,null,null,null,null,null,null,null,{"$f":"INDEX('Fixture Descriptions'!A:K,MATCH('Inspection Form'!H401,'Fixture Descriptions'!A:A,0),8)","v":{"$error":"#N/A"}},{"$error":"#N/A"},null,{"$error":"#N/A"},1,null,null,null,{"$f":"IFERROR(IF(AND(INDEX(Inventory!CB:CB,MATCH('Inspection Form'!B401,Inventory!B:B,0))=\"Not Qualified\",INDEX(Inventory!L:L,MATCH('Inspection Form'!B401,Inventory!B:B,0))<>\"\",$Q$5<>\"Pre\"),0,BY401*BZ401), 0)","v":0},null,{"$error":"#DIV/0!"},{"$error":"#DIV/0!"},398]
[null,398,null,null,null,null,null,null,null,null,null,null,null,null,null,null,null,null,null,null,null,null,null,null,null,null,null,null,null,null,null,null,null,null,null,null,null,null,null,null,null,null,null,null,null,null,null,null,null,null,null,null,null,null,null,null,null,null,null,null,null,null,null,null,null,null,null,null,null,null,null,null,null,{"$f":"INDEX('Fixture Descriptions'!A:K,MATCH('Inspection Form'!H402,'Fixture Descriptions'!A:A,0),8)","v":{"$error":"#N/A"}},{"$error":"#N/A"},null,{"$error":"#N/A"},1,null,null,null,{"$f":"IFERROR(IF(AND(INDEX(Inventory!CB:CB,MATCH('Inspection Form'!B402,Inventory!B:B,0))=\"Not Qualified\",INDEX(Inventory!L:L,MATCH('Inspection Form'!B402,Inventory!B:B,0))<>\"\",$Q$5<>\"Pre\"),0,BY402*BZ402), 0)","v":0},null,{"$error":"#DIV/0!"},{"$error":"#DIV/0!"},399]
[null,399,null,null,null,null,null,null,null,null,null,null,null,null,null,null,null,null,null,null,null,null,null,null,null,null,null,null,null,null,null,null,null,null,null,null,null,null,null,null,null,null,null,null,null,null,null,null,null,null,null,null,null,null,null,null,null,null,null,null,null,null,null,null,null,null,null,null,null,null,null,null,null,{"$f":"INDEX('Fixture Descriptions'!A:K,MATCH('Inspection Form'!H403,'Fixture Descriptions'!A:A,0),8)","v":{"$error":"#N/A"}},{"$error":"#N/A"},null,{"$error":"#N/A"},1,null,null,null,{"$f":"IFERROR(IF(AND(INDEX(Inventory!CB:CB,MATCH('Inspection Form'!B403,Inventory!B:B,0))=\"Not Qualified\",INDEX(Inventory!L:L,MATCH('Inspection Form'!B403,Inventory!B:B,0))<>\"\",$Q$5<>\"Pre\"),0,BY403*BZ403), 0)","v":0},null,{"$error":"#DIV/0!"},{"$error":"#DIV/0!"},400]
[null,400,null,null,null,null,null,null,null,null,null,null,null,null,null,null,null,null,null,null,null,null,null,null,null,null,null,null,null,null,null,null,null,null,null,null,null,null,null,null,null,null,null,null,null,null,null,null,null,null,null,null,null,null,null,null,null,null,null,null,null,null,null,null,null,null,null,null,null,null,null,null,null,{"$f":"INDEX('Fixture Descriptions'!A:K,MATCH('Inspection Form'!H404,'Fixture Descriptions'!A:A,0),8)","v":{"$error":"#N/A"}},{"$error":"#N/A"},null,{"$error":"#N/A"},1,null,null,null,{"$f":"IFERROR(IF(AND(INDEX(Inventory!CB:CB,MATCH('Inspection Form'!B404,Inventory!B:B,0))=\"Not Qualified\",INDEX(Inventory!L:L,MATCH('Inspection Form'!B404,Inventory!B:B,0))<>\"\",$Q$5<>\"Pre\"),0,BY404*BZ404), 0)","v":0},null,{"$error":"#DIV/0!"},{"$error":"#DIV/0!"},401]
[null,401,null,null,null,null,null,null,null,null,null,null,null,null,null,null,null,null,null,null,null,null,null,null,null,null,null,null,null,null,null,null,null,null,null,null,null,null,null,null,null,null,null,null,null,null,null,null,null,null,null,null,null,null,null,null,null,null,null,null,null,null,null,null,null,null,null,null,null,null,null,null,null,{"$f":"INDEX('Fixture Descriptions'!A:K,MATCH('Inspection Form'!H405,'Fixture Descriptions'!A:A,0),8)","v":{"$error":"#N/A"}},{"$error":"#N/A"},null,{"$error":"#N/A"},1,null,null,null,{"$f":"IFERROR(IF(AND(INDEX(Inventory!CB:CB,MATCH('Inspection Form'!B405,Inventory!B:B,0))=\"Not Qualified\",INDEX(Inventory!L:L,MATCH('Inspection Form'!B405,Inventory!B:B,0))<>\"\",$Q$5<>\"Pre\"),0,BY405*BZ405), 0)","v":0},null,{"$error":"#DIV/0!"},{"$error":"#DIV/0!"},402]
[null,402,null,null,null,null,null,null,null,null,null,null,null,null,null,null,null,null,null,null,null,null,null,null,null,null,null,null,null,null,null,null,null,null,null,null,null,null,null,null,null,null,null,null,null,null,null,null,null,null,null,null,null,null,null,null,null,null,null,null,null,null,null,null,null,null,null,null,null,null,null,null,null,{"$f":"INDEX('Fixture Descriptions'!A:K,MATCH('Inspection Form'!H406,'Fixture Descriptions'!A:A,0),8)","v":{"$error":"#N/A"}},{"$error":"#N/A"},null,{"$error":"#N/A"},1,null,null,null,{"$f":"IFERROR(IF(AND(INDEX(Inventory!CB:CB,MATCH('Inspection Form'!B406,Inventory!B:B,0))=\"Not Qualified\",INDEX(Inventory!L:L,MATCH('Inspection Form'!B406,Inventory!B:B,0))<>\"\",$Q$5<>\"Pre\"),0,BY406*BZ406), 0)","v":0},null,{"$error":"#DIV/0!"},{"$error":"#DIV/0!"},403]
[null,403,null,null,null,null,null,null,null,null,null,null,null,null,null,null,null,null,null,null,null,null,null,null,null,null,null,null,null,null,null,null,null,null,null,null,null,null,null,null,null,null,null,null,null,null,null,null,null,null,null,null,null,null,null,null,null,null,null,null,null,null,null,null,null,null,null,null,null,null,null,null,null,{"$f":"INDEX('Fixture Descriptions'!A:K,MATCH('Inspection Form'!H407,'Fixture Descriptions'!A:A,0),8)","v":{"$error":"#N/A"}},{"$error":"#N/A"},null,{"$error":"#N/A"},1,null,null,null,{"$f":"IFERROR(IF(AND(INDEX(Inventory!CB:CB,MATCH('Inspection Form'!B407,Inventory!B:B,0))=\"Not Qualified\",INDEX(Inventory!L:L,MATCH('Inspection Form'!B407,Inventory!B:B,0))<>\"\",$Q$5<>\"Pre\"),0,BY407*BZ407), 0)","v":0},null,{"$error":"#DIV/0!"},{"$error":"#DIV/0!"},404]
[null,404,null,null,null,null,null,null,null,null,null,null,null,null,null,null,null,null,null,null,null,null,null,null,null,null,null,null,null,null,null,null,null,null,null,null,null,null,null,null,null,null,null,null,null,null,null,null,null,null,null,null,null,null,null,null,null,null,null,null,null,null,null,null,null,null,null,null,null,null,null,null,null,{"$f":"INDEX('Fixture Descriptions'!A:K,MATCH('Inspection Form'!H408,'Fixture Descriptions'!A:A,0),8)","v":{"$error":"#N/A"}},{"$error":"#N/A"},null,{"$error":"#N/A"},1,null,null,null,{"$f":"IFERROR(IF(AND(INDEX(Inventory!CB:CB,MATCH('Inspection Form'!B408,Inventory!B:B,0))=\"Not Qualified\",INDEX(Inventory!L:L,MATCH('Inspection Form'!B408,Inventory!B:B,0))<>\"\",$Q$5<>\"Pre\"),0,BY408*BZ408), 0)","v":0},null,{"$error":"#DIV/0!"},{"$error":"#DIV/0!"},405]
[null,405,null,null,null,null,null,null,null,null,null,null,null,null,null,null,null,null,null,null,null,null,null,null,null,null,null,null,null,null,null,null,null,null,null,null,null,null,null,null,null,null,null,null,null,null,null,null,null,null,null,null,null,null,null,null,null,null,null,null,null,null,null,null,null,null,null,null,null,null,null,null,null,{"$f":"INDEX('Fixture Descriptions'!A:K,MATCH('Inspection Form'!H409,'Fixture Descriptions'!A:A,0),8)","v":{"$error":"#N/A"}},{"$error":"#N/A"},null,{"$error":"#N/A"},1,null,null,null,{"$f":"IFERROR(IF(AND(INDEX(Inventory!CB:CB,MATCH('Inspection Form'!B409,Inventory!B:B,0))=\"Not Qualified\",INDEX(Inventory!L:L,MATCH('Inspection Form'!B409,Inventory!B:B,0))<>\"\",$Q$5<>\"Pre\"),0,BY409*BZ409), 0)","v":0},null,{"$error":"#DIV/0!"},{"$error":"#DIV/0!"},406]
[null,406,null,null,null,null,null,null,null,null,null,null,null,null,null,null,null,null,null,null,null,null,null,null,null,null,null,null,null,null,null,null,null,null,null,null,null,null,null,null,null,null,null,null,null,null,null,null,null,null,null,null,null,null,null,null,null,null,null,null,null,null,null,null,null,null,null,null,null,null,null,null,null,{"$f":"INDEX('Fixture Descriptions'!A:K,MATCH('Inspection Form'!H410,'Fixture Descriptions'!A:A,0),8)","v":{"$error":"#N/A"}},{"$error":"#N/A"},null,{"$error":"#N/A"},1,null,null,null,{"$f":"IFERROR(IF(AND(INDEX(Inventory!CB:CB,MATCH('Inspection Form'!B410,Inventory!B:B,0))=\"Not Qualified\",INDEX(Inventory!L:L,MATCH('Inspection Form'!B410,Inventory!B:B,0))<>\"\",$Q$5<>\"Pre\"),0,BY410*BZ410), 0)","v":0},null,{"$error":"#DIV/0!"},{"$error":"#DIV/0!"},407]
[null,407,null,null,null,null,null,null,null,null,null,null,null,null,null,null,null,null,null,null,null,null,null,null,null,null,null,null,null,null,null,null,null,null,null,null,null,null,null,null,null,null,null,null,null,null,null,null,null,null,null,null,null,null,null,null,null,null,null,null,null,null,null,null,null,null,null,null,null,null,null,null,null,{"$f":"INDEX('Fixture Descriptions'!A:K,MATCH('Inspection Form'!H411,'Fixture Descriptions'!A:A,0),8)","v":{"$error":"#N/A"}},{"$error":"#N/A"},null,{"$error":"#N/A"},1,null,null,null,{"$f":"IFERROR(IF(AND(INDEX(Inventory!CB:CB,MATCH('Inspection Form'!B411,Inventory!B:B,0))=\"Not Qualified\",INDEX(Inventory!L:L,MATCH('Inspection Form'!B411,Inventory!B:B,0))<>\"\",$Q$5<>\"Pre\"),0,BY411*BZ411), 0)","v":0},null,{"$error":"#DIV/0!"},{"$error":"#DIV/0!"},408]
[null,408,null,null,null,null,null,null,null,null,null,null,null,null,null,null,null,null,null,null,null,null,null,null,null,null,null,null,null,null,null,null,null,null,null,null,null,null,null,null,null,null,null,null,null,null,null,null,null,null,null,null,null,null,null,null,null,null,null,null,null,null,null,null,null,null,null,null,null,null,null,null,null,{"$f":"INDEX('Fixture Descriptions'!A:K,MATCH('Inspection Form'!H412,'Fixture Descriptions'!A:A,0),8)","v":{"$error":"#N/A"}},{"$error":"#N/A"},null,{"$error":"#N/A"},1,null,null,null,{"$f":"IFERROR(IF(AND(INDEX(Inventory!CB:CB,MATCH('Inspection Form'!B412,Inventory!B:B,0))=\"Not Qualified\",INDEX(Inventory!L:L,MATCH('Inspection Form'!B412,Inventory!B:B,0))<>\"\",$Q$5<>\"Pre\"),0,BY412*BZ412), 0)","v":0},null,{"$error":"#DIV/0!"},{"$error":"#DIV/0!"},409]
[null,409,null,null,null,null,null,null,null,null,null,null,null,null,null,null,null,null,null,null,null,null,null,null,null,null,null,null,null,null,null,null,null,null,null,null,null,null,null,null,null,null,null,null,null,null,null,null,null,null,null,null,null,null,null,null,null,null,null,null,null,null,null,null,null,null,null,null,null,null,null,null,null,{"$f":"INDEX('Fixture Descriptions'!A:K,MATCH('Inspection Form'!H413,'Fixture Descriptions'!A:A,0),8)","v":{"$error":"#N/A"}},{"$error":"#N/A"},null,{"$error":"#N/A"},1,null,null,null,{"$f":"IFERROR(IF(AND(INDEX(Inventory!CB:CB,MATCH('Inspection Form'!B413,Inventory!B:B,0))=\"Not Qualified\",INDEX(Inventory!L:L,MATCH('Inspection Form'!B413,Inventory!B:B,0))<>\"\",$Q$5<>\"Pre\"),0,BY413*BZ413), 0)","v":0},null,{"$error":"#DIV/0!"},{"$error":"#DIV/0!"},410]
[null,410,null,null,null,null,null,null,null,null,null,null,null,null,null,null,null,null,null,null,null,null,null,null,null,null,null,null,null,null,null,null,null,null,null,null,null,null,null,null,null,null,null,null,null,null,null,null,null,null,null,null,null,null,null,null,null,null,null,null,null,null,null,null,null,null,null,null,null,null,null,null,null,{"$f":"INDEX('Fixture Descriptions'!A:K,MATCH('Inspection Form'!H414,'Fixture Descriptions'!A:A,0),8)","v":{"$error":"#N/A"}},{"$error":"#N/A"},null,{"$error":"#N/A"},1,null,null,null,{"$f":"IFERROR(IF(AND(INDEX(Inventory!CB:CB,MATCH('Inspection Form'!B414,Inventory!B:B,0))=\"Not Qualified\",INDEX(Inventory!L:L,MATCH('Inspection Form'!B414,Inventory!B:B,0))<>\"\",$Q$5<>\"Pre\"),0,BY414*BZ414), 0)","v":0},null,{"$error":"#DIV/0!"},{"$error":"#DIV/0!"},411]
[null,411,null,null,null,null,null,null,null,null,null,null,null,null,null,null,null,null,null,null,null,null,null,null,null,null,null,null,null,null,null,null,null,null,null,null,null,null,null,null,null,null,null,null,null,null,null,null,null,null,null,null,null,null,null,null,null,null,null,null,null,null,null,null,null,null,null,null,null,null,null,null,null,{"$f":"INDEX('Fixture Descriptions'!A:K,MATCH('Inspection Form'!H415,'Fixture Descriptions'!A:A,0),8)","v":{"$error":"#N/A"}},{"$error":"#N/A"},null,{"$error":"#N/A"},1,null,null,null,{"$f":"IFERROR(IF(AND(INDEX(Inventory!CB:CB,MATCH('Inspection Form'!B415,Inventory!B:B,0))=\"Not Qualified\",INDEX(Inventory!L:L,MATCH('Inspection Form'!B415,Inventory!B:B,0))<>\"\",$Q$5<>\"Pre\"),0,BY415*BZ415), 0)","v":0},null,{"$error":"#DIV/0!"},{"$error":"#DIV/0!"},412]
[null,412,null,null,null,null,null,null,null,null,null,null,null,null,null,null,null,null,null,null,null,null,null,null,null,null,null,null,null,null,null,null,null,null,null,null,null,null,null,null,null,null,null,null,null,null,null,null,null,null,null,null,null,null,null,null,null,null,null,null,null,null,null,null,null,null,null,null,null,null,null,null,null,{"$f":"INDEX('Fixture Descriptions'!A:K,MATCH('Inspection Form'!H416,'Fixture Descriptions'!A:A,0),8)","v":{"$error":"#N/A"}},{"$error":"#N/A"},null,{"$error":"#N/A"},1,null,null,null,{"$f":"IFERROR(IF(AND(INDEX(Inventory!CB:CB,MATCH('Inspection Form'!B416,Inventory!B:B,0))=\"Not Qualified\",INDEX(Inventory!L:L,MATCH('Inspection Form'!B416,Inventory!B:B,0))<>\"\",$Q$5<>\"Pre\"),0,BY416*BZ416), 0)","v":0},null,{"$error":"#DIV/0!"},{"$error":"#DIV/0!"},413]
[null,413,null,null,null,null,null,null,null,null,null,null,null,null,null,null,null,null,null,null,null,null,null,null,null,null,null,null,null,null,null,null,null,null,null,null,null,null,null,null,null,null,null,null,null,null,null,null,null,null,null,null,null,null,null,null,null,null,null,null,null,null,null,null,null,null,null,null,null,null,null,null,null,{"$f":"INDEX('Fixture Descriptions'!A:K,MATCH('Inspection Form'!H417,'Fixture Descriptions'!A:A,0),8)","v":{"$error":"#N/A"}},{"$error":"#N/A"},null,{"$error":"#N/A"},1,null,null,null,{"$f":"IFERROR(IF(AND(INDEX(Inventory!CB:CB,MATCH('Inspection Form'!B417,Inventory!B:B,0))=\"Not Qualified\",INDEX(Inventory!L:L,MATCH('Inspection Form'!B417,Inventory!B:B,0))<>\"\",$Q$5<>\"Pre\"),0,BY417*BZ417), 0)","v":0},null,{"$error":"#DIV/0!"},{"$error":"#DIV/0!"},414]
[null,414,null,null,null,null,null,null,null,null,null,null,null,null,null,null,null,null,null,null,null,null,null,null,null,null,null,null,null,null,null,null,null,null,null,null,null,null,null,null,null,null,null,null,null,null,null,null,null,null,null,null,null,null,null,null,null,null,null,null,null,null,null,null,null,null,null,null,null,null,null,null,null,{"$f":"INDEX('Fixture Descriptions'!A:K,MATCH('Inspection Form'!H418,'Fixture Descriptions'!A:A,0),8)","v":{"$error":"#N/A"}},{"$error":"#N/A"},null,{"$error":"#N/A"},1,null,null,null,{"$f":"IFERROR(IF(AND(INDEX(Inventory!CB:CB,MATCH('Inspection Form'!B418,Inventory!B:B,0))=\"Not Qualified\",INDEX(Inventory!L:L,MATCH('Inspection Form'!B418,Inventory!B:B,0))<>\"\",$Q$5<>\"Pre\"),0,BY418*BZ418), 0)","v":0},null,{"$error":"#DIV/0!"},{"$error":"#DIV/0!"},415]
[null,415,null,null,null,null,null,null,null,null,null,null,null,null,null,null,null,null,null,null,null,null,null,null,null,null,null,null,null,null,null,null,null,null,null,null,null,null,null,null,null,null,null,null,null,null,null,null,null,null,null,null,null,null,null,null,null,null,null,null,null,null,null,null,null,null,null,null,null,null,null,null,null,{"$f":"INDEX('Fixture Descriptions'!A:K,MATCH('Inspection Form'!H419,'Fixture Descriptions'!A:A,0),8)","v":{"$error":"#N/A"}},{"$error":"#N/A"},null,{"$error":"#N/A"},1,null,null,null,{"$f":"IFERROR(IF(AND(INDEX(Inventory!CB:CB,MATCH('Inspection Form'!B419,Inventory!B:B,0))=\"Not Qualified\",INDEX(Inventory!L:L,MATCH('Inspection Form'!B419,Inventory!B:B,0))<>\"\",$Q$5<>\"Pre\"),0,BY419*BZ419), 0)","v":0},null,{"$error":"#DIV/0!"},{"$error":"#DIV/0!"},416]
[null,416,null,null,null,null,null,null,null,null,null,null,null,null,null,null,null,null,null,null,null,null,null,null,null,null,null,null,null,null,null,null,null,null,null,null,null,null,null,null,null,null,null,null,null,null,null,null,null,null,null,null,null,null,null,null,null,null,null,null,null,null,null,null,null,null,null,null,null,null,null,null,null,{"$f":"INDEX('Fixture Descriptions'!A:K,MATCH('Inspection Form'!H420,'Fixture Descriptions'!A:A,0),8)","v":{"$error":"#N/A"}},{"$error":"#N/A"},null,{"$error":"#N/A"},1,null,null,null,{"$f":"IFERROR(IF(AND(INDEX(Inventory!CB:CB,MATCH('Inspection Form'!B420,Inventory!B:B,0))=\"Not Qualified\",INDEX(Inventory!L:L,MATCH('Inspection Form'!B420,Inventory!B:B,0))<>\"\",$Q$5<>\"Pre\"),0,BY420*BZ420), 0)","v":0},null,{"$error":"#DIV/0!"},{"$error":"#DIV/0!"},417]
[null,417,null,null,null,null,null,null,null,null,null,null,null,null,null,null,null,null,null,null,null,null,null,null,null,null,null,null,null,null,null,null,null,null,null,null,null,null,null,null,null,null,null,null,null,null,null,null,null,null,null,null,null,null,null,null,null,null,null,null,null,null,null,null,null,null,null,null,null,null,null,null,null,{"$f":"INDEX('Fixture Descriptions'!A:K,MATCH('Inspection Form'!H421,'Fixture Descriptions'!A:A,0),8)","v":{"$error":"#N/A"}},{"$error":"#N/A"},null,{"$error":"#N/A"},1,null,null,null,{"$f":"IFERROR(IF(AND(INDEX(Inventory!CB:CB,MATCH('Inspection Form'!B421,Inventory!B:B,0))=\"Not Qualified\",INDEX(Inventory!L:L,MATCH('Inspection Form'!B421,Inventory!B:B,0))<>\"\",$Q$5<>\"Pre\"),0,BY421*BZ421), 0)","v":0},null,{"$error":"#DIV/0!"},{"$error":"#DIV/0!"},418]
[null,418,null,null,null,null,null,null,null,null,null,null,null,null,null,null,null,null,null,null,null,null,null,null,null,null,null,null,null,null,null,null,null,null,null,null,null,null,null,null,null,null,null,null,null,null,null,null,null,null,null,null,null,null,null,null,null,null,null,null,null,null,null,null,null,null,null,null,null,null,null,null,null,{"$f":"INDEX('Fixture Descriptions'!A:K,MATCH('Inspection Form'!H422,'Fixture Descriptions'!A:A,0),8)","v":{"$error":"#N/A"}},{"$error":"#N/A"},null,{"$error":"#N/A"},1,null,null,null,{"$f":"IFERROR(IF(AND(INDEX(Inventory!CB:CB,MATCH('Inspection Form'!B422,Inventory!B:B,0))=\"Not Qualified\",INDEX(Inventory!L:L,MATCH('Inspection Form'!B422,Inventory!B:B,0))<>\"\",$Q$5<>\"Pre\"),0,BY422*BZ422), 0)","v":0},null,{"$error":"#DIV/0!"},{"$error":"#DIV/0!"},419]
[null,419,null,null,null,null,null,null,null,null,null,null,null,null,null,null,null,null,null,null,null,null,null,null,null,null,null,null,null,null,null,null,null,null,null,null,null,null,null,null,null,null,null,null,null,null,null,null,null,null,null,null,null,null,null,null,null,null,null,null,null,null,null,null,null,null,null,null,null,null,null,null,null,{"$f":"INDEX('Fixture Descriptions'!A:K,MATCH('Inspection Form'!H423,'Fixture Descriptions'!A:A,0),8)","v":{"$error":"#N/A"}},{"$error":"#N/A"},null,{"$error":"#N/A"},1,null,null,null,{"$f":"IFERROR(IF(AND(INDEX(Inventory!CB:CB,MATCH('Inspection Form'!B423,Inventory!B:B,0))=\"Not Qualified\",INDEX(Inventory!L:L,MATCH('Inspection Form'!B423,Inventory!B:B,0))<>\"\",$Q$5<>\"Pre\"),0,BY423*BZ423), 0)","v":0},null,{"$error":"#DIV/0!"},{"$error":"#DIV/0!"},420]
[null,420,null,null,null,null,null,null,null,null,null,null,null,null,null,null,null,null,null,null,null,null,null,null,null,null,null,null,null,null,null,null,null,null,null,null,null,null,null,null,null,null,null,null,null,null,null,null,null,null,null,null,null,null,null,null,null,null,null,null,null,null,null,null,null,null,null,null,null,null,null,null,null,{"$f":"INDEX('Fixture Descriptions'!A:K,MATCH('Inspection Form'!H424,'Fixture Descriptions'!A:A,0),8)","v":{"$error":"#N/A"}},{"$error":"#N/A"},null,{"$error":"#N/A"},1,null,null,null,{"$f":"IFERROR(IF(AND(INDEX(Inventory!CB:CB,MATCH('Inspection Form'!B424,Inventory!B:B,0))=\"Not Qualified\",INDEX(Inventory!L:L,MATCH('Inspection Form'!B424,Inventory!B:B,0))<>\"\",$Q$5<>\"Pre\"),0,BY424*BZ424), 0)","v":0},null,{"$error":"#DIV/0!"},{"$error":"#DIV/0!"},421]
[null,421,null,null,null,null,null,null,null,null,null,null,null,null,null,null,null,null,null,null,null,null,null,null,null,null,null,null,null,null,null,null,null,null,null,null,null,null,null,null,null,null,null,null,null,null,null,null,null,null,null,null,null,null,null,null,null,null,null,null,null,null,null,null,null,null,null,null,null,null,null,null,null,{"$f":"INDEX('Fixture Descriptions'!A:K,MATCH('Inspection Form'!H425,'Fixture Descriptions'!A:A,0),8)","v":{"$error":"#N/A"}},{"$error":"#N/A"},null,{"$error":"#N/A"},1,null,null,null,{"$f":"IFERROR(IF(AND(INDEX(Inventory!CB:CB,MATCH('Inspection Form'!B425,Inventory!B:B,0))=\"Not Qualified\",INDEX(Inventory!L:L,MATCH('Inspection Form'!B425,Inventory!B:B,0))<>\"\",$Q$5<>\"Pre\"),0,BY425*BZ425), 0)","v":0},null,{"$error":"#DIV/0!"},{"$error":"#DIV/0!"},422]
[null,422,null,null,null,null,null,null,null,null,null,null,null,null,null,null,null,null,null,null,null,null,null,null,null,null,null,null,null,null,null,null,null,null,null,null,null,null,null,null,null,null,null,null,null,null,null,null,null,null,null,null,null,null,null,null,null,null,null,null,null,null,null,null,null,null,null,null,null,null,null,null,null,{"$f":"INDEX('Fixture Descriptions'!A:K,MATCH('Inspection Form'!H426,'Fixture Descriptions'!A:A,0),8)","v":{"$error":"#N/A"}},{"$error":"#N/A"},null,{"$error":"#N/A"},1,null,null,null,{"$f":"IFERROR(IF(AND(INDEX(Inventory!CB:CB,MATCH('Inspection Form'!B426,Inventory!B:B,0))=\"Not Qualified\",INDEX(Inventory!L:L,MATCH('Inspection Form'!B426,Inventory!B:B,0))<>\"\",$Q$5<>\"Pre\"),0,BY426*BZ426), 0)","v":0},null,{"$error":"#DIV/0!"},{"$error":"#DIV/0!"},423]
[null,423,null,null,null,null,null,null,null,null,null,null,null,null,null,null,null,null,null,null,null,null,null,null,null,null,null,null,null,null,null,null,null,null,null,null,null,null,null,null,null,null,null,null,null,null,null,null,null,null,null,null,null,null,null,null,null,null,null,null,null,null,null,null,null,null,null,null,null,null,null,null,null,{"$f":"INDEX('Fixture Descriptions'!A:K,MATCH('Inspection Form'!H427,'Fixture Descriptions'!A:A,0),8)","v":{"$error":"#N/A"}},{"$error":"#N/A"},null,{"$error":"#N/A"},1,null,null,null,{"$f":"IFERROR(IF(AND(INDEX(Inventory!CB:CB,MATCH('Inspection Form'!B427,Inventory!B:B,0))=\"Not Qualified\",INDEX(Inventory!L:L,MATCH('Inspection Form'!B427,Inventory!B:B,0))<>\"\",$Q$5<>\"Pre\"),0,BY427*BZ427), 0)","v":0},null,{"$error":"#DIV/0!"},{"$error":"#DIV/0!"},424]
[null,424,null,null,null,null,null,null,null,null,null,null,null,null,null,null,null,null,null,null,null,null,null,null,null,null,null,null,null,null,null,null,null,null,null,null,null,null,null,null,null,null,null,null,null,null,null,null,null,null,null,null,null,null,null,null,null,null,null,null,null,null,null,null,null,null,null,null,null,null,null,null,null,{"$f":"INDEX('Fixture Descriptions'!A:K,MATCH('Inspection Form'!H428,'Fixture Descriptions'!A:A,0),8)","v":{"$error":"#N/A"}},{"$error":"#N/A"},null,{"$error":"#N/A"},1,null,null,null,{"$f":"IFERROR(IF(AND(INDEX(Inventory!CB:CB,MATCH('Inspection Form'!B428,Inventory!B:B,0))=\"Not Qualified\",INDEX(Inventory!L:L,MATCH('Inspection Form'!B428,Inventory!B:B,0))<>\"\",$Q$5<>\"Pre\"),0,BY428*BZ428), 0)","v":0},null,{"$error":"#DIV/0!"},{"$error":"#DIV/0!"},425]
[null,425,null,null,null,null,null,null,null,null,null,null,null,null,null,null,null,null,null,null,null,null,null,null,null,null,null,null,null,null,null,null,null,null,null,null,null,null,null,null,null,null,null,null,null,null,null,null,null,null,null,null,null,null,null,null,null,null,null,null,null,null,null,null,null,null,null,null,null,null,null,null,null,{"$f":"INDEX('Fixture Descriptions'!A:K,MATCH('Inspection Form'!H429,'Fixture Descriptions'!A:A,0),8)","v":{"$error":"#N/A"}},{"$error":"#N/A"},null,{"$error":"#N/A"},1,null,null,null,{"$f":"IFERROR(IF(AND(INDEX(Inventory!CB:CB,MATCH('Inspection Form'!B429,Inventory!B:B,0))=\"Not Qualified\",INDEX(Inventory!L:L,MATCH('Inspection Form'!B429,Inventory!B:B,0))<>\"\",$Q$5<>\"Pre\"),0,BY429*BZ429), 0)","v":0},null,{"$error":"#DIV/0!"},{"$error":"#DIV/0!"},426]
[null,426,null,null,null,null,null,null,null,null,null,null,null,null,null,null,null,null,null,null,null,null,null,null,null,null,null,null,null,null,null,null,null,null,null,null,null,null,null,null,null,null,null,null,null,null,null,null,null,null,null,null,null,null,null,null,null,null,null,null,null,null,null,null,null,null,null,null,null,null,null,null,null,{"$f":"INDEX('Fixture Descriptions'!A:K,MATCH('Inspection Form'!H430,'Fixture Descriptions'!A:A,0),8)","v":{"$error":"#N/A"}},{"$error":"#N/A"},null,{"$error":"#N/A"},1,null,null,null,{"$f":"IFERROR(IF(AND(INDEX(Inventory!CB:CB,MATCH('Inspection Form'!B430,Inventory!B:B,0))=\"Not Qualified\",INDEX(Inventory!L:L,MATCH('Inspection Form'!B430,Inventory!B:B,0))<>\"\",$Q$5<>\"Pre\"),0,BY430*BZ430), 0)","v":0},null,{"$error":"#DIV/0!"},{"$error":"#DIV/0!"},427]
[null,427,null,null,null,null,null,null,null,null,null,null,null,null,null,null,null,null,null,null,null,null,null,null,null,null,null,null,null,null,null,null,null,null,null,null,null,null,null,null,null,null,null,null,null,null,null,null,null,null,null,null,null,null,null,null,null,null,null,null,null,null,null,null,null,null,null,null,null,null,null,null,null,{"$f":"INDEX('Fixture Descriptions'!A:K,MATCH('Inspection Form'!H431,'Fixture Descriptions'!A:A,0),8)","v":{"$error":"#N/A"}},{"$error":"#N/A"},null,{"$error":"#N/A"},1,null,null,null,{"$f":"IFERROR(IF(AND(INDEX(Inventory!CB:CB,MATCH('Inspection Form'!B431,Inventory!B:B,0))=\"Not Qualified\",INDEX(Inventory!L:L,MATCH('Inspection Form'!B431,Inventory!B:B,0))<>\"\",$Q$5<>\"Pre\"),0,BY431*BZ431), 0)","v":0},null,{"$error":"#DIV/0!"},{"$error":"#DIV/0!"},428]
[null,428,null,null,null,null,null,null,null,null,null,null,null,null,null,null,null,null,null,null,null,null,null,null,null,null,null,null,null,null,null,null,null,null,null,null,null,null,null,null,null,null,null,null,null,null,null,null,null,null,null,null,null,null,null,null,null,null,null,null,null,null,null,null,null,null,null,null,null,null,null,null,null,{"$f":"INDEX('Fixture Descriptions'!A:K,MATCH('Inspection Form'!H432,'Fixture Descriptions'!A:A,0),8)","v":{"$error":"#N/A"}},{"$error":"#N/A"},null,{"$error":"#N/A"},1,null,null,null,{"$f":"IFERROR(IF(AND(INDEX(Inventory!CB:CB,MATCH('Inspection Form'!B432,Inventory!B:B,0))=\"Not Qualified\",INDEX(Inventory!L:L,MATCH('Inspection Form'!B432,Inventory!B:B,0))<>\"\",$Q$5<>\"Pre\"),0,BY432*BZ432), 0)","v":0},null,{"$error":"#DIV/0!"},{"$error":"#DIV/0!"},429]
[null,429,null,null,null,null,null,null,null,null,null,null,null,null,null,null,null,null,null,null,null,null,null,null,null,null,null,null,null,null,null,null,null,null,null,null,null,null,null,null,null,null,null,null,null,null,null,null,null,null,null,null,null,null,null,null,null,null,null,null,null,null,null,null,null,null,null,null,null,null,null,null,null,{"$f":"INDEX('Fixture Descriptions'!A:K,MATCH('Inspection Form'!H433,'Fixture Descriptions'!A:A,0),8)","v":{"$error":"#N/A"}},{"$error":"#N/A"},null,{"$error":"#N/A"},1,null,null,null,{"$f":"IFERROR(IF(AND(INDEX(Inventory!CB:CB,MATCH('Inspection Form'!B433,Inventory!B:B,0))=\"Not Qualified\",INDEX(Inventory!L:L,MATCH('Inspection Form'!B433,Inventory!B:B,0))<>\"\",$Q$5<>\"Pre\"),0,BY433*BZ433), 0)","v":0},null,{"$error":"#DIV/0!"},{"$error":"#DIV/0!"},430]
[null,430,null,null,null,null,null,null,null,null,null,null,null,null,null,null,null,null,null,null,null,null,null,null,null,null,null,null,null,null,null,null,null,null,null,null,null,null,null,null,null,null,null,null,null,null,null,null,null,null,null,null,null,null,null,null,null,null,null,null,null,null,null,null,null,null,null,null,null,null,null,null,null,{"$f":"INDEX('Fixture Descriptions'!A:K,MATCH('Inspection Form'!H434,'Fixture Descriptions'!A:A,0),8)","v":{"$error":"#N/A"}},{"$error":"#N/A"},null,{"$error":"#N/A"},1,null,null,null,{"$f":"IFERROR(IF(AND(INDEX(Inventory!CB:CB,MATCH('Inspection Form'!B434,Inventory!B:B,0))=\"Not Qualified\",INDEX(Inventory!L:L,MATCH('Inspection Form'!B434,Inventory!B:B,0))<>\"\",$Q$5<>\"Pre\"),0,BY434*BZ434), 0)","v":0},null,{"$error":"#DIV/0!"},{"$error":"#DIV/0!"},431]
[null,431,null,null,null,null,null,null,null,null,null,null,null,null,null,null,null,null,null,null,null,null,null,null,null,null,null,null,null,null,null,null,null,null,null,null,null,null,null,null,null,null,null,null,null,null,null,null,null,null,null,null,null,null,null,null,null,null,null,null,null,null,null,null,null,null,null,null,null,null,null,null,null,{"$f":"INDEX('Fixture Descriptions'!A:K,MATCH('Inspection Form'!H435,'Fixture Descriptions'!A:A,0),8)","v":{"$error":"#N/A"}},{"$error":"#N/A"},null,{"$error":"#N/A"},1,null,null,null,{"$f":"IFERROR(IF(AND(INDEX(Inventory!CB:CB,MATCH('Inspection Form'!B435,Inventory!B:B,0))=\"Not Qualified\",INDEX(Inventory!L:L,MATCH('Inspection Form'!B435,Inventory!B:B,0))<>\"\",$Q$5<>\"Pre\"),0,BY435*BZ435), 0)","v":0},null,{"$error":"#DIV/0!"},{"$error":"#DIV/0!"},432]
[null,432,null,null,null,null,null,null,null,null,null,null,null,null,null,null,null,null,null,null,null,null,null,null,null,null,null,null,null,null,null,null,null,null,null,null,null,null,null,null,null,null,null,null,null,null,null,null,null,null,null,null,null,null,null,null,null,null,null,null,null,null,null,null,null,null,null,null,null,null,null,null,null,{"$f":"INDEX('Fixture Descriptions'!A:K,MATCH('Inspection Form'!H436,'Fixture Descriptions'!A:A,0),8)","v":{"$error":"#N/A"}},{"$error":"#N/A"},null,{"$error":"#N/A"},1,null,null,null,{"$f":"IFERROR(IF(AND(INDEX(Inventory!CB:CB,MATCH('Inspection Form'!B436,Inventory!B:B,0))=\"Not Qualified\",INDEX(Inventory!L:L,MATCH('Inspection Form'!B436,Inventory!B:B,0))<>\"\",$Q$5<>\"Pre\"),0,BY436*BZ436), 0)","v":0},null,{"$error":"#DIV/0!"},{"$error":"#DIV/0!"},433]
[null,433,null,null,null,null,null,null,null,null,null,null,null,null,null,null,null,null,null,null,null,null,null,null,null,null,null,null,null,null,null,null,null,null,null,null,null,null,null,null,null,null,null,null,null,null,null,null,null,null,null,null,null,null,null,null,null,null,null,null,null,null,null,null,null,null,null,null,null,null,null,null,null,{"$f":"INDEX('Fixture Descriptions'!A:K,MATCH('Inspection Form'!H437,'Fixture Descriptions'!A:A,0),8)","v":{"$error":"#N/A"}},{"$error":"#N/A"},null,{"$error":"#N/A"},1,null,null,null,{"$f":"IFERROR(IF(AND(INDEX(Inventory!CB:CB,MATCH('Inspection Form'!B437,Inventory!B:B,0))=\"Not Qualified\",INDEX(Inventory!L:L,MATCH('Inspection Form'!B437,Inventory!B:B,0))<>\"\",$Q$5<>\"Pre\"),0,BY437*BZ437), 0)","v":0},null,{"$error":"#DIV/0!"},{"$error":"#DIV/0!"},434]
[null,434,null,null,null,null,null,null,null,null,null,null,null,null,null,null,null,null,null,null,null,null,null,null,null,null,null,null,null,null,null,null,null,null,null,null,null,null,null,null,null,null,null,null,null,null,null,null,null,null,null,null,null,null,null,null,null,null,null,null,null,null,null,null,null,null,null,null,null,null,null,null,null,{"$f":"INDEX('Fixture Descriptions'!A:K,MATCH('Inspection Form'!H438,'Fixture Descriptions'!A:A,0),8)","v":{"$error":"#N/A"}},{"$error":"#N/A"},null,{"$error":"#N/A"},1,null,null,null,{"$f":"IFERROR(IF(AND(INDEX(Inventory!CB:CB,MATCH('Inspection Form'!B438,Inventory!B:B,0))=\"Not Qualified\",INDEX(Inventory!L:L,MATCH('Inspection Form'!B438,Inventory!B:B,0))<>\"\",$Q$5<>\"Pre\"),0,BY438*BZ438), 0)","v":0},null,{"$error":"#DIV/0!"},{"$error":"#DIV/0!"},435]
[null,435,null,null,null,null,null,null,null,null,null,null,null,null,null,null,null,null,null,null,null,null,null,null,null,null,null,null,null,null,null,null,null,null,null,null,null,null,null,null,null,null,null,null,null,null,null,null,null,null,null,null,null,null,null,null,null,null,null,null,null,null,null,null,null,null,null,null,null,null,null,null,null,{"$f":"INDEX('Fixture Descriptions'!A:K,MATCH('Inspection Form'!H439,'Fixture Descriptions'!A:A,0),8)","v":{"$error":"#N/A"}},{"$error":"#N/A"},null,{"$error":"#N/A"},1,null,null,null,{"$f":"IFERROR(IF(AND(INDEX(Inventory!CB:CB,MATCH('Inspection Form'!B439,Inventory!B:B,0))=\"Not Qualified\",INDEX(Inventory!L:L,MATCH('Inspection Form'!B439,Inventory!B:B,0))<>\"\",$Q$5<>\"Pre\"),0,BY439*BZ439), 0)","v":0},null,{"$error":"#DIV/0!"},{"$error":"#DIV/0!"},436]
[null,436,null,null,null,null,null,null,null,null,null,null,null,null,null,null,null,null,null,null,null,null,null,null,null,null,null,null,null,null,null,null,null,null,null,null,null,null,null,null,null,null,null,null,null,null,null,null,null,null,null,null,null,null,null,null,null,null,null,null,null,null,null,null,null,null,null,null,null,null,null,null,null,{"$f":"INDEX('Fixture Descriptions'!A:K,MATCH('Inspection Form'!H440,'Fixture Descriptions'!A:A,0),8)","v":{"$error":"#N/A"}},{"$error":"#N/A"},null,{"$error":"#N/A"},1,null,null,null,{"$f":"IFERROR(IF(AND(INDEX(Inventory!CB:CB,MATCH('Inspection Form'!B440,Inventory!B:B,0))=\"Not Qualified\",INDEX(Inventory!L:L,MATCH('Inspection Form'!B440,Inventory!B:B,0))<>\"\",$Q$5<>\"Pre\"),0,BY440*BZ440), 0)","v":0},null,{"$error":"#DIV/0!"},{"$error":"#DIV/0!"},437]
[null,437,null,null,null,null,null,null,null,null,null,null,null,null,null,null,null,null,null,null,null,null,null,null,null,null,null,null,null,null,null,null,null,null,null,null,null,null,null,null,null,null,null,null,null,null,null,null,null,null,null,null,null,null,null,null,null,null,null,null,null,null,null,null,null,null,null,null,null,null,null,null,null,{"$f":"INDEX('Fixture Descriptions'!A:K,MATCH('Inspection Form'!H441,'Fixture Descriptions'!A:A,0),8)","v":{"$error":"#N/A"}},{"$error":"#N/A"},null,{"$error":"#N/A"},1,null,null,null,{"$f":"IFERROR(IF(AND(INDEX(Inventory!CB:CB,MATCH('Inspection Form'!B441,Inventory!B:B,0))=\"Not Qualified\",INDEX(Inventory!L:L,MATCH('Inspection Form'!B441,Inventory!B:B,0))<>\"\",$Q$5<>\"Pre\"),0,BY441*BZ441), 0)","v":0},null,{"$error":"#DIV/0!"},{"$error":"#DIV/0!"},438]
[null,438,null,null,null,null,null,null,null,null,null,null,null,null,null,null,null,null,null,null,null,null,null,null,null,null,null,null,null,null,null,null,null,null,null,null,null,null,null,null,null,null,null,null,null,null,null,null,null,null,null,null,null,null,null,null,null,null,null,null,null,null,null,null,null,null,null,null,null,null,null,null,null,{"$f":"INDEX('Fixture Descriptions'!A:K,MATCH('Inspection Form'!H442,'Fixture Descriptions'!A:A,0),8)","v":{"$error":"#N/A"}},{"$error":"#N/A"},null,{"$error":"#N/A"},1,null,null,null,{"$f":"IFERROR(IF(AND(INDEX(Inventory!CB:CB,MATCH('Inspection Form'!B442,Inventory!B:B,0))=\"Not Qualified\",INDEX(Inventory!L:L,MATCH('Inspection Form'!B442,Inventory!B:B,0))<>\"\",$Q$5<>\"Pre\"),0,BY442*BZ442), 0)","v":0},null,{"$error":"#DIV/0!"},{"$error":"#DIV/0!"},439]
[null,439,null,null,null,null,null,null,null,null,null,null,null,null,null,null,null,null,null,null,null,null,null,null,null,null,null,null,null,null,null,null,null,null,null,null,null,null,null,null,null,null,null,null,null,null,null,null,null,null,null,null,null,null,null,null,null,null,null,null,null,null,null,null,null,null,null,null,null,null,null,null,null,{"$f":"INDEX('Fixture Descriptions'!A:K,MATCH('Inspection Form'!H443,'Fixture Descriptions'!A:A,0),8)","v":{"$error":"#N/A"}},{"$error":"#N/A"},null,{"$error":"#N/A"},1,null,null,null,{"$f":"IFERROR(IF(AND(INDEX(Inventory!CB:CB,MATCH('Inspection Form'!B443,Inventory!B:B,0))=\"Not Qualified\",INDEX(Inventory!L:L,MATCH('Inspection Form'!B443,Inventory!B:B,0))<>\"\",$Q$5<>\"Pre\"),0,BY443*BZ443), 0)","v":0},null,{"$error":"#DIV/0!"},{"$error":"#DIV/0!"},440]
[null,440,null,null,null,null,null,null,null,null,null,null,null,null,null,null,null,null,null,null,null,null,null,null,null,null,null,null,null,null,null,null,null,null,null,null,null,null,null,null,null,null,null,null,null,null,null,null,null,null,null,null,null,null,null,null,null,null,null,null,null,null,null,null,null,null,null,null,null,null,null,null,null,{"$f":"INDEX('Fixture Descriptions'!A:K,MATCH('Inspection Form'!H444,'Fixture Descriptions'!A:A,0),8)","v":{"$error":"#N/A"}},{"$error":"#N/A"},null,{"$error":"#N/A"},1,null,null,null,{"$f":"IFERROR(IF(AND(INDEX(Inventory!CB:CB,MATCH('Inspection Form'!B444,Inventory!B:B,0))=\"Not Qualified\",INDEX(Inventory!L:L,MATCH('Inspection Form'!B444,Inventory!B:B,0))<>\"\",$Q$5<>\"Pre\"),0,BY444*BZ444), 0)","v":0},null,{"$error":"#DIV/0!"},{"$error":"#DIV/0!"},441]
[null,441,null,null,null,null,null,null,null,null,null,null,null,null,null,null,null,null,null,null,null,null,null,null,null,null,null,null,null,null,null,null,null,null,null,null,null,null,null,null,null,null,null,null,null,null,null,null,null,null,null,null,null,null,null,null,null,null,null,null,null,null,null,null,null,null,null,null,null,null,null,null,null,{"$f":"INDEX('Fixture Descriptions'!A:K,MATCH('Inspection Form'!H445,'Fixture Descriptions'!A:A,0),8)","v":{"$error":"#N/A"}},{"$error":"#N/A"},null,{"$error":"#N/A"},1,null,null,null,{"$f":"IFERROR(IF(AND(INDEX(Inventory!CB:CB,MATCH('Inspection Form'!B445,Inventory!B:B,0))=\"Not Qualified\",INDEX(Inventory!L:L,MATCH('Inspection Form'!B445,Inventory!B:B,0))<>\"\",$Q$5<>\"Pre\"),0,BY445*BZ445), 0)","v":0},null,{"$error":"#DIV/0!"},{"$error":"#DIV/0!"},442]
[null,442,null,null,null,null,null,null,null,null,null,null,null,null,null,null,null,null,null,null,null,null,null,null,null,null,null,null,null,null,null,null,null,null,null,null,null,null,null,null,null,null,null,null,null,null,null,null,null,null,null,null,null,null,null,null,null,null,null,null,null,null,null,null,null,null,null,null,null,null,null,null,null,{"$f":"INDEX('Fixture Descriptions'!A:K,MATCH('Inspection Form'!H446,'Fixture Descriptions'!A:A,0),8)","v":{"$error":"#N/A"}},{"$error":"#N/A"},null,{"$error":"#N/A"},1,null,null,null,{"$f":"IFERROR(IF(AND(INDEX(Inventory!CB:CB,MATCH('Inspection Form'!B446,Inventory!B:B,0))=\"Not Qualified\",INDEX(Inventory!L:L,MATCH('Inspection Form'!B446,Inventory!B:B,0))<>\"\",$Q$5<>\"Pre\"),0,BY446*BZ446), 0)","v":0},null,{"$error":"#DIV/0!"},{"$error":"#DIV/0!"},443]
[null,443,null,null,null,null,null,null,null,null,null,null,null,null,null,null,null,null,null,null,null,null,null,null,null,null,null,null,null,null,null,null,null,null,null,null,null,null,null,null,null,null,null,null,null,null,null,null,null,null,null,null,null,null,null,null,null,null,null,null,null,null,null,null,null,null,null,null,null,null,null,null,null,{"$f":"INDEX('Fixture Descriptions'!A:K,MATCH('Inspection Form'!H447,'Fixture Descriptions'!A:A,0),8)","v":{"$error":"#N/A"}},{"$error":"#N/A"},null,{"$error":"#N/A"},1,null,null,null,{"$f":"IFERROR(IF(AND(INDEX(Inventory!CB:CB,MATCH('Inspection Form'!B447,Inventory!B:B,0))=\"Not Qualified\",INDEX(Inventory!L:L,MATCH('Inspection Form'!B447,Inventory!B:B,0))<>\"\",$Q$5<>\"Pre\"),0,BY447*BZ447), 0)","v":0},null,{"$error":"#DIV/0!"},{"$error":"#DIV/0!"},444]
[null,444,null,null,null,null,null,null,null,null,null,null,null,null,null,null,null,null,null,null,null,null,null,null,null,null,null,null,null,null,null,null,null,null,null,null,null,null,null,null,null,null,null,null,null,null,null,null,null,null,null,null,null,null,null,null,null,null,null,null,null,null,null,null,null,null,null,null,null,null,null,null,null,{"$f":"INDEX('Fixture Descriptions'!A:K,MATCH('Inspection Form'!H448,'Fixture Descriptions'!A:A,0),8)","v":{"$error":"#N/A"}},{"$error":"#N/A"},null,{"$error":"#N/A"},1,null,null,null,{"$f":"IFERROR(IF(AND(INDEX(Inventory!CB:CB,MATCH('Inspection Form'!B448,Inventory!B:B,0))=\"Not Qualified\",INDEX(Inventory!L:L,MATCH('Inspection Form'!B448,Inventory!B:B,0))<>\"\",$Q$5<>\"Pre\"),0,BY448*BZ448), 0)","v":0},null,{"$error":"#DIV/0!"},{"$error":"#DIV/0!"},445]
[null,445,null,null,null,null,null,null,null,null,null,null,null,null,null,null,null,null,null,null,null,null,null,null,null,null,null,null,null,null,null,null,null,null,null,null,null,null,null,null,null,null,null,null,null,null,null,null,null,null,null,null,null,null,null,null,null,null,null,null,null,null,null,null,null,null,null,null,null,null,null,null,null,{"$f":"INDEX('Fixture Descriptions'!A:K,MATCH('Inspection Form'!H449,'Fixture Descriptions'!A:A,0),8)","v":{"$error":"#N/A"}},{"$error":"#N/A"},null,{"$error":"#N/A"},1,null,null,null,{"$f":"IFERROR(IF(AND(INDEX(Inventory!CB:CB,MATCH('Inspection Form'!B449,Inventory!B:B,0))=\"Not Qualified\",INDEX(Inventory!L:L,MATCH('Inspection Form'!B449,Inventory!B:B,0))<>\"\",$Q$5<>\"Pre\"),0,BY449*BZ449), 0)","v":0},null,{"$error":"#DIV/0!"},{"$error":"#DIV/0!"},446]
[null,446,null,null,null,null,null,null,null,null,null,null,null,null,null,null,null,null,null,null,null,null,null,null,null,null,null,null,null,null,null,null,null,null,null,null,null,null,null,null,null,null,null,null,null,null,null,null,null,null,null,null,null,null,null,null,null,null,null,null,null,null,null,null,null,null,null,null,null,null,null,null,null,{"$f":"INDEX('Fixture Descriptions'!A:K,MATCH('Inspection Form'!H450,'Fixture Descriptions'!A:A,0),8)","v":{"$error":"#N/A"}},{"$error":"#N/A"},null,{"$error":"#N/A"},1,null,null,null,{"$f":"IFERROR(IF(AND(INDEX(Inventory!CB:CB,MATCH('Inspection Form'!B450,Inventory!B:B,0))=\"Not Qualified\",INDEX(Inventory!L:L,MATCH('Inspection Form'!B450,Inventory!B:B,0))<>\"\",$Q$5<>\"Pre\"),0,BY450*BZ450), 0)","v":0},null,{"$error":"#DIV/0!"},{"$error":"#DIV/0!"},447]
[null,447,null,null,null,null,null,null,null,null,null,null,null,null,null,null,null,null,null,null,null,null,null,null,null,null,null,null,null,null,null,null,null,null,null,null,null,null,null,null,null,null,null,null,null,null,null,null,null,null,null,null,null,null,null,null,null,null,null,null,null,null,null,null,null,null,null,null,null,null,null,null,null,{"$f":"INDEX('Fixture Descriptions'!A:K,MATCH('Inspection Form'!H451,'Fixture Descriptions'!A:A,0),8)","v":{"$error":"#N/A"}},{"$error":"#N/A"},null,{"$error":"#N/A"},1,null,null,null,{"$f":"IFERROR(IF(AND(INDEX(Inventory!CB:CB,MATCH('Inspection Form'!B451,Inventory!B:B,0))=\"Not Qualified\",INDEX(Inventory!L:L,MATCH('Inspection Form'!B451,Inventory!B:B,0))<>\"\",$Q$5<>\"Pre\"),0,BY451*BZ451), 0)","v":0},null,{"$error":"#DIV/0!"},{"$error":"#DIV/0!"},448]
[null,448,null,null,null,null,null,null,null,null,null,null,null,null,null,null,null,null,null,null,null,null,null,null,null,null,null,null,null,null,null,null,null,null,null,null,null,null,null,null,null,null,null,null,null,null,null,null,null,null,null,null,null,null,null,null,null,null,null,null,null,null,null,null,null,null,null,null,null,null,null,null,null,{"$f":"INDEX('Fixture Descriptions'!A:K,MATCH('Inspection Form'!H452,'Fixture Descriptions'!A:A,0),8)","v":{"$error":"#N/A"}},{"$error":"#N/A"},null,{"$error":"#N/A"},1,null,null,null,{"$f":"IFERROR(IF(AND(INDEX(Inventory!CB:CB,MATCH('Inspection Form'!B452,Inventory!B:B,0))=\"Not Qualified\",INDEX(Inventory!L:L,MATCH('Inspection Form'!B452,Inventory!B:B,0))<>\"\",$Q$5<>\"Pre\"),0,BY452*BZ452), 0)","v":0},null,{"$error":"#DIV/0!"},{"$error":"#DIV/0!"},449]
[null,449,null,null,null,null,null,null,null,null,null,null,null,null,null,null,null,null,null,null,null,null,null,null,null,null,null,null,null,null,null,null,null,null,null,null,null,null,null,null,null,null,null,null,null,null,null,null,null,null,null,null,null,null,null,null,null,null,null,null,null,null,null,null,null,null,null,null,null,null,null,null,null,{"$f":"INDEX('Fixture Descriptions'!A:K,MATCH('Inspection Form'!H453,'Fixture Descriptions'!A:A,0),8)","v":{"$error":"#N/A"}},{"$f":"BV453*I453","v":{"$error":"#N/A"}},null,{"$error":"#N/A"},1,null,null,null,{"$f":"IFERROR(IF(AND(INDEX(Inventory!CB:CB,MATCH('Inspection Form'!B453,Inventory!B:B,0))=\"Not Qualified\",INDEX(Inventory!L:L,MATCH('Inspection Form'!B453,Inventory!B:B,0))<>\"\",$Q$5<>\"Pre\"),0,BY453*BZ453), 0)","v":0},null,{"$error":"#DIV/0!"},{"$error":"#DIV/0!"},450]
[null,450,null,null,null,null,null,null,null,null,null,null,null,null,null,null,null,null,null,null,null,null,null,null,null,null,null,null,null,null,null,null,null,null,null,null,null,null,null,null,null,null,null,null,null,null,null,null,null,null,null,null,null,null,null,null,null,null,null,null,null,null,null,null,null,null,null,null,null,null,null,null,null,{"$f":"INDEX('Fixture Descriptions'!A:K,MATCH('Inspection Form'!H454,'Fixture Descriptions'!A:A,0),8)","v":{"$error":"#N/A"}},{"$error":"#N/A"},null,{"$f":"BW454","v":{"$error":"#N/A"}},{"$f":"IF($U$3=\"All\", 1, IF(AND(C454=$U$3, H454=$U$4), 1, 0))","v":1},null,null,null,{"$f":"IFERROR(IF(AND(INDEX(Inventory!CB:CB,MATCH('Inspection Form'!B454,Inventory!B:B,0))=\"Not Qualified\",INDEX(Inventory!L:L,MATCH('Inspection Form'!B454,Inventory!B:B,0))<>\"\",$Q$5<>\"Pre\"),0,BY454*BZ454), 0)","v":0},null,{"$f":"CD454/$CE$5","v":{"$error":"#DIV/0!"}},{"$f":"CF454+CG453","v":{"$error":"#DIV/0!"}},451]
[null,451,null,null,null,null,null,null,null,null,null,null,null,null,null,null,null,null,null,null,null,null,null,null,null,null,null,null,null,null,null,null,null,null,null,null,null,null,null,null,null,null,null,null,null,null,null,null,null,null,null,null,null,null,null,null,null,null,null,null,null,null,null,null,null,null,null,null,null,null,null,null,null,{"$f":"INDEX('Fixture Descriptions'!A:K,MATCH('Inspection Form'!H455,'Fixture Descriptions'!A:A,0),8)","v":{"$error":"#N/A"}},{"$error":"#N/A"},null,{"$error":"#N/A"},1,null,null,null,{"$f":"IFERROR(IF(AND(INDEX(Inventory!CB:CB,MATCH('Inspection Form'!B455,Inventory!B:B,0))=\"Not Qualified\",INDEX(Inventory!L:L,MATCH('Inspection Form'!B455,Inventory!B:B,0))<>\"\",$Q$5<>\"Pre\"),0,BY455*BZ455), 0)","v":0},null,{"$error":"#DIV/0!"},{"$error":"#DIV/0!"},452]
[null,452,null,null,null,null,null,null,null,null,null,null,null,null,null,null,null,null,null,null,null,null,null,null,null,null,null,null,null,null,null,null,null,null,null,null,null,null,null,null,null,null,null,null,null,null,null,null,null,null,null,null,null,null,null,null,null,null,null,null,null,null,null,null,null,null,null,null,null,null,null,null,null,{"$f":"INDEX('Fixture Descriptions'!A:K,MATCH('Inspection Form'!H456,'Fixture Descriptions'!A:A,0),8)","v":{"$error":"#N/A"}},{"$error":"#N/A"},null,{"$error":"#N/A"},1,null,null,null,{"$f":"IFERROR(IF(AND(INDEX(Inventory!CB:CB,MATCH('Inspection Form'!B456,Inventory!B:B,0))=\"Not Qualified\",INDEX(Inventory!L:L,MATCH('Inspection Form'!B456,Inventory!B:B,0))<>\"\",$Q$5<>\"Pre\"),0,BY456*BZ456), 0)","v":0},null,{"$error":"#DIV/0!"},{"$error":"#DIV/0!"},453]
[null,453,null,null,null,null,null,null,null,null,null,null,null,null,null,null,null,null,null,null,null,null,null,null,null,null,null,null,null,null,null,null,null,null,null,null,null,null,null,null,null,null,null,null,null,null,null,null,null,null,null,null,null,null,null,null,null,null,null,null,null,null,null,null,null,null,null,null,null,null,null,null,null,{"$f":"INDEX('Fixture Descriptions'!A:K,MATCH('Inspection Form'!H457,'Fixture Descriptions'!A:A,0),8)","v":{"$error":"#N/A"}},{"$error":"#N/A"},null,{"$error":"#N/A"},1,null,null,null,{"$f":"IFERROR(IF(AND(INDEX(Inventory!CB:CB,MATCH('Inspection Form'!B457,Inventory!B:B,0))=\"Not Qualified\",INDEX(Inventory!L:L,MATCH('Inspection Form'!B457,Inventory!B:B,0))<>\"\",$Q$5<>\"Pre\"),0,BY457*BZ457), 0)","v":0},null,{"$error":"#DIV/0!"},{"$error":"#DIV/0!"},454]
[null,454,null,null,null,null,null,null,null,null,null,null,null,null,null,null,null,null,null,null,null,null,null,null,null,null,null,null,null,null,null,null,null,null,null,null,null,null,null,null,null,null,null,null,null,null,null,null,null,null,null,null,null,null,null,null,null,null,null,null,null,null,null,null,null,null,null,null,null,null,null,null,null,{"$f":"INDEX('Fixture Descriptions'!A:K,MATCH('Inspection Form'!H458,'Fixture Descriptions'!A:A,0),8)","v":{"$error":"#N/A"}},{"$error":"#N/A"},null,{"$error":"#N/A"},1,null,null,null,{"$f":"IFERROR(IF(AND(INDEX(Inventory!CB:CB,MATCH('Inspection Form'!B458,Inventory!B:B,0))=\"Not Qualified\",INDEX(Inventory!L:L,MATCH('Inspection Form'!B458,Inventory!B:B,0))<>\"\",$Q$5<>\"Pre\"),0,BY458*BZ458), 0)","v":0},null,{"$error":"#DIV/0!"},{"$error":"#DIV/0!"},455]
[null,455,null,null,null,null,null,null,null,null,null,null,null,null,null,null,null,null,null,null,null,null,null,null,null,null,null,null,null,null,null,null,null,null,null,null,null,null,null,null,null,null,null,null,null,null,null,null,null,null,null,null,null,null,null,null,null,null,null,null,null,null,null,null,null,null,null,null,null,null,null,null,null,{"$f":"INDEX('Fixture Descriptions'!A:K,MATCH('Inspection Form'!H459,'Fixture Descriptions'!A:A,0),8)","v":{"$error":"#N/A"}},{"$error":"#N/A"},null,{"$error":"#N/A"},1,null,null,null,{"$f":"IFERROR(IF(AND(INDEX(Inventory!CB:CB,MATCH('Inspection Form'!B459,Inventory!B:B,0))=\"Not Qualified\",INDEX(Inventory!L:L,MATCH('Inspection Form'!B459,Inventory!B:B,0))<>\"\",$Q$5<>\"Pre\"),0,BY459*BZ459), 0)","v":0},null,{"$error":"#DIV/0!"},{"$error":"#DIV/0!"},456]
[null,456,null,null,null,null,null,null,null,null,null,null,null,null,null,null,null,null,null,null,null,null,null,null,null,null,null,null,null,null,null,null,null,null,null,null,null,null,null,null,null,null,null,null,null,null,null,null,null,null,null,null,null,null,null,null,null,null,null,null,null,null,null,null,null,null,null,null,null,null,null,null,null,{"$f":"INDEX('Fixture Descriptions'!A:K,MATCH('Inspection Form'!H460,'Fixture Descriptions'!A:A,0),8)","v":{"$error":"#N/A"}},{"$error":"#N/A"},null,{"$error":"#N/A"},1,null,null,null,{"$f":"IFERROR(IF(AND(INDEX(Inventory!CB:CB,MATCH('Inspection Form'!B460,Inventory!B:B,0))=\"Not Qualified\",INDEX(Inventory!L:L,MATCH('Inspection Form'!B460,Inventory!B:B,0))<>\"\",$Q$5<>\"Pre\"),0,BY460*BZ460), 0)","v":0},null,{"$error":"#DIV/0!"},{"$error":"#DIV/0!"},457]
[null,457,null,null,null,null,null,null,null,null,null,null,null,null,null,null,null,null,null,null,null,null,null,null,null,null,null,null,null,null,null,null,null,null,null,null,null,null,null,null,null,null,null,null,null,null,null,null,null,null,null,null,null,null,null,null,null,null,null,null,null,null,null,null,null,null,null,null,null,null,null,null,null,{"$f":"INDEX('Fixture Descriptions'!A:K,MATCH('Inspection Form'!H461,'Fixture Descriptions'!A:A,0),8)","v":{"$error":"#N/A"}},{"$error":"#N/A"},null,{"$error":"#N/A"},1,null,null,null,{"$f":"IFERROR(IF(AND(INDEX(Inventory!CB:CB,MATCH('Inspection Form'!B461,Inventory!B:B,0))=\"Not Qualified\",INDEX(Inventory!L:L,MATCH('Inspection Form'!B461,Inventory!B:B,0))<>\"\",$Q$5<>\"Pre\"),0,BY461*BZ461), 0)","v":0},null,{"$error":"#DIV/0!"},{"$error":"#DIV/0!"},458]
[null,458,null,null,null,null,null,null,null,null,null,null,null,null,null,null,null,null,null,null,null,null,null,null,null,null,null,null,null,null,null,null,null,null,null,null,null,null,null,null,null,null,null,null,null,null,null,null,null,null,null,null,null,null,null,null,null,null,null,null,null,null,null,null,null,null,null,null,null,null,null,null,null,{"$f":"INDEX('Fixture Descriptions'!A:K,MATCH('Inspection Form'!H462,'Fixture Descriptions'!A:A,0),8)","v":{"$error":"#N/A"}},{"$error":"#N/A"},null,{"$error":"#N/A"},1,null,null,null,{"$f":"IFERROR(IF(AND(INDEX(Inventory!CB:CB,MATCH('Inspection Form'!B462,Inventory!B:B,0))=\"Not Qualified\",INDEX(Inventory!L:L,MATCH('Inspection Form'!B462,Inventory!B:B,0))<>\"\",$Q$5<>\"Pre\"),0,BY462*BZ462), 0)","v":0},null,{"$error":"#DIV/0!"},{"$error":"#DIV/0!"},459]
[null,459,null,null,null,null,null,null,null,null,null,null,null,null,null,null,null,null,null,null,null,null,null,null,null,null,null,null,null,null,null,null,null,null,null,null,null,null,null,null,null,null,null,null,null,null,null,null,null,null,null,null,null,null,null,null,null,null,null,null,null,null,null,null,null,null,null,null,null,null,null,null,null,{"$f":"INDEX('Fixture Descriptions'!A:K,MATCH('Inspection Form'!H463,'Fixture Descriptions'!A:A,0),8)","v":{"$error":"#N/A"}},{"$error":"#N/A"},null,{"$error":"#N/A"},1,null,null,null,{"$f":"IFERROR(IF(AND(INDEX(Inventory!CB:CB,MATCH('Inspection Form'!B463,Inventory!B:B,0))=\"Not Qualified\",INDEX(Inventory!L:L,MATCH('Inspection Form'!B463,Inventory!B:B,0))<>\"\",$Q$5<>\"Pre\"),0,BY463*BZ463), 0)","v":0},null,{"$error":"#DIV/0!"},{"$error":"#DIV/0!"},460]
[null,460,null,null,null,null,null,null,null,null,null,null,null,null,null,null,null,null,null,null,null,null,null,null,null,null,null,null,null,null,null,null,null,null,null,null,null,null,null,null,null,null,null,null,null,null,null,null,null,null,null,null,null,null,null,null,null,null,null,null,null,null,null,null,null,null,null,null,null,null,null,null,null,{"$f":"INDEX('Fixture Descriptions'!A:K,MATCH('Inspection Form'!H464,'Fixture Descriptions'!A:A,0),8)","v":{"$error":"#N/A"}},{"$error":"#N/A"},null,{"$error":"#N/A"},1,null,null,null,{"$f":"IFERROR(IF(AND(INDEX(Inventory!CB:CB,MATCH('Inspection Form'!B464,Inventory!B:B,0))=\"Not Qualified\",INDEX(Inventory!L:L,MATCH('Inspection Form'!B464,Inventory!B:B,0))<>\"\",$Q$5<>\"Pre\"),0,BY464*BZ464), 0)","v":0},null,{"$error":"#DIV/0!"},{"$error":"#DIV/0!"},461]
[null,461,null,null,null,null,null,null,null,null,null,null,null,null,null,null,null,null,null,null,null,null,null,null,null,null,null,null,null,null,null,null,null,null,null,null,null,null,null,null,null,null,null,null,null,null,null,null,null,null,null,null,null,null,null,null,null,null,null,null,null,null,null,null,null,null,null,null,null,null,null,null,null,{"$f":"INDEX('Fixture Descriptions'!A:K,MATCH('Inspection Form'!H465,'Fixture Descriptions'!A:A,0),8)","v":{"$error":"#N/A"}},{"$error":"#N/A"},null,{"$error":"#N/A"},1,null,null,null,{"$f":"IFERROR(IF(AND(INDEX(Inventory!CB:CB,MATCH('Inspection Form'!B465,Inventory!B:B,0))=\"Not Qualified\",INDEX(Inventory!L:L,MATCH('Inspection Form'!B465,Inventory!B:B,0))<>\"\",$Q$5<>\"Pre\"),0,BY465*BZ465), 0)","v":0},null,{"$error":"#DIV/0!"},{"$error":"#DIV/0!"},462]
[null,462,null,null,null,null,null,null,null,null,null,null,null,null,null,null,null,null,null,null,null,null,null,null,null,null,null,null,null,null,null,null,null,null,null,null,null,null,null,null,null,null,null,null,null,null,null,null,null,null,null,null,null,null,null,null,null,null,null,null,null,null,null,null,null,null,null,null,null,null,null,null,null,{"$f":"INDEX('Fixture Descriptions'!A:K,MATCH('Inspection Form'!H466,'Fixture Descriptions'!A:A,0),8)","v":{"$error":"#N/A"}},{"$error":"#N/A"},null,{"$error":"#N/A"},1,null,null,null,{"$f":"IFERROR(IF(AND(INDEX(Inventory!CB:CB,MATCH('Inspection Form'!B466,Inventory!B:B,0))=\"Not Qualified\",INDEX(Inventory!L:L,MATCH('Inspection Form'!B466,Inventory!B:B,0))<>\"\",$Q$5<>\"Pre\"),0,BY466*BZ466), 0)","v":0},null,{"$error":"#DIV/0!"},{"$error":"#DIV/0!"},463]
[null,463,null,null,null,null,null,null,null,null,null,null,null,null,null,null,null,null,null,null,null,null,null,null,null,null,null,null,null,null,null,null,null,null,null,null,null,null,null,null,null,null,null,null,null,null,null,null,null,null,null,null,null,null,null,null,null,null,null,null,null,null,null,null,null,null,null,null,null,null,null,null,null,{"$f":"INDEX('Fixture Descriptions'!A:K,MATCH('Inspection Form'!H467,'Fixture Descriptions'!A:A,0),8)","v":{"$error":"#N/A"}},{"$error":"#N/A"},null,{"$error":"#N/A"},1,null,null,null,{"$f":"IFERROR(IF(AND(INDEX(Inventory!CB:CB,MATCH('Inspection Form'!B467,Inventory!B:B,0))=\"Not Qualified\",INDEX(Inventory!L:L,MATCH('Inspection Form'!B467,Inventory!B:B,0))<>\"\",$Q$5<>\"Pre\"),0,BY467*BZ467), 0)","v":0},null,{"$error":"#DIV/0!"},{"$error":"#DIV/0!"},464]
[null,464,null,null,null,null,null,null,null,null,null,null,null,null,null,null,null,null,null,null,null,null,null,null,null,null,null,null,null,null,null,null,null,null,null,null,null,null,null,null,null,null,null,null,null,null,null,null,null,null,null,null,null,null,null,null,null,null,null,null,null,null,null,null,null,null,null,null,null,null,null,null,null,{"$f":"INDEX('Fixture Descriptions'!A:K,MATCH('Inspection Form'!H468,'Fixture Descriptions'!A:A,0),8)","v":{"$error":"#N/A"}},{"$error":"#N/A"},null,{"$error":"#N/A"},1,null,null,null,{"$f":"IFERROR(IF(AND(INDEX(Inventory!CB:CB,MATCH('Inspection Form'!B468,Inventory!B:B,0))=\"Not Qualified\",INDEX(Inventory!L:L,MATCH('Inspection Form'!B468,Inventory!B:B,0))<>\"\",$Q$5<>\"Pre\"),0,BY468*BZ468), 0)","v":0},null,{"$error":"#DIV/0!"},{"$error":"#DIV/0!"},465]
[null,465,null,null,null,null,null,null,null,null,null,null,null,null,null,null,null,null,null,null,null,null,null,null,null,null,null,null,null,null,null,null,null,null,null,null,null,null,null,null,null,null,null,null,null,null,null,null,null,null,null,null,null,null,null,null,null,null,null,null,null,null,null,null,null,null,null,null,null,null,null,null,null,{"$f":"INDEX('Fixture Descriptions'!A:K,MATCH('Inspection Form'!H469,'Fixture Descriptions'!A:A,0),8)","v":{"$error":"#N/A"}},{"$error":"#N/A"},null,{"$error":"#N/A"},1,null,null,null,{"$f":"IFERROR(IF(AND(INDEX(Inventory!CB:CB,MATCH('Inspection Form'!B469,Inventory!B:B,0))=\"Not Qualified\",INDEX(Inventory!L:L,MATCH('Inspection Form'!B469,Inventory!B:B,0))<>\"\",$Q$5<>\"Pre\"),0,BY469*BZ469), 0)","v":0},null,{"$error":"#DIV/0!"},{"$error":"#DIV/0!"},466]
[null,466,null,null,null,null,null,null,null,null,null,null,null,null,null,null,null,null,null,null,null,null,null,null,null,null,null,null,null,null,null,null,null,null,null,null,null,null,null,null,null,null,null,null,null,null,null,null,null,null,null,null,null,null,null,null,null,null,null,null,null,null,null,null,null,null,null,null,null,null,null,null,null,{"$f":"INDEX('Fixture Descriptions'!A:K,MATCH('Inspection Form'!H470,'Fixture Descriptions'!A:A,0),8)","v":{"$error":"#N/A"}},{"$error":"#N/A"},null,{"$error":"#N/A"},1,null,null,null,{"$f":"IFERROR(IF(AND(INDEX(Inventory!CB:CB,MATCH('Inspection Form'!B470,Inventory!B:B,0))=\"Not Qualified\",INDEX(Inventory!L:L,MATCH('Inspection Form'!B470,Inventory!B:B,0))<>\"\",$Q$5<>\"Pre\"),0,BY470*BZ470), 0)","v":0},null,{"$error":"#DIV/0!"},{"$error":"#DIV/0!"},467]
[null,467,null,null,null,null,null,null,null,null,null,null,null,null,null,null,null,null,null,null,null,null,null,null,null,null,null,null,null,null,null,null,null,null,null,null,null,null,null,null,null,null,null,null,null,null,null,null,null,null,null,null,null,null,null,null,null,null,null,null,null,null,null,null,null,null,null,null,null,null,null,null,null,{"$f":"INDEX('Fixture Descriptions'!A:K,MATCH('Inspection Form'!H471,'Fixture Descriptions'!A:A,0),8)","v":{"$error":"#N/A"}},{"$error":"#N/A"},null,{"$error":"#N/A"},1,null,null,null,{"$f":"IFERROR(IF(AND(INDEX(Inventory!CB:CB,MATCH('Inspection Form'!B471,Inventory!B:B,0))=\"Not Qualified\",INDEX(Inventory!L:L,MATCH('Inspection Form'!B471,Inventory!B:B,0))<>\"\",$Q$5<>\"Pre\"),0,BY471*BZ471), 0)","v":0},null,{"$error":"#DIV/0!"},{"$error":"#DIV/0!"},468]
[null,468,null,null,null,null,null,null,null,null,null,null,null,null,null,null,null,null,null,null,null,null,null,null,null,null,null,null,null,null,null,null,null,null,null,null,null,null,null,null,null,null,null,null,null,null,null,null,null,null,null,null,null,null,null,null,null,null,null,null,null,null,null,null,null,null,null,null,null,null,null,null,null,{"$f":"INDEX('Fixture Descriptions'!A:K,MATCH('Inspection Form'!H472,'Fixture Descriptions'!A:A,0),8)","v":{"$error":"#N/A"}},{"$error":"#N/A"},null,{"$error":"#N/A"},1,null,null,null,{"$f":"IFERROR(IF(AND(INDEX(Inventory!CB:CB,MATCH('Inspection Form'!B472,Inventory!B:B,0))=\"Not Qualified\",INDEX(Inventory!L:L,MATCH('Inspection Form'!B472,Inventory!B:B,0))<>\"\",$Q$5<>\"Pre\"),0,BY472*BZ472), 0)","v":0},null,{"$error":"#DIV/0!"},{"$error":"#DIV/0!"},469]
[null,469,null,null,null,null,null,null,null,null,null,null,null,null,null,null,null,null,null,null,null,null,null,null,null,null,null,null,null,null,null,null,null,null,null,null,null,null,null,null,null,null,null,null,null,null,null,null,null,null,null,null,null,null,null,null,null,null,null,null,null,null,null,null,null,null,null,null,null,null,null,null,null,{"$f":"INDEX('Fixture Descriptions'!A:K,MATCH('Inspection Form'!H473,'Fixture Descriptions'!A:A,0),8)","v":{"$error":"#N/A"}},{"$error":"#N/A"},null,{"$error":"#N/A"},1,null,null,null,{"$f":"IFERROR(IF(AND(INDEX(Inventory!CB:CB,MATCH('Inspection Form'!B473,Inventory!B:B,0))=\"Not Qualified\",INDEX(Inventory!L:L,MATCH('Inspection Form'!B473,Inventory!B:B,0))<>\"\",$Q$5<>\"Pre\"),0,BY473*BZ473), 0)","v":0},null,{"$error":"#DIV/0!"},{"$error":"#DIV/0!"},470]
[null,470,null,null,null,null,null,null,null,null,null,null,null,null,null,null,null,null,null,null,null,null,null,null,null,null,null,null,null,null,null,null,null,null,null,null,null,null,null,null,null,null,null,null,null,null,null,null,null,null,null,null,null,null,null,null,null,null,null,null,null,null,null,null,null,null,null,null,null,null,null,null,null,{"$f":"INDEX('Fixture Descriptions'!A:K,MATCH('Inspection Form'!H474,'Fixture Descriptions'!A:A,0),8)","v":{"$error":"#N/A"}},{"$error":"#N/A"},null,{"$error":"#N/A"},1,null,null,null,{"$f":"IFERROR(IF(AND(INDEX(Inventory!CB:CB,MATCH('Inspection Form'!B474,Inventory!B:B,0))=\"Not Qualified\",INDEX(Inventory!L:L,MATCH('Inspection Form'!B474,Inventory!B:B,0))<>\"\",$Q$5<>\"Pre\"),0,BY474*BZ474), 0)","v":0},null,{"$error":"#DIV/0!"},{"$error":"#DIV/0!"},471]
[null,471,null,null,null,null,null,null,null,null,null,null,null,null,null,null,null,null,null,null,null,null,null,null,null,null,null,null,null,null,null,null,null,null,null,null,null,null,null,null,null,null,null,null,null,null,null,null,null,null,null,null,null,null,null,null,null,null,null,null,null,null,null,null,null,null,null,null,null,null,null,null,null,{"$f":"INDEX('Fixture Descriptions'!A:K,MATCH('Inspection Form'!H475,'Fixture Descriptions'!A:A,0),8)","v":{"$error":"#N/A"}},{"$error":"#N/A"},null,{"$error":"#N/A"},1,null,null,null,{"$f":"IFERROR(IF(AND(INDEX(Inventory!CB:CB,MATCH('Inspection Form'!B475,Inventory!B:B,0))=\"Not Qualified\",INDEX(Inventory!L:L,MATCH('Inspection Form'!B475,Inventory!B:B,0))<>\"\",$Q$5<>\"Pre\"),0,BY475*BZ475), 0)","v":0},null,{"$error":"#DIV/0!"},{"$error":"#DIV/0!"},472]
[null,472,null,null,null,null,null,null,null,null,null,null,null,null,null,null,null,null,null,null,null,null,null,null,null,null,null,null,null,null,null,null,null,null,null,null,null,null,null,null,null,null,null,null,null,null,null,null,null,null,null,null,null,null,null,null,null,null,null,null,null,null,null,null,null,null,null,null,null,null,null,null,null,{"$f":"INDEX('Fixture Descriptions'!A:K,MATCH('Inspection Form'!H476,'Fixture Descriptions'!A:A,0),8)","v":{"$error":"#N/A"}},{"$error":"#N/A"},null,{"$error":"#N/A"},1,null,null,null,{"$f":"IFERROR(IF(AND(INDEX(Inventory!CB:CB,MATCH('Inspection Form'!B476,Inventory!B:B,0))=\"Not Qualified\",INDEX(Inventory!L:L,MATCH('Inspection Form'!B476,Inventory!B:B,0))<>\"\",$Q$5<>\"Pre\"),0,BY476*BZ476), 0)","v":0},null,{"$error":"#DIV/0!"},{"$error":"#DIV/0!"},473]
[null,473,null,null,null,null,null,null,null,null,null,null,null,null,null,null,null,null,null,null,null,null,null,null,null,null,null,null,null,null,null,null,null,null,null,null,null,null,null,null,null,null,null,null,null,null,null,null,null,null,null,null,null,null,null,null,null,null,null,null,null,null,null,null,null,null,null,null,null,null,null,null,null,{"$f":"INDEX('Fixture Descriptions'!A:K,MATCH('Inspection Form'!H477,'Fixture Descriptions'!A:A,0),8)","v":{"$error":"#N/A"}},{"$error":"#N/A"},null,{"$error":"#N/A"},1,null,null,null,{"$f":"IFERROR(IF(AND(INDEX(Inventory!CB:CB,MATCH('Inspection Form'!B477,Inventory!B:B,0))=\"Not Qualified\",INDEX(Inventory!L:L,MATCH('Inspection Form'!B477,Inventory!B:B,0))<>\"\",$Q$5<>\"Pre\"),0,BY477*BZ477), 0)","v":0},null,{"$error":"#DIV/0!"},{"$error":"#DIV/0!"},474]
[null,474,null,null,null,null,null,null,null,null,null,null,null,null,null,null,null,null,null,null,null,null,null,null,null,null,null,null,null,null,null,null,null,null,null,null,null,null,null,null,null,null,null,null,null,null,null,null,null,null,null,null,null,null,null,null,null,null,null,null,null,null,null,null,null,null,null,null,null,null,null,null,null,{"$f":"INDEX('Fixture Descriptions'!A:K,MATCH('Inspection Form'!H478,'Fixture Descriptions'!A:A,0),8)","v":{"$error":"#N/A"}},{"$error":"#N/A"},null,{"$error":"#N/A"},1,null,null,null,{"$f":"IFERROR(IF(AND(INDEX(Inventory!CB:CB,MATCH('Inspection Form'!B478,Inventory!B:B,0))=\"Not Qualified\",INDEX(Inventory!L:L,MATCH('Inspection Form'!B478,Inventory!B:B,0))<>\"\",$Q$5<>\"Pre\"),0,BY478*BZ478), 0)","v":0},null,{"$error":"#DIV/0!"},{"$error":"#DIV/0!"},475]
[null,475,null,null,null,null,null,null,null,null,null,null,null,null,null,null,null,null,null,null,null,null,null,null,null,null,null,null,null,null,null,null,null,null,null,null,null,null,null,null,null,null,null,null,null,null,null,null,null,null,null,null,null,null,null,null,null,null,null,null,null,null,null,null,null,null,null,null,null,null,null,null,null,{"$f":"INDEX('Fixture Descriptions'!A:K,MATCH('Inspection Form'!H479,'Fixture Descriptions'!A:A,0),8)","v":{"$error":"#N/A"}},{"$error":"#N/A"},null,{"$error":"#N/A"},1,null,null,null,{"$f":"IFERROR(IF(AND(INDEX(Inventory!CB:CB,MATCH('Inspection Form'!B479,Inventory!B:B,0))=\"Not Qualified\",INDEX(Inventory!L:L,MATCH('Inspection Form'!B479,Inventory!B:B,0))<>\"\",$Q$5<>\"Pre\"),0,BY479*BZ479), 0)","v":0},null,{"$error":"#DIV/0!"},{"$error":"#DIV/0!"},476]
[null,476,null,null,null,null,null,null,null,null,null,null,null,null,null,null,null,null,null,null,null,null,null,null,null,null,null,null,null,null,null,null,null,null,null,null,null,null,null,null,null,null,null,null,null,null,null,null,null,null,null,null,null,null,null,null,null,null,null,null,null,null,null,null,null,null,null,null,null,null,null,null,null,{"$f":"INDEX('Fixture Descriptions'!A:K,MATCH('Inspection Form'!H480,'Fixture Descriptions'!A:A,0),8)","v":{"$error":"#N/A"}},{"$error":"#N/A"},null,{"$error":"#N/A"},1,null,null,null,{"$f":"IFERROR(IF(AND(INDEX(Inventory!CB:CB,MATCH('Inspection Form'!B480,Inventory!B:B,0))=\"Not Qualified\",INDEX(Inventory!L:L,MATCH('Inspection Form'!B480,Inventory!B:B,0))<>\"\",$Q$5<>\"Pre\"),0,BY480*BZ480), 0)","v":0},null,{"$error":"#DIV/0!"},{"$error":"#DIV/0!"},477]
[null,477,null,null,null,null,null,null,null,null,null,null,null,null,null,null,null,null,null,null,null,null,null,null,null,null,null,null,null,null,null,null,null,null,null,null,null,null,null,null,null,null,null,null,null,null,null,null,null,null,null,null,null,null,null,null,null,null,null,null,null,null,null,null,null,null,null,null,null,null,null,null,null,{"$f":"INDEX('Fixture Descriptions'!A:K,MATCH('Inspection Form'!H481,'Fixture Descriptions'!A:A,0),8)","v":{"$error":"#N/A"}},{"$error":"#N/A"},null,{"$error":"#N/A"},1,null,null,null,{"$f":"IFERROR(IF(AND(INDEX(Inventory!CB:CB,MATCH('Inspection Form'!B481,Inventory!B:B,0))=\"Not Qualified\",INDEX(Inventory!L:L,MATCH('Inspection Form'!B481,Inventory!B:B,0))<>\"\",$Q$5<>\"Pre\"),0,BY481*BZ481), 0)","v":0},null,{"$error":"#DIV/0!"},{"$error":"#DIV/0!"},478]
[null,478,null,null,null,null,null,null,null,null,null,null,null,null,null,null,null,null,null,null,null,null,null,null,null,null,null,null,null,null,null,null,null,null,null,null,null,null,null,null,null,null,null,null,null,null,null,null,null,null,null,null,null,null,null,null,null,null,null,null,null,null,null,null,null,null,null,null,null,null,null,null,null,{"$f":"INDEX('Fixture Descriptions'!A:K,MATCH('Inspection Form'!H482,'Fixture Descriptions'!A:A,0),8)","v":{"$error":"#N/A"}},{"$error":"#N/A"},null,{"$error":"#N/A"},1,null,null,null,{"$f":"IFERROR(IF(AND(INDEX(Inventory!CB:CB,MATCH('Inspection Form'!B482,Inventory!B:B,0))=\"Not Qualified\",INDEX(Inventory!L:L,MATCH('Inspection Form'!B482,Inventory!B:B,0))<>\"\",$Q$5<>\"Pre\"),0,BY482*BZ482), 0)","v":0},null,{"$error":"#DIV/0!"},{"$error":"#DIV/0!"},479]
[null,479,null,null,null,null,null,null,null,null,null,null,null,null,null,null,null,null,null,null,null,null,null,null,null,null,null,null,null,null,null,null,null,null,null,null,null,null,null,null,null,null,null,null,null,null,null,null,null,null,null,null,null,null,null,null,null,null,null,null,null,null,null,null,null,null,null,null,null,null,null,null,null,{"$f":"INDEX('Fixture Descriptions'!A:K,MATCH('Inspection Form'!H483,'Fixture Descriptions'!A:A,0),8)","v":{"$error":"#N/A"}},{"$error":"#N/A"},null,{"$error":"#N/A"},1,null,null,null,{"$f":"IFERROR(IF(AND(INDEX(Inventory!CB:CB,MATCH('Inspection Form'!B483,Inventory!B:B,0))=\"Not Qualified\",INDEX(Inventory!L:L,MATCH('Inspection Form'!B483,Inventory!B:B,0))<>\"\",$Q$5<>\"Pre\"),0,BY483*BZ483), 0)","v":0},null,{"$error":"#DIV/0!"},{"$error":"#DIV/0!"},480]
[null,480,null,null,null,null,null,null,null,null,null,null,null,null,null,null,null,null,null,null,null,null,null,null,null,null,null,null,null,null,null,null,null,null,null,null,null,null,null,null,null,null,null,null,null,null,null,null,null,null,null,null,null,null,null,null,null,null,null,null,null,null,null,null,null,null,null,null,null,null,null,null,null,{"$f":"INDEX('Fixture Descriptions'!A:K,MATCH('Inspection Form'!H484,'Fixture Descriptions'!A:A,0),8)","v":{"$error":"#N/A"}},{"$error":"#N/A"},null,{"$error":"#N/A"},1,null,null,null,{"$f":"IFERROR(IF(AND(INDEX(Inventory!CB:CB,MATCH('Inspection Form'!B484,Inventory!B:B,0))=\"Not Qualified\",INDEX(Inventory!L:L,MATCH('Inspection Form'!B484,Inventory!B:B,0))<>\"\",$Q$5<>\"Pre\"),0,BY484*BZ484), 0)","v":0},null,{"$error":"#DIV/0!"},{"$error":"#DIV/0!"},481]
[null,481,null,null,null,null,null,null,null,null,null,null,null,null,null,null,null,null,null,null,null,null,null,null,null,null,null,null,null,null,null,null,null,null,null,null,null,null,null,null,null,null,null,null,null,null,null,null,null,null,null,null,null,null,null,null,null,null,null,null,null,null,null,null,null,null,null,null,null,null,null,null,null,{"$f":"INDEX('Fixture Descriptions'!A:K,MATCH('Inspection Form'!H485,'Fixture Descriptions'!A:A,0),8)","v":{"$error":"#N/A"}},{"$error":"#N/A"},null,{"$error":"#N/A"},1,null,null,null,{"$f":"IFERROR(IF(AND(INDEX(Inventory!CB:CB,MATCH('Inspection Form'!B485,Inventory!B:B,0))=\"Not Qualified\",INDEX(Inventory!L:L,MATCH('Inspection Form'!B485,Inventory!B:B,0))<>\"\",$Q$5<>\"Pre\"),0,BY485*BZ485), 0)","v":0},null,{"$error":"#DIV/0!"},{"$error":"#DIV/0!"},482]
[null,482,null,null,null,null,null,null,null,null,null,null,null,null,null,null,null,null,null,null,null,null,null,null,null,null,null,null,null,null,null,null,null,null,null,null,null,null,null,null,null,null,null,null,null,null,null,null,null,null,null,null,null,null,null,null,null,null,null,null,null,null,null,null,null,null,null,null,null,null,null,null,null,{"$f":"INDEX('Fixture Descriptions'!A:K,MATCH('Inspection Form'!H486,'Fixture Descriptions'!A:A,0),8)","v":{"$error":"#N/A"}},{"$error":"#N/A"},null,{"$error":"#N/A"},1,null,null,null,{"$f":"IFERROR(IF(AND(INDEX(Inventory!CB:CB,MATCH('Inspection Form'!B486,Inventory!B:B,0))=\"Not Qualified\",INDEX(Inventory!L:L,MATCH('Inspection Form'!B486,Inventory!B:B,0))<>\"\",$Q$5<>\"Pre\"),0,BY486*BZ486), 0)","v":0},null,{"$error":"#DIV/0!"},{"$error":"#DIV/0!"},483]
[null,483,null,null,null,null,null,null,null,null,null,null,null,null,null,null,null,null,null,null,null,null,null,null,null,null,null,null,null,null,null,null,null,null,null,null,null,null,null,null,null,null,null,null,null,null,null,null,null,null,null,null,null,null,null,null,null,null,null,null,null,null,null,null,null,null,null,null,null,null,null,null,null,{"$f":"INDEX('Fixture Descriptions'!A:K,MATCH('Inspection Form'!H487,'Fixture Descriptions'!A:A,0),8)","v":{"$error":"#N/A"}},{"$error":"#N/A"},null,{"$error":"#N/A"},1,null,null,null,{"$f":"IFERROR(IF(AND(INDEX(Inventory!CB:CB,MATCH('Inspection Form'!B487,Inventory!B:B,0))=\"Not Qualified\",INDEX(Inventory!L:L,MATCH('Inspection Form'!B487,Inventory!B:B,0))<>\"\",$Q$5<>\"Pre\"),0,BY487*BZ487), 0)","v":0},null,{"$error":"#DIV/0!"},{"$error":"#DIV/0!"},484]
[null,484,null,null,null,null,null,null,null,null,null,null,null,null,null,null,null,null,null,null,null,null,null,null,null,null,null,null,null,null,null,null,null,null,null,null,null,null,null,null,null,null,null,null,null,null,null,null,null,null,null,null,null,null,null,null,null,null,null,null,null,null,null,null,null,null,null,null,null,null,null,null,null,{"$f":"INDEX('Fixture Descriptions'!A:K,MATCH('Inspection Form'!H488,'Fixture Descriptions'!A:A,0),8)","v":{"$error":"#N/A"}},{"$error":"#N/A"},null,{"$error":"#N/A"},1,null,null,null,{"$f":"IFERROR(IF(AND(INDEX(Inventory!CB:CB,MATCH('Inspection Form'!B488,Inventory!B:B,0))=\"Not Qualified\",INDEX(Inventory!L:L,MATCH('Inspection Form'!B488,Inventory!B:B,0))<>\"\",$Q$5<>\"Pre\"),0,BY488*BZ488), 0)","v":0},null,{"$error":"#DIV/0!"},{"$error":"#DIV/0!"},485]
[null,485,null,null,null,null,null,null,null,null,null,null,null,null,null,null,null,null,null,null,null,null,null,null,null,null,null,null,null,null,null,null,null,null,null,null,null,null,null,null,null,null,null,null,null,null,null,null,null,null,null,null,null,null,null,null,null,null,null,null,null,null,null,null,null,null,null,null,null,null,null,null,null,{"$f":"INDEX('Fixture Descriptions'!A:K,MATCH('Inspection Form'!H489,'Fixture Descriptions'!A:A,0),8)","v":{"$error":"#N/A"}},{"$error":"#N/A"},null,{"$error":"#N/A"},1,null,null,null,{"$f":"IFERROR(IF(AND(INDEX(Inventory!CB:CB,MATCH('Inspection Form'!B489,Inventory!B:B,0))=\"Not Qualified\",INDEX(Inventory!L:L,MATCH('Inspection Form'!B489,Inventory!B:B,0))<>\"\",$Q$5<>\"Pre\"),0,BY489*BZ489), 0)","v":0},null,{"$error":"#DIV/0!"},{"$error":"#DIV/0!"},486]
[null,486,null,null,null,null,null,null,null,null,null,null,null,null,null,null,null,null,null,null,null,null,null,null,null,null,null,null,null,null,null,null,null,null,null,null,null,null,null,null,null,null,null,null,null,null,null,null,null,null,null,null,null,null,null,null,null,null,null,null,null,null,null,null,null,null,null,null,null,null,null,null,null,{"$f":"INDEX('Fixture Descriptions'!A:K,MATCH('Inspection Form'!H490,'Fixture Descriptions'!A:A,0),8)","v":{"$error":"#N/A"}},{"$error":"#N/A"},null,{"$error":"#N/A"},1,null,null,null,{"$f":"IFERROR(IF(AND(INDEX(Inventory!CB:CB,MATCH('Inspection Form'!B490,Inventory!B:B,0))=\"Not Qualified\",INDEX(Inventory!L:L,MATCH('Inspection Form'!B490,Inventory!B:B,0))<>\"\",$Q$5<>\"Pre\"),0,BY490*BZ490), 0)","v":0},null,{"$error":"#DIV/0!"},{"$error":"#DIV/0!"},487]
[null,487,null,null,null,null,null,null,null,null,null,null,null,null,null,null,null,null,null,null,null,null,null,null,null,null,null,null,null,null,null,null,null,null,null,null,null,null,null,null,null,null,null,null,null,null,null,null,null,null,null,null,null,null,null,null,null,null,null,null,null,null,null,null,null,null,null,null,null,null,null,null,null,{"$f":"INDEX('Fixture Descriptions'!A:K,MATCH('Inspection Form'!H491,'Fixture Descriptions'!A:A,0),8)","v":{"$error":"#N/A"}},{"$error":"#N/A"},null,{"$error":"#N/A"},1,null,null,null,{"$f":"IFERROR(IF(AND(INDEX(Inventory!CB:CB,MATCH('Inspection Form'!B491,Inventory!B:B,0))=\"Not Qualified\",INDEX(Inventory!L:L,MATCH('Inspection Form'!B491,Inventory!B:B,0))<>\"\",$Q$5<>\"Pre\"),0,BY491*BZ491), 0)","v":0},null,{"$error":"#DIV/0!"},{"$error":"#DIV/0!"},488]
[null,488,null,null,null,null,null,null,null,null,null,null,null,null,null,null,null,null,null,null,null,null,null,null,null,null,null,null,null,null,null,null,null,null,null,null,null,null,null,null,null,null,null,null,null,null,null,null,null,null,null,null,null,null,null,null,null,null,null,null,null,null,null,null,null,null,null,null,null,null,null,null,null,{"$f":"INDEX('Fixture Descriptions'!A:K,MATCH('Inspection Form'!H492,'Fixture Descriptions'!A:A,0),8)","v":{"$error":"#N/A"}},{"$error":"#N/A"},null,{"$error":"#N/A"},1,null,null,null,{"$f":"IFERROR(IF(AND(INDEX(Inventory!CB:CB,MATCH('Inspection Form'!B492,Inventory!B:B,0))=\"Not Qualified\",INDEX(Inventory!L:L,MATCH('Inspection Form'!B492,Inventory!B:B,0))<>\"\",$Q$5<>\"Pre\"),0,BY492*BZ492), 0)","v":0},null,{"$error":"#DIV/0!"},{"$error":"#DIV/0!"},489]
[null,489,null,null,null,null,null,null,null,null,null,null,null,null,null,null,null,null,null,null,null,null,null,null,null,null,null,null,null,null,null,null,null,null,null,null,null,null,null,null,null,null,null,null,null,null,null,null,null,null,null,null,null,null,null,null,null,null,null,null,null,null,null,null,null,null,null,null,null,null,null,null,null,{"$f":"INDEX('Fixture Descriptions'!A:K,MATCH('Inspection Form'!H493,'Fixture Descriptions'!A:A,0),8)","v":{"$error":"#N/A"}},{"$error":"#N/A"},null,{"$error":"#N/A"},1,null,null,null,{"$f":"IFERROR(IF(AND(INDEX(Inventory!CB:CB,MATCH('Inspection Form'!B493,Inventory!B:B,0))=\"Not Qualified\",INDEX(Inventory!L:L,MATCH('Inspection Form'!B493,Inventory!B:B,0))<>\"\",$Q$5<>\"Pre\"),0,BY493*BZ493), 0)","v":0},null,{"$error":"#DIV/0!"},{"$error":"#DIV/0!"},490]
[null,490,null,null,null,null,null,null,null,null,null,null,null,null,null,null,null,null,null,null,null,null,null,null,null,null,null,null,null,null,null,null,null,null,null,null,null,null,null,null,null,null,null,null,null,null,null,null,null,null,null,null,null,null,null,null,null,null,null,null,null,null,null,null,null,null,null,null,null,null,null,null,null,{"$f":"INDEX('Fixture Descriptions'!A:K,MATCH('Inspection Form'!H494,'Fixture Descriptions'!A:A,0),8)","v":{"$error":"#N/A"}},{"$error":"#N/A"},null,{"$error":"#N/A"},1,null,null,null,{"$f":"IFERROR(IF(AND(INDEX(Inventory!CB:CB,MATCH('Inspection Form'!B494,Inventory!B:B,0))=\"Not Qualified\",INDEX(Inventory!L:L,MATCH('Inspection Form'!B494,Inventory!B:B,0))<>\"\",$Q$5<>\"Pre\"),0,BY494*BZ494), 0)","v":0},null,{"$error":"#DIV/0!"},{"$error":"#DIV/0!"},491]
[null,491,null,null,null,null,null,null,null,null,null,null,null,null,null,null,null,null,null,null,null,null,null,null,null,null,null,null,null,null,null,null,null,null,null,null,null,null,null,null,null,null,null,null,null,null,null,null,null,null,null,null,null,null,null,null,null,null,null,null,null,null,null,null,null,null,null,null,null,null,null,null,null,{"$f":"INDEX('Fixture Descriptions'!A:K,MATCH('Inspection Form'!H495,'Fixture Descriptions'!A:A,0),8)","v":{"$error":"#N/A"}},{"$error":"#N/A"},null,{"$error":"#N/A"},1,null,null,null,{"$f":"IFERROR(IF(AND(INDEX(Inventory!CB:CB,MATCH('Inspection Form'!B495,Inventory!B:B,0))=\"Not Qualified\",INDEX(Inventory!L:L,MATCH('Inspection Form'!B495,Inventory!B:B,0))<>\"\",$Q$5<>\"Pre\"),0,BY495*BZ495), 0)","v":0},null,{"$error":"#DIV/0!"},{"$error":"#DIV/0!"},492]
[null,492,null,null,null,null,null,null,null,null,null,null,null,null,null,null,null,null,null,null,null,null,null,null,null,null,null,null,null,null,null,null,null,null,null,null,null,null,null,null,null,null,null,null,null,null,null,null,null,null,null,null,null,null,null,null,null,null,null,null,null,null,null,null,null,null,null,null,null,null,null,null,null,{"$f":"INDEX('Fixture Descriptions'!A:K,MATCH('Inspection Form'!H496,'Fixture Descriptions'!A:A,0),8)","v":{"$error":"#N/A"}},{"$error":"#N/A"},null,{"$error":"#N/A"},1,null,null,null,{"$f":"IFERROR(IF(AND(INDEX(Inventory!CB:CB,MATCH('Inspection Form'!B496,Inventory!B:B,0))=\"Not Qualified\",INDEX(Inventory!L:L,MATCH('Inspection Form'!B496,Inventory!B:B,0))<>\"\",$Q$5<>\"Pre\"),0,BY496*BZ496), 0)","v":0},null,{"$error":"#DIV/0!"},{"$error":"#DIV/0!"},493]
[null,493,null,null,null,null,null,null,null,null,null,null,null,null,null,null,null,null,null,null,null,null,null,null,null,null,null,null,null,null,null,null,null,null,null,null,null,null,null,null,null,null,null,null,null,null,null,null,null,null,null,null,null,null,null,null,null,null,null,null,null,null,null,null,null,null,null,null,null,null,null,null,null,{"$f":"INDEX('Fixture Descriptions'!A:K,MATCH('Inspection Form'!H497,'Fixture Descriptions'!A:A,0),8)","v":{"$error":"#N/A"}},{"$error":"#N/A"},null,{"$error":"#N/A"},1,null,null,null,{"$f":"IFERROR(IF(AND(INDEX(Inventory!CB:CB,MATCH('Inspection Form'!B497,Inventory!B:B,0))=\"Not Qualified\",INDEX(Inventory!L:L,MATCH('Inspection Form'!B497,Inventory!B:B,0))<>\"\",$Q$5<>\"Pre\"),0,BY497*BZ497), 0)","v":0},null,{"$error":"#DIV/0!"},{"$error":"#DIV/0!"},494]
[null,494,null,null,null,null,null,null,null,null,null,null,null,null,null,null,null,null,null,null,null,null,null,null,null,null,null,null,null,null,null,null,null,null,null,null,null,null,null,null,null,null,null,null,null,null,null,null,null,null,null,null,null,null,null,null,null,null,null,null,null,null,null,null,null,null,null,null,null,null,null,null,null,{"$f":"INDEX('Fixture Descriptions'!A:K,MATCH('Inspection Form'!H498,'Fixture Descriptions'!A:A,0),8)","v":{"$error":"#N/A"}},{"$error":"#N/A"},null,{"$error":"#N/A"},1,null,null,null,{"$f":"IFERROR(IF(AND(INDEX(Inventory!CB:CB,MATCH('Inspection Form'!B498,Inventory!B:B,0))=\"Not Qualified\",INDEX(Inventory!L:L,MATCH('Inspection Form'!B498,Inventory!B:B,0))<>\"\",$Q$5<>\"Pre\"),0,BY498*BZ498), 0)","v":0},null,{"$error":"#DIV/0!"},{"$error":"#DIV/0!"},495]
[null,495,null,null,null,null,null,null,null,null,null,null,null,null,null,null,null,null,null,"FIXTURE DESCRIPTION",null,null,null,null,"FIXTURE CODE","LAMP/\nFIXT","WATT/\nLAMP","WATT/\nFIXT","Project Fixture Count","Photo Taken?",null,null,null,null,null,null,null,null,null,null,null,null,null,null,null,null,null,null,null,null,null,null,null,null,null,null,null,null,null,null,null,null,null,null,null,null,null,null,null,null,null,null,null,{"$f":"INDEX('Fixture Descriptions'!A:K,MATCH('Inspection Form'!H499,'Fixture Descriptions'!A:A,0),8)","v":{"$error":"#N/A"}},{"$f":"BV499*I499","v":{"$error":"#N/A"}},null,{"$error":"#N/A"},{"$f":"IF($U$3=\"All\", 1, IF(AND(C499=$U$3, H499=$U$4), 1, 0))","v":1},null,null,null,{"$f":"IFERROR(IF(AND(INDEX(Inventory!CB:CB,MATCH('Inspection Form'!B499,Inventory!B:B,0))=\"Not Qualified\",INDEX(Inventory!L:L,MATCH('Inspection Form'!B499,Inventory!B:B,0))<>\"\",$Q$5<>\"Pre\"),0,BY499*BZ499), 0)","v":0},null,{"$f":"CD499/$CE$5","v":{"$error":"#DIV/0!"}},{"$f":"CF499+CG498","v":{"$error":"#DIV/0!"}},496]
[null,496,null,null,null,null,null,null,null,null,null,null,null,null,null,null,null,null,null,null,null,null,null,null,null,null,null,null,null,null,null,null,null,null,null,null,null,null,null,null,null,null,null,null,null,null,null,null,null,null,null,null,null,null,null,null,null,null,null,null,null,null,null,null,null,null,null,null,null,null,null,null,null,{"$f":"INDEX('Fixture Descriptions'!A:K,MATCH('Inspection Form'!H500,'Fixture Descriptions'!A:A,0),8)","v":{"$error":"#N/A"}},{"$error":"#N/A"},null,{"$error":"#N/A"},1,null,null,null,{"$f":"IFERROR(IF(AND(INDEX(Inventory!CB:CB,MATCH('Inspection Form'!B500,Inventory!B:B,0))=\"Not Qualified\",INDEX(Inventory!L:L,MATCH('Inspection Form'!B500,Inventory!B:B,0))<>\"\",$Q$5<>\"Pre\"),0,BY500*BZ500), 0)","v":0},null,{"$error":"#DIV/0!"},{"$error":"#DIV/0!"},497]
[null,497,null,null,null,null,null,null,null,null,null,null,null,null,null,null,null,null,null,null,null,null,null,null,null,null,null,null,null,null,null,null,null,null,null,null,null,null,null,null,null,null,null,null,null,null,null,null,null,null,null,null,null,null,null,null,null,null,null,null,null,null,null,null,null,null,null,null,null,null,null,null,null,{"$f":"INDEX('Fixture Descriptions'!A:K,MATCH('Inspection Form'!H501,'Fixture Descriptions'!A:A,0),8)","v":{"$error":"#N/A"}},{"$error":"#N/A"},null,{"$error":"#N/A"},1,null,null,null,{"$f":"IFERROR(IF(AND(INDEX(Inventory!CB:CB,MATCH('Inspection Form'!B501,Inventory!B:B,0))=\"Not Qualified\",INDEX(Inventory!L:L,MATCH('Inspection Form'!B501,Inventory!B:B,0))<>\"\",$Q$5<>\"Pre\"),0,BY501*BZ501), 0)","v":0},null,{"$error":"#DIV/0!"},{"$error":"#DIV/0!"},498]
[null,498,null,null,null,null,null,null,null,null,null,null,null,null,null,null,null,null,null,{"$f":"IF(AE502=\"\",\"\",AE502)","v":"Non-Integrated Ballast LED, 40W, any bulb shape, any application"},null,null,null,null,{"$f":"IFERROR(INDEX(H$5:H$1004,MATCH(T502,K$5:K$1004,0)),\"\")","v":""},{"$f":"IFERROR(INDEX('Fixture Descriptions'!$A$2:$K$2330,MATCH(Y502,'Fixture Descriptions'!$A$2:$A$2330,0),3),\"\")","v":""},{"$f":"IFERROR(INDEX('Fixture Descriptions'!$A$2:$K$2330,MATCH(Y502,'Fixture Descriptions'!$A$2:$A$2330,0),4),\"\")","v":""},{"$f":"IFERROR(INDEX('Fixture Descriptions'!$A$2:$K$2330,MATCH(Y502,'Fixture Descriptions'!$A$2:$A$2330,0),8),\"\")","v":""},{"$f":"IF(Y502=\"\",\"\",SUMIF($H$5:$H$1004,Y502,$I$5:$I$1004))","v":""},null,"Non-Integrated Ballast LED, 40W, any bulb shape, any application",null,null,null,null,null,null,null,null,null,null,null,null,null,null,null,null,null,null,null,null,null,null,null,null,null,null,null,null,null,null,null,null,null,null,null,null,null,null,null,null,null,null,{"$f":"INDEX('Fixture Descriptions'!A:K,MATCH('Inspection Form'!H502,'Fixture Descriptions'!A:A,0),8)","v":{"$error":"#N/A"}},{"$error":"#N/A"},null,{"$error":"#N/A"},1,null,null,null,{"$f":"IFERROR(IF(AND(INDEX(Inventory!CB:CB,MATCH('Inspection Form'!B502,Inventory!B:B,0))=\"Not Qualified\",INDEX(Inventory!L:L,MATCH('Inspection Form'!B502,Inventory!B:B,0))<>\"\",$Q$5<>\"Pre\"),0,BY502*BZ502), 0)","v":0},null,{"$error":"#DIV/0!"},{"$error":"#DIV/0!"},499]
[null,501,null,null,null,null,null,null,null,null,null,null,null,null,null,null,null,null,null,"",null,null,null,null,"",{"$f":"IFERROR(INDEX('Fixture Descriptions'!$A$2:$K$2330,MATCH(Y505,'Fixture Descriptions'!$A$2:$A$2330,0),3),\"\")","v":""},{"$f":"IFERROR(INDEX('Fixture Descriptions'!$A$2:$K$2330,MATCH(Y505,'Fixture Descriptions'!$A$2:$A$2330,0),4),\"\")","v":""},{"$f":"IFERROR(INDEX('Fixture Descriptions'!$A$2:$K$2330,MATCH(Y505,'Fixture Descriptions'!$A$2:$A$2330,0),8),\"\")","v":""},"",null,null,null,null,null,null,null,null,null,null,null,null,null,null,null,null,null,null,null,null,null,null,null,null,null,null,null,null,null,null,null,null,null,null,null,null,null,null,null,null,null,null,null,null,{"$f":"INDEX('Fixture Descriptions'!A:K,MATCH('Inspection Form'!H505,'Fixture Descriptions'!A:A,0),8)","v":{"$error":"#N/A"}},{"$error":"#N/A"},null,{"$error":"#N/A"},1,null,null,null,{"$f":"IFERROR(IF(AND(INDEX(Inventory!CB:CB,MATCH('Inspection Form'!B505,Inventory!B:B,0))=\"Not Qualified\",INDEX(Inventory!L:L,MATCH('Inspection Form'!B505,Inventory!B:B,0))<>\"\",$Q$5<>\"Pre\"),0,BY505*BZ505), 0)","v":0},null,{"$error":"#DIV/0!"},{"$error":"#DIV/0!"},502]
[null,502,null,null,null,null,null,null,null,null,null,null,null,null,null,null,null,null,null,"",null,null,null,null,"",{"$f":"IFERROR(INDEX('Fixture Descriptions'!$A$2:$K$2330,MATCH(Y506,'Fixture Descriptions'!$A$2:$A$2330,0),3),\"\")","v":""},{"$f":"IFERROR(INDEX('Fixture Descriptions'!$A$2:$K$2330,MATCH(Y506,'Fixture Descriptions'!$A$2:$A$2330,0),4),\"\")","v":""},{"$f":"IFERROR(INDEX('Fixture Descriptions'!$A$2:$K$2330,MATCH(Y506,'Fixture Descriptions'!$A$2:$A$2330,0),8),\"\")","v":""},"",null,null,null,null,null,null,null,null,null,null,null,null,null,null,null,null,null,null,null,null,null,null,null,null,null,null,null,null,null,null,null,null,null,null,null,null,null,null,null,null,null,null,null,null,{"$f":"INDEX('Fixture Descriptions'!A:K,MATCH('Inspection Form'!H506,'Fixture Descriptions'!A:A,0),8)","v":{"$error":"#N/A"}},{"$error":"#N/A"},null,{"$error":"#N/A"},1,null,null,null,{"$f":"IFERROR(IF(AND(INDEX(Inventory!CB:CB,MATCH('Inspection Form'!B506,Inventory!B:B,0))=\"Not Qualified\",INDEX(Inventory!L:L,MATCH('Inspection Form'!B506,Inventory!B:B,0))<>\"\",$Q$5<>\"Pre\"),0,BY506*BZ506), 0)","v":0},null,{"$error":"#DIV/0!"},{"$error":"#DIV/0!"},503]
[null,504,null,null,null,null,null,null,null,null,null,null,null,null,null,null,null,null,null,"",null,null,null,null,"",{"$f":"IFERROR(INDEX('Fixture Descriptions'!$A$2:$K$2330,MATCH(Y508,'Fixture Descriptions'!$A$2:$A$2330,0),3),\"\")","v":""},{"$f":"IFERROR(INDEX('Fixture Descriptions'!$A$2:$K$2330,MATCH(Y508,'Fixture Descriptions'!$A$2:$A$2330,0),4),\"\")","v":""},{"$f":"IFERROR(INDEX('Fixture Descriptions'!$A$2:$K$2330,MATCH(Y508,'Fixture Descriptions'!$A$2:$A$2330,0),8),\"\")","v":""},"",null,null,null,null,null,null,null,null,null,null,null,null,null,null,null,null,null,null,null,null,null,null,null,null,null,null,null,null,null,null,null,null,null,null,null,null,null,null,null,null,null,null,null,null,{"$f":"INDEX('Fixture Descriptions'!A:K,MATCH('Inspection Form'!H508,'Fixture Descriptions'!A:A,0),8)","v":{"$error":"#N/A"}},{"$error":"#N/A"},null,{"$error":"#N/A"},1,null,null,null,{"$f":"IFERROR(IF(AND(INDEX(Inventory!CB:CB,MATCH('Inspection Form'!B508,Inventory!B:B,0))=\"Not Qualified\",INDEX(Inventory!L:L,MATCH('Inspection Form'!B508,Inventory!B:B,0))<>\"\",$Q$5<>\"Pre\"),0,BY508*BZ508), 0)","v":0},null,{"$error":"#DIV/0!"},{"$error":"#DIV/0!"},505]
[null,505,null,null,null,null,null,null,null,null,null,null,null,null,null,null,null,null,null,"",null,null,null,null,"",{"$f":"IFERROR(INDEX('Fixture Descriptions'!$A$2:$K$2330,MATCH(Y509,'Fixture Descriptions'!$A$2:$A$2330,0),3),\"\")","v":""},{"$f":"IFERROR(INDEX('Fixture Descriptions'!$A$2:$K$2330,MATCH(Y509,'Fixture Descriptions'!$A$2:$A$2330,0),4),\"\")","v":""},{"$f":"IFERROR(INDEX('Fixture Descriptions'!$A$2:$K$2330,MATCH(Y509,'Fixture Descriptions'!$A$2:$A$2330,0),8),\"\")","v":""},"",null,null,null,null,null,null,null,null,null,null,null,null,null,null,null,null,null,null,null,null,null,null,null,null,null,null,null,null,null,null,null,null,null,null,null,null,null,null,null,null,null,null,null,null,{"$f":"INDEX('Fixture Descriptions'!A:K,MATCH('Inspection Form'!H509,'Fixture Descriptions'!A:A,0),8)","v":{"$error":"#N/A"}},{"$error":"#N/A"},null,{"$error":"#N/A"},1,null,null,null,{"$f":"IFERROR(IF(AND(INDEX(Inventory!CB:CB,MATCH('Inspection Form'!B509,Inventory!B:B,0))=\"Not Qualified\",INDEX(Inventory!L:L,MATCH('Inspection Form'!B509,Inventory!B:B,0))<>\"\",$Q$5<>\"Pre\"),0,BY509*BZ509), 0)","v":0},null,{"$error":"#DIV/0!"},{"$error":"#DIV/0!"},506]
[null,508,null,null,null,null,null,null,null,null,null,null,null,null,null,null,null,null,null,"",null,null,null,null,"",{"$f":"IFERROR(INDEX('Fixture Descriptions'!$A$2:$K$2330,MATCH(Y512,'Fixture Descriptions'!$A$2:$A$2330,0),3),\"\")","v":""},{"$f":"IFERROR(INDEX('Fixture Descriptions'!$A$2:$K$2330,MATCH(Y512,'Fixture Descriptions'!$A$2:$A$2330,0),4),\"\")","v":""},{"$f":"IFERROR(INDEX('Fixture Descriptions'!$A$2:$K$2330,MATCH(Y512,'Fixture Descriptions'!$A$2:$A$2330,0),8),\"\")","v":""},"",null,null,null,null,null,null,null,null,null,null,null,null,null,null,null,null,null,null,null,null,null,null,null,null,null,null,null,null,null,null,null,null,null,null,null,null,null,null,null,null,null,null,null,null,{"$f":"INDEX('Fixture Descriptions'!A:K,MATCH('Inspection Form'!H512,'Fixture Descriptions'!A:A,0),8)","v":{"$error":"#N/A"}},{"$error":"#N/A"},null,{"$error":"#N/A"},1,null,null,null,{"$f":"IFERROR(IF(AND(INDEX(Inventory!CB:CB,MATCH('Inspection Form'!B512,Inventory!B:B,0))=\"Not Qualified\",INDEX(Inventory!L:L,MATCH('Inspection Form'!B512,Inventory!B:B,0))<>\"\",$Q$5<>\"Pre\"),0,BY512*BZ512), 0)","v":0},null,{"$error":"#DIV/0!"},{"$error":"#DIV/0!"},509]
[null,509,null,null,null,null,null,null,null,null,null,null,null,null,null,null,null,null,null,"",null,null,null,null,"",{"$f":"IFERROR(INDEX('Fixture Descriptions'!$A$2:$K$2330,MATCH(Y513,'Fixture Descriptions'!$A$2:$A$2330,0),3),\"\")","v":""},{"$f":"IFERROR(INDEX('Fixture Descriptions'!$A$2:$K$2330,MATCH(Y513,'Fixture Descriptions'!$A$2:$A$2330,0),4),\"\")","v":""},{"$f":"IFERROR(INDEX('Fixture Descriptions'!$A$2:$K$2330,MATCH(Y513,'Fixture Descriptions'!$A$2:$A$2330,0),8),\"\")","v":""},"",null,null,null,null,null,null,null,null,null,null,null,null,null,null,null,null,null,null,null,null,null,null,null,null,null,null,null,null,null,null,null,null,null,null,null,null,null,null,null,null,null,null,null,null,{"$f":"INDEX('Fixture Descriptions'!A:K,MATCH('Inspection Form'!H513,'Fixture Descriptions'!A:A,0),8)","v":{"$error":"#N/A"}},{"$error":"#N/A"},null,{"$error":"#N/A"},1,null,null,null,{"$f":"IFERROR(IF(AND(INDEX(Inventory!CB:CB,MATCH('Inspection Form'!B513,Inventory!B:B,0))=\"Not Qualified\",INDEX(Inventory!L:L,MATCH('Inspection Form'!B513,Inventory!B:B,0))<>\"\",$Q$5<>\"Pre\"),0,BY513*BZ513), 0)","v":0},null,{"$error":"#DIV/0!"},{"$error":"#DIV/0!"},510]
[null,511,null,null,null,null,null,null,null,null,null,null,null,null,null,null,null,null,null,"",null,null,null,null,"",{"$f":"IFERROR(INDEX('Fixture Descriptions'!$A$2:$K$2330,MATCH(Y515,'Fixture Descriptions'!$A$2:$A$2330,0),3),\"\")","v":""},{"$f":"IFERROR(INDEX('Fixture Descriptions'!$A$2:$K$2330,MATCH(Y515,'Fixture Descriptions'!$A$2:$A$2330,0),4),\"\")","v":""},{"$f":"IFERROR(INDEX('Fixture Descriptions'!$A$2:$K$2330,MATCH(Y515,'Fixture Descriptions'!$A$2:$A$2330,0),8),\"\")","v":""},"",null,null,null,null,null,null,null,null,null,null,null,null,null,null,null,null,null,null,null,null,null,null,null,null,null,null,null,null,null,null,null,null,null,null,null,null,null,null,null,null,null,null,null,null,{"$f":"INDEX('Fixture Descriptions'!A:K,MATCH('Inspection Form'!H515,'Fixture Descriptions'!A:A,0),8)","v":{"$error":"#N/A"}},{"$error":"#N/A"},null,{"$error":"#N/A"},1,null,null,null,{"$f":"IFERROR(IF(AND(INDEX(Inventory!CB:CB,MATCH('Inspection Form'!B515,Inventory!B:B,0))=\"Not Qualified\",INDEX(Inventory!L:L,MATCH('Inspection Form'!B515,Inventory!B:B,0))<>\"\",$Q$5<>\"Pre\"),0,BY515*BZ515), 0)","v":0},null,{"$error":"#DIV/0!"},{"$error":"#DIV/0!"},512]
[null,512,null,null,null,null,null,null,null,null,null,null,null,null,null,null,null,null,null,"",null,null,null,null,"",{"$f":"IFERROR(INDEX('Fixture Descriptions'!$A$2:$K$2330,MATCH(Y516,'Fixture Descriptions'!$A$2:$A$2330,0),3),\"\")","v":""},{"$f":"IFERROR(INDEX('Fixture Descriptions'!$A$2:$K$2330,MATCH(Y516,'Fixture Descriptions'!$A$2:$A$2330,0),4),\"\")","v":""},{"$f":"IFERROR(INDEX('Fixture Descriptions'!$A$2:$K$2330,MATCH(Y516,'Fixture Descriptions'!$A$2:$A$2330,0),8),\"\")","v":""},"",null,null,null,null,null,null,null,null,null,null,null,null,null,null,null,null,null,null,null,null,null,null,null,null,null,null,null,null,null,null,null,null,null,null,null,null,null,null,null,null,null,null,null,null,{"$f":"INDEX('Fixture Descriptions'!A:K,MATCH('Inspection Form'!H516,'Fixture Descriptions'!A:A,0),8)","v":{"$error":"#N/A"}},{"$error":"#N/A"},null,{"$error":"#N/A"},1,null,null,null,{"$f":"IFERROR(IF(AND(INDEX(Inventory!CB:CB,MATCH('Inspection Form'!B516,Inventory!B:B,0))=\"Not Qualified\",INDEX(Inventory!L:L,MATCH('Inspection Form'!B516,Inventory!B:B,0))<>\"\",$Q$5<>\"Pre\"),0,BY516*BZ516), 0)","v":0},null,{"$error":"#DIV/0!"},{"$error":"#DIV/0!"},513]
[null,515,null,null,null,null,null,null,null,null,null,null,null,null,null,null,null,null,null,"",null,null,null,null,"",{"$f":"IFERROR(INDEX('Fixture Descriptions'!$A$2:$K$2330,MATCH(Y519,'Fixture Descriptions'!$A$2:$A$2330,0),3),\"\")","v":""},{"$f":"IFERROR(INDEX('Fixture Descriptions'!$A$2:$K$2330,MATCH(Y519,'Fixture Descriptions'!$A$2:$A$2330,0),4),\"\")","v":""},{"$f":"IFERROR(INDEX('Fixture Descriptions'!$A$2:$K$2330,MATCH(Y519,'Fixture Descriptions'!$A$2:$A$2330,0),8),\"\")","v":""},"",null,null,null,null,null,null,null,null,null,null,null,null,null,null,null,null,null,null,null,null,null,null,null,null,null,null,null,null,null,null,null,null,null,null,null,null,null,null,null,null,null,null,null,null,{"$f":"INDEX('Fixture Descriptions'!A:K,MATCH('Inspection Form'!H519,'Fixture Descriptions'!A:A,0),8)","v":{"$error":"#N/A"}},{"$error":"#N/A"},null,{"$error":"#N/A"},1,null,null,null,{"$f":"IFERROR(IF(AND(INDEX(Inventory!CB:CB,MATCH('Inspection Form'!B519,Inventory!B:B,0))=\"Not Qualified\",INDEX(Inventory!L:L,MATCH('Inspection Form'!B519,Inventory!B:B,0))<>\"\",$Q$5<>\"Pre\"),0,BY519*BZ519), 0)","v":0},null,{"$error":"#DIV/0!"},{"$error":"#DIV/0!"},516]
[null,516,null,null,null,null,null,null,null,null,null,null,null,null,null,null,null,null,null,"",null,null,null,null,"",{"$f":"IFERROR(INDEX('Fixture Descriptions'!$A$2:$K$2330,MATCH(Y520,'Fixture Descriptions'!$A$2:$A$2330,0),3),\"\")","v":""},{"$f":"IFERROR(INDEX('Fixture Descriptions'!$A$2:$K$2330,MATCH(Y520,'Fixture Descriptions'!$A$2:$A$2330,0),4),\"\")","v":""},{"$f":"IFERROR(INDEX('Fixture Descriptions'!$A$2:$K$2330,MATCH(Y520,'Fixture Descriptions'!$A$2:$A$2330,0),8),\"\")","v":""},"",null,null,null,null,null,null,null,null,null,null,null,null,null,null,null,null,null,null,null,null,null,null,null,null,null,null,null,null,null,null,null,null,null,null,null,null,null,null,null,null,null,null,null,null,{"$f":"INDEX('Fixture Descriptions'!A:K,MATCH('Inspection Form'!H520,'Fixture Descriptions'!A:A,0),8)","v":{"$error":"#N/A"}},{"$error":"#N/A"},null,{"$error":"#N/A"},1,null,null,null,{"$f":"IFERROR(IF(AND(INDEX(Inventory!CB:CB,MATCH('Inspection Form'!B520,Inventory!B:B,0))=\"Not Qualified\",INDEX(Inventory!L:L,MATCH('Inspection Form'!B520,Inventory!B:B,0))<>\"\",$Q$5<>\"Pre\"),0,BY520*BZ520), 0)","v":0},null,{"$error":"#DIV/0!"},{"$error":"#DIV/0!"},517]
[null,518,null,null,null,null,null,null,null,null,null,null,null,null,null,null,null,null,null,"",null,null,null,null,"",{"$f":"IFERROR(INDEX('Fixture Descriptions'!$A$2:$K$2330,MATCH(Y522,'Fixture Descriptions'!$A$2:$A$2330,0),3),\"\")","v":""},{"$f":"IFERROR(INDEX('Fixture Descriptions'!$A$2:$K$2330,MATCH(Y522,'Fixture Descriptions'!$A$2:$A$2330,0),4),\"\")","v":""},{"$f":"IFERROR(INDEX('Fixture Descriptions'!$A$2:$K$2330,MATCH(Y522,'Fixture Descriptions'!$A$2:$A$2330,0),8),\"\")","v":""},"",null,null,null,null,null,null,null,null,null,null,null,null,null,null,null,null,null,null,null,null,null,null,null,null,null,null,null,null,null,null,null,null,null,null,null,null,null,null,null,null,null,null,null,null,{"$f":"INDEX('Fixture Descriptions'!A:K,MATCH('Inspection Form'!H522,'Fixture Descriptions'!A:A,0),8)","v":{"$error":"#N/A"}},{"$error":"#N/A"},null,{"$error":"#N/A"},1,null,null,null,{"$f":"IFERROR(IF(AND(INDEX(Inventory!CB:CB,MATCH('Inspection Form'!B522,Inventory!B:B,0))=\"Not Qualified\",INDEX(Inventory!L:L,MATCH('Inspection Form'!B522,Inventory!B:B,0))<>\"\",$Q$5<>\"Pre\"),0,BY522*BZ522), 0)","v":0},null,{"$error":"#DIV/0!"},{"$error":"#DIV/0!"},519]
[null,519,null,null,null,null,null,null,null,null,null,null,null,null,null,null,null,null,null,"",null,null,null,null,"",{"$f":"IFERROR(INDEX('Fixture Descriptions'!$A$2:$K$2330,MATCH(Y523,'Fixture Descriptions'!$A$2:$A$2330,0),3),\"\")","v":""},{"$f":"IFERROR(INDEX('Fixture Descriptions'!$A$2:$K$2330,MATCH(Y523,'Fixture Descriptions'!$A$2:$A$2330,0),4),\"\")","v":""},{"$f":"IFERROR(INDEX('Fixture Descriptions'!$A$2:$K$2330,MATCH(Y523,'Fixture Descriptions'!$A$2:$A$2330,0),8),\"\")","v":""},"",null,null,null,null,null,null,null,null,null,null,null,null,null,null,null,null,null,null,null,null,null,null,null,null,null,null,null,null,null,null,null,null,null,null,null,null,null,null,null,null,null,null,null,null,{"$f":"INDEX('Fixture Descriptions'!A:K,MATCH('Inspection Form'!H523,'Fixture Descriptions'!A:A,0),8)","v":{"$error":"#N/A"}},{"$error":"#N/A"},null,{"$error":"#N/A"},1,null,null,null,{"$f":"IFERROR(IF(AND(INDEX(Inventory!CB:CB,MATCH('Inspection Form'!B523,Inventory!B:B,0))=\"Not Qualified\",INDEX(Inventory!L:L,MATCH('Inspection Form'!B523,Inventory!B:B,0))<>\"\",$Q$5<>\"Pre\"),0,BY523*BZ523), 0)","v":0},null,{"$error":"#DIV/0!"},{"$error":"#DIV/0!"},520]
[null,522,null,null,null,null,null,null,null,null,null,null,null,null,null,null,null,null,null,"",null,null,null,null,"",{"$f":"IFERROR(INDEX('Fixture Descriptions'!$A$2:$K$2330,MATCH(Y526,'Fixture Descriptions'!$A$2:$A$2330,0),3),\"\")","v":""},{"$f":"IFERROR(INDEX('Fixture Descriptions'!$A$2:$K$2330,MATCH(Y526,'Fixture Descriptions'!$A$2:$A$2330,0),4),\"\")","v":""},{"$f":"IFERROR(INDEX('Fixture Descriptions'!$A$2:$K$2330,MATCH(Y526,'Fixture Descriptions'!$A$2:$A$2330,0),8),\"\")","v":""},"",null,null,null,null,null,null,null,null,null,null,null,null,null,null,null,null,null,null,null,null,null,null,null,null,null,null,null,null,null,null,null,null,null,null,null,null,null,null,null,null,null,null,null,null,{"$f":"INDEX('Fixture Descriptions'!A:K,MATCH('Inspection Form'!H526,'Fixture Descriptions'!A:A,0),8)","v":{"$error":"#N/A"}},{"$error":"#N/A"},null,{"$error":"#N/A"},1,null,null,null,{"$f":"IFERROR(IF(AND(INDEX(Inventory!CB:CB,MATCH('Inspection Form'!B526,Inventory!B:B,0))=\"Not Qualified\",INDEX(Inventory!L:L,MATCH('Inspection Form'!B526,Inventory!B:B,0))<>\"\",$Q$5<>\"Pre\"),0,BY526*BZ526), 0)","v":0},null,{"$error":"#DIV/0!"},{"$error":"#DIV/0!"},523]
[null,523,null,null,null,null,null,null,null,null,null,null,null,null,null,null,null,null,null,"",null,null,null,null,"",{"$f":"IFERROR(INDEX('Fixture Descriptions'!$A$2:$K$2330,MATCH(Y527,'Fixture Descriptions'!$A$2:$A$2330,0),3),\"\")","v":""},{"$f":"IFERROR(INDEX('Fixture Descriptions'!$A$2:$K$2330,MATCH(Y527,'Fixture Descriptions'!$A$2:$A$2330,0),4),\"\")","v":""},{"$f":"IFERROR(INDEX('Fixture Descriptions'!$A$2:$K$2330,MATCH(Y527,'Fixture Descriptions'!$A$2:$A$2330,0),8),\"\")","v":""},"",null,null,null,null,null,null,null,null,null,null,null,null,null,null,null,null,null,null,null,null,null,null,null,null,null,null,null,null,null,null,null,null,null,null,null,null,null,null,null,null,null,null,null,null,{"$f":"INDEX('Fixture Descriptions'!A:K,MATCH('Inspection Form'!H527,'Fixture Descriptions'!A:A,0),8)","v":{"$error":"#N/A"}},{"$error":"#N/A"},null,{"$error":"#N/A"},1,null,null,null,{"$f":"IFERROR(IF(AND(INDEX(Inventory!CB:CB,MATCH('Inspection Form'!B527,Inventory!B:B,0))=\"Not Qualified\",INDEX(Inventory!L:L,MATCH('Inspection Form'!B527,Inventory!B:B,0))<>\"\",$Q$5<>\"Pre\"),0,BY527*BZ527), 0)","v":0},null,{"$error":"#DIV/0!"},{"$error":"#DIV/0!"},524]
[null,525,null,null,null,null,null,null,null,null,null,null,null,null,null,null,null,null,null,"",null,null,null,null,"",{"$f":"IFERROR(INDEX('Fixture Descriptions'!$A$2:$K$2330,MATCH(Y529,'Fixture Descriptions'!$A$2:$A$2330,0),3),\"\")","v":""},{"$f":"IFERROR(INDEX('Fixture Descriptions'!$A$2:$K$2330,MATCH(Y529,'Fixture Descriptions'!$A$2:$A$2330,0),4),\"\")","v":""},{"$f":"IFERROR(INDEX('Fixture Descriptions'!$A$2:$K$2330,MATCH(Y529,'Fixture Descriptions'!$A$2:$A$2330,0),8),\"\")","v":""},"",null,null,null,null,null,null,null,null,null,null,null,null,null,null,null,null,null,null,null,null,null,null,null,null,null,null,null,null,null,null,null,null,null,null,null,null,null,null,null,null,null,null,null,null,{"$f":"INDEX('Fixture Descriptions'!A:K,MATCH('Inspection Form'!H529,'Fixture Descriptions'!A:A,0),8)","v":{"$error":"#N/A"}},{"$error":"#N/A"},null,{"$error":"#N/A"},1,null,null,null,{"$f":"IFERROR(IF(AND(INDEX(Inventory!CB:CB,MATCH('Inspection Form'!B529,Inventory!B:B,0))=\"Not Qualified\",INDEX(Inventory!L:L,MATCH('Inspection Form'!B529,Inventory!B:B,0))<>\"\",$Q$5<>\"Pre\"),0,BY529*BZ529), 0)","v":0},null,{"$error":"#DIV/0!"},{"$error":"#DIV/0!"},526]
[null,526,null,null,null,null,null,null,null,null,null,null,null,null,null,null,null,null,null,"",null,null,null,null,"",{"$f":"IFERROR(INDEX('Fixture Descriptions'!$A$2:$K$2330,MATCH(Y530,'Fixture Descriptions'!$A$2:$A$2330,0),3),\"\")","v":""},{"$f":"IFERROR(INDEX('Fixture Descriptions'!$A$2:$K$2330,MATCH(Y530,'Fixture Descriptions'!$A$2:$A$2330,0),4),\"\")","v":""},{"$f":"IFERROR(INDEX('Fixture Descriptions'!$A$2:$K$2330,MATCH(Y530,'Fixture Descriptions'!$A$2:$A$2330,0),8),\"\")","v":""},"",null,null,null,null,null,null,null,null,null,null,null,null,null,null,null,null,null,null,null,null,null,null,null,null,null,null,null,null,null,null,null,null,null,null,null,null,null,null,null,null,null,null,null,null,{"$f":"INDEX('Fixture Descriptions'!A:K,MATCH('Inspection Form'!H530,'Fixture Descriptions'!A:A,0),8)","v":{"$error":"#N/A"}},{"$error":"#N/A"},null,{"$error":"#N/A"},1,null,null,null,{"$f":"IFERROR(IF(AND(INDEX(Inventory!CB:CB,MATCH('Inspection Form'!B530,Inventory!B:B,0))=\"Not Qualified\",INDEX(Inventory!L:L,MATCH('Inspection Form'!B530,Inventory!B:B,0))<>\"\",$Q$5<>\"Pre\"),0,BY530*BZ530), 0)","v":0},null,{"$error":"#DIV/0!"},{"$error":"#DIV/0!"},527]
[null,529,null,null,null,null,null,null,null,null,null,null,null,null,null,null,null,null,null,"",null,null,null,null,"",{"$f":"IFERROR(INDEX('Fixture Descriptions'!$A$2:$K$2330,MATCH(Y533,'Fixture Descriptions'!$A$2:$A$2330,0),3),\"\")","v":""},{"$f":"IFERROR(INDEX('Fixture Descriptions'!$A$2:$K$2330,MATCH(Y533,'Fixture Descriptions'!$A$2:$A$2330,0),4),\"\")","v":""},{"$f":"IFERROR(INDEX('Fixture Descriptions'!$A$2:$K$2330,MATCH(Y533,'Fixture Descriptions'!$A$2:$A$2330,0),8),\"\")","v":""},"",null,null,null,null,null,null,null,null,null,null,null,null,null,null,null,null,null,null,null,null,null,null,null,null,null,null,null,null,null,null,null,null,null,null,null,null,null,null,null,null,null,null,null,null,{"$f":"INDEX('Fixture Descriptions'!A:K,MATCH('Inspection Form'!H533,'Fixture Descriptions'!A:A,0),8)","v":{"$error":"#N/A"}},{"$error":"#N/A"},null,{"$error":"#N/A"},1,null,null,null,{"$f":"IFERROR(IF(AND(INDEX(Inventory!CB:CB,MATCH('Inspection Form'!B533,Inventory!B:B,0))=\"Not Qualified\",INDEX(Inventory!L:L,MATCH('Inspection Form'!B533,Inventory!B:B,0))<>\"\",$Q$5<>\"Pre\"),0,BY533*BZ533), 0)","v":0},null,{"$error":"#DIV/0!"},{"$error":"#DIV/0!"},530]
[null,530,null,null,null,null,null,null,null,null,null,null,null,null,null,null,null,null,null,"",null,null,null,null,"",{"$f":"IFERROR(INDEX('Fixture Descriptions'!$A$2:$K$2330,MATCH(Y534,'Fixture Descriptions'!$A$2:$A$2330,0),3),\"\")","v":""},{"$f":"IFERROR(INDEX('Fixture Descriptions'!$A$2:$K$2330,MATCH(Y534,'Fixture Descriptions'!$A$2:$A$2330,0),4),\"\")","v":""},{"$f":"IFERROR(INDEX('Fixture Descriptions'!$A$2:$K$2330,MATCH(Y534,'Fixture Descriptions'!$A$2:$A$2330,0),8),\"\")","v":""},"",null,null,null,null,null,null,null,null,null,null,null,null,null,null,null,null,null,null,null,null,null,null,null,null,null,null,null,null,null,null,null,null,null,null,null,null,null,null,null,null,null,null,null,null,{"$f":"INDEX('Fixture Descriptions'!A:K,MATCH('Inspection Form'!H534,'Fixture Descriptions'!A:A,0),8)","v":{"$error":"#N/A"}},{"$error":"#N/A"},null,{"$error":"#N/A"},1,null,null,null,{"$f":"IFERROR(IF(AND(INDEX(Inventory!CB:CB,MATCH('Inspection Form'!B534,Inventory!B:B,0))=\"Not Qualified\",INDEX(Inventory!L:L,MATCH('Inspection Form'!B534,Inventory!B:B,0))<>\"\",$Q$5<>\"Pre\"),0,BY534*BZ534), 0)","v":0},null,{"$error":"#DIV/0!"},{"$error":"#DIV/0!"},531]
[null,532,null,null,null,null,null,null,null,null,null,null,null,null,null,null,null,null,null,"",null,null,null,null,"",{"$f":"IFERROR(INDEX('Fixture Descriptions'!$A$2:$K$2330,MATCH(Y536,'Fixture Descriptions'!$A$2:$A$2330,0),3),\"\")","v":""},{"$f":"IFERROR(INDEX('Fixture Descriptions'!$A$2:$K$2330,MATCH(Y536,'Fixture Descriptions'!$A$2:$A$2330,0),4),\"\")","v":""},{"$f":"IFERROR(INDEX('Fixture Descriptions'!$A$2:$K$2330,MATCH(Y536,'Fixture Descriptions'!$A$2:$A$2330,0),8),\"\")","v":""},"",null,null,null,null,null,null,null,null,null,null,null,null,null,null,null,null,null,null,null,null,null,null,null,null,null,null,null,null,null,null,null,null,null,null,null,null,null,null,null,null,null,null,null,null,{"$f":"INDEX('Fixture Descriptions'!A:K,MATCH('Inspection Form'!H536,'Fixture Descriptions'!A:A,0),8)","v":{"$error":"#N/A"}},{"$error":"#N/A"},null,{"$error":"#N/A"},1,null,null,null,{"$f":"IFERROR(IF(AND(INDEX(Inventory!CB:CB,MATCH('Inspection Form'!B536,Inventory!B:B,0))=\"Not Qualified\",INDEX(Inventory!L:L,MATCH('Inspection Form'!B536,Inventory!B:B,0))<>\"\",$Q$5<>\"Pre\"),0,BY536*BZ536), 0)","v":0},null,{"$error":"#DIV/0!"},{"$error":"#DIV/0!"},533]
[null,533,null,null,null,null,null,null,null,null,null,null,null,null,null,null,null,null,null,"",null,null,null,null,"",{"$f":"IFERROR(INDEX('Fixture Descriptions'!$A$2:$K$2330,MATCH(Y537,'Fixture Descriptions'!$A$2:$A$2330,0),3),\"\")","v":""},{"$f":"IFERROR(INDEX('Fixture Descriptions'!$A$2:$K$2330,MATCH(Y537,'Fixture Descriptions'!$A$2:$A$2330,0),4),\"\")","v":""},{"$f":"IFERROR(INDEX('Fixture Descriptions'!$A$2:$K$2330,MATCH(Y537,'Fixture Descriptions'!$A$2:$A$2330,0),8),\"\")","v":""},"",null,null,null,null,null,null,null,null,null,null,null,null,null,null,null,null,null,null,null,null,null,null,null,null,null,null,null,null,null,null,null,null,null,null,null,null,null,null,null,null,null,null,null,null,{"$f":"INDEX('Fixture Descriptions'!A:K,MATCH('Inspection Form'!H537,'Fixture Descriptions'!A:A,0),8)","v":{"$error":"#N/A"}},{"$error":"#N/A"},null,{"$error":"#N/A"},1,null,null,null,{"$f":"IFERROR(IF(AND(INDEX(Inventory!CB:CB,MATCH('Inspection Form'!B537,Inventory!B:B,0))=\"Not Qualified\",INDEX(Inventory!L:L,MATCH('Inspection Form'!B537,Inventory!B:B,0))<>\"\",$Q$5<>\"Pre\"),0,BY537*BZ537), 0)","v":0},null,{"$error":"#DIV/0!"},{"$error":"#DIV/0!"},534]
[null,536,null,null,null,null,null,null,null,null,null,null,null,null,null,null,null,null,null,"",null,null,null,null,"",{"$f":"IFERROR(INDEX('Fixture Descriptions'!$A$2:$K$2330,MATCH(Y540,'Fixture Descriptions'!$A$2:$A$2330,0),3),\"\")","v":""},{"$f":"IFERROR(INDEX('Fixture Descriptions'!$A$2:$K$2330,MATCH(Y540,'Fixture Descriptions'!$A$2:$A$2330,0),4),\"\")","v":""},{"$f":"IFERROR(INDEX('Fixture Descriptions'!$A$2:$K$2330,MATCH(Y540,'Fixture Descriptions'!$A$2:$A$2330,0),8),\"\")","v":""},"",null,null,null,null,null,null,null,null,null,null,null,null,null,null,null,null,null,null,null,null,null,null,null,null,null,null,null,null,null,null,null,null,null,null,null,null,null,null,null,null,null,null,null,null,{"$f":"INDEX('Fixture Descriptions'!A:K,MATCH('Inspection Form'!H540,'Fixture Descriptions'!A:A,0),8)","v":{"$error":"#N/A"}},{"$error":"#N/A"},null,{"$error":"#N/A"},1,null,null,null,{"$f":"IFERROR(IF(AND(INDEX(Inventory!CB:CB,MATCH('Inspection Form'!B540,Inventory!B:B,0))=\"Not Qualified\",INDEX(Inventory!L:L,MATCH('Inspection Form'!B540,Inventory!B:B,0))<>\"\",$Q$5<>\"Pre\"),0,BY540*BZ540), 0)","v":0},null,{"$error":"#DIV/0!"},{"$error":"#DIV/0!"},537]
[null,537,null,null,null,null,null,null,null,null,null,null,null,null,null,null,null,null,null,"",null,null,null,null,"",{"$f":"IFERROR(INDEX('Fixture Descriptions'!$A$2:$K$2330,MATCH(Y541,'Fixture Descriptions'!$A$2:$A$2330,0),3),\"\")","v":""},{"$f":"IFERROR(INDEX('Fixture Descriptions'!$A$2:$K$2330,MATCH(Y541,'Fixture Descriptions'!$A$2:$A$2330,0),4),\"\")","v":""},{"$f":"IFERROR(INDEX('Fixture Descriptions'!$A$2:$K$2330,MATCH(Y541,'Fixture Descriptions'!$A$2:$A$2330,0),8),\"\")","v":""},"",null,null,null,null,null,null,null,null,null,null,null,null,null,null,null,null,null,null,null,null,null,null,null,null,null,null,null,null,null,null,null,null,null,null,null,null,null,null,null,null,null,null,null,null,{"$f":"INDEX('Fixture Descriptions'!A:K,MATCH('Inspection Form'!H541,'Fixture Descriptions'!A:A,0),8)","v":{"$error":"#N/A"}},{"$error":"#N/A"},null,{"$error":"#N/A"},1,null,null,null,{"$f":"IFERROR(IF(AND(INDEX(Inventory!CB:CB,MATCH('Inspection Form'!B541,Inventory!B:B,0))=\"Not Qualified\",INDEX(Inventory!L:L,MATCH('Inspection Form'!B541,Inventory!B:B,0))<>\"\",$Q$5<>\"Pre\"),0,BY541*BZ541), 0)","v":0},null,{"$error":"#DIV/0!"},{"$error":"#DIV/0!"},538]
[null,539,null,null,null,null,null,null,null,null,null,null,null,null,null,null,null,null,null,"",null,null,null,null,"",{"$f":"IFERROR(INDEX('Fixture Descriptions'!$A$2:$K$2330,MATCH(Y543,'Fixture Descriptions'!$A$2:$A$2330,0),3),\"\")","v":""},{"$f":"IFERROR(INDEX('Fixture Descriptions'!$A$2:$K$2330,MATCH(Y543,'Fixture Descriptions'!$A$2:$A$2330,0),4),\"\")","v":""},{"$f":"IFERROR(INDEX('Fixture Descriptions'!$A$2:$K$2330,MATCH(Y543,'Fixture Descriptions'!$A$2:$A$2330,0),8),\"\")","v":""},"",null,null,null,null,null,null,null,null,null,null,null,null,null,null,null,null,null,null,null,null,null,null,null,null,null,null,null,null,null,null,null,null,null,null,null,null,null,null,null,null,null,null,null,null,{"$f":"INDEX('Fixture Descriptions'!A:K,MATCH('Inspection Form'!H543,'Fixture Descriptions'!A:A,0),8)","v":{"$error":"#N/A"}},{"$error":"#N/A"},null,{"$error":"#N/A"},1,null,null,null,{"$f":"IFERROR(IF(AND(INDEX(Inventory!CB:CB,MATCH('Inspection Form'!B543,Inventory!B:B,0))=\"Not Qualified\",INDEX(Inventory!L:L,MATCH('Inspection Form'!B543,Inventory!B:B,0))<>\"\",$Q$5<>\"Pre\"),0,BY543*BZ543), 0)","v":0},null,{"$error":"#DIV/0!"},{"$error":"#DIV/0!"},540]
[null,540,null,null,null,null,null,null,null,null,null,null,null,null,null,null,null,null,null,"",null,null,null,null,"",{"$f":"IFERROR(INDEX('Fixture Descriptions'!$A$2:$K$2330,MATCH(Y544,'Fixture Descriptions'!$A$2:$A$2330,0),3),\"\")","v":""},{"$f":"IFERROR(INDEX('Fixture Descriptions'!$A$2:$K$2330,MATCH(Y544,'Fixture Descriptions'!$A$2:$A$2330,0),4),\"\")","v":""},{"$f":"IFERROR(INDEX('Fixture Descriptions'!$A$2:$K$2330,MATCH(Y544,'Fixture Descriptions'!$A$2:$A$2330,0),8),\"\")","v":""},"",null,null,null,null,null,null,null,null,null,null,null,null,null,null,null,null,null,null,null,null,null,null,null,null,null,null,null,null,null,null,null,null,null,null,null,null,null,null,null,null,null,null,null,null,{"$f":"INDEX('Fixture Descriptions'!A:K,MATCH('Inspection Form'!H544,'Fixture Descriptions'!A:A,0),8)","v":{"$error":"#N/A"}},{"$error":"#N/A"},null,{"$error":"#N/A"},1,null,null,null,{"$f":"IFERROR(IF(AND(INDEX(Inventory!CB:CB,MATCH('Inspection Form'!B544,Inventory!B:B,0))=\"Not Qualified\",INDEX(Inventory!L:L,MATCH('Inspection Form'!B544,Inventory!B:B,0))<>\"\",$Q$5<>\"Pre\"),0,BY544*BZ544), 0)","v":0},null,{"$error":"#DIV/0!"},{"$error":"#DIV/0!"},541]
[null,543,null,null,null,null,null,null,null,null,null,null,null,null,null,null,null,null,null,"",null,null,null,null,"",{"$f":"IFERROR(INDEX('Fixture Descriptions'!$A$2:$K$2330,MATCH(Y547,'Fixture Descriptions'!$A$2:$A$2330,0),3),\"\")","v":""},{"$f":"IFERROR(INDEX('Fixture Descriptions'!$A$2:$K$2330,MATCH(Y547,'Fixture Descriptions'!$A$2:$A$2330,0),4),\"\")","v":""},{"$f":"IFERROR(INDEX('Fixture Descriptions'!$A$2:$K$2330,MATCH(Y547,'Fixture Descriptions'!$A$2:$A$2330,0),8),\"\")","v":""},"",null,null,null,null,null,null,null,null,null,null,null,null,null,null,null,null,null,null,null,null,null,null,null,null,null,null,null,null,null,null,null,null,null,null,null,null,null,null,null,null,null,null,null,null,{"$f":"INDEX('Fixture Descriptions'!A:K,MATCH('Inspection Form'!H547,'Fixture Descriptions'!A:A,0),8)","v":{"$error":"#N/A"}},{"$error":"#N/A"},null,{"$error":"#N/A"},1,null,null,null,{"$f":"IFERROR(IF(AND(INDEX(Inventory!CB:CB,MATCH('Inspection Form'!B547,Inventory!B:B,0))=\"Not Qualified\",INDEX(Inventory!L:L,MATCH('Inspection Form'!B547,Inventory!B:B,0))<>\"\",$Q$5<>\"Pre\"),0,BY547*BZ547), 0)","v":0},null,{"$error":"#DIV/0!"},{"$error":"#DIV/0!"},544]
[null,544,null,null,null,null,null,null,null,null,null,null,null,null,null,null,null,null,null,"",null,null,null,null,"",{"$f":"IFERROR(INDEX('Fixture Descriptions'!$A$2:$K$2330,MATCH(Y548,'Fixture Descriptions'!$A$2:$A$2330,0),3),\"\")","v":""},{"$f":"IFERROR(INDEX('Fixture Descriptions'!$A$2:$K$2330,MATCH(Y548,'Fixture Descriptions'!$A$2:$A$2330,0),4),\"\")","v":""},{"$f":"IFERROR(INDEX('Fixture Descriptions'!$A$2:$K$2330,MATCH(Y548,'Fixture Descriptions'!$A$2:$A$2330,0),8),\"\")","v":""},"",null,null,null,null,null,null,null,null,null,null,null,null,null,null,null,null,null,null,null,null,null,null,null,null,null,null,null,null,null,null,null,null,null,null,null,null,null,null,null,null,null,null,null,null,{"$f":"INDEX('Fixture Descriptions'!A:K,MATCH('Inspection Form'!H548,'Fixture Descriptions'!A:A,0),8)","v":{"$error":"#N/A"}},{"$error":"#N/A"},null,{"$error":"#N/A"},1,null,null,null,{"$f":"IFERROR(IF(AND(INDEX(Inventory!CB:CB,MATCH('Inspection Form'!B548,Inventory!B:B,0))=\"Not Qualified\",INDEX(Inventory!L:L,MATCH('Inspection Form'!B548,Inventory!B:B,0))<>\"\",$Q$5<>\"Pre\"),0,BY548*BZ548), 0)","v":0},null,{"$error":"#DIV/0!"},{"$error":"#DIV/0!"},545]
[null,546,null,null,null,null,null,null,null,null,null,null,null,null,null,null,null,null,null,"",null,null,null,null,"",{"$f":"IFERROR(INDEX('Fixture Descriptions'!$A$2:$K$2330,MATCH(Y550,'Fixture Descriptions'!$A$2:$A$2330,0),3),\"\")","v":""},{"$f":"IFERROR(INDEX('Fixture Descriptions'!$A$2:$K$2330,MATCH(Y550,'Fixture Descriptions'!$A$2:$A$2330,0),4),\"\")","v":""},{"$f":"IFERROR(INDEX('Fixture Descriptions'!$A$2:$K$2330,MATCH(Y550,'Fixture Descriptions'!$A$2:$A$2330,0),8),\"\")","v":""},"",null,null,null,null,null,null,null,null,null,null,null,null,null,null,null,null,null,null,null,null,null,null,null,null,null,null,null,null,null,null,null,null,null,null,null,null,null,null,null,null,null,null,null,null,{"$f":"INDEX('Fixture Descriptions'!A:K,MATCH('Inspection Form'!H550,'Fixture Descriptions'!A:A,0),8)","v":{"$error":"#N/A"}},{"$error":"#N/A"},null,{"$error":"#N/A"},1,null,null,null,{"$f":"IFERROR(IF(AND(INDEX(Inventory!CB:CB,MATCH('Inspection Form'!B550,Inventory!B:B,0))=\"Not Qualified\",INDEX(Inventory!L:L,MATCH('Inspection Form'!B550,Inventory!B:B,0))<>\"\",$Q$5<>\"Pre\"),0,BY550*BZ550), 0)","v":0},null,{"$error":"#DIV/0!"},{"$error":"#DIV/0!"},547]
[null,547,null,null,null,null,null,null,null,null,null,null,null,null,null,null,null,null,null,"",null,null,null,null,"",{"$f":"IFERROR(INDEX('Fixture Descriptions'!$A$2:$K$2330,MATCH(Y551,'Fixture Descriptions'!$A$2:$A$2330,0),3),\"\")","v":""},{"$f":"IFERROR(INDEX('Fixture Descriptions'!$A$2:$K$2330,MATCH(Y551,'Fixture Descriptions'!$A$2:$A$2330,0),4),\"\")","v":""},{"$f":"IFERROR(INDEX('Fixture Descriptions'!$A$2:$K$2330,MATCH(Y551,'Fixture Descriptions'!$A$2:$A$2330,0),8),\"\")","v":""},"",null,null,null,null,null,null,null,null,null,null,null,null,null,null,null,null,null,null,null,null,null,null,null,null,null,null,null,null,null,null,null,null,null,null,null,null,null,null,null,null,null,null,null,null,{"$f":"INDEX('Fixture Descriptions'!A:K,MATCH('Inspection Form'!H551,'Fixture Descriptions'!A:A,0),8)","v":{"$error":"#N/A"}},{"$error":"#N/A"},null,{"$error":"#N/A"},1,null,null,null,{"$f":"IFERROR(IF(AND(INDEX(Inventory!CB:CB,MATCH('Inspection Form'!B551,Inventory!B:B,0))=\"Not Qualified\",INDEX(Inventory!L:L,MATCH('Inspection Form'!B551,Inventory!B:B,0))<>\"\",$Q$5<>\"Pre\"),0,BY551*BZ551), 0)","v":0},null,{"$error":"#DIV/0!"},{"$error":"#DIV/0!"},548]
[null,550,null,null,null,null,null,null,null,null,null,null,null,null,null,null,null,null,null,null,null,null,null,null,null,null,null,null,null,null,null,null,null,null,null,null,null,null,null,null,null,null,null,null,null,null,null,null,null,null,null,null,null,null,null,null,null,null,null,null,null,null,null,null,null,null,null,null,null,null,null,null,null,{"$f":"INDEX('Fixture Descriptions'!A:K,MATCH('Inspection Form'!H554,'Fixture Descriptions'!A:A,0),8)","v":{"$error":"#N/A"}},{"$error":"#N/A"},null,{"$error":"#N/A"},1,null,null,null,{"$f":"IFERROR(IF(AND(INDEX(Inventory!CB:CB,MATCH('Inspection Form'!B554,Inventory!B:B,0))=\"Not Qualified\",INDEX(Inventory!L:L,MATCH('Inspection Form'!B554,Inventory!B:B,0))<>\"\",$Q$5<>\"Pre\"),0,BY554*BZ554), 0)","v":0},null,{"$error":"#DIV/0!"},{"$error":"#DIV/0!"},551]
[null,551,null,null,null,null,null,null,null,null,null,null,null,null,null,null,null,null,null,null,null,{"$f":"IF(COUNTIF('Buildings and Areas'!V5:V14,\"\")<>20,\"*building type uses custom values\",\"\")","v":"*building type uses custom values"},null,null,null,null,null,null,null,null,null,null,null,null,null,null,null,null,null,null,null,null,null,null,null,null,null,null,null,null,null,null,null,null,null,null,null,null,null,null,null,null,null,null,null,null,null,null,null,null,null,null,null,{"$f":"INDEX('Fixture Descriptions'!A:K,MATCH('Inspection Form'!H555,'Fixture Descriptions'!A:A,0),8)","v":{"$error":"#N/A"}},{"$error":"#N/A"},null,{"$error":"#N/A"},1,null,null,null,{"$f":"IFERROR(IF(AND(INDEX(Inventory!CB:CB,MATCH('Inspection Form'!B555,Inventory!B:B,0))=\"Not Qualified\",INDEX(Inventory!L:L,MATCH('Inspection Form'!B555,Inventory!B:B,0))<>\"\",$Q$5<>\"Pre\"),0,BY555*BZ555), 0)","v":0},null,{"$error":"#DIV/0!"},{"$error":"#DIV/0!"},552]
[null,554,null,null,null,null,null,null,null,null,null,null,null,null,null,null,null,null,null,"",{"$f":"IF(T558=\"\",\"\",INDEX('Buildings and Areas'!$C$5:$C$14,MATCH(T558,'Buildings and Areas'!$B$5:$B$14,0)))","v":""},{"$f":"IF(T558=\"\",\"\",IF(AND(U558=\"Exterior\",INDEX('Buildings and Areas'!$D$5:$D$14,MATCH(T558,'Buildings and Areas'!$B$5:$B$14,0))=\"\"),\"Exterior\",INDEX('Buildings and Areas'!$D$5:$D$14,MATCH(T558,'Buildings and Areas'!$B$5:$B$14,0))))&IFERROR(IF(INDEX('Buildings and Areas'!$V$5:$V$14,MATCH(T558,'Buildings and Areas'!$B$5:$B$14,0))<>\"\",\"*\",\"\"),\"\")","v":""},null,{"$f":"IF(T558=\"\",\"\",IF(U558=\"Exterior\",\"None\",INDEX('Buildings and Areas'!$E$5:$E$14,MATCH(T558,'Buildings and Areas'!$B$5:$B$14,0))))","v":""},null,{"$f":"IF(T558=\"\",\"\",INDEX('Buildings and Areas'!$F$5:$F$14,MATCH(T558,'Buildings and Areas'!$B$5:$B$14,0)))","v":""},null,null,null,null,null,null,null,null,null,null,null,null,null,null,null,null,null,null,null,null,null,null,null,null,null,null,null,null,null,null,null,null,null,null,null,null,null,null,null,null,null,null,null,null,null,null,null,{"$f":"INDEX('Fixture Descriptions'!A:K,MATCH('Inspection Form'!H558,'Fixture Descriptions'!A:A,0),8)","v":{"$error":"#N/A"}},{"$error":"#N/A"},null,{"$error":"#N/A"},1,null,null,null,{"$f":"IFERROR(IF(AND(INDEX(Inventory!CB:CB,MATCH('Inspection Form'!B558,Inventory!B:B,0))=\"Not Qualified\",INDEX(Inventory!L:L,MATCH('Inspection Form'!B558,Inventory!B:B,0))<>\"\",$Q$5<>\"Pre\"),0,BY558*BZ558), 0)","v":0},null,{"$error":"#DIV/0!"},{"$error":"#DIV/0!"},555]
[null,555,null,null,null,null,null,null,null,null,null,null,null,null,null,null,null,null,null,"",{"$f":"IF(T559=\"\",\"\",INDEX('Buildings and Areas'!$C$5:$C$14,MATCH(T559,'Buildings and Areas'!$B$5:$B$14,0)))","v":""},{"$f":"IF(T559=\"\",\"\",IF(AND(U559=\"Exterior\",INDEX('Buildings and Areas'!$D$5:$D$14,MATCH(T559,'Buildings and Areas'!$B$5:$B$14,0))=\"\"),\"Exterior\",INDEX('Buildings and Areas'!$D$5:$D$14,MATCH(T559,'Buildings and Areas'!$B$5:$B$14,0))))&IFERROR(IF(INDEX('Buildings and Areas'!$V$5:$V$14,MATCH(T559,'Buildings and Areas'!$B$5:$B$14,0))<>\"\",\"*\",\"\"),\"\")","v":""},null,{"$f":"IF(T559=\"\",\"\",IF(U559=\"Exterior\",\"None\",INDEX('Buildings and Areas'!$E$5:$E$14,MATCH(T559,'Buildings and Areas'!$B$5:$B$14,0))))","v":""},null,{"$f":"IF(T559=\"\",\"\",INDEX('Buildings and Areas'!$F$5:$F$14,MATCH(T559,'Buildings and Areas'!$B$5:$B$14,0)))","v":""},null,null,null,null,null,null,null,null,null,null,null,null,null,null,null,null,null,null,null,null,null,null,null,null,null,null,null,null,null,null,null,null,null,null,null,null,null,null,null,null,null,null,null,null,null,null,null,{"$f":"INDEX('Fixture Descriptions'!A:K,MATCH('Inspection Form'!H559,'Fixture Descriptions'!A:A,0),8)","v":{"$error":"#N/A"}},{"$error":"#N/A"},null,{"$error":"#N/A"},1,null,null,null,{"$f":"IFERROR(IF(AND(INDEX(Inventory!CB:CB,MATCH('Inspection Form'!B559,Inventory!B:B,0))=\"Not Qualified\",INDEX(Inventory!L:L,MATCH('Inspection Form'!B559,Inventory!B:B,0))<>\"\",$Q$5<>\"Pre\"),0,BY559*BZ559), 0)","v":0},null,{"$error":"#DIV/0!"},{"$error":"#DIV/0!"},556]
[null,557,null,null,null,null,null,null,null,null,null,null,null,null,null,null,null,null,null,"",{"$f":"IF(T561=\"\",\"\",INDEX('Buildings and Areas'!$C$5:$C$14,MATCH(T561,'Buildings and Areas'!$B$5:$B$14,0)))","v":""},{"$f":"IF(T561=\"\",\"\",IF(AND(U561=\"Exterior\",INDEX('Buildings and Areas'!$D$5:$D$14,MATCH(T561,'Buildings and Areas'!$B$5:$B$14,0))=\"\"),\"Exterior\",INDEX('Buildings and Areas'!$D$5:$D$14,MATCH(T561,'Buildings and Areas'!$B$5:$B$14,0))))&IFERROR(IF(INDEX('Buildings and Areas'!$V$5:$V$14,MATCH(T561,'Buildings and Areas'!$B$5:$B$14,0))<>\"\",\"*\",\"\"),\"\")","v":""},null,{"$f":"IF(T561=\"\",\"\",IF(U561=\"Exterior\",\"None\",INDEX('Buildings and Areas'!$E$5:$E$14,MATCH(T561,'Buildings and Areas'!$B$5:$B$14,0))))","v":""},null,{"$f":"IF(T561=\"\",\"\",INDEX('Buildings and Areas'!$F$5:$F$14,MATCH(T561,'Buildings and Areas'!$B$5:$B$14,0)))","v":""},null,null,null,null,null,null,null,null,null,null,null,null,null,null,null,null,null,null,null,null,null,null,null,null,null,null,null,null,null,null,null,null,null,null,null,null,null,null,null,null,null,null,null,null,null,null,null,{"$f":"INDEX('Fixture Descriptions'!A:K,MATCH('Inspection Form'!H561,'Fixture Descriptions'!A:A,0),8)","v":{"$error":"#N/A"}},{"$error":"#N/A"},null,{"$error":"#N/A"},1,null,null,null,{"$f":"IFERROR(IF(AND(INDEX(Inventory!CB:CB,MATCH('Inspection Form'!B561,Inventory!B:B,0))=\"Not Qualified\",INDEX(Inventory!L:L,MATCH('Inspection Form'!B561,Inventory!B:B,0))<>\"\",$Q$5<>\"Pre\"),0,BY561*BZ561), 0)","v":0},null,{"$error":"#DIV/0!"},{"$error":"#DIV/0!"},558]
[null,558,null,null,null,null,null,null,null,null,null,null,null,null,null,null,null,null,null,"",{"$f":"IF(T562=\"\",\"\",INDEX('Buildings and Areas'!$C$5:$C$14,MATCH(T562,'Buildings and Areas'!$B$5:$B$14,0)))","v":""},{"$f":"IF(T562=\"\",\"\",IF(AND(U562=\"Exterior\",INDEX('Buildings and Areas'!$D$5:$D$14,MATCH(T562,'Buildings and Areas'!$B$5:$B$14,0))=\"\"),\"Exterior\",INDEX('Buildings and Areas'!$D$5:$D$14,MATCH(T562,'Buildings and Areas'!$B$5:$B$14,0))))&IFERROR(IF(INDEX('Buildings and Areas'!$V$5:$V$14,MATCH(T562,'Buildings and Areas'!$B$5:$B$14,0))<>\"\",\"*\",\"\"),\"\")","v":""},null,{"$f":"IF(T562=\"\",\"\",IF(U562=\"Exterior\",\"None\",INDEX('Buildings and Areas'!$E$5:$E$14,MATCH(T562,'Buildings and Areas'!$B$5:$B$14,0))))","v":""},null,{"$f":"IF(T562=\"\",\"\",INDEX('Buildings and Areas'!$F$5:$F$14,MATCH(T562,'Buildings and Areas'!$B$5:$B$14,0)))","v":""},null,null,null,null,null,null,null,null,null,null,null,null,null,null,null,null,null,null,null,null,null,null,null,null,null,null,null,null,null,null,null,null,null,null,null,null,null,null,null,null,null,null,null,null,null,null,null,{"$f":"INDEX('Fixture Descriptions'!A:K,MATCH('Inspection Form'!H562,'Fixture Descriptions'!A:A,0),8)","v":{"$error":"#N/A"}},{"$error":"#N/A"},null,{"$error":"#N/A"},1,null,null,null,{"$f":"IFERROR(IF(AND(INDEX(Inventory!CB:CB,MATCH('Inspection Form'!B562,Inventory!B:B,0))=\"Not Qualified\",INDEX(Inventory!L:L,MATCH('Inspection Form'!B562,Inventory!B:B,0))<>\"\",$Q$5<>\"Pre\"),0,BY562*BZ562), 0)","v":0},null,{"$error":"#DIV/0!"},{"$error":"#DIV/0!"},559]
[null,561,null,null,null,null,null,null,null,null,null,null,null,null,null,null,null,null,null,"",{"$f":"IF(T565=\"\",\"\",INDEX('Buildings and Areas'!$C$5:$C$14,MATCH(T565,'Buildings and Areas'!$B$5:$B$14,0)))","v":""},{"$f":"IF(T565=\"\",\"\",IF(AND(U565=\"Exterior\",INDEX('Buildings and Areas'!$D$5:$D$14,MATCH(T565,'Buildings and Areas'!$B$5:$B$14,0))=\"\"),\"Exterior\",INDEX('Buildings and Areas'!$D$5:$D$14,MATCH(T565,'Buildings and Areas'!$B$5:$B$14,0))))&IFERROR(IF(INDEX('Buildings and Areas'!$V$5:$V$14,MATCH(T565,'Buildings and Areas'!$B$5:$B$14,0))<>\"\",\"*\",\"\"),\"\")","v":""},null,{"$f":"IF(T565=\"\",\"\",IF(U565=\"Exterior\",\"None\",INDEX('Buildings and Areas'!$E$5:$E$14,MATCH(T565,'Buildings and Areas'!$B$5:$B$14,0))))","v":""},null,{"$f":"IF(T565=\"\",\"\",INDEX('Buildings and Areas'!$F$5:$F$14,MATCH(T565,'Buildings and Areas'!$B$5:$B$14,0)))","v":""},null,null,null,null,null,null,null,null,null,null,null,null,null,null,null,null,null,null,null,null,null,null,null,null,null,null,null,null,null,null,null,null,null,null,null,null,null,null,null,null,null,null,null,null,null,null,null,{"$f":"INDEX('Fixture Descriptions'!A:K,MATCH('Inspection Form'!H565,'Fixture Descriptions'!A:A,0),8)","v":{"$error":"#N/A"}},{"$error":"#N/A"},null,{"$error":"#N/A"},1,null,null,null,{"$f":"IFERROR(IF(AND(INDEX(Inventory!CB:CB,MATCH('Inspection Form'!B565,Inventory!B:B,0))=\"Not Qualified\",INDEX(Inventory!L:L,MATCH('Inspection Form'!B565,Inventory!B:B,0))<>\"\",$Q$5<>\"Pre\"),0,BY565*BZ565), 0)","v":0},null,{"$error":"#DIV/0!"},{"$error":"#DIV/0!"},562]
[null,562,null,null,null,null,null,null,null,null,null,null,null,null,null,null,null,null,null,"",{"$f":"IF(T566=\"\",\"\",INDEX('Buildings and Areas'!$C$5:$C$14,MATCH(T566,'Buildings and Areas'!$B$5:$B$14,0)))","v":""},{"$f":"IF(T566=\"\",\"\",IF(AND(U566=\"Exterior\",INDEX('Buildings and Areas'!$D$5:$D$14,MATCH(T566,'Buildings and Areas'!$B$5:$B$14,0))=\"\"),\"Exterior\",INDEX('Buildings and Areas'!$D$5:$D$14,MATCH(T566,'Buildings and Areas'!$B$5:$B$14,0))))&IFERROR(IF(INDEX('Buildings and Areas'!$V$5:$V$14,MATCH(T566,'Buildings and Areas'!$B$5:$B$14,0))<>\"\",\"*\",\"\"),\"\")","v":""},null,{"$f":"IF(T566=\"\",\"\",IF(U566=\"Exterior\",\"None\",INDEX('Buildings and Areas'!$E$5:$E$14,MATCH(T566,'Buildings and Areas'!$B$5:$B$14,0))))","v":""},null,{"$f":"IF(T566=\"\",\"\",INDEX('Buildings and Areas'!$F$5:$F$14,MATCH(T566,'Buildings and Areas'!$B$5:$B$14,0)))","v":""},null,null,null,null,null,null,null,null,null,null,null,null,null,null,null,null,null,null,null,null,null,null,null,null,null,null,null,null,null,null,null,null,null,null,null,null,null,null,null,null,null,null,null,null,null,null,null,{"$f":"INDEX('Fixture Descriptions'!A:K,MATCH('Inspection Form'!H566,'Fixture Descriptions'!A:A,0),8)","v":{"$error":"#N/A"}},{"$error":"#N/A"},null,{"$error":"#N/A"},1,null,null,null,{"$f":"IFERROR(IF(AND(INDEX(Inventory!CB:CB,MATCH('Inspection Form'!B566,Inventory!B:B,0))=\"Not Qualified\",INDEX(Inventory!L:L,MATCH('Inspection Form'!B566,Inventory!B:B,0))<>\"\",$Q$5<>\"Pre\"),0,BY566*BZ566), 0)","v":0},null,{"$error":"#DIV/0!"},{"$error":"#DIV/0!"},563]
[null,564,null,null,null,null,null,null,null,null,null,null,null,null,null,null,null,null,null,"",{"$f":"IF(T568=\"\",\"\",INDEX('Buildings and Areas'!$C$5:$C$14,MATCH(T568,'Buildings and Areas'!$B$5:$B$14,0)))","v":""},{"$f":"IF(T568=\"\",\"\",IF(AND(U568=\"Exterior\",INDEX('Buildings and Areas'!$D$5:$D$14,MATCH(T568,'Buildings and Areas'!$B$5:$B$14,0))=\"\"),\"Exterior\",INDEX('Buildings and Areas'!$D$5:$D$14,MATCH(T568,'Buildings and Areas'!$B$5:$B$14,0))))&IFERROR(IF(INDEX('Buildings and Areas'!$V$5:$V$14,MATCH(T568,'Buildings and Areas'!$B$5:$B$14,0))<>\"\",\"*\",\"\"),\"\")","v":""},null,{"$f":"IF(T568=\"\",\"\",IF(U568=\"Exterior\",\"None\",INDEX('Buildings and Areas'!$E$5:$E$14,MATCH(T568,'Buildings and Areas'!$B$5:$B$14,0))))","v":""},null,{"$f":"IF(T568=\"\",\"\",INDEX('Buildings and Areas'!$F$5:$F$14,MATCH(T568,'Buildings and Areas'!$B$5:$B$14,0)))","v":""},null,null,null,null,null,null,null,null,null,null,null,null,null,null,null,null,null,null,null,null,null,null,null,null,null,null,null,null,null,null,null,null,null,null,null,null,null,null,null,null,null,null,null,null,null,null,null,{"$f":"INDEX('Fixture Descriptions'!A:K,MATCH('Inspection Form'!H568,'Fixture Descriptions'!A:A,0),8)","v":{"$error":"#N/A"}},{"$error":"#N/A"},null,{"$error":"#N/A"},1,null,null,null,{"$f":"IFERROR(IF(AND(INDEX(Inventory!CB:CB,MATCH('Inspection Form'!B568,Inventory!B:B,0))=\"Not Qualified\",INDEX(Inventory!L:L,MATCH('Inspection Form'!B568,Inventory!B:B,0))<>\"\",$Q$5<>\"Pre\"),0,BY568*BZ568), 0)","v":0},null,{"$error":"#DIV/0!"},{"$error":"#DIV/0!"},565]
[null,565,null,null,null,null,null,null,null,null,null,null,null,null,null,null,null,null,null,"",{"$f":"IF(T569=\"\",\"\",INDEX('Buildings and Areas'!$C$5:$C$14,MATCH(T569,'Buildings and Areas'!$B$5:$B$14,0)))","v":""},{"$f":"IF(T569=\"\",\"\",IF(AND(U569=\"Exterior\",INDEX('Buildings and Areas'!$D$5:$D$14,MATCH(T569,'Buildings and Areas'!$B$5:$B$14,0))=\"\"),\"Exterior\",INDEX('Buildings and Areas'!$D$5:$D$14,MATCH(T569,'Buildings and Areas'!$B$5:$B$14,0))))&IFERROR(IF(INDEX('Buildings and Areas'!$V$5:$V$14,MATCH(T569,'Buildings and Areas'!$B$5:$B$14,0))<>\"\",\"*\",\"\"),\"\")","v":""},null,{"$f":"IF(T569=\"\",\"\",IF(U569=\"Exterior\",\"None\",INDEX('Buildings and Areas'!$E$5:$E$14,MATCH(T569,'Buildings and Areas'!$B$5:$B$14,0))))","v":""},null,{"$f":"IF(T569=\"\",\"\",INDEX('Buildings and Areas'!$F$5:$F$14,MATCH(T569,'Buildings and Areas'!$B$5:$B$14,0)))","v":""},null,null,null,null,null,null,null,null,null,null,null,null,null,null,null,null,null,null,null,null,null,null,null,null,null,null,null,null,null,null,null,null,null,null,null,null,null,null,null,null,null,null,null,null,null,null,null,{"$f":"INDEX('Fixture Descriptions'!A:K,MATCH('Inspection Form'!H569,'Fixture Descriptions'!A:A,0),8)","v":{"$error":"#N/A"}},{"$error":"#N/A"},null,{"$error":"#N/A"},1,null,null,null,{"$f":"IFERROR(IF(AND(INDEX(Inventory!CB:CB,MATCH('Inspection Form'!B569,Inventory!B:B,0))=\"Not Qualified\",INDEX(Inventory!L:L,MATCH('Inspection Form'!B569,Inventory!B:B,0))<>\"\",$Q$5<>\"Pre\"),0,BY569*BZ569), 0)","v":0},null,{"$error":"#DIV/0!"},{"$error":"#DIV/0!"},566]
[null,568,null,null,null,null,null,null,null,null,null,null,null,null,null,null,null,null,null,"",{"$f":"IF(T572=\"\",\"\",INDEX('Buildings and Areas'!$C$5:$C$14,MATCH(T572,'Buildings and Areas'!$B$5:$B$14,0)))","v":""},{"$f":"IF(T572=\"\",\"\",IF(AND(U572=\"Exterior\",INDEX('Buildings and Areas'!$D$5:$D$14,MATCH(T572,'Buildings and Areas'!$B$5:$B$14,0))=\"\"),\"Exterior\",INDEX('Buildings and Areas'!$D$5:$D$14,MATCH(T572,'Buildings and Areas'!$B$5:$B$14,0))))&IFERROR(IF(INDEX('Buildings and Areas'!$V$5:$V$14,MATCH(T572,'Buildings and Areas'!$B$5:$B$14,0))<>\"\",\"*\",\"\"),\"\")","v":""},null,{"$f":"IF(T572=\"\",\"\",IF(U572=\"Exterior\",\"None\",INDEX('Buildings and Areas'!$E$5:$E$14,MATCH(T572,'Buildings and Areas'!$B$5:$B$14,0))))","v":""},null,{"$f":"IF(T572=\"\",\"\",INDEX('Buildings and Areas'!$F$5:$F$14,MATCH(T572,'Buildings and Areas'!$B$5:$B$14,0)))","v":""},null,null,null,null,null,null,null,null,null,null,null,null,null,null,null,null,null,null,null,null,null,null,null,null,null,null,null,null,null,null,null,null,null,null,null,null,null,null,null,null,null,null,null,null,null,null,null,{"$f":"INDEX('Fixture Descriptions'!A:K,MATCH('Inspection Form'!H572,'Fixture Descriptions'!A:A,0),8)","v":{"$error":"#N/A"}},{"$error":"#N/A"},null,{"$error":"#N/A"},1,null,null,null,{"$f":"IFERROR(IF(AND(INDEX(Inventory!CB:CB,MATCH('Inspection Form'!B572,Inventory!B:B,0))=\"Not Qualified\",INDEX(Inventory!L:L,MATCH('Inspection Form'!B572,Inventory!B:B,0))<>\"\",$Q$5<>\"Pre\"),0,BY572*BZ572), 0)","v":0},null,{"$error":"#DIV/0!"},{"$error":"#DIV/0!"},569]
[null,569,null,null,null,null,null,null,null,null,null,null,null,null,null,null,null,null,null,"",{"$f":"IF(T573=\"\",\"\",INDEX('Buildings and Areas'!$C$5:$C$14,MATCH(T573,'Buildings and Areas'!$B$5:$B$14,0)))","v":""},{"$f":"IF(T573=\"\",\"\",IF(AND(U573=\"Exterior\",INDEX('Buildings and Areas'!$D$5:$D$14,MATCH(T573,'Buildings and Areas'!$B$5:$B$14,0))=\"\"),\"Exterior\",INDEX('Buildings and Areas'!$D$5:$D$14,MATCH(T573,'Buildings and Areas'!$B$5:$B$14,0))))&IFERROR(IF(INDEX('Buildings and Areas'!$V$5:$V$14,MATCH(T573,'Buildings and Areas'!$B$5:$B$14,0))<>\"\",\"*\",\"\"),\"\")","v":""},null,{"$f":"IF(T573=\"\",\"\",IF(U573=\"Exterior\",\"None\",INDEX('Buildings and Areas'!$E$5:$E$14,MATCH(T573,'Buildings and Areas'!$B$5:$B$14,0))))","v":""},null,{"$f":"IF(T573=\"\",\"\",INDEX('Buildings and Areas'!$F$5:$F$14,MATCH(T573,'Buildings and Areas'!$B$5:$B$14,0)))","v":""},null,null,null,null,null,null,null,null,null,null,null,null,null,null,null,null,null,null,null,null,null,null,null,null,null,null,null,null,null,null,null,null,null,null,null,null,null,null,null,null,null,null,null,null,null,null,null,{"$f":"INDEX('Fixture Descriptions'!A:K,MATCH('Inspection Form'!H573,'Fixture Descriptions'!A:A,0),8)","v":{"$error":"#N/A"}},{"$error":"#N/A"},null,{"$error":"#N/A"},1,null,null,null,{"$f":"IFERROR(IF(AND(INDEX(Inventory!CB:CB,MATCH('Inspection Form'!B573,Inventory!B:B,0))=\"Not Qualified\",INDEX(Inventory!L:L,MATCH('Inspection Form'!B573,Inventory!B:B,0))<>\"\",$Q$5<>\"Pre\"),0,BY573*BZ573), 0)","v":0},null,{"$error":"#DIV/0!"},{"$error":"#DIV/0!"},570]
[null,571,null,null,null,null,null,null,null,null,null,null,null,null,null,null,null,null,null,"",{"$f":"IF(T575=\"\",\"\",INDEX('Buildings and Areas'!$C$5:$C$14,MATCH(T575,'Buildings and Areas'!$B$5:$B$14,0)))","v":""},{"$f":"IF(T575=\"\",\"\",IF(AND(U575=\"Exterior\",INDEX('Buildings and Areas'!$D$5:$D$14,MATCH(T575,'Buildings and Areas'!$B$5:$B$14,0))=\"\"),\"Exterior\",INDEX('Buildings and Areas'!$D$5:$D$14,MATCH(T575,'Buildings and Areas'!$B$5:$B$14,0))))&IFERROR(IF(INDEX('Buildings and Areas'!$V$5:$V$14,MATCH(T575,'Buildings and Areas'!$B$5:$B$14,0))<>\"\",\"*\",\"\"),\"\")","v":""},null,{"$f":"IF(T575=\"\",\"\",IF(U575=\"Exterior\",\"None\",INDEX('Buildings and Areas'!$E$5:$E$14,MATCH(T575,'Buildings and Areas'!$B$5:$B$14,0))))","v":""},null,{"$f":"IF(T575=\"\",\"\",INDEX('Buildings and Areas'!$F$5:$F$14,MATCH(T575,'Buildings and Areas'!$B$5:$B$14,0)))","v":""},null,null,null,null,null,null,null,null,null,null,null,null,null,null,null,null,null,null,null,null,null,null,null,null,null,null,null,null,null,null,null,null,null,null,null,null,null,null,null,null,null,null,null,null,null,null,null,{"$f":"INDEX('Fixture Descriptions'!A:K,MATCH('Inspection Form'!H575,'Fixture Descriptions'!A:A,0),8)","v":{"$error":"#N/A"}},{"$error":"#N/A"},null,{"$error":"#N/A"},1,null,null,null,{"$f":"IFERROR(IF(AND(INDEX(Inventory!CB:CB,MATCH('Inspection Form'!B575,Inventory!B:B,0))=\"Not Qualified\",INDEX(Inventory!L:L,MATCH('Inspection Form'!B575,Inventory!B:B,0))<>\"\",$Q$5<>\"Pre\"),0,BY575*BZ575), 0)","v":0},null,{"$error":"#DIV/0!"},{"$error":"#DIV/0!"},572]
[null,572,null,null,null,null,null,null,null,null,null,null,null,null,null,null,null,null,null,{"$f":"20-COUNTIF(T556:T575,\"\")","v":2},null,null,null,null,null,null,null,null,null,null,null,null,null,null,null,null,null,null,null,null,null,null,null,null,null,null,null,null,null,null,null,null,null,null,null,null,null,null,null,null,null,null,null,null,null,null,null,null,null,null,null,null,null,{"$f":"INDEX('Fixture Descriptions'!A:K,MATCH('Inspection Form'!H576,'Fixture Descriptions'!A:A,0),8)","v":{"$error":"#N/A"}},{"$error":"#N/A"},null,{"$error":"#N/A"},1,null,null,null,{"$f":"IFERROR(IF(AND(INDEX(Inventory!CB:CB,MATCH('Inspection Form'!B576,Inventory!B:B,0))=\"Not Qualified\",INDEX(Inventory!L:L,MATCH('Inspection Form'!B576,Inventory!B:B,0))<>\"\",$Q$5<>\"Pre\"),0,BY576*BZ576), 0)","v":0},null,{"$error":"#DIV/0!"},{"$error":"#DIV/0!"},573]
[null,575,null,null,null,null,null,null,null,null,null,null,null,null,null,null,null,null,null,null,null,null,null,null,null,null,null,null,null,null,null,null,null,null,null,null,null,null,null,null,null,null,null,null,null,null,null,null,null,null,null,null,null,null,null,null,null,null,null,null,null,null,null,null,null,null,null,null,null,null,null,null,null,{"$f":"INDEX('Fixture Descriptions'!A:K,MATCH('Inspection Form'!H579,'Fixture Descriptions'!A:A,0),8)","v":{"$error":"#N/A"}},{"$error":"#N/A"},null,{"$error":"#N/A"},1,null,null,null,{"$f":"IFERROR(IF(AND(INDEX(Inventory!CB:CB,MATCH('Inspection Form'!B579,Inventory!B:B,0))=\"Not Qualified\",INDEX(Inventory!L:L,MATCH('Inspection Form'!B579,Inventory!B:B,0))<>\"\",$Q$5<>\"Pre\"),0,BY579*BZ579), 0)","v":0},null,{"$error":"#DIV/0!"},{"$error":"#DIV/0!"},576]
[null,576,null,null,null,null,null,null,null,null,null,null,null,null,null,null,null,null,null,null,null,null,null,null,null,null,null,null,null,null,null,null,null,null,null,null,null,null,null,null,null,null,null,null,null,null,null,null,null,null,null,null,null,null,null,null,null,null,null,null,null,null,null,null,null,null,null,null,null,null,null,null,null,{"$f":"INDEX('Fixture Descriptions'!A:K,MATCH('Inspection Form'!H580,'Fixture Descriptions'!A:A,0),8)","v":{"$error":"#N/A"}},{"$error":"#N/A"},null,{"$error":"#N/A"},1,null,null,null,{"$f":"IFERROR(IF(AND(INDEX(Inventory!CB:CB,MATCH('Inspection Form'!B580,Inventory!B:B,0))=\"Not Qualified\",INDEX(Inventory!L:L,MATCH('Inspection Form'!B580,Inventory!B:B,0))<>\"\",$Q$5<>\"Pre\"),0,BY580*BZ580), 0)","v":0},null,{"$error":"#DIV/0!"},{"$error":"#DIV/0!"},577]
[null,578,null,null,null,null,null,null,null,null,null,null,null,null,null,null,null,null,null,null,null,null,null,null,null,null,null,null,null,null,null,null,null,null,null,null,null,null,null,null,null,null,null,null,null,null,null,null,null,null,null,null,null,null,null,null,null,null,null,null,null,null,null,null,null,null,null,null,null,null,null,null,null,{"$f":"INDEX('Fixture Descriptions'!A:K,MATCH('Inspection Form'!H582,'Fixture Descriptions'!A:A,0),8)","v":{"$error":"#N/A"}},{"$error":"#N/A"},null,{"$f":"BW582","v":{"$error":"#N/A"}},1,null,null,null,{"$f":"IFERROR(IF(AND(INDEX(Inventory!CB:CB,MATCH('Inspection Form'!B582,Inventory!B:B,0))=\"Not Qualified\",INDEX(Inventory!L:L,MATCH('Inspection Form'!B582,Inventory!B:B,0))<>\"\",$Q$5<>\"Pre\"),0,BY582*BZ582), 0)","v":0},null,{"$error":"#DIV/0!"},{"$error":"#DIV/0!"},579]
[null,579,null,null,null,null,null,null,null,null,null,null,null,null,null,null,null,null,null,null,null,null,null,null,null,null,null,null,null,null,null,null,null,null,null,null,null,null,null,null,null,null,null,null,null,null,null,null,null,null,null,null,null,null,null,null,null,null,null,null,null,null,null,null,null,null,null,null,null,null,null,null,null,{"$f":"INDEX('Fixture Descriptions'!A:K,MATCH('Inspection Form'!H583,'Fixture Descriptions'!A:A,0),8)","v":{"$error":"#N/A"}},{"$error":"#N/A"},null,{"$error":"#N/A"},1,null,null,null,{"$f":"IFERROR(IF(AND(INDEX(Inventory!CB:CB,MATCH('Inspection Form'!B583,Inventory!B:B,0))=\"Not Qualified\",INDEX(Inventory!L:L,MATCH('Inspection Form'!B583,Inventory!B:B,0))<>\"\",$Q$5<>\"Pre\"),0,BY583*BZ583), 0)","v":0},null,{"$error":"#DIV/0!"},{"$error":"#DIV/0!"},580]
[null,582,null,null,null,null,null,null,null,null,null,null,null,null,null,null,null,null,null,null,null,null,null,null,null,null,null,null,null,null,null,null,null,null,null,null,null,null,null,null,null,null,null,null,null,null,null,null,null,null,null,null,null,null,null,null,null,null,null,null,null,null,null,null,null,null,null,null,null,null,null,null,null,{"$f":"INDEX('Fixture Descriptions'!A:K,MATCH('Inspection Form'!H586,'Fixture Descriptions'!A:A,0),8)","v":{"$error":"#N/A"}},{"$error":"#N/A"},null,{"$error":"#N/A"},1,null,null,null,{"$f":"IFERROR(IF(AND(INDEX(Inventory!CB:CB,MATCH('Inspection Form'!B586,Inventory!B:B,0))=\"Not Qualified\",INDEX(Inventory!L:L,MATCH('Inspection Form'!B586,Inventory!B:B,0))<>\"\",$Q$5<>\"Pre\"),0,BY586*BZ586), 0)","v":0},null,{"$error":"#DIV/0!"},{"$error":"#DIV/0!"},583]
[null,583,null,null,null,null,null,null,null,null,null,null,null,null,null,null,null,null,null,null,null,null,null,null,null,null,null,null,null,null,null,null,null,null,null,null,null,null,null,null,null,null,null,null,null,null,null,null,null,null,null,null,null,null,null,null,null,null,null,null,null,null,null,null,null,null,null,null,null,null,null,null,null,{"$f":"INDEX('Fixture Descriptions'!A:K,MATCH('Inspection Form'!H587,'Fixture Descriptions'!A:A,0),8)","v":{"$error":"#N/A"}},{"$error":"#N/A"},null,{"$error":"#N/A"},1,null,null,null,{"$f":"IFERROR(IF(AND(INDEX(Inventory!CB:CB,MATCH('Inspection Form'!B587,Inventory!B:B,0))=\"Not Qualified\",INDEX(Inventory!L:L,MATCH('Inspection Form'!B587,Inventory!B:B,0))<>\"\",$Q$5<>\"Pre\"),0,BY587*BZ587), 0)","v":0},null,{"$error":"#DIV/0!"},{"$error":"#DIV/0!"},584]
[null,585,null,null,null,null,null,null,null,null,null,null,null,null,null,null,null,null,null,null,null,null,null,null,null,null,null,null,null,null,null,null,null,null,null,null,null,null,null,null,null,null,null,null,null,null,null,null,null,null,null,null,null,null,null,null,null,null,null,null,null,null,null,null,null,null,null,null,null,null,null,null,null,{"$f":"INDEX('Fixture Descriptions'!A:K,MATCH('Inspection Form'!H589,'Fixture Descriptions'!A:A,0),8)","v":{"$error":"#N/A"}},{"$error":"#N/A"},null,{"$error":"#N/A"},1,null,null,null,{"$f":"IFERROR(IF(AND(INDEX(Inventory!CB:CB,MATCH('Inspection Form'!B589,Inventory!B:B,0))=\"Not Qualified\",INDEX(Inventory!L:L,MATCH('Inspection Form'!B589,Inventory!B:B,0))<>\"\",$Q$5<>\"Pre\"),0,BY589*BZ589), 0)","v":0},null,{"$error":"#DIV/0!"},{"$error":"#DIV/0!"},586]
[null,586,null,null,null,null,null,null,null,null,null,null,null,null,null,null,null,null,null,null,null,null,null,null,null,null,null,null,null,null,null,null,null,null,null,null,null,null,null,null,null,null,null,null,null,null,null,null,null,null,null,null,null,null,null,null,null,null,null,null,null,null,null,null,null,null,null,null,null,null,null,null,null,{"$f":"INDEX('Fixture Descriptions'!A:K,MATCH('Inspection Form'!H590,'Fixture Descriptions'!A:A,0),8)","v":{"$error":"#N/A"}},{"$error":"#N/A"},null,{"$error":"#N/A"},1,null,null,null,{"$f":"IFERROR(IF(AND(INDEX(Inventory!CB:CB,MATCH('Inspection Form'!B590,Inventory!B:B,0))=\"Not Qualified\",INDEX(Inventory!L:L,MATCH('Inspection Form'!B590,Inventory!B:B,0))<>\"\",$Q$5<>\"Pre\"),0,BY590*BZ590), 0)","v":0},null,{"$error":"#DIV/0!"},{"$error":"#DIV/0!"},587]
[null,589,null,null,null,null,null,null,null,null,null,null,null,null,null,null,null,null,null,null,null,null,null,null,null,null,null,null,null,null,null,null,null,null,null,null,null,null,null,null,null,null,null,null,null,null,null,null,null,null,null,null,null,null,null,null,null,null,null,null,null,null,null,null,null,null,null,null,null,null,null,null,null,{"$f":"INDEX('Fixture Descriptions'!A:K,MATCH('Inspection Form'!H593,'Fixture Descriptions'!A:A,0),8)","v":{"$error":"#N/A"}},{"$error":"#N/A"},null,{"$error":"#N/A"},1,null,null,null,{"$f":"IFERROR(IF(AND(INDEX(Inventory!CB:CB,MATCH('Inspection Form'!B593,Inventory!B:B,0))=\"Not Qualified\",INDEX(Inventory!L:L,MATCH('Inspection Form'!B593,Inventory!B:B,0))<>\"\",$Q$5<>\"Pre\"),0,BY593*BZ593), 0)","v":0},null,{"$error":"#DIV/0!"},{"$error":"#DIV/0!"},590]
[null,590,null,null,null,null,null,null,null,null,null,null,null,null,null,null,null,null,null,null,null,null,null,null,null,null,null,null,null,null,null,null,null,null,null,null,null,null,null,null,null,null,null,null,null,null,null,null,null,null,null,null,null,null,null,null,null,null,null,null,null,null,null,null,null,null,null,null,null,null,null,null,null,{"$f":"INDEX('Fixture Descriptions'!A:K,MATCH('Inspection Form'!H594,'Fixture Descriptions'!A:A,0),8)","v":{"$error":"#N/A"}},{"$error":"#N/A"},null,{"$error":"#N/A"},1,null,null,null,{"$f":"IFERROR(IF(AND(INDEX(Inventory!CB:CB,MATCH('Inspection Form'!B594,Inventory!B:B,0))=\"Not Qualified\",INDEX(Inventory!L:L,MATCH('Inspection Form'!B594,Inventory!B:B,0))<>\"\",$Q$5<>\"Pre\"),0,BY594*BZ594), 0)","v":0},null,{"$error":"#DIV/0!"},{"$error":"#DIV/0!"},591]
[null,592,null,null,null,null,null,null,null,null,null,null,null,null,null,null,null,null,null,null,null,null,null,null,null,null,null,null,null,null,null,null,null,null,null,null,null,null,null,null,null,null,null,null,null,null,null,null,null,null,null,null,null,null,null,null,null,null,null,null,null,null,null,null,null,null,null,null,null,null,null,null,null,{"$f":"INDEX('Fixture Descriptions'!A:K,MATCH('Inspection Form'!H596,'Fixture Descriptions'!A:A,0),8)","v":{"$error":"#N/A"}},{"$error":"#N/A"},null,{"$error":"#N/A"},1,null,null,null,{"$f":"IFERROR(IF(AND(INDEX(Inventory!CB:CB,MATCH('Inspection Form'!B596,Inventory!B:B,0))=\"Not Qualified\",INDEX(Inventory!L:L,MATCH('Inspection Form'!B596,Inventory!B:B,0))<>\"\",$Q$5<>\"Pre\"),0,BY596*BZ596), 0)","v":0},null,{"$error":"#DIV/0!"},{"$error":"#DIV/0!"},593]
[null,593,null,null,null,null,null,null,null,null,null,null,null,null,null,null,null,null,null,null,null,null,null,null,null,null,null,null,null,null,null,null,null,null,null,null,null,null,null,null,null,null,null,null,null,null,null,null,null,null,null,null,null,null,null,null,null,null,null,null,null,null,null,null,null,null,null,null,null,null,null,null,null,{"$f":"INDEX('Fixture Descriptions'!A:K,MATCH('Inspection Form'!H597,'Fixture Descriptions'!A:A,0),8)","v":{"$error":"#N/A"}},{"$error":"#N/A"},null,{"$error":"#N/A"},1,null,null,null,{"$f":"IFERROR(IF(AND(INDEX(Inventory!CB:CB,MATCH('Inspection Form'!B597,Inventory!B:B,0))=\"Not Qualified\",INDEX(Inventory!L:L,MATCH('Inspection Form'!B597,Inventory!B:B,0))<>\"\",$Q$5<>\"Pre\"),0,BY597*BZ597), 0)","v":0},null,{"$error":"#DIV/0!"},{"$error":"#DIV/0!"},594]
[null,596,null,null,null,null,null,null,null,null,null,null,null,null,null,null,null,null,null,null,null,null,null,null,null,null,null,null,null,null,null,null,null,null,null,null,null,null,null,null,null,null,null,null,null,null,null,null,null,null,null,null,null,null,null,null,null,null,null,null,null,null,null,null,null,null,null,null,null,null,null,null,null,{"$f":"INDEX('Fixture Descriptions'!A:K,MATCH('Inspection Form'!H600,'Fixture Descriptions'!A:A,0),8)","v":{"$error":"#N/A"}},{"$error":"#N/A"},null,{"$error":"#N/A"},1,null,null,null,{"$f":"IFERROR(IF(AND(INDEX(Inventory!CB:CB,MATCH('Inspection Form'!B600,Inventory!B:B,0))=\"Not Qualified\",INDEX(Inventory!L:L,MATCH('Inspection Form'!B600,Inventory!B:B,0))<>\"\",$Q$5<>\"Pre\"),0,BY600*BZ600), 0)","v":0},null,{"$error":"#DIV/0!"},{"$error":"#DIV/0!"},597]
[null,597,null,null,null,null,null,null,null,null,null,null,null,null,null,null,null,null,null,null,null,null,null,null,null,null,null,null,null,null,null,null,null,null,null,null,null,null,null,null,null,null,null,null,null,null,null,null,null,null,null,null,null,null,null,null,null,null,null,null,null,null,null,null,null,null,null,null,null,null,null,null,null,{"$f":"INDEX('Fixture Descriptions'!A:K,MATCH('Inspection Form'!H601,'Fixture Descriptions'!A:A,0),8)","v":{"$error":"#N/A"}},{"$error":"#N/A"},null,{"$error":"#N/A"},1,null,null,null,{"$f":"IFERROR(IF(AND(INDEX(Inventory!CB:CB,MATCH('Inspection Form'!B601,Inventory!B:B,0))=\"Not Qualified\",INDEX(Inventory!L:L,MATCH('Inspection Form'!B601,Inventory!B:B,0))<>\"\",$Q$5<>\"Pre\"),0,BY601*BZ601), 0)","v":0},null,{"$error":"#DIV/0!"},{"$error":"#DIV/0!"},598]
[null,599,null,null,null,null,null,null,null,null,null,null,null,null,null,null,null,null,null,null,null,null,null,null,null,null,null,null,null,null,null,null,null,null,null,null,null,null,null,null,null,null,null,null,null,null,null,null,null,null,null,null,null,null,null,null,null,null,null,null,null,null,null,null,null,null,null,null,null,null,null,null,null,{"$f":"INDEX('Fixture Descriptions'!A:K,MATCH('Inspection Form'!H603,'Fixture Descriptions'!A:A,0),8)","v":{"$error":"#N/A"}},{"$error":"#N/A"},null,{"$error":"#N/A"},1,null,null,null,{"$f":"IFERROR(IF(AND(INDEX(Inventory!CB:CB,MATCH('Inspection Form'!B603,Inventory!B:B,0))=\"Not Qualified\",INDEX(Inventory!L:L,MATCH('Inspection Form'!B603,Inventory!B:B,0))<>\"\",$Q$5<>\"Pre\"),0,BY603*BZ603), 0)","v":0},null,{"$error":"#DIV/0!"},{"$error":"#DIV/0!"},600]
[null,600,null,null,null,null,null,null,null,null,null,null,null,null,null,null,null,null,null,null,null,null,null,null,null,null,null,null,null,null,null,null,null,null,null,null,null,null,null,null,null,null,null,null,null,null,null,null,null,null,null,null,null,null,null,null,null,null,null,null,null,null,null,null,null,null,null,null,null,null,null,null,null,{"$f":"INDEX('Fixture Descriptions'!A:K,MATCH('Inspection Form'!H604,'Fixture Descriptions'!A:A,0),8)","v":{"$error":"#N/A"}},{"$error":"#N/A"},null,{"$error":"#N/A"},1,null,null,null,{"$f":"IFERROR(IF(AND(INDEX(Inventory!CB:CB,MATCH('Inspection Form'!B604,Inventory!B:B,0))=\"Not Qualified\",INDEX(Inventory!L:L,MATCH('Inspection Form'!B604,Inventory!B:B,0))<>\"\",$Q$5<>\"Pre\"),0,BY604*BZ604), 0)","v":0},null,{"$error":"#DIV/0!"},{"$error":"#DIV/0!"},601]
[null,603,null,null,null,null,null,null,null,null,null,null,null,null,null,null,null,null,null,null,null,null,null,null,null,null,null,null,null,null,null,null,null,null,null,null,null,null,null,null,null,null,null,null,null,null,null,null,null,null,null,null,null,null,null,null,null,null,null,null,null,null,null,null,null,null,null,null,null,null,null,null,null,{"$f":"INDEX('Fixture Descriptions'!A:K,MATCH('Inspection Form'!H607,'Fixture Descriptions'!A:A,0),8)","v":{"$error":"#N/A"}},{"$error":"#N/A"},null,{"$error":"#N/A"},1,null,null,null,{"$f":"IFERROR(IF(AND(INDEX(Inventory!CB:CB,MATCH('Inspection Form'!B607,Inventory!B:B,0))=\"Not Qualified\",INDEX(Inventory!L:L,MATCH('Inspection Form'!B607,Inventory!B:B,0))<>\"\",$Q$5<>\"Pre\"),0,BY607*BZ607), 0)","v":0},null,{"$error":"#DIV/0!"},{"$error":"#DIV/0!"},604]
[null,604,null,null,null,null,null,null,null,null,null,null,null,null,null,null,null,null,null,null,null,null,null,null,null,null,null,null,null,null,null,null,null,null,null,null,null,null,null,null,null,null,null,null,null,null,null,null,null,null,null,null,null,null,null,null,null,null,null,null,null,null,null,null,null,null,null,null,null,null,null,null,null,{"$f":"INDEX('Fixture Descriptions'!A:K,MATCH('Inspection Form'!H608,'Fixture Descriptions'!A:A,0),8)","v":{"$error":"#N/A"}},{"$error":"#N/A"},null,{"$error":"#N/A"},1,null,null,null,{"$f":"IFERROR(IF(AND(INDEX(Inventory!CB:CB,MATCH('Inspection Form'!B608,Inventory!B:B,0))=\"Not Qualified\",INDEX(Inventory!L:L,MATCH('Inspection Form'!B608,Inventory!B:B,0))<>\"\",$Q$5<>\"Pre\"),0,BY608*BZ608), 0)","v":0},null,{"$error":"#DIV/0!"},{"$error":"#DIV/0!"},605]
[null,606,null,null,null,null,null,null,null,null,null,null,null,null,null,null,null,null,null,null,null,null,null,null,null,null,null,null,null,null,null,null,null,null,null,null,null,null,null,null,null,null,null,null,null,null,null,null,null,null,null,null,null,null,null,null,null,null,null,null,null,null,null,null,null,null,null,null,null,null,null,null,null,{"$f":"INDEX('Fixture Descriptions'!A:K,MATCH('Inspection Form'!H610,'Fixture Descriptions'!A:A,0),8)","v":{"$error":"#N/A"}},{"$error":"#N/A"},null,{"$error":"#N/A"},1,null,null,null,{"$f":"IFERROR(IF(AND(INDEX(Inventory!CB:CB,MATCH('Inspection Form'!B610,Inventory!B:B,0))=\"Not Qualified\",INDEX(Inventory!L:L,MATCH('Inspection Form'!B610,Inventory!B:B,0))<>\"\",$Q$5<>\"Pre\"),0,BY610*BZ610), 0)","v":0},null,{"$error":"#DIV/0!"},{"$error":"#DIV/0!"},607]
[null,607,null,null,null,null,null,null,null,null,null,null,null,null,null,null,null,null,null,null,null,null,null,null,null,null,null,null,null,null,null,null,null,null,null,null,null,null,null,null,null,null,null,null,null,null,null,null,null,null,null,null,null,null,null,null,null,null,null,null,null,null,null,null,null,null,null,null,null,null,null,null,null,{"$f":"INDEX('Fixture Descriptions'!A:K,MATCH('Inspection Form'!H611,'Fixture Descriptions'!A:A,0),8)","v":{"$error":"#N/A"}},{"$error":"#N/A"},null,{"$error":"#N/A"},1,null,null,null,{"$f":"IFERROR(IF(AND(INDEX(Inventory!CB:CB,MATCH('Inspection Form'!B611,Inventory!B:B,0))=\"Not Qualified\",INDEX(Inventory!L:L,MATCH('Inspection Form'!B611,Inventory!B:B,0))<>\"\",$Q$5<>\"Pre\"),0,BY611*BZ611), 0)","v":0},null,{"$error":"#DIV/0!"},{"$error":"#DIV/0!"},608]
[null,610,null,null,null,null,null,null,null,null,null,null,null,null,null,null,null,null,null,null,null,null,null,null,null,null,null,null,null,null,null,null,null,null,null,null,null,null,null,null,null,null,null,null,null,null,null,null,null,null,null,null,null,null,null,null,null,null,null,null,null,null,null,null,null,null,null,null,null,null,null,null,null,{"$f":"INDEX('Fixture Descriptions'!A:K,MATCH('Inspection Form'!H614,'Fixture Descriptions'!A:A,0),8)","v":{"$error":"#N/A"}},{"$error":"#N/A"},null,{"$error":"#N/A"},1,null,null,null,{"$f":"IFERROR(IF(AND(INDEX(Inventory!CB:CB,MATCH('Inspection Form'!B614,Inventory!B:B,0))=\"Not Qualified\",INDEX(Inventory!L:L,MATCH('Inspection Form'!B614,Inventory!B:B,0))<>\"\",$Q$5<>\"Pre\"),0,BY614*BZ614), 0)","v":0},null,{"$error":"#DIV/0!"},{"$error":"#DIV/0!"},611]
[null,611,null,null,null,null,null,null,null,null,null,null,null,null,null,null,null,null,null,null,null,null,null,null,null,null,null,null,null,null,null,null,null,null,null,null,null,null,null,null,null,null,null,null,null,null,null,null,null,null,null,null,null,null,null,null,null,null,null,null,null,null,null,null,null,null,null,null,null,null,null,null,null,{"$f":"INDEX('Fixture Descriptions'!A:K,MATCH('Inspection Form'!H615,'Fixture Descriptions'!A:A,0),8)","v":{"$error":"#N/A"}},{"$error":"#N/A"},null,{"$error":"#N/A"},1,null,null,null,{"$f":"IFERROR(IF(AND(INDEX(Inventory!CB:CB,MATCH('Inspection Form'!B615,Inventory!B:B,0))=\"Not Qualified\",INDEX(Inventory!L:L,MATCH('Inspection Form'!B615,Inventory!B:B,0))<>\"\",$Q$5<>\"Pre\"),0,BY615*BZ615), 0)","v":0},null,{"$error":"#DIV/0!"},{"$error":"#DIV/0!"},612]
[null,613,null,null,null,null,null,null,null,null,null,null,null,null,null,null,null,null,null,null,null,null,null,null,null,null,null,null,null,null,null,null,null,null,null,null,null,null,null,null,null,null,null,null,null,null,null,null,null,null,null,null,null,null,null,null,null,null,null,null,null,null,null,null,null,null,null,null,null,null,null,null,null,{"$f":"INDEX('Fixture Descriptions'!A:K,MATCH('Inspection Form'!H617,'Fixture Descriptions'!A:A,0),8)","v":{"$error":"#N/A"}},{"$error":"#N/A"},null,{"$error":"#N/A"},1,null,null,null,{"$f":"IFERROR(IF(AND(INDEX(Inventory!CB:CB,MATCH('Inspection Form'!B617,Inventory!B:B,0))=\"Not Qualified\",INDEX(Inventory!L:L,MATCH('Inspection Form'!B617,Inventory!B:B,0))<>\"\",$Q$5<>\"Pre\"),0,BY617*BZ617), 0)","v":0},null,{"$error":"#DIV/0!"},{"$error":"#DIV/0!"},614]
[null,614,null,null,null,null,null,null,null,null,null,null,null,null,null,null,null,null,null,null,null,null,null,null,null,null,null,null,null,null,null,null,null,null,null,null,null,null,null,null,null,null,null,null,null,null,null,null,null,null,null,null,null,null,null,null,null,null,null,null,null,null,null,null,null,null,null,null,null,null,null,null,null,{"$f":"INDEX('Fixture Descriptions'!A:K,MATCH('Inspection Form'!H618,'Fixture Descriptions'!A:A,0),8)","v":{"$error":"#N/A"}},{"$error":"#N/A"},null,{"$error":"#N/A"},1,null,null,null,{"$f":"IFERROR(IF(AND(INDEX(Inventory!CB:CB,MATCH('Inspection Form'!B618,Inventory!B:B,0))=\"Not Qualified\",INDEX(Inventory!L:L,MATCH('Inspection Form'!B618,Inventory!B:B,0))<>\"\",$Q$5<>\"Pre\"),0,BY618*BZ618), 0)","v":0},null,{"$error":"#DIV/0!"},{"$error":"#DIV/0!"},615]
[null,617,null,null,null,null,null,null,null,null,null,null,null,null,null,null,null,null,null,null,null,null,null,null,null,null,null,null,null,null,null,null,null,null,null,null,null,null,null,null,null,null,null,null,null,null,null,null,null,null,null,null,null,null,null,null,null,null,null,null,null,null,null,null,null,null,null,null,null,null,null,null,null,{"$f":"INDEX('Fixture Descriptions'!A:K,MATCH('Inspection Form'!H621,'Fixture Descriptions'!A:A,0),8)","v":{"$error":"#N/A"}},{"$error":"#N/A"},null,{"$error":"#N/A"},1,null,null,null,{"$f":"IFERROR(IF(AND(INDEX(Inventory!CB:CB,MATCH('Inspection Form'!B621,Inventory!B:B,0))=\"Not Qualified\",INDEX(Inventory!L:L,MATCH('Inspection Form'!B621,Inventory!B:B,0))<>\"\",$Q$5<>\"Pre\"),0,BY621*BZ621), 0)","v":0},null,{"$error":"#DIV/0!"},{"$error":"#DIV/0!"},618]
[null,618,null,null,null,null,null,null,null,null,null,null,null,null,null,null,null,null,null,null,null,null,null,null,null,null,null,null,null,null,null,null,null,null,null,null,null,null,null,null,null,null,null,null,null,null,null,null,null,null,null,null,null,null,null,null,null,null,null,null,null,null,null,null,null,null,null,null,null,null,null,null,null,{"$f":"INDEX('Fixture Descriptions'!A:K,MATCH('Inspection Form'!H622,'Fixture Descriptions'!A:A,0),8)","v":{"$error":"#N/A"}},{"$error":"#N/A"},null,{"$error":"#N/A"},1,null,null,null,{"$f":"IFERROR(IF(AND(INDEX(Inventory!CB:CB,MATCH('Inspection Form'!B622,Inventory!B:B,0))=\"Not Qualified\",INDEX(Inventory!L:L,MATCH('Inspection Form'!B622,Inventory!B:B,0))<>\"\",$Q$5<>\"Pre\"),0,BY622*BZ622), 0)","v":0},null,{"$error":"#DIV/0!"},{"$error":"#DIV/0!"},619]
[null,620,null,null,null,null,null,null,null,null,null,null,null,null,null,null,null,null,null,null,null,null,null,null,null,null,null,null,null,null,null,null,null,null,null,null,null,null,null,null,null,null,null,null,null,null,null,null,null,null,null,null,null,null,null,null,null,null,null,null,null,null,null,null,null,null,null,null,null,null,null,null,null,{"$f":"INDEX('Fixture Descriptions'!A:K,MATCH('Inspection Form'!H624,'Fixture Descriptions'!A:A,0),8)","v":{"$error":"#N/A"}},{"$error":"#N/A"},null,{"$error":"#N/A"},1,null,null,null,{"$f":"IFERROR(IF(AND(INDEX(Inventory!CB:CB,MATCH('Inspection Form'!B624,Inventory!B:B,0))=\"Not Qualified\",INDEX(Inventory!L:L,MATCH('Inspection Form'!B624,Inventory!B:B,0))<>\"\",$Q$5<>\"Pre\"),0,BY624*BZ624), 0)","v":0},null,{"$error":"#DIV/0!"},{"$error":"#DIV/0!"},621]
[null,621,null,null,null,null,null,null,null,null,null,null,null,null,null,null,null,null,null,null,null,null,null,null,null,null,null,null,null,null,null,null,null,null,null,null,null,null,null,null,null,null,null,null,null,null,null,null,null,null,null,null,null,null,null,null,null,null,null,null,null,null,null,null,null,null,null,null,null,null,null,null,null,{"$f":"INDEX('Fixture Descriptions'!A:K,MATCH('Inspection Form'!H625,'Fixture Descriptions'!A:A,0),8)","v":{"$error":"#N/A"}},{"$error":"#N/A"},null,{"$error":"#N/A"},1,null,null,null,{"$f":"IFERROR(IF(AND(INDEX(Inventory!CB:CB,MATCH('Inspection Form'!B625,Inventory!B:B,0))=\"Not Qualified\",INDEX(Inventory!L:L,MATCH('Inspection Form'!B625,Inventory!B:B,0))<>\"\",$Q$5<>\"Pre\"),0,BY625*BZ625), 0)","v":0},null,{"$error":"#DIV/0!"},{"$error":"#DIV/0!"},622]
[null,624,null,null,null,null,null,null,null,null,null,null,null,null,null,null,null,null,null,null,null,null,null,null,null,null,null,null,null,null,null,null,null,null,null,null,null,null,null,null,null,null,null,null,null,null,null,null,null,null,null,null,null,null,null,null,null,null,null,null,null,null,null,null,null,null,null,null,null,null,null,null,null,{"$f":"INDEX('Fixture Descriptions'!A:K,MATCH('Inspection Form'!H628,'Fixture Descriptions'!A:A,0),8)","v":{"$error":"#N/A"}},{"$error":"#N/A"},null,{"$error":"#N/A"},1,null,null,null,{"$f":"IFERROR(IF(AND(INDEX(Inventory!CB:CB,MATCH('Inspection Form'!B628,Inventory!B:B,0))=\"Not Qualified\",INDEX(Inventory!L:L,MATCH('Inspection Form'!B628,Inventory!B:B,0))<>\"\",$Q$5<>\"Pre\"),0,BY628*BZ628), 0)","v":0},null,{"$error":"#DIV/0!"},{"$error":"#DIV/0!"},625]
[null,625,null,null,null,null,null,null,null,null,null,null,null,null,null,null,null,null,null,null,null,null,null,null,null,null,null,null,null,null,null,null,null,null,null,null,null,null,null,null,null,null,null,null,null,null,null,null,null,null,null,null,null,null,null,null,null,null,null,null,null,null,null,null,null,null,null,null,null,null,null,null,null,{"$f":"INDEX('Fixture Descriptions'!A:K,MATCH('Inspection Form'!H629,'Fixture Descriptions'!A:A,0),8)","v":{"$error":"#N/A"}},{"$error":"#N/A"},null,{"$error":"#N/A"},1,null,null,null,{"$f":"IFERROR(IF(AND(INDEX(Inventory!CB:CB,MATCH('Inspection Form'!B629,Inventory!B:B,0))=\"Not Qualified\",INDEX(Inventory!L:L,MATCH('Inspection Form'!B629,Inventory!B:B,0))<>\"\",$Q$5<>\"Pre\"),0,BY629*BZ629), 0)","v":0},null,{"$error":"#DIV/0!"},{"$error":"#DIV/0!"},626]
[null,627,null,null,null,null,null,null,null,null,null,null,null,null,null,null,null,null,null,null,null,null,null,null,null,null,null,null,null,null,null,null,null,null,null,null,null,null,null,null,null,null,null,null,null,null,null,null,null,null,null,null,null,null,null,null,null,null,null,null,null,null,null,null,null,null,null,null,null,null,null,null,null,{"$f":"INDEX('Fixture Descriptions'!A:K,MATCH('Inspection Form'!H631,'Fixture Descriptions'!A:A,0),8)","v":{"$error":"#N/A"}},{"$error":"#N/A"},null,{"$error":"#N/A"},1,null,null,null,{"$f":"IFERROR(IF(AND(INDEX(Inventory!CB:CB,MATCH('Inspection Form'!B631,Inventory!B:B,0))=\"Not Qualified\",INDEX(Inventory!L:L,MATCH('Inspection Form'!B631,Inventory!B:B,0))<>\"\",$Q$5<>\"Pre\"),0,BY631*BZ631), 0)","v":0},null,{"$error":"#DIV/0!"},{"$error":"#DIV/0!"},628]
[null,628,null,null,null,null,null,null,null,null,null,null,null,null,null,null,null,null,null,null,null,null,null,null,null,null,null,null,null,null,null,null,null,null,null,null,null,null,null,null,null,null,null,null,null,null,null,null,null,null,null,null,null,null,null,null,null,null,null,null,null,null,null,null,null,null,null,null,null,null,null,null,null,{"$f":"INDEX('Fixture Descriptions'!A:K,MATCH('Inspection Form'!H632,'Fixture Descriptions'!A:A,0),8)","v":{"$error":"#N/A"}},{"$error":"#N/A"},null,{"$error":"#N/A"},1,null,null,null,{"$f":"IFERROR(IF(AND(INDEX(Inventory!CB:CB,MATCH('Inspection Form'!B632,Inventory!B:B,0))=\"Not Qualified\",INDEX(Inventory!L:L,MATCH('Inspection Form'!B632,Inventory!B:B,0))<>\"\",$Q$5<>\"Pre\"),0,BY632*BZ632), 0)","v":0},null,{"$error":"#DIV/0!"},{"$error":"#DIV/0!"},629]
[null,631,null,null,null,null,null,null,null,null,null,null,null,null,null,null,null,null,null,null,null,null,null,null,null,null,null,null,null,null,null,null,null,null,null,null,null,null,null,null,null,null,null,null,null,null,null,null,null,null,null,null,null,null,null,null,null,null,null,null,null,null,null,null,null,null,null,null,null,null,null,null,null,{"$f":"INDEX('Fixture Descriptions'!A:K,MATCH('Inspection Form'!H635,'Fixture Descriptions'!A:A,0),8)","v":{"$error":"#N/A"}},{"$error":"#N/A"},null,{"$error":"#N/A"},1,null,null,null,{"$f":"IFERROR(IF(AND(INDEX(Inventory!CB:CB,MATCH('Inspection Form'!B635,Inventory!B:B,0))=\"Not Qualified\",INDEX(Inventory!L:L,MATCH('Inspection Form'!B635,Inventory!B:B,0))<>\"\",$Q$5<>\"Pre\"),0,BY635*BZ635), 0)","v":0},null,{"$error":"#DIV/0!"},{"$error":"#DIV/0!"},632]
[null,632,null,null,null,null,null,null,null,null,null,null,null,null,null,null,null,null,null,null,null,null,null,null,null,null,null,null,null,null,null,null,null,null,null,null,null,null,null,null,null,null,null,null,null,null,null,null,null,null,null,null,null,null,null,null,null,null,null,null,null,null,null,null,null,null,null,null,null,null,null,null,null,{"$f":"INDEX('Fixture Descriptions'!A:K,MATCH('Inspection Form'!H636,'Fixture Descriptions'!A:A,0),8)","v":{"$error":"#N/A"}},{"$error":"#N/A"},null,{"$error":"#N/A"},1,null,null,null,{"$f":"IFERROR(IF(AND(INDEX(Inventory!CB:CB,MATCH('Inspection Form'!B636,Inventory!B:B,0))=\"Not Qualified\",INDEX(Inventory!L:L,MATCH('Inspection Form'!B636,Inventory!B:B,0))<>\"\",$Q$5<>\"Pre\"),0,BY636*BZ636), 0)","v":0},null,{"$error":"#DIV/0!"},{"$error":"#DIV/0!"},633]
[null,634,null,null,null,null,null,null,null,null,null,null,null,null,null,null,null,null,null,null,null,null,null,null,null,null,null,null,null,null,null,null,null,null,null,null,null,null,null,null,null,null,null,null,null,null,null,null,null,null,null,null,null,null,null,null,null,null,null,null,null,null,null,null,null,null,null,null,null,null,null,null,null,{"$f":"INDEX('Fixture Descriptions'!A:K,MATCH('Inspection Form'!H638,'Fixture Descriptions'!A:A,0),8)","v":{"$error":"#N/A"}},{"$error":"#N/A"},null,{"$error":"#N/A"},1,null,null,null,{"$f":"IFERROR(IF(AND(INDEX(Inventory!CB:CB,MATCH('Inspection Form'!B638,Inventory!B:B,0))=\"Not Qualified\",INDEX(Inventory!L:L,MATCH('Inspection Form'!B638,Inventory!B:B,0))<>\"\",$Q$5<>\"Pre\"),0,BY638*BZ638), 0)","v":0},null,{"$error":"#DIV/0!"},{"$error":"#DIV/0!"},635]
[null,635,null,null,null,null,null,null,null,null,null,null,null,null,null,null,null,null,null,null,null,null,null,null,null,null,null,null,null,null,null,null,null,null,null,null,null,null,null,null,null,null,null,null,null,null,null,null,null,null,null,null,null,null,null,null,null,null,null,null,null,null,null,null,null,null,null,null,null,null,null,null,null,{"$f":"INDEX('Fixture Descriptions'!A:K,MATCH('Inspection Form'!H639,'Fixture Descriptions'!A:A,0),8)","v":{"$error":"#N/A"}},{"$error":"#N/A"},null,{"$error":"#N/A"},1,null,null,null,{"$f":"IFERROR(IF(AND(INDEX(Inventory!CB:CB,MATCH('Inspection Form'!B639,Inventory!B:B,0))=\"Not Qualified\",INDEX(Inventory!L:L,MATCH('Inspection Form'!B639,Inventory!B:B,0))<>\"\",$Q$5<>\"Pre\"),0,BY639*BZ639), 0)","v":0},null,{"$error":"#DIV/0!"},{"$error":"#DIV/0!"},636]
[null,638,null,null,null,null,null,null,null,null,null,null,null,null,null,null,null,null,null,null,null,null,null,null,null,null,null,null,null,null,null,null,null,null,null,null,null,null,null,null,null,null,null,null,null,null,null,null,null,null,null,null,null,null,null,null,null,null,null,null,null,null,null,null,null,null,null,null,null,null,null,null,null,{"$f":"INDEX('Fixture Descriptions'!A:K,MATCH('Inspection Form'!H642,'Fixture Descriptions'!A:A,0),8)","v":{"$error":"#N/A"}},{"$error":"#N/A"},null,{"$error":"#N/A"},1,null,null,null,{"$f":"IFERROR(IF(AND(INDEX(Inventory!CB:CB,MATCH('Inspection Form'!B642,Inventory!B:B,0))=\"Not Qualified\",INDEX(Inventory!L:L,MATCH('Inspection Form'!B642,Inventory!B:B,0))<>\"\",$Q$5<>\"Pre\"),0,BY642*BZ642), 0)","v":0},null,{"$error":"#DIV/0!"},{"$error":"#DIV/0!"},639]
[null,639,null,null,null,null,null,null,null,null,null,null,null,null,null,null,null,null,null,null,null,null,null,null,null,null,null,null,null,null,null,null,null,null,null,null,null,null,null,null,null,null,null,null,null,null,null,null,null,null,null,null,null,null,null,null,null,null,null,null,null,null,null,null,null,null,null,null,null,null,null,null,null,{"$f":"INDEX('Fixture Descriptions'!A:K,MATCH('Inspection Form'!H643,'Fixture Descriptions'!A:A,0),8)","v":{"$error":"#N/A"}},{"$error":"#N/A"},null,{"$error":"#N/A"},1,null,null,null,{"$f":"IFERROR(IF(AND(INDEX(Inventory!CB:CB,MATCH('Inspection Form'!B643,Inventory!B:B,0))=\"Not Qualified\",INDEX(Inventory!L:L,MATCH('Inspection Form'!B643,Inventory!B:B,0))<>\"\",$Q$5<>\"Pre\"),0,BY643*BZ643), 0)","v":0},null,{"$error":"#DIV/0!"},{"$error":"#DIV/0!"},640]
[null,641,null,null,null,null,null,null,null,null,null,null,null,null,null,null,null,null,null,null,null,null,null,null,null,null,null,null,null,null,null,null,null,null,null,null,null,null,null,null,null,null,null,null,null,null,null,null,null,null,null,null,null,null,null,null,null,null,null,null,null,null,null,null,null,null,null,null,null,null,null,null,null,{"$f":"INDEX('Fixture Descriptions'!A:K,MATCH('Inspection Form'!H645,'Fixture Descriptions'!A:A,0),8)","v":{"$error":"#N/A"}},{"$error":"#N/A"},null,{"$error":"#N/A"},1,null,null,null,{"$f":"IFERROR(IF(AND(INDEX(Inventory!CB:CB,MATCH('Inspection Form'!B645,Inventory!B:B,0))=\"Not Qualified\",INDEX(Inventory!L:L,MATCH('Inspection Form'!B645,Inventory!B:B,0))<>\"\",$Q$5<>\"Pre\"),0,BY645*BZ645), 0)","v":0},null,{"$error":"#DIV/0!"},{"$error":"#DIV/0!"},642]
[null,642,null,null,null,null,null,null,null,null,null,null,null,null,null,null,null,null,null,null,null,null,null,null,null,null,null,null,null,null,null,null,null,null,null,null,null,null,null,null,null,null,null,null,null,null,null,null,null,null,null,null,null,null,null,null,null,null,null,null,null,null,null,null,null,null,null,null,null,null,null,null,null,{"$f":"INDEX('Fixture Descriptions'!A:K,MATCH('Inspection Form'!H646,'Fixture Descriptions'!A:A,0),8)","v":{"$error":"#N/A"}},{"$error":"#N/A"},null,{"$f":"BW646","v":{"$error":"#N/A"}},1,null,null,null,{"$f":"IFERROR(IF(AND(INDEX(Inventory!CB:CB,MATCH('Inspection Form'!B646,Inventory!B:B,0))=\"Not Qualified\",INDEX(Inventory!L:L,MATCH('Inspection Form'!B646,Inventory!B:B,0))<>\"\",$Q$5<>\"Pre\"),0,BY646*BZ646), 0)","v":0},null,{"$error":"#DIV/0!"},{"$error":"#DIV/0!"},643]
[null,645,null,null,null,null,null,null,null,null,null,null,null,null,null,null,null,null,null,null,null,null,null,null,null,null,null,null,null,null,null,null,null,null,null,null,null,null,null,null,null,null,null,null,null,null,null,null,null,null,null,null,null,null,null,null,null,null,null,null,null,null,null,null,null,null,null,null,null,null,null,null,null,{"$f":"INDEX('Fixture Descriptions'!A:K,MATCH('Inspection Form'!H649,'Fixture Descriptions'!A:A,0),8)","v":{"$error":"#N/A"}},{"$error":"#N/A"},null,{"$error":"#N/A"},1,null,null,null,{"$f":"IFERROR(IF(AND(INDEX(Inventory!CB:CB,MATCH('Inspection Form'!B649,Inventory!B:B,0))=\"Not Qualified\",INDEX(Inventory!L:L,MATCH('Inspection Form'!B649,Inventory!B:B,0))<>\"\",$Q$5<>\"Pre\"),0,BY649*BZ649), 0)","v":0},null,{"$error":"#DIV/0!"},{"$error":"#DIV/0!"},646]
[null,646,null,null,null,null,null,null,null,null,null,null,null,null,null,null,null,null,null,null,null,null,null,null,null,null,null,null,null,null,null,null,null,null,null,null,null,null,null,null,null,null,null,null,null,null,null,null,null,null,null,null,null,null,null,null,null,null,null,null,null,null,null,null,null,null,null,null,null,null,null,null,null,{"$f":"INDEX('Fixture Descriptions'!A:K,MATCH('Inspection Form'!H650,'Fixture Descriptions'!A:A,0),8)","v":{"$error":"#N/A"}},{"$error":"#N/A"},null,{"$error":"#N/A"},1,null,null,null,{"$f":"IFERROR(IF(AND(INDEX(Inventory!CB:CB,MATCH('Inspection Form'!B650,Inventory!B:B,0))=\"Not Qualified\",INDEX(Inventory!L:L,MATCH('Inspection Form'!B650,Inventory!B:B,0))<>\"\",$Q$5<>\"Pre\"),0,BY650*BZ650), 0)","v":0},null,{"$error":"#DIV/0!"},{"$error":"#DIV/0!"},647]
[null,648,null,null,null,null,null,null,null,null,null,null,null,null,null,null,null,null,null,null,null,null,null,null,null,null,null,null,null,null,null,null,null,null,null,null,null,null,null,null,null,null,null,null,null,null,null,null,null,null,null,null,null,null,null,null,null,null,null,null,null,null,null,null,null,null,null,null,null,null,null,null,null,{"$f":"INDEX('Fixture Descriptions'!A:K,MATCH('Inspection Form'!H652,'Fixture Descriptions'!A:A,0),8)","v":{"$error":"#N/A"}},{"$error":"#N/A"},null,{"$error":"#N/A"},1,null,null,null,{"$f":"IFERROR(IF(AND(INDEX(Inventory!CB:CB,MATCH('Inspection Form'!B652,Inventory!B:B,0))=\"Not Qualified\",INDEX(Inventory!L:L,MATCH('Inspection Form'!B652,Inventory!B:B,0))<>\"\",$Q$5<>\"Pre\"),0,BY652*BZ652), 0)","v":0},null,{"$error":"#DIV/0!"},{"$error":"#DIV/0!"},649]
[null,649,null,null,null,null,null,null,null,null,null,null,null,null,null,null,null,null,null,null,null,null,null,null,null,null,null,null,null,null,null,null,null,null,null,null,null,null,null,null,null,null,null,null,null,null,null,null,null,null,null,null,null,null,null,null,null,null,null,null,null,null,null,null,null,null,null,null,null,null,null,null,null,{"$f":"INDEX('Fixture Descriptions'!A:K,MATCH('Inspection Form'!H653,'Fixture Descriptions'!A:A,0),8)","v":{"$error":"#N/A"}},{"$error":"#N/A"},null,{"$error":"#N/A"},1,null,null,null,{"$f":"IFERROR(IF(AND(INDEX(Inventory!CB:CB,MATCH('Inspection Form'!B653,Inventory!B:B,0))=\"Not Qualified\",INDEX(Inventory!L:L,MATCH('Inspection Form'!B653,Inventory!B:B,0))<>\"\",$Q$5<>\"Pre\"),0,BY653*BZ653), 0)","v":0},null,{"$error":"#DIV/0!"},{"$error":"#DIV/0!"},650]
[null,652,null,null,null,null,null,null,null,null,null,null,null,null,null,null,null,null,null,null,null,null,null,null,null,null,null,null,null,null,null,null,null,null,null,null,null,null,null,null,null,null,null,null,null,null,null,null,null,null,null,null,null,null,null,null,null,null,null,null,null,null,null,null,null,null,null,null,null,null,null,null,null,{"$f":"INDEX('Fixture Descriptions'!A:K,MATCH('Inspection Form'!H656,'Fixture Descriptions'!A:A,0),8)","v":{"$error":"#N/A"}},{"$error":"#N/A"},null,{"$error":"#N/A"},1,null,null,null,{"$f":"IFERROR(IF(AND(INDEX(Inventory!CB:CB,MATCH('Inspection Form'!B656,Inventory!B:B,0))=\"Not Qualified\",INDEX(Inventory!L:L,MATCH('Inspection Form'!B656,Inventory!B:B,0))<>\"\",$Q$5<>\"Pre\"),0,BY656*BZ656), 0)","v":0},null,{"$error":"#DIV/0!"},{"$error":"#DIV/0!"},653]
[null,653,null,null,null,null,null,null,null,null,null,null,null,null,null,null,null,null,null,null,null,null,null,null,null,null,null,null,null,null,null,null,null,null,null,null,null,null,null,null,null,null,null,null,null,null,null,null,null,null,null,null,null,null,null,null,null,null,null,null,null,null,null,null,null,null,null,null,null,null,null,null,null,{"$f":"INDEX('Fixture Descriptions'!A:K,MATCH('Inspection Form'!H657,'Fixture Descriptions'!A:A,0),8)","v":{"$error":"#N/A"}},{"$error":"#N/A"},null,{"$error":"#N/A"},1,null,null,null,{"$f":"IFERROR(IF(AND(INDEX(Inventory!CB:CB,MATCH('Inspection Form'!B657,Inventory!B:B,0))=\"Not Qualified\",INDEX(Inventory!L:L,MATCH('Inspection Form'!B657,Inventory!B:B,0))<>\"\",$Q$5<>\"Pre\"),0,BY657*BZ657), 0)","v":0},null,{"$error":"#DIV/0!"},{"$error":"#DIV/0!"},654]
[null,655,null,null,null,null,null,null,null,null,null,null,null,null,null,null,null,null,null,null,null,null,null,null,null,null,null,null,null,null,null,null,null,null,null,null,null,null,null,null,null,null,null,null,null,null,null,null,null,null,null,null,null,null,null,null,null,null,null,null,null,null,null,null,null,null,null,null,null,null,null,null,null,{"$f":"INDEX('Fixture Descriptions'!A:K,MATCH('Inspection Form'!H659,'Fixture Descriptions'!A:A,0),8)","v":{"$error":"#N/A"}},{"$error":"#N/A"},null,{"$error":"#N/A"},1,null,null,null,{"$f":"IFERROR(IF(AND(INDEX(Inventory!CB:CB,MATCH('Inspection Form'!B659,Inventory!B:B,0))=\"Not Qualified\",INDEX(Inventory!L:L,MATCH('Inspection Form'!B659,Inventory!B:B,0))<>\"\",$Q$5<>\"Pre\"),0,BY659*BZ659), 0)","v":0},null,{"$error":"#DIV/0!"},{"$error":"#DIV/0!"},656]
[null,656,null,null,null,null,null,null,null,null,null,null,null,null,null,null,null,null,null,null,null,null,null,null,null,null,null,null,null,null,null,null,null,null,null,null,null,null,null,null,null,null,null,null,null,null,null,null,null,null,null,null,null,null,null,null,null,null,null,null,null,null,null,null,null,null,null,null,null,null,null,null,null,{"$f":"INDEX('Fixture Descriptions'!A:K,MATCH('Inspection Form'!H660,'Fixture Descriptions'!A:A,0),8)","v":{"$error":"#N/A"}},{"$error":"#N/A"},null,{"$error":"#N/A"},1,null,null,null,{"$f":"IFERROR(IF(AND(INDEX(Inventory!CB:CB,MATCH('Inspection Form'!B660,Inventory!B:B,0))=\"Not Qualified\",INDEX(Inventory!L:L,MATCH('Inspection Form'!B660,Inventory!B:B,0))<>\"\",$Q$5<>\"Pre\"),0,BY660*BZ660), 0)","v":0},null,{"$error":"#DIV/0!"},{"$error":"#DIV/0!"},657]
[null,659,null,null,null,null,null,null,null,null,null,null,null,null,null,null,null,null,null,null,null,null,null,null,null,null,null,null,null,null,null,null,null,null,null,null,null,null,null,null,null,null,null,null,null,null,null,null,null,null,null,null,null,null,null,null,null,null,null,null,null,null,null,null,null,null,null,null,null,null,null,null,null,{"$f":"INDEX('Fixture Descriptions'!A:K,MATCH('Inspection Form'!H663,'Fixture Descriptions'!A:A,0),8)","v":{"$error":"#N/A"}},{"$error":"#N/A"},null,{"$error":"#N/A"},1,null,null,null,{"$f":"IFERROR(IF(AND(INDEX(Inventory!CB:CB,MATCH('Inspection Form'!B663,Inventory!B:B,0))=\"Not Qualified\",INDEX(Inventory!L:L,MATCH('Inspection Form'!B663,Inventory!B:B,0))<>\"\",$Q$5<>\"Pre\"),0,BY663*BZ663), 0)","v":0},null,{"$error":"#DIV/0!"},{"$error":"#DIV/0!"},660]
[null,660,null,null,null,null,null,null,null,null,null,null,null,null,null,null,null,null,null,null,null,null,null,null,null,null,null,null,null,null,null,null,null,null,null,null,null,null,null,null,null,null,null,null,null,null,null,null,null,null,null,null,null,null,null,null,null,null,null,null,null,null,null,null,null,null,null,null,null,null,null,null,null,{"$f":"INDEX('Fixture Descriptions'!A:K,MATCH('Inspection Form'!H664,'Fixture Descriptions'!A:A,0),8)","v":{"$error":"#N/A"}},{"$error":"#N/A"},null,{"$error":"#N/A"},1,null,null,null,{"$f":"IFERROR(IF(AND(INDEX(Inventory!CB:CB,MATCH('Inspection Form'!B664,Inventory!B:B,0))=\"Not Qualified\",INDEX(Inventory!L:L,MATCH('Inspection Form'!B664,Inventory!B:B,0))<>\"\",$Q$5<>\"Pre\"),0,BY664*BZ664), 0)","v":0},null,{"$error":"#DIV/0!"},{"$error":"#DIV/0!"},661]
[null,663,null,null,null,null,null,null,null,null,null,null,null,null,null,null,null,null,null,null,null,null,null,null,null,null,null,null,null,null,null,null,null,null,null,null,null,null,null,null,null,null,null,null,null,null,null,null,null,null,null,null,null,null,null,null,null,null,null,null,null,null,null,null,null,null,null,null,null,null,null,null,null,{"$f":"INDEX('Fixture Descriptions'!A:K,MATCH('Inspection Form'!H667,'Fixture Descriptions'!A:A,0),8)","v":{"$error":"#N/A"}},{"$error":"#N/A"},null,{"$error":"#N/A"},1,null,null,null,{"$f":"IFERROR(IF(AND(INDEX(Inventory!CB:CB,MATCH('Inspection Form'!B667,Inventory!B:B,0))=\"Not Qualified\",INDEX(Inventory!L:L,MATCH('Inspection Form'!B667,Inventory!B:B,0))<>\"\",$Q$5<>\"Pre\"),0,BY667*BZ667), 0)","v":0},null,{"$error":"#DIV/0!"},{"$error":"#DIV/0!"},664]
[null,664,null,null,null,null,null,null,null,null,null,null,null,null,null,null,null,null,null,null,null,null,null,null,null,null,null,null,null,null,null,null,null,null,null,null,null,null,null,null,null,null,null,null,null,null,null,null,null,null,null,null,null,null,null,null,null,null,null,null,null,null,null,null,null,null,null,null,null,null,null,null,null,{"$f":"INDEX('Fixture Descriptions'!A:K,MATCH('Inspection Form'!H668,'Fixture Descriptions'!A:A,0),8)","v":{"$error":"#N/A"}},{"$error":"#N/A"},null,{"$error":"#N/A"},1,null,null,null,{"$f":"IFERROR(IF(AND(INDEX(Inventory!CB:CB,MATCH('Inspection Form'!B668,Inventory!B:B,0))=\"Not Qualified\",INDEX(Inventory!L:L,MATCH('Inspection Form'!B668,Inventory!B:B,0))<>\"\",$Q$5<>\"Pre\"),0,BY668*BZ668), 0)","v":0},null,{"$error":"#DIV/0!"},{"$error":"#DIV/0!"},665]
[null,666,null,null,null,null,null,null,null,null,null,null,null,null,null,null,null,null,null,null,null,null,null,null,null,null,null,null,null,null,null,null,null,null,null,null,null,null,null,null,null,null,null,null,null,null,null,null,null,null,null,null,null,null,null,null,null,null,null,null,null,null,null,null,null,null,null,null,null,null,null,null,null,{"$f":"INDEX('Fixture Descriptions'!A:K,MATCH('Inspection Form'!H670,'Fixture Descriptions'!A:A,0),8)","v":{"$error":"#N/A"}},{"$error":"#N/A"},null,{"$error":"#N/A"},1,null,null,null,{"$f":"IFERROR(IF(AND(INDEX(Inventory!CB:CB,MATCH('Inspection Form'!B670,Inventory!B:B,0))=\"Not Qualified\",INDEX(Inventory!L:L,MATCH('Inspection Form'!B670,Inventory!B:B,0))<>\"\",$Q$5<>\"Pre\"),0,BY670*BZ670), 0)","v":0},null,{"$error":"#DIV/0!"},{"$error":"#DIV/0!"},667]
[null,667,null,null,null,null,null,null,null,null,null,null,null,null,null,null,null,null,null,null,null,null,null,null,null,null,null,null,null,null,null,null,null,null,null,null,null,null,null,null,null,null,null,null,null,null,null,null,null,null,null,null,null,null,null,null,null,null,null,null,null,null,null,null,null,null,null,null,null,null,null,null,null,{"$f":"INDEX('Fixture Descriptions'!A:K,MATCH('Inspection Form'!H671,'Fixture Descriptions'!A:A,0),8)","v":{"$error":"#N/A"}},{"$error":"#N/A"},null,{"$error":"#N/A"},1,null,null,null,{"$f":"IFERROR(IF(AND(INDEX(Inventory!CB:CB,MATCH('Inspection Form'!B671,Inventory!B:B,0))=\"Not Qualified\",INDEX(Inventory!L:L,MATCH('Inspection Form'!B671,Inventory!B:B,0))<>\"\",$Q$5<>\"Pre\"),0,BY671*BZ671), 0)","v":0},null,{"$error":"#DIV/0!"},{"$error":"#DIV/0!"},668]
[null,670,null,null,null,null,null,null,null,null,null,null,null,null,null,null,null,null,null,null,null,null,null,null,null,null,null,null,null,null,null,null,null,null,null,null,null,null,null,null,null,null,null,null,null,null,null,null,null,null,null,null,null,null,null,null,null,null,null,null,null,null,null,null,null,null,null,null,null,null,null,null,null,{"$f":"INDEX('Fixture Descriptions'!A:K,MATCH('Inspection Form'!H674,'Fixture Descriptions'!A:A,0),8)","v":{"$error":"#N/A"}},{"$error":"#N/A"},null,{"$error":"#N/A"},1,null,null,null,{"$f":"IFERROR(IF(AND(INDEX(Inventory!CB:CB,MATCH('Inspection Form'!B674,Inventory!B:B,0))=\"Not Qualified\",INDEX(Inventory!L:L,MATCH('Inspection Form'!B674,Inventory!B:B,0))<>\"\",$Q$5<>\"Pre\"),0,BY674*BZ674), 0)","v":0},null,{"$error":"#DIV/0!"},{"$error":"#DIV/0!"},671]
[null,671,null,null,null,null,null,null,null,null,null,null,null,null,null,null,null,null,null,null,null,null,null,null,null,null,null,null,null,null,null,null,null,null,null,null,null,null,null,null,null,null,null,null,null,null,null,null,null,null,null,null,null,null,null,null,null,null,null,null,null,null,null,null,null,null,null,null,null,null,null,null,null,{"$f":"INDEX('Fixture Descriptions'!A:K,MATCH('Inspection Form'!H675,'Fixture Descriptions'!A:A,0),8)","v":{"$error":"#N/A"}},{"$error":"#N/A"},null,{"$error":"#N/A"},1,null,null,null,{"$f":"IFERROR(IF(AND(INDEX(Inventory!CB:CB,MATCH('Inspection Form'!B675,Inventory!B:B,0))=\"Not Qualified\",INDEX(Inventory!L:L,MATCH('Inspection Form'!B675,Inventory!B:B,0))<>\"\",$Q$5<>\"Pre\"),0,BY675*BZ675), 0)","v":0},null,{"$error":"#DIV/0!"},{"$error":"#DIV/0!"},672]
[null,673,null,null,null,null,null,null,null,null,null,null,null,null,null,null,null,null,null,null,null,null,null,null,null,null,null,null,null,null,null,null,null,null,null,null,null,null,null,null,null,null,null,null,null,null,null,null,null,null,null,null,null,null,null,null,null,null,null,null,null,null,null,null,null,null,null,null,null,null,null,null,null,{"$f":"INDEX('Fixture Descriptions'!A:K,MATCH('Inspection Form'!H677,'Fixture Descriptions'!A:A,0),8)","v":{"$error":"#N/A"}},{"$error":"#N/A"},null,{"$error":"#N/A"},1,null,null,null,{"$f":"IFERROR(IF(AND(INDEX(Inventory!CB:CB,MATCH('Inspection Form'!B677,Inventory!B:B,0))=\"Not Qualified\",INDEX(Inventory!L:L,MATCH('Inspection Form'!B677,Inventory!B:B,0))<>\"\",$Q$5<>\"Pre\"),0,BY677*BZ677), 0)","v":0},null,{"$error":"#DIV/0!"},{"$error":"#DIV/0!"},674]
[null,674,null,null,null,null,null,null,null,null,null,null,null,null,null,null,null,null,null,null,null,null,null,null,null,null,null,null,null,null,null,null,null,null,null,null,null,null,null,null,null,null,null,null,null,null,null,null,null,null,null,null,null,null,null,null,null,null,null,null,null,null,null,null,null,null,null,null,null,null,null,null,null,{"$f":"INDEX('Fixture Descriptions'!A:K,MATCH('Inspection Form'!H678,'Fixture Descriptions'!A:A,0),8)","v":{"$error":"#N/A"}},{"$error":"#N/A"},null,{"$error":"#N/A"},1,null,null,null,{"$f":"IFERROR(IF(AND(INDEX(Inventory!CB:CB,MATCH('Inspection Form'!B678,Inventory!B:B,0))=\"Not Qualified\",INDEX(Inventory!L:L,MATCH('Inspection Form'!B678,Inventory!B:B,0))<>\"\",$Q$5<>\"Pre\"),0,BY678*BZ678), 0)","v":0},null,{"$error":"#DIV/0!"},{"$error":"#DIV/0!"},675]
[null,677,null,null,null,null,null,null,null,null,null,null,null,null,null,null,null,null,null,null,null,null,null,null,null,null,null,null,null,null,null,null,null,null,null,null,null,null,null,null,null,null,null,null,null,null,null,null,null,null,null,null,null,null,null,null,null,null,null,null,null,null,null,null,null,null,null,null,null,null,null,null,null,{"$f":"INDEX('Fixture Descriptions'!A:K,MATCH('Inspection Form'!H681,'Fixture Descriptions'!A:A,0),8)","v":{"$error":"#N/A"}},{"$error":"#N/A"},null,{"$error":"#N/A"},1,null,null,null,{"$f":"IFERROR(IF(AND(INDEX(Inventory!CB:CB,MATCH('Inspection Form'!B681,Inventory!B:B,0))=\"Not Qualified\",INDEX(Inventory!L:L,MATCH('Inspection Form'!B681,Inventory!B:B,0))<>\"\",$Q$5<>\"Pre\"),0,BY681*BZ681), 0)","v":0},null,{"$error":"#DIV/0!"},{"$error":"#DIV/0!"},678]
[null,678,null,null,null,null,null,null,null,null,null,null,null,null,null,null,null,null,null,null,null,null,null,null,null,null,null,null,null,null,null,null,null,null,null,null,null,null,null,null,null,null,null,null,null,null,null,null,null,null,null,null,null,null,null,null,null,null,null,null,null,null,null,null,null,null,null,null,null,null,null,null,null,{"$f":"INDEX('Fixture Descriptions'!A:K,MATCH('Inspection Form'!H682,'Fixture Descriptions'!A:A,0),8)","v":{"$error":"#N/A"}},{"$error":"#N/A"},null,{"$error":"#N/A"},1,null,null,null,{"$f":"IFERROR(IF(AND(INDEX(Inventory!CB:CB,MATCH('Inspection Form'!B682,Inventory!B:B,0))=\"Not Qualified\",INDEX(Inventory!L:L,MATCH('Inspection Form'!B682,Inventory!B:B,0))<>\"\",$Q$5<>\"Pre\"),0,BY682*BZ682), 0)","v":0},null,{"$error":"#DIV/0!"},{"$error":"#DIV/0!"},679]
[null,680,null,null,null,null,null,null,null,null,null,null,null,null,null,null,null,null,null,null,null,null,null,null,null,null,null,null,null,null,null,null,null,null,null,null,null,null,null,null,null,null,null,null,null,null,null,null,null,null,null,null,null,null,null,null,null,null,null,null,null,null,null,null,null,null,null,null,null,null,null,null,null,{"$f":"INDEX('Fixture Descriptions'!A:K,MATCH('Inspection Form'!H684,'Fixture Descriptions'!A:A,0),8)","v":{"$error":"#N/A"}},{"$error":"#N/A"},null,{"$error":"#N/A"},1,null,null,null,{"$f":"IFERROR(IF(AND(INDEX(Inventory!CB:CB,MATCH('Inspection Form'!B684,Inventory!B:B,0))=\"Not Qualified\",INDEX(Inventory!L:L,MATCH('Inspection Form'!B684,Inventory!B:B,0))<>\"\",$Q$5<>\"Pre\"),0,BY684*BZ684), 0)","v":0},null,{"$error":"#DIV/0!"},{"$error":"#DIV/0!"},681]
[null,681,null,null,null,null,null,null,null,null,null,null,null,null,null,null,null,null,null,null,null,null,null,null,null,null,null,null,null,null,null,null,null,null,null,null,null,null,null,null,null,null,null,null,null,null,null,null,null,null,null,null,null,null,null,null,null,null,null,null,null,null,null,null,null,null,null,null,null,null,null,null,null,{"$f":"INDEX('Fixture Descriptions'!A:K,MATCH('Inspection Form'!H685,'Fixture Descriptions'!A:A,0),8)","v":{"$error":"#N/A"}},{"$error":"#N/A"},null,{"$error":"#N/A"},1,null,null,null,{"$f":"IFERROR(IF(AND(INDEX(Inventory!CB:CB,MATCH('Inspection Form'!B685,Inventory!B:B,0))=\"Not Qualified\",INDEX(Inventory!L:L,MATCH('Inspection Form'!B685,Inventory!B:B,0))<>\"\",$Q$5<>\"Pre\"),0,BY685*BZ685), 0)","v":0},null,{"$error":"#DIV/0!"},{"$error":"#DIV/0!"},682]
[null,684,null,null,null,null,null,null,null,null,null,null,null,null,null,null,null,null,null,null,null,null,null,null,null,null,null,null,null,null,null,null,null,null,null,null,null,null,null,null,null,null,null,null,null,null,null,null,null,null,null,null,null,null,null,null,null,null,null,null,null,null,null,null,null,null,null,null,null,null,null,null,null,{"$f":"INDEX('Fixture Descriptions'!A:K,MATCH('Inspection Form'!H688,'Fixture Descriptions'!A:A,0),8)","v":{"$error":"#N/A"}},{"$error":"#N/A"},null,{"$error":"#N/A"},1,null,null,null,{"$f":"IFERROR(IF(AND(INDEX(Inventory!CB:CB,MATCH('Inspection Form'!B688,Inventory!B:B,0))=\"Not Qualified\",INDEX(Inventory!L:L,MATCH('Inspection Form'!B688,Inventory!B:B,0))<>\"\",$Q$5<>\"Pre\"),0,BY688*BZ688), 0)","v":0},null,{"$error":"#DIV/0!"},{"$error":"#DIV/0!"},685]
[null,685,null,null,null,null,null,null,null,null,null,null,null,null,null,null,null,null,null,null,null,null,null,null,null,null,null,null,null,null,null,null,null,null,null,null,null,null,null,null,null,null,null,null,null,null,null,null,null,null,null,null,null,null,null,null,null,null,null,null,null,null,null,null,null,null,null,null,null,null,null,null,null,{"$f":"INDEX('Fixture Descriptions'!A:K,MATCH('Inspection Form'!H689,'Fixture Descriptions'!A:A,0),8)","v":{"$error":"#N/A"}},{"$error":"#N/A"},null,{"$error":"#N/A"},1,null,null,null,{"$f":"IFERROR(IF(AND(INDEX(Inventory!CB:CB,MATCH('Inspection Form'!B689,Inventory!B:B,0))=\"Not Qualified\",INDEX(Inventory!L:L,MATCH('Inspection Form'!B689,Inventory!B:B,0))<>\"\",$Q$5<>\"Pre\"),0,BY689*BZ689), 0)","v":0},null,{"$error":"#DIV/0!"},{"$error":"#DIV/0!"},686]
[null,687,null,null,null,null,null,null,null,null,null,null,null,null,null,null,null,null,null,null,null,null,null,null,null,null,null,null,null,null,null,null,null,null,null,null,null,null,null,null,null,null,null,null,null,null,null,null,null,null,null,null,null,null,null,null,null,null,null,null,null,null,null,null,null,null,null,null,null,null,null,null,null,{"$f":"INDEX('Fixture Descriptions'!A:K,MATCH('Inspection Form'!H691,'Fixture Descriptions'!A:A,0),8)","v":{"$error":"#N/A"}},{"$f":"BV691*I691","v":{"$error":"#N/A"}},null,{"$error":"#N/A"},{"$f":"IF($U$3=\"All\", 1, IF(AND(C691=$U$3, H691=$U$4), 1, 0))","v":1},null,null,null,{"$f":"IFERROR(IF(AND(INDEX(Inventory!CB:CB,MATCH('Inspection Form'!B691,Inventory!B:B,0))=\"Not Qualified\",INDEX(Inventory!L:L,MATCH('Inspection Form'!B691,Inventory!B:B,0))<>\"\",$Q$5<>\"Pre\"),0,BY691*BZ691), 0)","v":0},null,{"$f":"CD691/$CE$5","v":{"$error":"#DIV/0!"}},{"$f":"CF691+CG690","v":{"$error":"#DIV/0!"}},688]
[null,688,null,null,null,null,null,null,null,null,null,null,null,null,null,null,null,null,null,null,null,null,null,null,null,null,null,null,null,null,null,null,null,null,null,null,null,null,null,null,null,null,null,null,null,null,null,null,null,null,null,null,null,null,null,null,null,null,null,null,null,null,null,null,null,null,null,null,null,null,null,null,null,{"$f":"INDEX('Fixture Descriptions'!A:K,MATCH('Inspection Form'!H692,'Fixture Descriptions'!A:A,0),8)","v":{"$error":"#N/A"}},{"$error":"#N/A"},null,{"$error":"#N/A"},1,null,null,null,{"$f":"IFERROR(IF(AND(INDEX(Inventory!CB:CB,MATCH('Inspection Form'!B692,Inventory!B:B,0))=\"Not Qualified\",INDEX(Inventory!L:L,MATCH('Inspection Form'!B692,Inventory!B:B,0))<>\"\",$Q$5<>\"Pre\"),0,BY692*BZ692), 0)","v":0},null,{"$error":"#DIV/0!"},{"$error":"#DIV/0!"},689]
[null,691,null,null,null,null,null,null,null,null,null,null,null,null,null,null,null,null,null,null,null,null,null,null,null,null,null,null,null,null,null,null,null,null,null,null,null,null,null,null,null,null,null,null,null,null,null,null,null,null,null,null,null,null,null,null,null,null,null,null,null,null,null,null,null,null,null,null,null,null,null,null,null,{"$f":"INDEX('Fixture Descriptions'!A:K,MATCH('Inspection Form'!H695,'Fixture Descriptions'!A:A,0),8)","v":{"$error":"#N/A"}},{"$error":"#N/A"},null,{"$error":"#N/A"},1,null,null,null,{"$f":"IFERROR(IF(AND(INDEX(Inventory!CB:CB,MATCH('Inspection Form'!B695,Inventory!B:B,0))=\"Not Qualified\",INDEX(Inventory!L:L,MATCH('Inspection Form'!B695,Inventory!B:B,0))<>\"\",$Q$5<>\"Pre\"),0,BY695*BZ695), 0)","v":0},null,{"$error":"#DIV/0!"},{"$error":"#DIV/0!"},692]
[null,692,null,null,null,null,null,null,null,null,null,null,null,null,null,null,null,null,null,null,null,null,null,null,null,null,null,null,null,null,null,null,null,null,null,null,null,null,null,null,null,null,null,null,null,null,null,null,null,null,null,null,null,null,null,null,null,null,null,null,null,null,null,null,null,null,null,null,null,null,null,null,null,{"$f":"INDEX('Fixture Descriptions'!A:K,MATCH('Inspection Form'!H696,'Fixture Descriptions'!A:A,0),8)","v":{"$error":"#N/A"}},{"$error":"#N/A"},null,{"$error":"#N/A"},1,null,null,null,{"$f":"IFERROR(IF(AND(INDEX(Inventory!CB:CB,MATCH('Inspection Form'!B696,Inventory!B:B,0))=\"Not Qualified\",INDEX(Inventory!L:L,MATCH('Inspection Form'!B696,Inventory!B:B,0))<>\"\",$Q$5<>\"Pre\"),0,BY696*BZ696), 0)","v":0},null,{"$error":"#DIV/0!"},{"$error":"#DIV/0!"},693]
[null,694,null,null,null,null,null,null,null,null,null,null,null,null,null,null,null,null,null,null,null,null,null,null,null,null,null,null,null,null,null,null,null,null,null,null,null,null,null,null,null,null,null,null,null,null,null,null,null,null,null,null,null,null,null,null,null,null,null,null,null,null,null,null,null,null,null,null,null,null,null,null,null,{"$f":"INDEX('Fixture Descriptions'!A:K,MATCH('Inspection Form'!H698,'Fixture Descriptions'!A:A,0),8)","v":{"$error":"#N/A"}},{"$error":"#N/A"},null,{"$error":"#N/A"},1,null,null,null,{"$f":"IFERROR(IF(AND(INDEX(Inventory!CB:CB,MATCH('Inspection Form'!B698,Inventory!B:B,0))=\"Not Qualified\",INDEX(Inventory!L:L,MATCH('Inspection Form'!B698,Inventory!B:B,0))<>\"\",$Q$5<>\"Pre\"),0,BY698*BZ698), 0)","v":0},null,{"$error":"#DIV/0!"},{"$error":"#DIV/0!"},695]
[null,695,null,null,null,null,null,null,null,null,null,null,null,null,null,null,null,null,null,null,null,null,null,null,null,null,null,null,null,null,null,null,null,null,null,null,null,null,null,null,null,null,null,null,null,null,null,null,null,null,null,null,null,null,null,null,null,null,null,null,null,null,null,null,null,null,null,null,null,null,null,null,null,{"$f":"INDEX('Fixture Descriptions'!A:K,MATCH('Inspection Form'!H699,'Fixture Descriptions'!A:A,0),8)","v":{"$error":"#N/A"}},{"$error":"#N/A"},null,{"$error":"#N/A"},1,null,null,null,{"$f":"IFERROR(IF(AND(INDEX(Inventory!CB:CB,MATCH('Inspection Form'!B699,Inventory!B:B,0))=\"Not Qualified\",INDEX(Inventory!L:L,MATCH('Inspection Form'!B699,Inventory!B:B,0))<>\"\",$Q$5<>\"Pre\"),0,BY699*BZ699), 0)","v":0},null,{"$error":"#DIV/0!"},{"$error":"#DIV/0!"},696]
[null,698,null,null,null,null,null,null,null,null,null,null,null,null,null,null,null,null,null,null,null,null,null,null,null,null,null,null,null,null,null,null,null,null,null,null,null,null,null,null,null,null,null,null,null,null,null,null,null,null,null,null,null,null,null,null,null,null,null,null,null,null,null,null,null,null,null,null,null,null,null,null,null,{"$f":"INDEX('Fixture Descriptions'!A:K,MATCH('Inspection Form'!H702,'Fixture Descriptions'!A:A,0),8)","v":{"$error":"#N/A"}},{"$error":"#N/A"},null,{"$error":"#N/A"},1,null,null,null,{"$f":"IFERROR(IF(AND(INDEX(Inventory!CB:CB,MATCH('Inspection Form'!B702,Inventory!B:B,0))=\"Not Qualified\",INDEX(Inventory!L:L,MATCH('Inspection Form'!B702,Inventory!B:B,0))<>\"\",$Q$5<>\"Pre\"),0,BY702*BZ702), 0)","v":0},null,{"$error":"#DIV/0!"},{"$error":"#DIV/0!"},699]
[null,699,null,null,null,null,null,null,null,null,null,null,null,null,null,null,null,null,null,null,null,null,null,null,null,null,null,null,null,null,null,null,null,null,null,null,null,null,null,null,null,null,null,null,null,null,null,null,null,null,null,null,null,null,null,null,null,null,null,null,null,null,null,null,null,null,null,null,null,null,null,null,null,{"$f":"INDEX('Fixture Descriptions'!A:K,MATCH('Inspection Form'!H703,'Fixture Descriptions'!A:A,0),8)","v":{"$error":"#N/A"}},{"$error":"#N/A"},null,{"$error":"#N/A"},1,null,null,null,{"$f":"IFERROR(IF(AND(INDEX(Inventory!CB:CB,MATCH('Inspection Form'!B703,Inventory!B:B,0))=\"Not Qualified\",INDEX(Inventory!L:L,MATCH('Inspection Form'!B703,Inventory!B:B,0))<>\"\",$Q$5<>\"Pre\"),0,BY703*BZ703), 0)","v":0},null,{"$error":"#DIV/0!"},{"$error":"#DIV/0!"},700]
[null,701,null,null,null,null,null,null,null,null,null,null,null,null,null,null,null,null,null,null,null,null,null,null,null,null,null,null,null,null,null,null,null,null,null,null,null,null,null,null,null,null,null,null,null,null,null,null,null,null,null,null,null,null,null,null,null,null,null,null,null,null,null,null,null,null,null,null,null,null,null,null,null,{"$f":"INDEX('Fixture Descriptions'!A:K,MATCH('Inspection Form'!H705,'Fixture Descriptions'!A:A,0),8)","v":{"$error":"#N/A"}},{"$error":"#N/A"},null,{"$error":"#N/A"},1,null,null,null,{"$f":"IFERROR(IF(AND(INDEX(Inventory!CB:CB,MATCH('Inspection Form'!B705,Inventory!B:B,0))=\"Not Qualified\",INDEX(Inventory!L:L,MATCH('Inspection Form'!B705,Inventory!B:B,0))<>\"\",$Q$5<>\"Pre\"),0,BY705*BZ705), 0)","v":0},null,{"$error":"#DIV/0!"},{"$error":"#DIV/0!"},702]
[null,702,null,null,null,null,null,null,null,null,null,null,null,null,null,null,null,null,null,null,null,null,null,null,null,null,null,null,null,null,null,null,null,null,null,null,null,null,null,null,null,null,null,null,null,null,null,null,null,null,null,null,null,null,null,null,null,null,null,null,null,null,null,null,null,null,null,null,null,null,null,null,null,{"$f":"INDEX('Fixture Descriptions'!A:K,MATCH('Inspection Form'!H706,'Fixture Descriptions'!A:A,0),8)","v":{"$error":"#N/A"}},{"$error":"#N/A"},null,{"$error":"#N/A"},1,null,null,null,{"$f":"IFERROR(IF(AND(INDEX(Inventory!CB:CB,MATCH('Inspection Form'!B706,Inventory!B:B,0))=\"Not Qualified\",INDEX(Inventory!L:L,MATCH('Inspection Form'!B706,Inventory!B:B,0))<>\"\",$Q$5<>\"Pre\"),0,BY706*BZ706), 0)","v":0},null,{"$error":"#DIV/0!"},{"$error":"#DIV/0!"},703]
[null,705,null,null,null,null,null,null,null,null,null,null,null,null,null,null,null,null,null,null,null,null,null,null,null,null,null,null,null,null,null,null,null,null,null,null,null,null,null,null,null,null,null,null,null,null,null,null,null,null,null,null,null,null,null,null,null,null,null,null,null,null,null,null,null,null,null,null,null,null,null,null,null,{"$f":"INDEX('Fixture Descriptions'!A:K,MATCH('Inspection Form'!H709,'Fixture Descriptions'!A:A,0),8)","v":{"$error":"#N/A"}},{"$error":"#N/A"},null,{"$error":"#N/A"},1,null,null,null,{"$f":"IFERROR(IF(AND(INDEX(Inventory!CB:CB,MATCH('Inspection Form'!B709,Inventory!B:B,0))=\"Not Qualified\",INDEX(Inventory!L:L,MATCH('Inspection Form'!B709,Inventory!B:B,0))<>\"\",$Q$5<>\"Pre\"),0,BY709*BZ709), 0)","v":0},null,{"$error":"#DIV/0!"},{"$error":"#DIV/0!"},706]
[null,706,null,null,null,null,null,null,null,null,null,null,null,null,null,null,null,null,null,null,null,null,null,null,null,null,null,null,null,null,null,null,null,null,null,null,null,null,null,null,null,null,null,null,null,null,null,null,null,null,null,null,null,null,null,null,null,null,null,null,null,null,null,null,null,null,null,null,null,null,null,null,null,{"$f":"INDEX('Fixture Descriptions'!A:K,MATCH('Inspection Form'!H710,'Fixture Descriptions'!A:A,0),8)","v":{"$error":"#N/A"}},{"$error":"#N/A"},null,{"$f":"BW710","v":{"$error":"#N/A"}},1,null,null,null,{"$f":"IFERROR(IF(AND(INDEX(Inventory!CB:CB,MATCH('Inspection Form'!B710,Inventory!B:B,0))=\"Not Qualified\",INDEX(Inventory!L:L,MATCH('Inspection Form'!B710,Inventory!B:B,0))<>\"\",$Q$5<>\"Pre\"),0,BY710*BZ710), 0)","v":0},null,{"$error":"#DIV/0!"},{"$error":"#DIV/0!"},707]
[null,708,null,null,null,null,null,null,null,null,null,null,null,null,null,null,null,null,null,null,null,null,null,null,null,null,null,null,null,null,null,null,null,null,null,null,null,null,null,null,null,null,null,null,null,null,null,null,null,null,null,null,null,null,null,null,null,null,null,null,null,null,null,null,null,null,null,null,null,null,null,null,null,{"$f":"INDEX('Fixture Descriptions'!A:K,MATCH('Inspection Form'!H712,'Fixture Descriptions'!A:A,0),8)","v":{"$error":"#N/A"}},{"$error":"#N/A"},null,{"$error":"#N/A"},1,null,null,null,{"$f":"IFERROR(IF(AND(INDEX(Inventory!CB:CB,MATCH('Inspection Form'!B712,Inventory!B:B,0))=\"Not Qualified\",INDEX(Inventory!L:L,MATCH('Inspection Form'!B712,Inventory!B:B,0))<>\"\",$Q$5<>\"Pre\"),0,BY712*BZ712), 0)","v":0},null,{"$error":"#DIV/0!"},{"$error":"#DIV/0!"},709]
[null,709,null,null,null,null,null,null,null,null,null,null,null,null,null,null,null,null,null,null,null,null,null,null,null,null,null,null,null,null,null,null,null,null,null,null,null,null,null,null,null,null,null,null,null,null,null,null,null,null,null,null,null,null,null,null,null,null,null,null,null,null,null,null,null,null,null,null,null,null,null,null,null,{"$f":"INDEX('Fixture Descriptions'!A:K,MATCH('Inspection Form'!H713,'Fixture Descriptions'!A:A,0),8)","v":{"$error":"#N/A"}},{"$error":"#N/A"},null,{"$error":"#N/A"},1,null,null,null,{"$f":"IFERROR(IF(AND(INDEX(Inventory!CB:CB,MATCH('Inspection Form'!B713,Inventory!B:B,0))=\"Not Qualified\",INDEX(Inventory!L:L,MATCH('Inspection Form'!B713,Inventory!B:B,0))<>\"\",$Q$5<>\"Pre\"),0,BY713*BZ713), 0)","v":0},null,{"$error":"#DIV/0!"},{"$error":"#DIV/0!"},710]
[null,712,null,null,null,null,null,null,null,null,null,null,null,null,null,null,null,null,null,null,null,null,null,null,null,null,null,null,null,null,null,null,null,null,null,null,null,null,null,null,null,null,null,null,null,null,null,null,null,null,null,null,null,null,null,null,null,null,null,null,null,null,null,null,null,null,null,null,null,null,null,null,null,{"$f":"INDEX('Fixture Descriptions'!A:K,MATCH('Inspection Form'!H716,'Fixture Descriptions'!A:A,0),8)","v":{"$error":"#N/A"}},{"$error":"#N/A"},null,{"$error":"#N/A"},1,null,null,null,{"$f":"IFERROR(IF(AND(INDEX(Inventory!CB:CB,MATCH('Inspection Form'!B716,Inventory!B:B,0))=\"Not Qualified\",INDEX(Inventory!L:L,MATCH('Inspection Form'!B716,Inventory!B:B,0))<>\"\",$Q$5<>\"Pre\"),0,BY716*BZ716), 0)","v":0},null,{"$error":"#DIV/0!"},{"$error":"#DIV/0!"},713]
[null,713,null,null,null,null,null,null,null,null,null,null,null,null,null,null,null,null,null,null,null,null,null,null,null,null,null,null,null,null,null,null,null,null,null,null,null,null,null,null,null,null,null,null,null,null,null,null,null,null,null,null,null,null,null,null,null,null,null,null,null,null,null,null,null,null,null,null,null,null,null,null,null,{"$f":"INDEX('Fixture Descriptions'!A:K,MATCH('Inspection Form'!H717,'Fixture Descriptions'!A:A,0),8)","v":{"$error":"#N/A"}},{"$error":"#N/A"},null,{"$error":"#N/A"},1,null,null,null,{"$f":"IFERROR(IF(AND(INDEX(Inventory!CB:CB,MATCH('Inspection Form'!B717,Inventory!B:B,0))=\"Not Qualified\",INDEX(Inventory!L:L,MATCH('Inspection Form'!B717,Inventory!B:B,0))<>\"\",$Q$5<>\"Pre\"),0,BY717*BZ717), 0)","v":0},null,{"$error":"#DIV/0!"},{"$error":"#DIV/0!"},714]
[null,715,null,null,null,null,null,null,null,null,null,null,null,null,null,null,null,null,null,null,null,null,null,null,null,null,null,null,null,null,null,null,null,null,null,null,null,null,null,null,null,null,null,null,null,null,null,null,null,null,null,null,null,null,null,null,null,null,null,null,null,null,null,null,null,null,null,null,null,null,null,null,null,{"$f":"INDEX('Fixture Descriptions'!A:K,MATCH('Inspection Form'!H719,'Fixture Descriptions'!A:A,0),8)","v":{"$error":"#N/A"}},{"$error":"#N/A"},null,{"$error":"#N/A"},1,null,null,null,{"$f":"IFERROR(IF(AND(INDEX(Inventory!CB:CB,MATCH('Inspection Form'!B719,Inventory!B:B,0))=\"Not Qualified\",INDEX(Inventory!L:L,MATCH('Inspection Form'!B719,Inventory!B:B,0))<>\"\",$Q$5<>\"Pre\"),0,BY719*BZ719), 0)","v":0},null,{"$error":"#DIV/0!"},{"$error":"#DIV/0!"},716]
[null,716,null,null,null,null,null,null,null,null,null,null,null,null,null,null,null,null,null,null,null,null,null,null,null,null,null,null,null,null,null,null,null,null,null,null,null,null,null,null,null,null,null,null,null,null,null,null,null,null,null,null,null,null,null,null,null,null,null,null,null,null,null,null,null,null,null,null,null,null,null,null,null,{"$f":"INDEX('Fixture Descriptions'!A:K,MATCH('Inspection Form'!H720,'Fixture Descriptions'!A:A,0),8)","v":{"$error":"#N/A"}},{"$error":"#N/A"},null,{"$error":"#N/A"},1,null,null,null,{"$f":"IFERROR(IF(AND(INDEX(Inventory!CB:CB,MATCH('Inspection Form'!B720,Inventory!B:B,0))=\"Not Qualified\",INDEX(Inventory!L:L,MATCH('Inspection Form'!B720,Inventory!B:B,0))<>\"\",$Q$5<>\"Pre\"),0,BY720*BZ720), 0)","v":0},null,{"$error":"#DIV/0!"},{"$error":"#DIV/0!"},717]
[null,719,null,null,null,null,null,null,null,null,null,null,null,null,null,null,null,null,null,null,null,null,null,null,null,null,null,null,null,null,null,null,null,null,null,null,null,null,null,null,null,null,null,null,null,null,null,null,null,null,null,null,null,null,null,null,null,null,null,null,null,null,null,null,null,null,null,null,null,null,null,null,null,{"$f":"INDEX('Fixture Descriptions'!A:K,MATCH('Inspection Form'!H723,'Fixture Descriptions'!A:A,0),8)","v":{"$error":"#N/A"}},{"$error":"#N/A"},null,{"$error":"#N/A"},1,null,null,null,{"$f":"IFERROR(IF(AND(INDEX(Inventory!CB:CB,MATCH('Inspection Form'!B723,Inventory!B:B,0))=\"Not Qualified\",INDEX(Inventory!L:L,MATCH('Inspection Form'!B723,Inventory!B:B,0))<>\"\",$Q$5<>\"Pre\"),0,BY723*BZ723), 0)","v":0},null,{"$error":"#DIV/0!"},{"$error":"#DIV/0!"},720]
[null,720,null,null,null,null,null,null,null,null,null,null,null,null,null,null,null,null,null,null,null,null,null,null,null,null,null,null,null,null,null,null,null,null,null,null,null,null,null,null,null,null,null,null,null,null,null,null,null,null,null,null,null,null,null,null,null,null,null,null,null,null,null,null,null,null,null,null,null,null,null,null,null,{"$f":"INDEX('Fixture Descriptions'!A:K,MATCH('Inspection Form'!H724,'Fixture Descriptions'!A:A,0),8)","v":{"$error":"#N/A"}},{"$error":"#N/A"},null,{"$error":"#N/A"},1,null,null,null,{"$f":"IFERROR(IF(AND(INDEX(Inventory!CB:CB,MATCH('Inspection Form'!B724,Inventory!B:B,0))=\"Not Qualified\",INDEX(Inventory!L:L,MATCH('Inspection Form'!B724,Inventory!B:B,0))<>\"\",$Q$5<>\"Pre\"),0,BY724*BZ724), 0)","v":0},null,{"$error":"#DIV/0!"},{"$error":"#DIV/0!"},721]
[null,722,null,null,null,null,null,null,null,null,null,null,null,null,null,null,null,null,null,null,null,null,null,null,null,null,null,null,null,null,null,null,null,null,null,null,null,null,null,null,null,null,null,null,null,null,null,null,null,null,null,null,null,null,null,null,null,null,null,null,null,null,null,null,null,null,null,null,null,null,null,null,null,{"$f":"INDEX('Fixture Descriptions'!A:K,MATCH('Inspection Form'!H726,'Fixture Descriptions'!A:A,0),8)","v":{"$error":"#N/A"}},{"$error":"#N/A"},null,{"$error":"#N/A"},1,null,null,null,{"$f":"IFERROR(IF(AND(INDEX(Inventory!CB:CB,MATCH('Inspection Form'!B726,Inventory!B:B,0))=\"Not Qualified\",INDEX(Inventory!L:L,MATCH('Inspection Form'!B726,Inventory!B:B,0))<>\"\",$Q$5<>\"Pre\"),0,BY726*BZ726), 0)","v":0},null,{"$error":"#DIV/0!"},{"$error":"#DIV/0!"},723]
[null,723,null,null,null,null,null,null,null,null,null,null,null,null,null,null,null,null,null,null,null,null,null,null,null,null,null,null,null,null,null,null,null,null,null,null,null,null,null,null,null,null,null,null,null,null,null,null,null,null,null,null,null,null,null,null,null,null,null,null,null,null,null,null,null,null,null,null,null,null,null,null,null,{"$f":"INDEX('Fixture Descriptions'!A:K,MATCH('Inspection Form'!H727,'Fixture Descriptions'!A:A,0),8)","v":{"$error":"#N/A"}},{"$error":"#N/A"},null,{"$error":"#N/A"},1,null,null,null,{"$f":"IFERROR(IF(AND(INDEX(Inventory!CB:CB,MATCH('Inspection Form'!B727,Inventory!B:B,0))=\"Not Qualified\",INDEX(Inventory!L:L,MATCH('Inspection Form'!B727,Inventory!B:B,0))<>\"\",$Q$5<>\"Pre\"),0,BY727*BZ727), 0)","v":0},null,{"$error":"#DIV/0!"},{"$error":"#DIV/0!"},724]
[null,726,null,null,null,null,null,null,null,null,null,null,null,null,null,null,null,null,null,null,null,null,null,null,null,null,null,null,null,null,null,null,null,null,null,null,null,null,null,null,null,null,null,null,null,null,null,null,null,null,null,null,null,null,null,null,null,null,null,null,null,null,null,null,null,null,null,null,null,null,null,null,null,{"$f":"INDEX('Fixture Descriptions'!A:K,MATCH('Inspection Form'!H730,'Fixture Descriptions'!A:A,0),8)","v":{"$error":"#N/A"}},{"$error":"#N/A"},null,{"$error":"#N/A"},1,null,null,null,{"$f":"IFERROR(IF(AND(INDEX(Inventory!CB:CB,MATCH('Inspection Form'!B730,Inventory!B:B,0))=\"Not Qualified\",INDEX(Inventory!L:L,MATCH('Inspection Form'!B730,Inventory!B:B,0))<>\"\",$Q$5<>\"Pre\"),0,BY730*BZ730), 0)","v":0},null,{"$error":"#DIV/0!"},{"$error":"#DIV/0!"},727]
[null,727,null,null,null,null,null,null,null,null,null,null,null,null,null,null,null,null,null,null,null,null,null,null,null,null,null,null,null,null,null,null,null,null,null,null,null,null,null,null,null,null,null,null,null,null,null,null,null,null,null,null,null,null,null,null,null,null,null,null,null,null,null,null,null,null,null,null,null,null,null,null,null,{"$f":"INDEX('Fixture Descriptions'!A:K,MATCH('Inspection Form'!H731,'Fixture Descriptions'!A:A,0),8)","v":{"$error":"#N/A"}},{"$error":"#N/A"},null,{"$error":"#N/A"},1,null,null,null,{"$f":"IFERROR(IF(AND(INDEX(Inventory!CB:CB,MATCH('Inspection Form'!B731,Inventory!B:B,0))=\"Not Qualified\",INDEX(Inventory!L:L,MATCH('Inspection Form'!B731,Inventory!B:B,0))<>\"\",$Q$5<>\"Pre\"),0,BY731*BZ731), 0)","v":0},null,{"$error":"#DIV/0!"},{"$error":"#DIV/0!"},728]
[null,729,null,null,null,null,null,null,null,null,null,null,null,null,null,null,null,null,null,null,null,null,null,null,null,null,null,null,null,null,null,null,null,null,null,null,null,null,null,null,null,null,null,null,null,null,null,null,null,null,null,null,null,null,null,null,null,null,null,null,null,null,null,null,null,null,null,null,null,null,null,null,null,{"$f":"INDEX('Fixture Descriptions'!A:K,MATCH('Inspection Form'!H733,'Fixture Descriptions'!A:A,0),8)","v":{"$error":"#N/A"}},{"$error":"#N/A"},null,{"$error":"#N/A"},1,null,null,null,{"$f":"IFERROR(IF(AND(INDEX(Inventory!CB:CB,MATCH('Inspection Form'!B733,Inventory!B:B,0))=\"Not Qualified\",INDEX(Inventory!L:L,MATCH('Inspection Form'!B733,Inventory!B:B,0))<>\"\",$Q$5<>\"Pre\"),0,BY733*BZ733), 0)","v":0},null,{"$error":"#DIV/0!"},{"$error":"#DIV/0!"},730]
[null,730,null,null,null,null,null,null,null,null,null,null,null,null,null,null,null,null,null,null,null,null,null,null,null,null,null,null,null,null,null,null,null,null,null,null,null,null,null,null,null,null,null,null,null,null,null,null,null,null,null,null,null,null,null,null,null,null,null,null,null,null,null,null,null,null,null,null,null,null,null,null,null,{"$f":"INDEX('Fixture Descriptions'!A:K,MATCH('Inspection Form'!H734,'Fixture Descriptions'!A:A,0),8)","v":{"$error":"#N/A"}},{"$error":"#N/A"},null,{"$error":"#N/A"},1,null,null,null,{"$f":"IFERROR(IF(AND(INDEX(Inventory!CB:CB,MATCH('Inspection Form'!B734,Inventory!B:B,0))=\"Not Qualified\",INDEX(Inventory!L:L,MATCH('Inspection Form'!B734,Inventory!B:B,0))<>\"\",$Q$5<>\"Pre\"),0,BY734*BZ734), 0)","v":0},null,{"$error":"#DIV/0!"},{"$error":"#DIV/0!"},731]
[null,733,null,null,null,null,null,null,null,null,null,null,null,null,null,null,null,null,null,null,null,null,null,null,null,null,null,null,null,null,null,null,null,null,null,null,null,null,null,null,null,null,null,null,null,null,null,null,null,null,null,null,null,null,null,null,null,null,null,null,null,null,null,null,null,null,null,null,null,null,null,null,null,{"$f":"INDEX('Fixture Descriptions'!A:K,MATCH('Inspection Form'!H737,'Fixture Descriptions'!A:A,0),8)","v":{"$error":"#N/A"}},{"$error":"#N/A"},null,{"$error":"#N/A"},1,null,null,null,{"$f":"IFERROR(IF(AND(INDEX(Inventory!CB:CB,MATCH('Inspection Form'!B737,Inventory!B:B,0))=\"Not Qualified\",INDEX(Inventory!L:L,MATCH('Inspection Form'!B737,Inventory!B:B,0))<>\"\",$Q$5<>\"Pre\"),0,BY737*BZ737), 0)","v":0},null,{"$error":"#DIV/0!"},{"$error":"#DIV/0!"},734]
[null,734,null,null,null,null,null,null,null,null,null,null,null,null,null,null,null,null,null,null,null,null,null,null,null,null,null,null,null,null,null,null,null,null,null,null,null,null,null,null,null,null,null,null,null,null,null,null,null,null,null,null,null,null,null,null,null,null,null,null,null,null,null,null,null,null,null,null,null,null,null,null,null,{"$f":"INDEX('Fixture Descriptions'!A:K,MATCH('Inspection Form'!H738,'Fixture Descriptions'!A:A,0),8)","v":{"$error":"#N/A"}},{"$error":"#N/A"},null,{"$error":"#N/A"},1,null,null,null,{"$f":"IFERROR(IF(AND(INDEX(Inventory!CB:CB,MATCH('Inspection Form'!B738,Inventory!B:B,0))=\"Not Qualified\",INDEX(Inventory!L:L,MATCH('Inspection Form'!B738,Inventory!B:B,0))<>\"\",$Q$5<>\"Pre\"),0,BY738*BZ738), 0)","v":0},null,{"$error":"#DIV/0!"},{"$error":"#DIV/0!"},735]
[null,736,null,null,null,null,null,null,null,null,null,null,null,null,null,null,null,null,null,null,null,null,null,null,null,null,null,null,null,null,null,null,null,null,null,null,null,null,null,null,null,null,null,null,null,null,null,null,null,null,null,null,null,null,null,null,null,null,null,null,null,null,null,null,null,null,null,null,null,null,null,null,null,{"$f":"INDEX('Fixture Descriptions'!A:K,MATCH('Inspection Form'!H740,'Fixture Descriptions'!A:A,0),8)","v":{"$error":"#N/A"}},{"$error":"#N/A"},null,{"$error":"#N/A"},1,null,null,null,{"$f":"IFERROR(IF(AND(INDEX(Inventory!CB:CB,MATCH('Inspection Form'!B740,Inventory!B:B,0))=\"Not Qualified\",INDEX(Inventory!L:L,MATCH('Inspection Form'!B740,Inventory!B:B,0))<>\"\",$Q$5<>\"Pre\"),0,BY740*BZ740), 0)","v":0},null,{"$error":"#DIV/0!"},{"$error":"#DIV/0!"},737]
[null,737,null,null,null,null,null,null,null,null,null,null,null,null,null,null,null,null,null,null,null,null,null,null,null,null,null,null,null,null,null,null,null,null,null,null,null,null,null,null,null,null,null,null,null,null,null,null,null,null,null,null,null,null,null,null,null,null,null,null,null,null,null,null,null,null,null,null,null,null,null,null,null,{"$f":"INDEX('Fixture Descriptions'!A:K,MATCH('Inspection Form'!H741,'Fixture Descriptions'!A:A,0),8)","v":{"$error":"#N/A"}},{"$error":"#N/A"},null,{"$error":"#N/A"},1,null,null,null,{"$f":"IFERROR(IF(AND(INDEX(Inventory!CB:CB,MATCH('Inspection Form'!B741,Inventory!B:B,0))=\"Not Qualified\",INDEX(Inventory!L:L,MATCH('Inspection Form'!B741,Inventory!B:B,0))<>\"\",$Q$5<>\"Pre\"),0,BY741*BZ741), 0)","v":0},null,{"$error":"#DIV/0!"},{"$error":"#DIV/0!"},738]
[null,740,null,null,null,null,null,null,null,null,null,null,null,null,null,null,null,null,null,null,null,null,null,null,null,null,null,null,null,null,null,null,null,null,null,null,null,null,null,null,null,null,null,null,null,null,null,null,null,null,null,null,null,null,null,null,null,null,null,null,null,null,null,null,null,null,null,null,null,null,null,null,null,{"$f":"INDEX('Fixture Descriptions'!A:K,MATCH('Inspection Form'!H744,'Fixture Descriptions'!A:A,0),8)","v":{"$error":"#N/A"}},{"$error":"#N/A"},null,{"$error":"#N/A"},1,null,null,null,{"$f":"IFERROR(IF(AND(INDEX(Inventory!CB:CB,MATCH('Inspection Form'!B744,Inventory!B:B,0))=\"Not Qualified\",INDEX(Inventory!L:L,MATCH('Inspection Form'!B744,Inventory!B:B,0))<>\"\",$Q$5<>\"Pre\"),0,BY744*BZ744), 0)","v":0},null,{"$error":"#DIV/0!"},{"$error":"#DIV/0!"},741]
[null,741,null,null,null,null,null,null,null,null,null,null,null,null,null,null,null,null,null,null,null,null,null,null,null,null,null,null,null,null,null,null,null,null,null,null,null,null,null,null,null,null,null,null,null,null,null,null,null,null,null,null,null,null,null,null,null,null,null,null,null,null,null,null,null,null,null,null,null,null,null,null,null,{"$f":"INDEX('Fixture Descriptions'!A:K,MATCH('Inspection Form'!H745,'Fixture Descriptions'!A:A,0),8)","v":{"$error":"#N/A"}},{"$error":"#N/A"},null,{"$error":"#N/A"},1,null,null,null,{"$f":"IFERROR(IF(AND(INDEX(Inventory!CB:CB,MATCH('Inspection Form'!B745,Inventory!B:B,0))=\"Not Qualified\",INDEX(Inventory!L:L,MATCH('Inspection Form'!B745,Inventory!B:B,0))<>\"\",$Q$5<>\"Pre\"),0,BY745*BZ745), 0)","v":0},null,{"$error":"#DIV/0!"},{"$error":"#DIV/0!"},742]
[null,743,null,null,null,null,null,null,null,null,null,null,null,null,null,null,null,null,null,null,null,null,null,null,null,null,null,null,null,null,null,null,null,null,null,null,null,null,null,null,null,null,null,null,null,null,null,null,null,null,null,null,null,null,null,null,null,null,null,null,null,null,null,null,null,null,null,null,null,null,null,null,null,{"$f":"INDEX('Fixture Descriptions'!A:K,MATCH('Inspection Form'!H747,'Fixture Descriptions'!A:A,0),8)","v":{"$error":"#N/A"}},{"$error":"#N/A"},null,{"$error":"#N/A"},1,null,null,null,{"$f":"IFERROR(IF(AND(INDEX(Inventory!CB:CB,MATCH('Inspection Form'!B747,Inventory!B:B,0))=\"Not Qualified\",INDEX(Inventory!L:L,MATCH('Inspection Form'!B747,Inventory!B:B,0))<>\"\",$Q$5<>\"Pre\"),0,BY747*BZ747), 0)","v":0},null,{"$error":"#DIV/0!"},{"$error":"#DIV/0!"},744]
[null,744,null,null,null,null,null,null,null,null,null,null,null,null,null,null,null,null,null,null,null,null,null,null,null,null,null,null,null,null,null,null,null,null,null,null,null,null,null,null,null,null,null,null,null,null,null,null,null,null,null,null,null,null,null,null,null,null,null,null,null,null,null,null,null,null,null,null,null,null,null,null,null,{"$f":"INDEX('Fixture Descriptions'!A:K,MATCH('Inspection Form'!H748,'Fixture Descriptions'!A:A,0),8)","v":{"$error":"#N/A"}},{"$error":"#N/A"},null,{"$error":"#N/A"},1,null,null,null,{"$f":"IFERROR(IF(AND(INDEX(Inventory!CB:CB,MATCH('Inspection Form'!B748,Inventory!B:B,0))=\"Not Qualified\",INDEX(Inventory!L:L,MATCH('Inspection Form'!B748,Inventory!B:B,0))<>\"\",$Q$5<>\"Pre\"),0,BY748*BZ748), 0)","v":0},null,{"$error":"#DIV/0!"},{"$error":"#DIV/0!"},745]
[null,747,null,null,null,null,null,null,null,null,null,null,null,null,null,null,null,null,null,null,null,null,null,null,null,null,null,null,null,null,null,null,null,null,null,null,null,null,null,null,null,null,null,null,null,null,null,null,null,null,null,null,null,null,null,null,null,null,null,null,null,null,null,null,null,null,null,null,null,null,null,null,null,{"$f":"INDEX('Fixture Descriptions'!A:K,MATCH('Inspection Form'!H751,'Fixture Descriptions'!A:A,0),8)","v":{"$error":"#N/A"}},{"$error":"#N/A"},null,{"$error":"#N/A"},1,null,null,null,{"$f":"IFERROR(IF(AND(INDEX(Inventory!CB:CB,MATCH('Inspection Form'!B751,Inventory!B:B,0))=\"Not Qualified\",INDEX(Inventory!L:L,MATCH('Inspection Form'!B751,Inventory!B:B,0))<>\"\",$Q$5<>\"Pre\"),0,BY751*BZ751), 0)","v":0},null,{"$error":"#DIV/0!"},{"$error":"#DIV/0!"},748]
[null,748,null,null,null,null,null,null,null,null,null,null,null,null,null,null,null,null,null,null,null,null,null,null,null,null,null,null,null,null,null,null,null,null,null,null,null,null,null,null,null,null,null,null,null,null,null,null,null,null,null,null,null,null,null,null,null,null,null,null,null,null,null,null,null,null,null,null,null,null,null,null,null,{"$f":"INDEX('Fixture Descriptions'!A:K,MATCH('Inspection Form'!H752,'Fixture Descriptions'!A:A,0),8)","v":{"$error":"#N/A"}},{"$error":"#N/A"},null,{"$error":"#N/A"},1,null,null,null,{"$f":"IFERROR(IF(AND(INDEX(Inventory!CB:CB,MATCH('Inspection Form'!B752,Inventory!B:B,0))=\"Not Qualified\",INDEX(Inventory!L:L,MATCH('Inspection Form'!B752,Inventory!B:B,0))<>\"\",$Q$5<>\"Pre\"),0,BY752*BZ752), 0)","v":0},null,{"$error":"#DIV/0!"},{"$error":"#DIV/0!"},749]
[null,750,null,null,null,null,null,null,null,null,null,null,null,null,null,null,null,null,null,null,null,null,null,null,null,null,null,null,null,null,null,null,null,null,null,null,null,null,null,null,null,null,null,null,null,null,null,null,null,null,null,null,null,null,null,null,null,null,null,null,null,null,null,null,null,null,null,null,null,null,null,null,null,{"$f":"INDEX('Fixture Descriptions'!A:K,MATCH('Inspection Form'!H754,'Fixture Descriptions'!A:A,0),8)","v":{"$error":"#N/A"}},{"$error":"#N/A"},null,{"$error":"#N/A"},1,null,null,null,{"$f":"IFERROR(IF(AND(INDEX(Inventory!CB:CB,MATCH('Inspection Form'!B754,Inventory!B:B,0))=\"Not Qualified\",INDEX(Inventory!L:L,MATCH('Inspection Form'!B754,Inventory!B:B,0))<>\"\",$Q$5<>\"Pre\"),0,BY754*BZ754), 0)","v":0},null,{"$error":"#DIV/0!"},{"$error":"#DIV/0!"},751]
[null,751,null,null,null,null,null,null,null,null,null,null,null,null,null,null,null,null,null,null,null,null,null,null,null,null,null,null,null,null,null,null,null,null,null,null,null,null,null,null,null,null,null,null,null,null,null,null,null,null,null,null,null,null,null,null,null,null,null,null,null,null,null,null,null,null,null,null,null,null,null,null,null,{"$f":"INDEX('Fixture Descriptions'!A:K,MATCH('Inspection Form'!H755,'Fixture Descriptions'!A:A,0),8)","v":{"$error":"#N/A"}},{"$f":"BV755*I755","v":{"$error":"#N/A"}},null,{"$error":"#N/A"},{"$f":"IF($U$3=\"All\", 1, IF(AND(C755=$U$3, H755=$U$4), 1, 0))","v":1},null,null,null,{"$f":"IFERROR(IF(AND(INDEX(Inventory!CB:CB,MATCH('Inspection Form'!B755,Inventory!B:B,0))=\"Not Qualified\",INDEX(Inventory!L:L,MATCH('Inspection Form'!B755,Inventory!B:B,0))<>\"\",$Q$5<>\"Pre\"),0,BY755*BZ755), 0)","v":0},null,{"$f":"CD755/$CE$5","v":{"$error":"#DIV/0!"}},{"$f":"CF755+CG754","v":{"$error":"#DIV/0!"}},752]
[null,754,null,null,null,null,null,null,null,null,null,null,null,null,null,null,null,null,null,null,null,null,null,null,null,null,null,null,null,null,null,null,null,null,null,null,null,null,null,null,null,null,null,null,null,null,null,null,null,null,null,null,null,null,null,null,null,null,null,null,null,null,null,null,null,null,null,null,null,null,null,null,null,{"$f":"INDEX('Fixture Descriptions'!A:K,MATCH('Inspection Form'!H758,'Fixture Descriptions'!A:A,0),8)","v":{"$error":"#N/A"}},{"$error":"#N/A"},null,{"$error":"#N/A"},1,null,null,null,{"$f":"IFERROR(IF(AND(INDEX(Inventory!CB:CB,MATCH('Inspection Form'!B758,Inventory!B:B,0))=\"Not Qualified\",INDEX(Inventory!L:L,MATCH('Inspection Form'!B758,Inventory!B:B,0))<>\"\",$Q$5<>\"Pre\"),0,BY758*BZ758), 0)","v":0},null,{"$error":"#DIV/0!"},{"$error":"#DIV/0!"},755]
[null,755,null,null,null,null,null,null,null,null,null,null,null,null,null,null,null,null,null,null,null,null,null,null,null,null,null,null,null,null,null,null,null,null,null,null,null,null,null,null,null,null,null,null,null,null,null,null,null,null,null,null,null,null,null,null,null,null,null,null,null,null,null,null,null,null,null,null,null,null,null,null,null,{"$f":"INDEX('Fixture Descriptions'!A:K,MATCH('Inspection Form'!H759,'Fixture Descriptions'!A:A,0),8)","v":{"$error":"#N/A"}},{"$error":"#N/A"},null,{"$error":"#N/A"},1,null,null,null,{"$f":"IFERROR(IF(AND(INDEX(Inventory!CB:CB,MATCH('Inspection Form'!B759,Inventory!B:B,0))=\"Not Qualified\",INDEX(Inventory!L:L,MATCH('Inspection Form'!B759,Inventory!B:B,0))<>\"\",$Q$5<>\"Pre\"),0,BY759*BZ759), 0)","v":0},null,{"$error":"#DIV/0!"},{"$error":"#DIV/0!"},756]
[null,757,null,null,null,null,null,null,null,null,null,null,null,null,null,null,null,null,null,null,null,null,null,null,null,null,null,null,null,null,null,null,null,null,null,null,null,null,null,null,null,null,null,null,null,null,null,null,null,null,null,null,null,null,null,null,null,null,null,null,null,null,null,null,null,null,null,null,null,null,null,null,null,{"$f":"INDEX('Fixture Descriptions'!A:K,MATCH('Inspection Form'!H761,'Fixture Descriptions'!A:A,0),8)","v":{"$error":"#N/A"}},{"$error":"#N/A"},null,{"$error":"#N/A"},1,null,null,null,{"$f":"IFERROR(IF(AND(INDEX(Inventory!CB:CB,MATCH('Inspection Form'!B761,Inventory!B:B,0))=\"Not Qualified\",INDEX(Inventory!L:L,MATCH('Inspection Form'!B761,Inventory!B:B,0))<>\"\",$Q$5<>\"Pre\"),0,BY761*BZ761), 0)","v":0},null,{"$error":"#DIV/0!"},{"$error":"#DIV/0!"},758]
[null,758,null,null,null,null,null,null,null,null,null,null,null,null,null,null,null,null,null,null,null,null,null,null,null,null,null,null,null,null,null,null,null,null,null,null,null,null,null,null,null,null,null,null,null,null,null,null,null,null,null,null,null,null,null,null,null,null,null,null,null,null,null,null,null,null,null,null,null,null,null,null,null,{"$f":"INDEX('Fixture Descriptions'!A:K,MATCH('Inspection Form'!H762,'Fixture Descriptions'!A:A,0),8)","v":{"$error":"#N/A"}},{"$error":"#N/A"},null,{"$error":"#N/A"},1,null,null,null,{"$f":"IFERROR(IF(AND(INDEX(Inventory!CB:CB,MATCH('Inspection Form'!B762,Inventory!B:B,0))=\"Not Qualified\",INDEX(Inventory!L:L,MATCH('Inspection Form'!B762,Inventory!B:B,0))<>\"\",$Q$5<>\"Pre\"),0,BY762*BZ762), 0)","v":0},null,{"$error":"#DIV/0!"},{"$error":"#DIV/0!"},759]
[null,761,null,null,null,null,null,null,null,null,null,null,null,null,null,null,null,null,null,null,null,null,null,null,null,null,null,null,null,null,null,null,null,null,null,null,null,null,null,null,null,null,null,null,null,null,null,null,null,null,null,null,null,null,null,null,null,null,null,null,null,null,null,null,null,null,null,null,null,null,null,null,null,{"$f":"INDEX('Fixture Descriptions'!A:K,MATCH('Inspection Form'!H765,'Fixture Descriptions'!A:A,0),8)","v":{"$error":"#N/A"}},{"$error":"#N/A"},null,{"$error":"#N/A"},1,null,null,null,{"$f":"IFERROR(IF(AND(INDEX(Inventory!CB:CB,MATCH('Inspection Form'!B765,Inventory!B:B,0))=\"Not Qualified\",INDEX(Inventory!L:L,MATCH('Inspection Form'!B765,Inventory!B:B,0))<>\"\",$Q$5<>\"Pre\"),0,BY765*BZ765), 0)","v":0},null,{"$error":"#DIV/0!"},{"$error":"#DIV/0!"},762]
[null,762,null,null,null,null,null,null,null,null,null,null,null,null,null,null,null,null,null,null,null,null,null,null,null,null,null,null,null,null,null,null,null,null,null,null,null,null,null,null,null,null,null,null,null,null,null,null,null,null,null,null,null,null,null,null,null,null,null,null,null,null,null,null,null,null,null,null,null,null,null,null,null,{"$f":"INDEX('Fixture Descriptions'!A:K,MATCH('Inspection Form'!H766,'Fixture Descriptions'!A:A,0),8)","v":{"$error":"#N/A"}},{"$error":"#N/A"},null,{"$error":"#N/A"},1,null,null,null,{"$f":"IFERROR(IF(AND(INDEX(Inventory!CB:CB,MATCH('Inspection Form'!B766,Inventory!B:B,0))=\"Not Qualified\",INDEX(Inventory!L:L,MATCH('Inspection Form'!B766,Inventory!B:B,0))<>\"\",$Q$5<>\"Pre\"),0,BY766*BZ766), 0)","v":0},null,{"$error":"#DIV/0!"},{"$error":"#DIV/0!"},763]
[null,764,null,null,null,null,null,null,null,null,null,null,null,null,null,null,null,null,null,null,null,null,null,null,null,null,null,null,null,null,null,null,null,null,null,null,null,null,null,null,null,null,null,null,null,null,null,null,null,null,null,null,null,null,null,null,null,null,null,null,null,null,null,null,null,null,null,null,null,null,null,null,null,{"$f":"INDEX('Fixture Descriptions'!A:K,MATCH('Inspection Form'!H768,'Fixture Descriptions'!A:A,0),8)","v":{"$error":"#N/A"}},{"$error":"#N/A"},null,{"$error":"#N/A"},1,null,null,null,{"$f":"IFERROR(IF(AND(INDEX(Inventory!CB:CB,MATCH('Inspection Form'!B768,Inventory!B:B,0))=\"Not Qualified\",INDEX(Inventory!L:L,MATCH('Inspection Form'!B768,Inventory!B:B,0))<>\"\",$Q$5<>\"Pre\"),0,BY768*BZ768), 0)","v":0},null,{"$error":"#DIV/0!"},{"$error":"#DIV/0!"},765]
[null,765,null,null,null,null,null,null,null,null,null,null,null,null,null,null,null,null,null,null,null,null,null,null,null,null,null,null,null,null,null,null,null,null,null,null,null,null,null,null,null,null,null,null,null,null,null,null,null,null,null,null,null,null,null,null,null,null,null,null,null,null,null,null,null,null,null,null,null,null,null,null,null,{"$f":"INDEX('Fixture Descriptions'!A:K,MATCH('Inspection Form'!H769,'Fixture Descriptions'!A:A,0),8)","v":{"$error":"#N/A"}},{"$error":"#N/A"},null,{"$error":"#N/A"},1,null,null,null,{"$f":"IFERROR(IF(AND(INDEX(Inventory!CB:CB,MATCH('Inspection Form'!B769,Inventory!B:B,0))=\"Not Qualified\",INDEX(Inventory!L:L,MATCH('Inspection Form'!B769,Inventory!B:B,0))<>\"\",$Q$5<>\"Pre\"),0,BY769*BZ769), 0)","v":0},null,{"$error":"#DIV/0!"},{"$error":"#DIV/0!"},766]
[null,768,null,null,null,null,null,null,null,null,null,null,null,null,null,null,null,null,null,null,null,null,null,null,null,null,null,null,null,null,null,null,null,null,null,null,null,null,null,null,null,null,null,null,null,null,null,null,null,null,null,null,null,null,null,null,null,null,null,null,null,null,null,null,null,null,null,null,null,null,null,null,null,{"$f":"INDEX('Fixture Descriptions'!A:K,MATCH('Inspection Form'!H772,'Fixture Descriptions'!A:A,0),8)","v":{"$error":"#N/A"}},{"$error":"#N/A"},null,{"$error":"#N/A"},1,null,null,null,{"$f":"IFERROR(IF(AND(INDEX(Inventory!CB:CB,MATCH('Inspection Form'!B772,Inventory!B:B,0))=\"Not Qualified\",INDEX(Inventory!L:L,MATCH('Inspection Form'!B772,Inventory!B:B,0))<>\"\",$Q$5<>\"Pre\"),0,BY772*BZ772), 0)","v":0},null,{"$error":"#DIV/0!"},{"$error":"#DIV/0!"},769]
[null,769,null,null,null,null,null,null,null,null,null,null,null,null,null,null,null,null,null,null,null,null,null,null,null,null,null,null,null,null,null,null,null,null,null,null,null,null,null,null,null,null,null,null,null,null,null,null,null,null,null,null,null,null,null,null,null,null,null,null,null,null,null,null,null,null,null,null,null,null,null,null,null,{"$f":"INDEX('Fixture Descriptions'!A:K,MATCH('Inspection Form'!H773,'Fixture Descriptions'!A:A,0),8)","v":{"$error":"#N/A"}},{"$error":"#N/A"},null,{"$error":"#N/A"},1,null,null,null,{"$f":"IFERROR(IF(AND(INDEX(Inventory!CB:CB,MATCH('Inspection Form'!B773,Inventory!B:B,0))=\"Not Qualified\",INDEX(Inventory!L:L,MATCH('Inspection Form'!B773,Inventory!B:B,0))<>\"\",$Q$5<>\"Pre\"),0,BY773*BZ773), 0)","v":0},null,{"$error":"#DIV/0!"},{"$error":"#DIV/0!"},770]
[null,772,null,null,null,null,null,null,null,null,null,null,null,null,null,null,null,null,null,null,null,null,null,null,null,null,null,null,null,null,null,null,null,null,null,null,null,null,null,null,null,null,null,null,null,null,null,null,null,null,null,null,null,null,null,null,null,null,null,null,null,null,null,null,null,null,null,null,null,null,null,null,null,{"$f":"INDEX('Fixture Descriptions'!A:K,MATCH('Inspection Form'!H776,'Fixture Descriptions'!A:A,0),8)","v":{"$error":"#N/A"}},{"$error":"#N/A"},null,{"$error":"#N/A"},1,null,null,null,{"$f":"IFERROR(IF(AND(INDEX(Inventory!CB:CB,MATCH('Inspection Form'!B776,Inventory!B:B,0))=\"Not Qualified\",INDEX(Inventory!L:L,MATCH('Inspection Form'!B776,Inventory!B:B,0))<>\"\",$Q$5<>\"Pre\"),0,BY776*BZ776), 0)","v":0},null,{"$error":"#DIV/0!"},{"$error":"#DIV/0!"},773]
[null,773,null,null,null,null,null,null,null,null,null,null,null,null,null,null,null,null,null,null,null,null,null,null,null,null,null,null,null,null,null,null,null,null,null,null,null,null,null,null,null,null,null,null,null,null,null,null,null,null,null,null,null,null,null,null,null,null,null,null,null,null,null,null,null,null,null,null,null,null,null,null,null,{"$f":"INDEX('Fixture Descriptions'!A:K,MATCH('Inspection Form'!H777,'Fixture Descriptions'!A:A,0),8)","v":{"$error":"#N/A"}},{"$error":"#N/A"},null,{"$error":"#N/A"},1,null,null,null,{"$f":"IFERROR(IF(AND(INDEX(Inventory!CB:CB,MATCH('Inspection Form'!B777,Inventory!B:B,0))=\"Not Qualified\",INDEX(Inventory!L:L,MATCH('Inspection Form'!B777,Inventory!B:B,0))<>\"\",$Q$5<>\"Pre\"),0,BY777*BZ777), 0)","v":0},null,{"$error":"#DIV/0!"},{"$error":"#DIV/0!"},774]
[null,775,null,null,null,null,null,null,null,null,null,null,null,null,null,null,null,null,null,null,null,null,null,null,null,null,null,null,null,null,null,null,null,null,null,null,null,null,null,null,null,null,null,null,null,null,null,null,null,null,null,null,null,null,null,null,null,null,null,null,null,null,null,null,null,null,null,null,null,null,null,null,null,{"$f":"INDEX('Fixture Descriptions'!A:K,MATCH('Inspection Form'!H779,'Fixture Descriptions'!A:A,0),8)","v":{"$error":"#N/A"}},{"$error":"#N/A"},null,{"$error":"#N/A"},1,null,null,null,{"$f":"IFERROR(IF(AND(INDEX(Inventory!CB:CB,MATCH('Inspection Form'!B779,Inventory!B:B,0))=\"Not Qualified\",INDEX(Inventory!L:L,MATCH('Inspection Form'!B779,Inventory!B:B,0))<>\"\",$Q$5<>\"Pre\"),0,BY779*BZ779), 0)","v":0},null,{"$error":"#DIV/0!"},{"$error":"#DIV/0!"},776]
[null,776,null,null,null,null,null,null,null,null,null,null,null,null,null,null,null,null,null,null,null,null,null,null,null,null,null,null,null,null,null,null,null,null,null,null,null,null,null,null,null,null,null,null,null,null,null,null,null,null,null,null,null,null,null,null,null,null,null,null,null,null,null,null,null,null,null,null,null,null,null,null,null,{"$f":"INDEX('Fixture Descriptions'!A:K,MATCH('Inspection Form'!H780,'Fixture Descriptions'!A:A,0),8)","v":{"$error":"#N/A"}},{"$error":"#N/A"},null,{"$error":"#N/A"},1,null,null,null,{"$f":"IFERROR(IF(AND(INDEX(Inventory!CB:CB,MATCH('Inspection Form'!B780,Inventory!B:B,0))=\"Not Qualified\",INDEX(Inventory!L:L,MATCH('Inspection Form'!B780,Inventory!B:B,0))<>\"\",$Q$5<>\"Pre\"),0,BY780*BZ780), 0)","v":0},null,{"$error":"#DIV/0!"},{"$error":"#DIV/0!"},777]
[null,779,null,null,null,null,null,null,null,null,null,null,null,null,null,null,null,null,null,null,null,null,null,null,null,null,null,null,null,null,null,null,null,null,null,null,null,null,null,null,null,null,null,null,null,null,null,null,null,null,null,null,null,null,null,null,null,null,null,null,null,null,null,null,null,null,null,null,null,null,null,null,null,{"$f":"INDEX('Fixture Descriptions'!A:K,MATCH('Inspection Form'!H783,'Fixture Descriptions'!A:A,0),8)","v":{"$error":"#N/A"}},{"$error":"#N/A"},null,{"$error":"#N/A"},1,null,null,null,{"$f":"IFERROR(IF(AND(INDEX(Inventory!CB:CB,MATCH('Inspection Form'!B783,Inventory!B:B,0))=\"Not Qualified\",INDEX(Inventory!L:L,MATCH('Inspection Form'!B783,Inventory!B:B,0))<>\"\",$Q$5<>\"Pre\"),0,BY783*BZ783), 0)","v":0},null,{"$error":"#DIV/0!"},{"$error":"#DIV/0!"},780]
[null,780,null,null,null,null,null,null,null,null,null,null,null,null,null,null,null,null,null,null,null,null,null,null,null,null,null,null,null,null,null,null,null,null,null,null,null,null,null,null,null,null,null,null,null,null,null,null,null,null,null,null,null,null,null,null,null,null,null,null,null,null,null,null,null,null,null,null,null,null,null,null,null,{"$f":"INDEX('Fixture Descriptions'!A:K,MATCH('Inspection Form'!H784,'Fixture Descriptions'!A:A,0),8)","v":{"$error":"#N/A"}},{"$error":"#N/A"},null,{"$error":"#N/A"},1,null,null,null,{"$f":"IFERROR(IF(AND(INDEX(Inventory!CB:CB,MATCH('Inspection Form'!B784,Inventory!B:B,0))=\"Not Qualified\",INDEX(Inventory!L:L,MATCH('Inspection Form'!B784,Inventory!B:B,0))<>\"\",$Q$5<>\"Pre\"),0,BY784*BZ784), 0)","v":0},null,{"$error":"#DIV/0!"},{"$error":"#DIV/0!"},781]
[null,782,null,null,null,null,null,null,null,null,null,null,null,null,null,null,null,null,null,null,null,null,null,null,null,null,null,null,null,null,null,null,null,null,null,null,null,null,null,null,null,null,null,null,null,null,null,null,null,null,null,null,null,null,null,null,null,null,null,null,null,null,null,null,null,null,null,null,null,null,null,null,null,{"$f":"INDEX('Fixture Descriptions'!A:K,MATCH('Inspection Form'!H786,'Fixture Descriptions'!A:A,0),8)","v":{"$error":"#N/A"}},{"$error":"#N/A"},null,{"$error":"#N/A"},1,null,null,null,{"$f":"IFERROR(IF(AND(INDEX(Inventory!CB:CB,MATCH('Inspection Form'!B786,Inventory!B:B,0))=\"Not Qualified\",INDEX(Inventory!L:L,MATCH('Inspection Form'!B786,Inventory!B:B,0))<>\"\",$Q$5<>\"Pre\"),0,BY786*BZ786), 0)","v":0},null,{"$error":"#DIV/0!"},{"$error":"#DIV/0!"},783]
[null,783,null,null,null,null,null,null,null,null,null,null,null,null,null,null,null,null,null,null,null,null,null,null,null,null,null,null,null,null,null,null,null,null,null,null,null,null,null,null,null,null,null,null,null,null,null,null,null,null,null,null,null,null,null,null,null,null,null,null,null,null,null,null,null,null,null,null,null,null,null,null,null,{"$f":"INDEX('Fixture Descriptions'!A:K,MATCH('Inspection Form'!H787,'Fixture Descriptions'!A:A,0),8)","v":{"$error":"#N/A"}},{"$error":"#N/A"},null,{"$error":"#N/A"},1,null,null,null,{"$f":"IFERROR(IF(AND(INDEX(Inventory!CB:CB,MATCH('Inspection Form'!B787,Inventory!B:B,0))=\"Not Qualified\",INDEX(Inventory!L:L,MATCH('Inspection Form'!B787,Inventory!B:B,0))<>\"\",$Q$5<>\"Pre\"),0,BY787*BZ787), 0)","v":0},null,{"$error":"#DIV/0!"},{"$error":"#DIV/0!"},784]
[null,786,null,null,null,null,null,null,null,null,null,null,null,null,null,null,null,null,null,null,null,null,null,null,null,null,null,null,null,null,null,null,null,null,null,null,null,null,null,null,null,null,null,null,null,null,null,null,null,null,null,null,null,null,null,null,null,null,null,null,null,null,null,null,null,null,null,null,null,null,null,null,null,{"$f":"INDEX('Fixture Descriptions'!A:K,MATCH('Inspection Form'!H790,'Fixture Descriptions'!A:A,0),8)","v":{"$error":"#N/A"}},{"$error":"#N/A"},null,{"$error":"#N/A"},1,null,null,null,{"$f":"IFERROR(IF(AND(INDEX(Inventory!CB:CB,MATCH('Inspection Form'!B790,Inventory!B:B,0))=\"Not Qualified\",INDEX(Inventory!L:L,MATCH('Inspection Form'!B790,Inventory!B:B,0))<>\"\",$Q$5<>\"Pre\"),0,BY790*BZ790), 0)","v":0},null,{"$error":"#DIV/0!"},{"$error":"#DIV/0!"},787]
[null,787,null,null,null,null,null,null,null,null,null,null,null,null,null,null,null,null,null,null,null,null,null,null,null,null,null,null,null,null,null,null,null,null,null,null,null,null,null,null,null,null,null,null,null,null,null,null,null,null,null,null,null,null,null,null,null,null,null,null,null,null,null,null,null,null,null,null,null,null,null,null,null,{"$f":"INDEX('Fixture Descriptions'!A:K,MATCH('Inspection Form'!H791,'Fixture Descriptions'!A:A,0),8)","v":{"$error":"#N/A"}},{"$error":"#N/A"},null,{"$error":"#N/A"},1,null,null,null,{"$f":"IFERROR(IF(AND(INDEX(Inventory!CB:CB,MATCH('Inspection Form'!B791,Inventory!B:B,0))=\"Not Qualified\",INDEX(Inventory!L:L,MATCH('Inspection Form'!B791,Inventory!B:B,0))<>\"\",$Q$5<>\"Pre\"),0,BY791*BZ791), 0)","v":0},null,{"$error":"#DIV/0!"},{"$error":"#DIV/0!"},788]
[null,789,null,null,null,null,null,null,null,null,null,null,null,null,null,null,null,null,null,null,null,null,null,null,null,null,null,null,null,null,null,null,null,null,null,null,null,null,null,null,null,null,null,null,null,null,null,null,null,null,null,null,null,null,null,null,null,null,null,null,null,null,null,null,null,null,null,null,null,null,null,null,null,{"$f":"INDEX('Fixture Descriptions'!A:K,MATCH('Inspection Form'!H793,'Fixture Descriptions'!A:A,0),8)","v":{"$error":"#N/A"}},{"$error":"#N/A"},null,{"$error":"#N/A"},1,null,null,null,{"$f":"IFERROR(IF(AND(INDEX(Inventory!CB:CB,MATCH('Inspection Form'!B793,Inventory!B:B,0))=\"Not Qualified\",INDEX(Inventory!L:L,MATCH('Inspection Form'!B793,Inventory!B:B,0))<>\"\",$Q$5<>\"Pre\"),0,BY793*BZ793), 0)","v":0},null,{"$error":"#DIV/0!"},{"$error":"#DIV/0!"},790]
[null,790,null,null,null,null,null,null,null,null,null,null,null,null,null,null,null,null,null,null,null,null,null,null,null,null,null,null,null,null,null,null,null,null,null,null,null,null,null,null,null,null,null,null,null,null,null,null,null,null,null,null,null,null,null,null,null,null,null,null,null,null,null,null,null,null,null,null,null,null,null,null,null,{"$f":"INDEX('Fixture Descriptions'!A:K,MATCH('Inspection Form'!H794,'Fixture Descriptions'!A:A,0),8)","v":{"$error":"#N/A"}},{"$error":"#N/A"},null,{"$error":"#N/A"},1,null,null,null,{"$f":"IFERROR(IF(AND(INDEX(Inventory!CB:CB,MATCH('Inspection Form'!B794,Inventory!B:B,0))=\"Not Qualified\",INDEX(Inventory!L:L,MATCH('Inspection Form'!B794,Inventory!B:B,0))<>\"\",$Q$5<>\"Pre\"),0,BY794*BZ794), 0)","v":0},null,{"$error":"#DIV/0!"},{"$error":"#DIV/0!"},791]
[null,793,null,null,null,null,null,null,null,null,null,null,null,null,null,null,null,null,null,null,null,null,null,null,null,null,null,null,null,null,null,null,null,null,null,null,null,null,null,null,null,null,null,null,null,null,null,null,null,null,null,null,null,null,null,null,null,null,null,null,null,null,null,null,null,null,null,null,null,null,null,null,null,{"$f":"INDEX('Fixture Descriptions'!A:K,MATCH('Inspection Form'!H797,'Fixture Descriptions'!A:A,0),8)","v":{"$error":"#N/A"}},{"$error":"#N/A"},null,{"$error":"#N/A"},1,null,null,null,{"$f":"IFERROR(IF(AND(INDEX(Inventory!CB:CB,MATCH('Inspection Form'!B797,Inventory!B:B,0))=\"Not Qualified\",INDEX(Inventory!L:L,MATCH('Inspection Form'!B797,Inventory!B:B,0))<>\"\",$Q$5<>\"Pre\"),0,BY797*BZ797), 0)","v":0},null,{"$error":"#DIV/0!"},{"$error":"#DIV/0!"},794]
[null,794,null,null,null,null,null,null,null,null,null,null,null,null,null,null,null,null,null,null,null,null,null,null,null,null,null,null,null,null,null,null,null,null,null,null,null,null,null,null,null,null,null,null,null,null,null,null,null,null,null,null,null,null,null,null,null,null,null,null,null,null,null,null,null,null,null,null,null,null,null,null,null,{"$f":"INDEX('Fixture Descriptions'!A:K,MATCH('Inspection Form'!H798,'Fixture Descriptions'!A:A,0),8)","v":{"$error":"#N/A"}},{"$error":"#N/A"},null,{"$error":"#N/A"},1,null,null,null,{"$f":"IFERROR(IF(AND(INDEX(Inventory!CB:CB,MATCH('Inspection Form'!B798,Inventory!B:B,0))=\"Not Qualified\",INDEX(Inventory!L:L,MATCH('Inspection Form'!B798,Inventory!B:B,0))<>\"\",$Q$5<>\"Pre\"),0,BY798*BZ798), 0)","v":0},null,{"$error":"#DIV/0!"},{"$error":"#DIV/0!"},795]
[null,796,null,null,null,null,null,null,null,null,null,null,null,null,null,null,null,null,null,null,null,null,null,null,null,null,null,null,null,null,null,null,null,null,null,null,null,null,null,null,null,null,null,null,null,null,null,null,null,null,null,null,null,null,null,null,null,null,null,null,null,null,null,null,null,null,null,null,null,null,null,null,null,{"$f":"INDEX('Fixture Descriptions'!A:K,MATCH('Inspection Form'!H800,'Fixture Descriptions'!A:A,0),8)","v":{"$error":"#N/A"}},{"$error":"#N/A"},null,{"$error":"#N/A"},1,null,null,null,{"$f":"IFERROR(IF(AND(INDEX(Inventory!CB:CB,MATCH('Inspection Form'!B800,Inventory!B:B,0))=\"Not Qualified\",INDEX(Inventory!L:L,MATCH('Inspection Form'!B800,Inventory!B:B,0))<>\"\",$Q$5<>\"Pre\"),0,BY800*BZ800), 0)","v":0},null,{"$error":"#DIV/0!"},{"$error":"#DIV/0!"},797]
[null,797,null,null,null,null,null,null,null,null,null,null,null,null,null,null,null,null,null,null,null,null,null,null,null,null,null,null,null,null,null,null,null,null,null,null,null,null,null,null,null,null,null,null,null,null,null,null,null,null,null,null,null,null,null,null,null,null,null,null,null,null,null,null,null,null,null,null,null,null,null,null,null,{"$f":"INDEX('Fixture Descriptions'!A:K,MATCH('Inspection Form'!H801,'Fixture Descriptions'!A:A,0),8)","v":{"$error":"#N/A"}},{"$error":"#N/A"},null,{"$error":"#N/A"},1,null,null,null,{"$f":"IFERROR(IF(AND(INDEX(Inventory!CB:CB,MATCH('Inspection Form'!B801,Inventory!B:B,0))=\"Not Qualified\",INDEX(Inventory!L:L,MATCH('Inspection Form'!B801,Inventory!B:B,0))<>\"\",$Q$5<>\"Pre\"),0,BY801*BZ801), 0)","v":0},null,{"$error":"#DIV/0!"},{"$error":"#DIV/0!"},798]
[null,800,null,null,null,null,null,null,null,null,null,null,null,null,null,null,null,null,null,null,null,null,null,null,null,null,null,null,null,null,null,null,null,null,null,null,null,null,null,null,null,null,null,null,null,null,null,null,null,null,null,null,null,null,null,null,null,null,null,null,null,null,null,null,null,null,null,null,null,null,null,null,null,{"$f":"INDEX('Fixture Descriptions'!A:K,MATCH('Inspection Form'!H804,'Fixture Descriptions'!A:A,0),8)","v":{"$error":"#N/A"}},{"$error":"#N/A"},null,{"$error":"#N/A"},1,null,null,null,{"$f":"IFERROR(IF(AND(INDEX(Inventory!CB:CB,MATCH('Inspection Form'!B804,Inventory!B:B,0))=\"Not Qualified\",INDEX(Inventory!L:L,MATCH('Inspection Form'!B804,Inventory!B:B,0))<>\"\",$Q$5<>\"Pre\"),0,BY804*BZ804), 0)","v":0},null,{"$error":"#DIV/0!"},{"$error":"#DIV/0!"},801]
[null,801,null,null,null,null,null,null,null,null,null,null,null,null,null,null,null,null,null,null,null,null,null,null,null,null,null,null,null,null,null,null,null,null,null,null,null,null,null,null,null,null,null,null,null,null,null,null,null,null,null,null,null,null,null,null,null,null,null,null,null,null,null,null,null,null,null,null,null,null,null,null,null,{"$f":"INDEX('Fixture Descriptions'!A:K,MATCH('Inspection Form'!H805,'Fixture Descriptions'!A:A,0),8)","v":{"$error":"#N/A"}},{"$error":"#N/A"},null,{"$error":"#N/A"},1,null,null,null,{"$f":"IFERROR(IF(AND(INDEX(Inventory!CB:CB,MATCH('Inspection Form'!B805,Inventory!B:B,0))=\"Not Qualified\",INDEX(Inventory!L:L,MATCH('Inspection Form'!B805,Inventory!B:B,0))<>\"\",$Q$5<>\"Pre\"),0,BY805*BZ805), 0)","v":0},null,{"$error":"#DIV/0!"},{"$error":"#DIV/0!"},802]
[null,803,null,null,null,null,null,null,null,null,null,null,null,null,null,null,null,null,null,null,null,null,null,null,null,null,null,null,null,null,null,null,null,null,null,null,null,null,null,null,null,null,null,null,null,null,null,null,null,null,null,null,null,null,null,null,null,null,null,null,null,null,null,null,null,null,null,null,null,null,null,null,null,{"$f":"INDEX('Fixture Descriptions'!A:K,MATCH('Inspection Form'!H807,'Fixture Descriptions'!A:A,0),8)","v":{"$error":"#N/A"}},{"$error":"#N/A"},null,{"$error":"#N/A"},1,null,null,null,{"$f":"IFERROR(IF(AND(INDEX(Inventory!CB:CB,MATCH('Inspection Form'!B807,Inventory!B:B,0))=\"Not Qualified\",INDEX(Inventory!L:L,MATCH('Inspection Form'!B807,Inventory!B:B,0))<>\"\",$Q$5<>\"Pre\"),0,BY807*BZ807), 0)","v":0},null,{"$error":"#DIV/0!"},{"$error":"#DIV/0!"},804]
[null,804,null,null,null,null,null,null,null,null,null,null,null,null,null,null,null,null,null,null,null,null,null,null,null,null,null,null,null,null,null,null,null,null,null,null,null,null,null,null,null,null,null,null,null,null,null,null,null,null,null,null,null,null,null,null,null,null,null,null,null,null,null,null,null,null,null,null,null,null,null,null,null,{"$f":"INDEX('Fixture Descriptions'!A:K,MATCH('Inspection Form'!H808,'Fixture Descriptions'!A:A,0),8)","v":{"$error":"#N/A"}},{"$error":"#N/A"},null,{"$error":"#N/A"},1,null,null,null,{"$f":"IFERROR(IF(AND(INDEX(Inventory!CB:CB,MATCH('Inspection Form'!B808,Inventory!B:B,0))=\"Not Qualified\",INDEX(Inventory!L:L,MATCH('Inspection Form'!B808,Inventory!B:B,0))<>\"\",$Q$5<>\"Pre\"),0,BY808*BZ808), 0)","v":0},null,{"$error":"#DIV/0!"},{"$error":"#DIV/0!"},805]
[null,807,null,null,null,null,null,null,null,null,null,null,null,null,null,null,null,null,null,null,null,null,null,null,null,null,null,null,null,null,null,null,null,null,null,null,null,null,null,null,null,null,null,null,null,null,null,null,null,null,null,null,null,null,null,null,null,null,null,null,null,null,null,null,null,null,null,null,null,null,null,null,null,{"$f":"INDEX('Fixture Descriptions'!A:K,MATCH('Inspection Form'!H811,'Fixture Descriptions'!A:A,0),8)","v":{"$error":"#N/A"}},{"$error":"#N/A"},null,{"$error":"#N/A"},1,null,null,null,{"$f":"IFERROR(IF(AND(INDEX(Inventory!CB:CB,MATCH('Inspection Form'!B811,Inventory!B:B,0))=\"Not Qualified\",INDEX(Inventory!L:L,MATCH('Inspection Form'!B811,Inventory!B:B,0))<>\"\",$Q$5<>\"Pre\"),0,BY811*BZ811), 0)","v":0},null,{"$error":"#DIV/0!"},{"$error":"#DIV/0!"},808]
[null,808,null,null,null,null,null,null,null,null,null,null,null,null,null,null,null,null,null,null,null,null,null,null,null,null,null,null,null,null,null,null,null,null,null,null,null,null,null,null,null,null,null,null,null,null,null,null,null,null,null,null,null,null,null,null,null,null,null,null,null,null,null,null,null,null,null,null,null,null,null,null,null,{"$f":"INDEX('Fixture Descriptions'!A:K,MATCH('Inspection Form'!H812,'Fixture Descriptions'!A:A,0),8)","v":{"$error":"#N/A"}},{"$error":"#N/A"},null,{"$error":"#N/A"},1,null,null,null,{"$f":"IFERROR(IF(AND(INDEX(Inventory!CB:CB,MATCH('Inspection Form'!B812,Inventory!B:B,0))=\"Not Qualified\",INDEX(Inventory!L:L,MATCH('Inspection Form'!B812,Inventory!B:B,0))<>\"\",$Q$5<>\"Pre\"),0,BY812*BZ812), 0)","v":0},null,{"$error":"#DIV/0!"},{"$error":"#DIV/0!"},809]
[null,810,null,null,null,null,null,null,null,null,null,null,null,null,null,null,null,null,null,null,null,null,null,null,null,null,null,null,null,null,null,null,null,null,null,null,null,null,null,null,null,null,null,null,null,null,null,null,null,null,null,null,null,null,null,null,null,null,null,null,null,null,null,null,null,null,null,null,null,null,null,null,null,{"$f":"INDEX('Fixture Descriptions'!A:K,MATCH('Inspection Form'!H814,'Fixture Descriptions'!A:A,0),8)","v":{"$error":"#N/A"}},{"$error":"#N/A"},null,{"$error":"#N/A"},1,null,null,null,{"$f":"IFERROR(IF(AND(INDEX(Inventory!CB:CB,MATCH('Inspection Form'!B814,Inventory!B:B,0))=\"Not Qualified\",INDEX(Inventory!L:L,MATCH('Inspection Form'!B814,Inventory!B:B,0))<>\"\",$Q$5<>\"Pre\"),0,BY814*BZ814), 0)","v":0},null,{"$error":"#DIV/0!"},{"$error":"#DIV/0!"},811]
[null,811,null,null,null,null,null,null,null,null,null,null,null,null,null,null,null,null,null,null,null,null,null,null,null,null,null,null,null,null,null,null,null,null,null,null,null,null,null,null,null,null,null,null,null,null,null,null,null,null,null,null,null,null,null,null,null,null,null,null,null,null,null,null,null,null,null,null,null,null,null,null,null,{"$f":"INDEX('Fixture Descriptions'!A:K,MATCH('Inspection Form'!H815,'Fixture Descriptions'!A:A,0),8)","v":{"$error":"#N/A"}},{"$error":"#N/A"},null,{"$error":"#N/A"},1,null,null,null,{"$f":"IFERROR(IF(AND(INDEX(Inventory!CB:CB,MATCH('Inspection Form'!B815,Inventory!B:B,0))=\"Not Qualified\",INDEX(Inventory!L:L,MATCH('Inspection Form'!B815,Inventory!B:B,0))<>\"\",$Q$5<>\"Pre\"),0,BY815*BZ815), 0)","v":0},null,{"$error":"#DIV/0!"},{"$error":"#DIV/0!"},812]
[null,814,null,null,null,null,null,null,null,null,null,null,null,null,null,null,null,null,null,null,null,null,null,null,null,null,null,null,null,null,null,null,null,null,null,null,null,null,null,null,null,null,null,null,null,null,null,null,null,null,null,null,null,null,null,null,null,null,null,null,null,null,null,null,null,null,null,null,null,null,null,null,null,{"$f":"INDEX('Fixture Descriptions'!A:K,MATCH('Inspection Form'!H818,'Fixture Descriptions'!A:A,0),8)","v":{"$error":"#N/A"}},{"$error":"#N/A"},null,{"$error":"#N/A"},1,null,null,null,{"$f":"IFERROR(IF(AND(INDEX(Inventory!CB:CB,MATCH('Inspection Form'!B818,Inventory!B:B,0))=\"Not Qualified\",INDEX(Inventory!L:L,MATCH('Inspection Form'!B818,Inventory!B:B,0))<>\"\",$Q$5<>\"Pre\"),0,BY818*BZ818), 0)","v":0},null,{"$error":"#DIV/0!"},{"$error":"#DIV/0!"},815]
[null,815,null,null,null,null,null,null,null,null,null,null,null,null,null,null,null,null,null,null,null,null,null,null,null,null,null,null,null,null,null,null,null,null,null,null,null,null,null,null,null,null,null,null,null,null,null,null,null,null,null,null,null,null,null,null,null,null,null,null,null,null,null,null,null,null,null,null,null,null,null,null,null,{"$f":"INDEX('Fixture Descriptions'!A:K,MATCH('Inspection Form'!H819,'Fixture Descriptions'!A:A,0),8)","v":{"$error":"#N/A"}},{"$f":"BV819*I819","v":{"$error":"#N/A"}},null,{"$error":"#N/A"},{"$f":"IF($U$3=\"All\", 1, IF(AND(C819=$U$3, H819=$U$4), 1, 0))","v":1},null,null,null,{"$f":"IFERROR(IF(AND(INDEX(Inventory!CB:CB,MATCH('Inspection Form'!B819,Inventory!B:B,0))=\"Not Qualified\",INDEX(Inventory!L:L,MATCH('Inspection Form'!B819,Inventory!B:B,0))<>\"\",$Q$5<>\"Pre\"),0,BY819*BZ819), 0)","v":0},null,{"$f":"CD819/$CE$5","v":{"$error":"#DIV/0!"}},{"$f":"CF819+CG818","v":{"$error":"#DIV/0!"}},816]
[null,817,null,null,null,null,null,null,null,null,null,null,null,null,null,null,null,null,null,null,null,null,null,null,null,null,null,null,null,null,null,null,null,null,null,null,null,null,null,null,null,null,null,null,null,null,null,null,null,null,null,null,null,null,null,null,null,null,null,null,null,null,null,null,null,null,null,null,null,null,null,null,null,{"$f":"INDEX('Fixture Descriptions'!A:K,MATCH('Inspection Form'!H821,'Fixture Descriptions'!A:A,0),8)","v":{"$error":"#N/A"}},{"$error":"#N/A"},null,{"$error":"#N/A"},1,null,null,null,{"$f":"IFERROR(IF(AND(INDEX(Inventory!CB:CB,MATCH('Inspection Form'!B821,Inventory!B:B,0))=\"Not Qualified\",INDEX(Inventory!L:L,MATCH('Inspection Form'!B821,Inventory!B:B,0))<>\"\",$Q$5<>\"Pre\"),0,BY821*BZ821), 0)","v":0},null,{"$error":"#DIV/0!"},{"$error":"#DIV/0!"},818]
[null,818,null,null,null,null,null,null,null,null,null,null,null,null,null,null,null,null,null,null,null,null,null,null,null,null,null,null,null,null,null,null,null,null,null,null,null,null,null,null,null,null,null,null,null,null,null,null,null,null,null,null,null,null,null,null,null,null,null,null,null,null,null,null,null,null,null,null,null,null,null,null,null,{"$f":"INDEX('Fixture Descriptions'!A:K,MATCH('Inspection Form'!H822,'Fixture Descriptions'!A:A,0),8)","v":{"$error":"#N/A"}},{"$error":"#N/A"},null,{"$error":"#N/A"},1,null,null,null,{"$f":"IFERROR(IF(AND(INDEX(Inventory!CB:CB,MATCH('Inspection Form'!B822,Inventory!B:B,0))=\"Not Qualified\",INDEX(Inventory!L:L,MATCH('Inspection Form'!B822,Inventory!B:B,0))<>\"\",$Q$5<>\"Pre\"),0,BY822*BZ822), 0)","v":0},null,{"$error":"#DIV/0!"},{"$error":"#DIV/0!"},819]
[null,821,null,null,null,null,null,null,null,null,null,null,null,null,null,null,null,null,null,null,null,null,null,null,null,null,null,null,null,null,null,null,null,null,null,null,null,null,null,null,null,null,null,null,null,null,null,null,null,null,null,null,null,null,null,null,null,null,null,null,null,null,null,null,null,null,null,null,null,null,null,null,null,{"$f":"INDEX('Fixture Descriptions'!A:K,MATCH('Inspection Form'!H825,'Fixture Descriptions'!A:A,0),8)","v":{"$error":"#N/A"}},{"$error":"#N/A"},null,{"$error":"#N/A"},1,null,null,null,{"$f":"IFERROR(IF(AND(INDEX(Inventory!CB:CB,MATCH('Inspection Form'!B825,Inventory!B:B,0))=\"Not Qualified\",INDEX(Inventory!L:L,MATCH('Inspection Form'!B825,Inventory!B:B,0))<>\"\",$Q$5<>\"Pre\"),0,BY825*BZ825), 0)","v":0},null,{"$error":"#DIV/0!"},{"$error":"#DIV/0!"},822]
[null,822,null,null,null,null,null,null,null,null,null,null,null,null,null,null,null,null,null,null,null,null,null,null,null,null,null,null,null,null,null,null,null,null,null,null,null,null,null,null,null,null,null,null,null,null,null,null,null,null,null,null,null,null,null,null,null,null,null,null,null,null,null,null,null,null,null,null,null,null,null,null,null,{"$f":"INDEX('Fixture Descriptions'!A:K,MATCH('Inspection Form'!H826,'Fixture Descriptions'!A:A,0),8)","v":{"$error":"#N/A"}},{"$error":"#N/A"},null,{"$error":"#N/A"},1,null,null,null,{"$f":"IFERROR(IF(AND(INDEX(Inventory!CB:CB,MATCH('Inspection Form'!B826,Inventory!B:B,0))=\"Not Qualified\",INDEX(Inventory!L:L,MATCH('Inspection Form'!B826,Inventory!B:B,0))<>\"\",$Q$5<>\"Pre\"),0,BY826*BZ826), 0)","v":0},null,{"$error":"#DIV/0!"},{"$error":"#DIV/0!"},823]
[null,824,null,null,null,null,null,null,null,null,null,null,null,null,null,null,null,null,null,null,null,null,null,null,null,null,null,null,null,null,null,null,null,null,null,null,null,null,null,null,null,null,null,null,null,null,null,null,null,null,null,null,null,null,null,null,null,null,null,null,null,null,null,null,null,null,null,null,null,null,null,null,null,{"$f":"INDEX('Fixture Descriptions'!A:K,MATCH('Inspection Form'!H828,'Fixture Descriptions'!A:A,0),8)","v":{"$error":"#N/A"}},{"$error":"#N/A"},null,{"$error":"#N/A"},1,null,null,null,{"$f":"IFERROR(IF(AND(INDEX(Inventory!CB:CB,MATCH('Inspection Form'!B828,Inventory!B:B,0))=\"Not Qualified\",INDEX(Inventory!L:L,MATCH('Inspection Form'!B828,Inventory!B:B,0))<>\"\",$Q$5<>\"Pre\"),0,BY828*BZ828), 0)","v":0},null,{"$error":"#DIV/0!"},{"$error":"#DIV/0!"},825]
[null,825,null,null,null,null,null,null,null,null,null,null,null,null,null,null,null,null,null,null,null,null,null,null,null,null,null,null,null,null,null,null,null,null,null,null,null,null,null,null,null,null,null,null,null,null,null,null,null,null,null,null,null,null,null,null,null,null,null,null,null,null,null,null,null,null,null,null,null,null,null,null,null,{"$f":"INDEX('Fixture Descriptions'!A:K,MATCH('Inspection Form'!H829,'Fixture Descriptions'!A:A,0),8)","v":{"$error":"#N/A"}},{"$error":"#N/A"},null,{"$error":"#N/A"},1,null,null,null,{"$f":"IFERROR(IF(AND(INDEX(Inventory!CB:CB,MATCH('Inspection Form'!B829,Inventory!B:B,0))=\"Not Qualified\",INDEX(Inventory!L:L,MATCH('Inspection Form'!B829,Inventory!B:B,0))<>\"\",$Q$5<>\"Pre\"),0,BY829*BZ829), 0)","v":0},null,{"$error":"#DIV/0!"},{"$error":"#DIV/0!"},826]
[null,828,null,null,null,null,null,null,null,null,null,null,null,null,null,null,null,null,null,null,null,null,null,null,null,null,null,null,null,null,null,null,null,null,null,null,null,null,null,null,null,null,null,null,null,null,null,null,null,null,null,null,null,null,null,null,null,null,null,null,null,null,null,null,null,null,null,null,null,null,null,null,null,{"$f":"INDEX('Fixture Descriptions'!A:K,MATCH('Inspection Form'!H832,'Fixture Descriptions'!A:A,0),8)","v":{"$error":"#N/A"}},{"$error":"#N/A"},null,{"$error":"#N/A"},1,null,null,null,{"$f":"IFERROR(IF(AND(INDEX(Inventory!CB:CB,MATCH('Inspection Form'!B832,Inventory!B:B,0))=\"Not Qualified\",INDEX(Inventory!L:L,MATCH('Inspection Form'!B832,Inventory!B:B,0))<>\"\",$Q$5<>\"Pre\"),0,BY832*BZ832), 0)","v":0},null,{"$error":"#DIV/0!"},{"$error":"#DIV/0!"},829]
[null,829,null,null,null,null,null,null,null,null,null,null,null,null,null,null,null,null,null,null,null,null,null,null,null,null,null,null,null,null,null,null,null,null,null,null,null,null,null,null,null,null,null,null,null,null,null,null,null,null,null,null,null,null,null,null,null,null,null,null,null,null,null,null,null,null,null,null,null,null,null,null,null,{"$f":"INDEX('Fixture Descriptions'!A:K,MATCH('Inspection Form'!H833,'Fixture Descriptions'!A:A,0),8)","v":{"$error":"#N/A"}},{"$error":"#N/A"},null,{"$error":"#N/A"},1,null,null,null,{"$f":"IFERROR(IF(AND(INDEX(Inventory!CB:CB,MATCH('Inspection Form'!B833,Inventory!B:B,0))=\"Not Qualified\",INDEX(Inventory!L:L,MATCH('Inspection Form'!B833,Inventory!B:B,0))<>\"\",$Q$5<>\"Pre\"),0,BY833*BZ833), 0)","v":0},null,{"$error":"#DIV/0!"},{"$error":"#DIV/0!"},830]
[null,831,null,null,null,null,null,null,null,null,null,null,null,null,null,null,null,null,null,null,null,null,null,null,null,null,null,null,null,null,null,null,null,null,null,null,null,null,null,null,null,null,null,null,null,null,null,null,null,null,null,null,null,null,null,null,null,null,null,null,null,null,null,null,null,null,null,null,null,null,null,null,null,{"$f":"INDEX('Fixture Descriptions'!A:K,MATCH('Inspection Form'!H835,'Fixture Descriptions'!A:A,0),8)","v":{"$error":"#N/A"}},{"$error":"#N/A"},null,{"$error":"#N/A"},1,null,null,null,{"$f":"IFERROR(IF(AND(INDEX(Inventory!CB:CB,MATCH('Inspection Form'!B835,Inventory!B:B,0))=\"Not Qualified\",INDEX(Inventory!L:L,MATCH('Inspection Form'!B835,Inventory!B:B,0))<>\"\",$Q$5<>\"Pre\"),0,BY835*BZ835), 0)","v":0},null,{"$error":"#DIV/0!"},{"$error":"#DIV/0!"},832]
[null,832,null,null,null,null,null,null,null,null,null,null,null,null,null,null,null,null,null,null,null,null,null,null,null,null,null,null,null,null,null,null,null,null,null,null,null,null,null,null,null,null,null,null,null,null,null,null,null,null,null,null,null,null,null,null,null,null,null,null,null,null,null,null,null,null,null,null,null,null,null,null,null,{"$f":"INDEX('Fixture Descriptions'!A:K,MATCH('Inspection Form'!H836,'Fixture Descriptions'!A:A,0),8)","v":{"$error":"#N/A"}},{"$error":"#N/A"},null,{"$error":"#N/A"},1,null,null,null,{"$f":"IFERROR(IF(AND(INDEX(Inventory!CB:CB,MATCH('Inspection Form'!B836,Inventory!B:B,0))=\"Not Qualified\",INDEX(Inventory!L:L,MATCH('Inspection Form'!B836,Inventory!B:B,0))<>\"\",$Q$5<>\"Pre\"),0,BY836*BZ836), 0)","v":0},null,{"$error":"#DIV/0!"},{"$error":"#DIV/0!"},833]
[null,835,null,null,null,null,null,null,null,null,null,null,null,null,null,null,null,null,null,null,null,null,null,null,null,null,null,null,null,null,null,null,null,null,null,null,null,null,null,null,null,null,null,null,null,null,null,null,null,null,null,null,null,null,null,null,null,null,null,null,null,null,null,null,null,null,null,null,null,null,null,null,null,{"$f":"INDEX('Fixture Descriptions'!A:K,MATCH('Inspection Form'!H839,'Fixture Descriptions'!A:A,0),8)","v":{"$error":"#N/A"}},{"$error":"#N/A"},null,{"$error":"#N/A"},1,null,null,null,{"$f":"IFERROR(IF(AND(INDEX(Inventory!CB:CB,MATCH('Inspection Form'!B839,Inventory!B:B,0))=\"Not Qualified\",INDEX(Inventory!L:L,MATCH('Inspection Form'!B839,Inventory!B:B,0))<>\"\",$Q$5<>\"Pre\"),0,BY839*BZ839), 0)","v":0},null,{"$error":"#DIV/0!"},{"$error":"#DIV/0!"},836]
[null,836,null,null,null,null,null,null,null,null,null,null,null,null,null,null,null,null,null,null,null,null,null,null,null,null,null,null,null,null,null,null,null,null,null,null,null,null,null,null,null,null,null,null,null,null,null,null,null,null,null,null,null,null,null,null,null,null,null,null,null,null,null,null,null,null,null,null,null,null,null,null,null,{"$f":"INDEX('Fixture Descriptions'!A:K,MATCH('Inspection Form'!H840,'Fixture Descriptions'!A:A,0),8)","v":{"$error":"#N/A"}},{"$error":"#N/A"},null,{"$error":"#N/A"},1,null,null,null,{"$f":"IFERROR(IF(AND(INDEX(Inventory!CB:CB,MATCH('Inspection Form'!B840,Inventory!B:B,0))=\"Not Qualified\",INDEX(Inventory!L:L,MATCH('Inspection Form'!B840,Inventory!B:B,0))<>\"\",$Q$5<>\"Pre\"),0,BY840*BZ840), 0)","v":0},null,{"$error":"#DIV/0!"},{"$error":"#DIV/0!"},837]
[null,838,null,null,null,null,null,null,null,null,null,null,null,null,null,null,null,null,null,null,null,null,null,null,null,null,null,null,null,null,null,null,null,null,null,null,null,null,null,null,null,null,null,null,null,null,null,null,null,null,null,null,null,null,null,null,null,null,null,null,null,null,null,null,null,null,null,null,null,null,null,null,null,{"$f":"INDEX('Fixture Descriptions'!A:K,MATCH('Inspection Form'!H842,'Fixture Descriptions'!A:A,0),8)","v":{"$error":"#N/A"}},{"$error":"#N/A"},null,{"$error":"#N/A"},1,null,null,null,{"$f":"IFERROR(IF(AND(INDEX(Inventory!CB:CB,MATCH('Inspection Form'!B842,Inventory!B:B,0))=\"Not Qualified\",INDEX(Inventory!L:L,MATCH('Inspection Form'!B842,Inventory!B:B,0))<>\"\",$Q$5<>\"Pre\"),0,BY842*BZ842), 0)","v":0},null,{"$error":"#DIV/0!"},{"$error":"#DIV/0!"},839]
[null,839,null,null,null,null,null,null,null,null,null,null,null,null,null,null,null,null,null,null,null,null,null,null,null,null,null,null,null,null,null,null,null,null,null,null,null,null,null,null,null,null,null,null,null,null,null,null,null,null,null,null,null,null,null,null,null,null,null,null,null,null,null,null,null,null,null,null,null,null,null,null,null,{"$f":"INDEX('Fixture Descriptions'!A:K,MATCH('Inspection Form'!H843,'Fixture Descriptions'!A:A,0),8)","v":{"$error":"#N/A"}},{"$error":"#N/A"},null,{"$error":"#N/A"},1,null,null,null,{"$f":"IFERROR(IF(AND(INDEX(Inventory!CB:CB,MATCH('Inspection Form'!B843,Inventory!B:B,0))=\"Not Qualified\",INDEX(Inventory!L:L,MATCH('Inspection Form'!B843,Inventory!B:B,0))<>\"\",$Q$5<>\"Pre\"),0,BY843*BZ843), 0)","v":0},null,{"$error":"#DIV/0!"},{"$error":"#DIV/0!"},840]
[null,842,null,null,null,null,null,null,null,null,null,null,null,null,null,null,null,null,null,null,null,null,null,null,null,null,null,null,null,null,null,null,null,null,null,null,null,null,null,null,null,null,null,null,null,null,null,null,null,null,null,null,null,null,null,null,null,null,null,null,null,null,null,null,null,null,null,null,null,null,null,null,null,{"$f":"INDEX('Fixture Descriptions'!A:K,MATCH('Inspection Form'!H846,'Fixture Descriptions'!A:A,0),8)","v":{"$error":"#N/A"}},{"$error":"#N/A"},null,{"$error":"#N/A"},1,null,null,null,{"$f":"IFERROR(IF(AND(INDEX(Inventory!CB:CB,MATCH('Inspection Form'!B846,Inventory!B:B,0))=\"Not Qualified\",INDEX(Inventory!L:L,MATCH('Inspection Form'!B846,Inventory!B:B,0))<>\"\",$Q$5<>\"Pre\"),0,BY846*BZ846), 0)","v":0},null,{"$error":"#DIV/0!"},{"$error":"#DIV/0!"},843]
[null,843,null,null,null,null,null,null,null,null,null,null,null,null,null,null,null,null,null,null,null,null,null,null,null,null,null,null,null,null,null,null,null,null,null,null,null,null,null,null,null,null,null,null,null,null,null,null,null,null,null,null,null,null,null,null,null,null,null,null,null,null,null,null,null,null,null,null,null,null,null,null,null,{"$f":"INDEX('Fixture Descriptions'!A:K,MATCH('Inspection Form'!H847,'Fixture Descriptions'!A:A,0),8)","v":{"$error":"#N/A"}},{"$error":"#N/A"},null,{"$error":"#N/A"},1,null,null,null,{"$f":"IFERROR(IF(AND(INDEX(Inventory!CB:CB,MATCH('Inspection Form'!B847,Inventory!B:B,0))=\"Not Qualified\",INDEX(Inventory!L:L,MATCH('Inspection Form'!B847,Inventory!B:B,0))<>\"\",$Q$5<>\"Pre\"),0,BY847*BZ847), 0)","v":0},null,{"$error":"#DIV/0!"},{"$error":"#DIV/0!"},844]
[null,845,null,null,null,null,null,null,null,null,null,null,null,null,null,null,null,null,null,null,null,null,null,null,null,null,null,null,null,null,null,null,null,null,null,null,null,null,null,null,null,null,null,null,null,null,null,null,null,null,null,null,null,null,null,null,null,null,null,null,null,null,null,null,null,null,null,null,null,null,null,null,null,{"$f":"INDEX('Fixture Descriptions'!A:K,MATCH('Inspection Form'!H849,'Fixture Descriptions'!A:A,0),8)","v":{"$error":"#N/A"}},{"$error":"#N/A"},null,{"$error":"#N/A"},1,null,null,null,{"$f":"IFERROR(IF(AND(INDEX(Inventory!CB:CB,MATCH('Inspection Form'!B849,Inventory!B:B,0))=\"Not Qualified\",INDEX(Inventory!L:L,MATCH('Inspection Form'!B849,Inventory!B:B,0))<>\"\",$Q$5<>\"Pre\"),0,BY849*BZ849), 0)","v":0},null,{"$error":"#DIV/0!"},{"$error":"#DIV/0!"},846]
[null,846,null,null,null,null,null,null,null,null,null,null,null,null,null,null,null,null,null,null,null,null,null,null,null,null,null,null,null,null,null,null,null,null,null,null,null,null,null,null,null,null,null,null,null,null,null,null,null,null,null,null,null,null,null,null,null,null,null,null,null,null,null,null,null,null,null,null,null,null,null,null,null,{"$f":"INDEX('Fixture Descriptions'!A:K,MATCH('Inspection Form'!H850,'Fixture Descriptions'!A:A,0),8)","v":{"$error":"#N/A"}},{"$error":"#N/A"},null,{"$error":"#N/A"},1,null,null,null,{"$f":"IFERROR(IF(AND(INDEX(Inventory!CB:CB,MATCH('Inspection Form'!B850,Inventory!B:B,0))=\"Not Qualified\",INDEX(Inventory!L:L,MATCH('Inspection Form'!B850,Inventory!B:B,0))<>\"\",$Q$5<>\"Pre\"),0,BY850*BZ850), 0)","v":0},null,{"$error":"#DIV/0!"},{"$error":"#DIV/0!"},847]
[null,849,null,null,null,null,null,null,null,null,null,null,null,null,null,null,null,null,null,null,null,null,null,null,null,null,null,null,null,null,null,null,null,null,null,null,null,null,null,null,null,null,null,null,null,null,null,null,null,null,null,null,null,null,null,null,null,null,null,null,null,null,null,null,null,null,null,null,null,null,null,null,null,{"$f":"INDEX('Fixture Descriptions'!A:K,MATCH('Inspection Form'!H853,'Fixture Descriptions'!A:A,0),8)","v":{"$error":"#N/A"}},{"$error":"#N/A"},null,{"$error":"#N/A"},1,null,null,null,{"$f":"IFERROR(IF(AND(INDEX(Inventory!CB:CB,MATCH('Inspection Form'!B853,Inventory!B:B,0))=\"Not Qualified\",INDEX(Inventory!L:L,MATCH('Inspection Form'!B853,Inventory!B:B,0))<>\"\",$Q$5<>\"Pre\"),0,BY853*BZ853), 0)","v":0},null,{"$error":"#DIV/0!"},{"$error":"#DIV/0!"},850]
[null,850,null,null,null,null,null,null,null,null,null,null,null,null,null,null,null,null,null,null,null,null,null,null,null,null,null,null,null,null,null,null,null,null,null,null,null,null,null,null,null,null,null,null,null,null,null,null,null,null,null,null,null,null,null,null,null,null,null,null,null,null,null,null,null,null,null,null,null,null,null,null,null,{"$f":"INDEX('Fixture Descriptions'!A:K,MATCH('Inspection Form'!H854,'Fixture Descriptions'!A:A,0),8)","v":{"$error":"#N/A"}},{"$error":"#N/A"},null,{"$error":"#N/A"},1,null,null,null,{"$f":"IFERROR(IF(AND(INDEX(Inventory!CB:CB,MATCH('Inspection Form'!B854,Inventory!B:B,0))=\"Not Qualified\",INDEX(Inventory!L:L,MATCH('Inspection Form'!B854,Inventory!B:B,0))<>\"\",$Q$5<>\"Pre\"),0,BY854*BZ854), 0)","v":0},null,{"$error":"#DIV/0!"},{"$error":"#DIV/0!"},851]
[null,852,null,null,null,null,null,null,null,null,null,null,null,null,null,null,null,null,null,null,null,null,null,null,null,null,null,null,null,null,null,null,null,null,null,null,null,null,null,null,null,null,null,null,null,null,null,null,null,null,null,null,null,null,null,null,null,null,null,null,null,null,null,null,null,null,null,null,null,null,null,null,null,{"$f":"INDEX('Fixture Descriptions'!A:K,MATCH('Inspection Form'!H856,'Fixture Descriptions'!A:A,0),8)","v":{"$error":"#N/A"}},{"$error":"#N/A"},null,{"$error":"#N/A"},1,null,null,null,{"$f":"IFERROR(IF(AND(INDEX(Inventory!CB:CB,MATCH('Inspection Form'!B856,Inventory!B:B,0))=\"Not Qualified\",INDEX(Inventory!L:L,MATCH('Inspection Form'!B856,Inventory!B:B,0))<>\"\",$Q$5<>\"Pre\"),0,BY856*BZ856), 0)","v":0},null,{"$error":"#DIV/0!"},{"$error":"#DIV/0!"},853]
[null,853,null,null,null,null,null,null,null,null,null,null,null,null,null,null,null,null,null,null,null,null,null,null,null,null,null,null,null,null,null,null,null,null,null,null,null,null,null,null,null,null,null,null,null,null,null,null,null,null,null,null,null,null,null,null,null,null,null,null,null,null,null,null,null,null,null,null,null,null,null,null,null,{"$f":"INDEX('Fixture Descriptions'!A:K,MATCH('Inspection Form'!H857,'Fixture Descriptions'!A:A,0),8)","v":{"$error":"#N/A"}},{"$error":"#N/A"},null,{"$error":"#N/A"},1,null,null,null,{"$f":"IFERROR(IF(AND(INDEX(Inventory!CB:CB,MATCH('Inspection Form'!B857,Inventory!B:B,0))=\"Not Qualified\",INDEX(Inventory!L:L,MATCH('Inspection Form'!B857,Inventory!B:B,0))<>\"\",$Q$5<>\"Pre\"),0,BY857*BZ857), 0)","v":0},null,{"$error":"#DIV/0!"},{"$error":"#DIV/0!"},854]
[null,856,null,null,null,null,null,null,null,null,null,null,null,null,null,null,null,null,null,null,null,null,null,null,null,null,null,null,null,null,null,null,null,null,null,null,null,null,null,null,null,null,null,null,null,null,null,null,null,null,null,null,null,null,null,null,null,null,null,null,null,null,null,null,null,null,null,null,null,null,null,null,null,{"$f":"INDEX('Fixture Descriptions'!A:K,MATCH('Inspection Form'!H860,'Fixture Descriptions'!A:A,0),8)","v":{"$error":"#N/A"}},{"$error":"#N/A"},null,{"$error":"#N/A"},1,null,null,null,{"$f":"IFERROR(IF(AND(INDEX(Inventory!CB:CB,MATCH('Inspection Form'!B860,Inventory!B:B,0))=\"Not Qualified\",INDEX(Inventory!L:L,MATCH('Inspection Form'!B860,Inventory!B:B,0))<>\"\",$Q$5<>\"Pre\"),0,BY860*BZ860), 0)","v":0},null,{"$error":"#DIV/0!"},{"$error":"#DIV/0!"},857]
[null,857,null,null,null,null,null,null,null,null,null,null,null,null,null,null,null,null,null,null,null,null,null,null,null,null,null,null,null,null,null,null,null,null,null,null,null,null,null,null,null,null,null,null,null,null,null,null,null,null,null,null,null,null,null,null,null,null,null,null,null,null,null,null,null,null,null,null,null,null,null,null,null,{"$f":"INDEX('Fixture Descriptions'!A:K,MATCH('Inspection Form'!H861,'Fixture Descriptions'!A:A,0),8)","v":{"$error":"#N/A"}},{"$error":"#N/A"},null,{"$error":"#N/A"},1,null,null,null,{"$f":"IFERROR(IF(AND(INDEX(Inventory!CB:CB,MATCH('Inspection Form'!B861,Inventory!B:B,0))=\"Not Qualified\",INDEX(Inventory!L:L,MATCH('Inspection Form'!B861,Inventory!B:B,0))<>\"\",$Q$5<>\"Pre\"),0,BY861*BZ861), 0)","v":0},null,{"$error":"#DIV/0!"},{"$error":"#DIV/0!"},858]
[null,859,null,null,null,null,null,null,null,null,null,null,null,null,null,null,null,null,null,null,null,null,null,null,null,null,null,null,null,null,null,null,null,null,null,null,null,null,null,null,null,null,null,null,null,null,null,null,null,null,null,null,null,null,null,null,null,null,null,null,null,null,null,null,null,null,null,null,null,null,null,null,null,{"$f":"INDEX('Fixture Descriptions'!A:K,MATCH('Inspection Form'!H863,'Fixture Descriptions'!A:A,0),8)","v":{"$error":"#N/A"}},{"$error":"#N/A"},null,{"$error":"#N/A"},1,null,null,null,{"$f":"IFERROR(IF(AND(INDEX(Inventory!CB:CB,MATCH('Inspection Form'!B863,Inventory!B:B,0))=\"Not Qualified\",INDEX(Inventory!L:L,MATCH('Inspection Form'!B863,Inventory!B:B,0))<>\"\",$Q$5<>\"Pre\"),0,BY863*BZ863), 0)","v":0},null,{"$error":"#DIV/0!"},{"$error":"#DIV/0!"},860]
[null,860,null,null,null,null,null,null,null,null,null,null,null,null,null,null,null,null,null,null,null,null,null,null,null,null,null,null,null,null,null,null,null,null,null,null,null,null,null,null,null,null,null,null,null,null,null,null,null,null,null,null,null,null,null,null,null,null,null,null,null,null,null,null,null,null,null,null,null,null,null,null,null,{"$f":"INDEX('Fixture Descriptions'!A:K,MATCH('Inspection Form'!H864,'Fixture Descriptions'!A:A,0),8)","v":{"$error":"#N/A"}},{"$error":"#N/A"},null,{"$error":"#N/A"},1,null,null,null,{"$f":"IFERROR(IF(AND(INDEX(Inventory!CB:CB,MATCH('Inspection Form'!B864,Inventory!B:B,0))=\"Not Qualified\",INDEX(Inventory!L:L,MATCH('Inspection Form'!B864,Inventory!B:B,0))<>\"\",$Q$5<>\"Pre\"),0,BY864*BZ864), 0)","v":0},null,{"$error":"#DIV/0!"},{"$error":"#DIV/0!"},861]
[null,863,null,null,null,null,null,null,null,null,null,null,null,null,null,null,null,null,null,null,null,null,null,null,null,null,null,null,null,null,null,null,null,null,null,null,null,null,null,null,null,null,null,null,null,null,null,null,null,null,null,null,null,null,null,null,null,null,null,null,null,null,null,null,null,null,null,null,null,null,null,null,null,{"$f":"INDEX('Fixture Descriptions'!A:K,MATCH('Inspection Form'!H867,'Fixture Descriptions'!A:A,0),8)","v":{"$error":"#N/A"}},{"$error":"#N/A"},null,{"$error":"#N/A"},1,null,null,null,{"$f":"IFERROR(IF(AND(INDEX(Inventory!CB:CB,MATCH('Inspection Form'!B867,Inventory!B:B,0))=\"Not Qualified\",INDEX(Inventory!L:L,MATCH('Inspection Form'!B867,Inventory!B:B,0))<>\"\",$Q$5<>\"Pre\"),0,BY867*BZ867), 0)","v":0},null,{"$error":"#DIV/0!"},{"$error":"#DIV/0!"},864]
[null,864,null,null,null,null,null,null,null,null,null,null,null,null,null,null,null,null,null,null,null,null,null,null,null,null,null,null,null,null,null,null,null,null,null,null,null,null,null,null,null,null,null,null,null,null,null,null,null,null,null,null,null,null,null,null,null,null,null,null,null,null,null,null,null,null,null,null,null,null,null,null,null,{"$f":"INDEX('Fixture Descriptions'!A:K,MATCH('Inspection Form'!H868,'Fixture Descriptions'!A:A,0),8)","v":{"$error":"#N/A"}},{"$error":"#N/A"},null,{"$error":"#N/A"},1,null,null,null,{"$f":"IFERROR(IF(AND(INDEX(Inventory!CB:CB,MATCH('Inspection Form'!B868,Inventory!B:B,0))=\"Not Qualified\",INDEX(Inventory!L:L,MATCH('Inspection Form'!B868,Inventory!B:B,0))<>\"\",$Q$5<>\"Pre\"),0,BY868*BZ868), 0)","v":0},null,{"$error":"#DIV/0!"},{"$error":"#DIV/0!"},865]
[null,866,null,null,null,null,null,null,null,null,null,null,null,null,null,null,null,null,null,null,null,null,null,null,null,null,null,null,null,null,null,null,null,null,null,null,null,null,null,null,null,null,null,null,null,null,null,null,null,null,null,null,null,null,null,null,null,null,null,null,null,null,null,null,null,null,null,null,null,null,null,null,null,{"$f":"INDEX('Fixture Descriptions'!A:K,MATCH('Inspection Form'!H870,'Fixture Descriptions'!A:A,0),8)","v":{"$error":"#N/A"}},{"$error":"#N/A"},null,{"$error":"#N/A"},1,null,null,null,{"$f":"IFERROR(IF(AND(INDEX(Inventory!CB:CB,MATCH('Inspection Form'!B870,Inventory!B:B,0))=\"Not Qualified\",INDEX(Inventory!L:L,MATCH('Inspection Form'!B870,Inventory!B:B,0))<>\"\",$Q$5<>\"Pre\"),0,BY870*BZ870), 0)","v":0},null,{"$error":"#DIV/0!"},{"$error":"#DIV/0!"},867]
[null,867,null,null,null,null,null,null,null,null,null,null,null,null,null,null,null,null,null,null,null,null,null,null,null,null,null,null,null,null,null,null,null,null,null,null,null,null,null,null,null,null,null,null,null,null,null,null,null,null,null,null,null,null,null,null,null,null,null,null,null,null,null,null,null,null,null,null,null,null,null,null,null,{"$f":"INDEX('Fixture Descriptions'!A:K,MATCH('Inspection Form'!H871,'Fixture Descriptions'!A:A,0),8)","v":{"$error":"#N/A"}},{"$error":"#N/A"},null,{"$error":"#N/A"},1,null,null,null,{"$f":"IFERROR(IF(AND(INDEX(Inventory!CB:CB,MATCH('Inspection Form'!B871,Inventory!B:B,0))=\"Not Qualified\",INDEX(Inventory!L:L,MATCH('Inspection Form'!B871,Inventory!B:B,0))<>\"\",$Q$5<>\"Pre\"),0,BY871*BZ871), 0)","v":0},null,{"$error":"#DIV/0!"},{"$error":"#DIV/0!"},868]
[null,870,null,null,null,null,null,null,null,null,null,null,null,null,null,null,null,null,null,null,null,null,null,null,null,null,null,null,null,null,null,null,null,null,null,null,null,null,null,null,null,null,null,null,null,null,null,null,null,null,null,null,null,null,null,null,null,null,null,null,null,null,null,null,null,null,null,null,null,null,null,null,null,{"$f":"INDEX('Fixture Descriptions'!A:K,MATCH('Inspection Form'!H874,'Fixture Descriptions'!A:A,0),8)","v":{"$error":"#N/A"}},{"$error":"#N/A"},null,{"$error":"#N/A"},1,null,null,null,{"$f":"IFERROR(IF(AND(INDEX(Inventory!CB:CB,MATCH('Inspection Form'!B874,Inventory!B:B,0))=\"Not Qualified\",INDEX(Inventory!L:L,MATCH('Inspection Form'!B874,Inventory!B:B,0))<>\"\",$Q$5<>\"Pre\"),0,BY874*BZ874), 0)","v":0},null,{"$error":"#DIV/0!"},{"$error":"#DIV/0!"},871]
[null,871,null,null,null,null,null,null,null,null,null,null,null,null,null,null,null,null,null,null,null,null,null,null,null,null,null,null,null,null,null,null,null,null,null,null,null,null,null,null,null,null,null,null,null,null,null,null,null,null,null,null,null,null,null,null,null,null,null,null,null,null,null,null,null,null,null,null,null,null,null,null,null,{"$f":"INDEX('Fixture Descriptions'!A:K,MATCH('Inspection Form'!H875,'Fixture Descriptions'!A:A,0),8)","v":{"$error":"#N/A"}},{"$error":"#N/A"},null,{"$error":"#N/A"},1,null,null,null,{"$f":"IFERROR(IF(AND(INDEX(Inventory!CB:CB,MATCH('Inspection Form'!B875,Inventory!B:B,0))=\"Not Qualified\",INDEX(Inventory!L:L,MATCH('Inspection Form'!B875,Inventory!B:B,0))<>\"\",$Q$5<>\"Pre\"),0,BY875*BZ875), 0)","v":0},null,{"$error":"#DIV/0!"},{"$error":"#DIV/0!"},872]
[null,873,null,null,null,null,null,null,null,null,null,null,null,null,null,null,null,null,null,null,null,null,null,null,null,null,null,null,null,null,null,null,null,null,null,null,null,null,null,null,null,null,null,null,null,null,null,null,null,null,null,null,null,null,null,null,null,null,null,null,null,null,null,null,null,null,null,null,null,null,null,null,null,{"$f":"INDEX('Fixture Descriptions'!A:K,MATCH('Inspection Form'!H877,'Fixture Descriptions'!A:A,0),8)","v":{"$error":"#N/A"}},{"$error":"#N/A"},null,{"$error":"#N/A"},1,null,null,null,{"$f":"IFERROR(IF(AND(INDEX(Inventory!CB:CB,MATCH('Inspection Form'!B877,Inventory!B:B,0))=\"Not Qualified\",INDEX(Inventory!L:L,MATCH('Inspection Form'!B877,Inventory!B:B,0))<>\"\",$Q$5<>\"Pre\"),0,BY877*BZ877), 0)","v":0},null,{"$error":"#DIV/0!"},{"$error":"#DIV/0!"},874]
[null,874,null,null,null,null,null,null,null,null,null,null,null,null,null,null,null,null,null,null,null,null,null,null,null,null,null,null,null,null,null,null,null,null,null,null,null,null,null,null,null,null,null,null,null,null,null,null,null,null,null,null,null,null,null,null,null,null,null,null,null,null,null,null,null,null,null,null,null,null,null,null,null,{"$f":"INDEX('Fixture Descriptions'!A:K,MATCH('Inspection Form'!H878,'Fixture Descriptions'!A:A,0),8)","v":{"$error":"#N/A"}},{"$error":"#N/A"},null,{"$error":"#N/A"},1,null,null,null,{"$f":"IFERROR(IF(AND(INDEX(Inventory!CB:CB,MATCH('Inspection Form'!B878,Inventory!B:B,0))=\"Not Qualified\",INDEX(Inventory!L:L,MATCH('Inspection Form'!B878,Inventory!B:B,0))<>\"\",$Q$5<>\"Pre\"),0,BY878*BZ878), 0)","v":0},null,{"$error":"#DIV/0!"},{"$error":"#DIV/0!"},875]
[null,877,null,null,null,null,null,null,null,null,null,null,null,null,null,null,null,null,null,null,null,null,null,null,null,null,null,null,null,null,null,null,null,null,null,null,null,null,null,null,null,null,null,null,null,null,null,null,null,null,null,null,null,null,null,null,null,null,null,null,null,null,null,null,null,null,null,null,null,null,null,null,null,{"$f":"INDEX('Fixture Descriptions'!A:K,MATCH('Inspection Form'!H881,'Fixture Descriptions'!A:A,0),8)","v":{"$error":"#N/A"}},{"$error":"#N/A"},null,{"$error":"#N/A"},1,null,null,null,{"$f":"IFERROR(IF(AND(INDEX(Inventory!CB:CB,MATCH('Inspection Form'!B881,Inventory!B:B,0))=\"Not Qualified\",INDEX(Inventory!L:L,MATCH('Inspection Form'!B881,Inventory!B:B,0))<>\"\",$Q$5<>\"Pre\"),0,BY881*BZ881), 0)","v":0},null,{"$error":"#DIV/0!"},{"$error":"#DIV/0!"},878]
[null,878,null,null,null,null,null,null,null,null,null,null,null,null,null,null,null,null,null,null,null,null,null,null,null,null,null,null,null,null,null,null,null,null,null,null,null,null,null,null,null,null,null,null,null,null,null,null,null,null,null,null,null,null,null,null,null,null,null,null,null,null,null,null,null,null,null,null,null,null,null,null,null,{"$f":"INDEX('Fixture Descriptions'!A:K,MATCH('Inspection Form'!H882,'Fixture Descriptions'!A:A,0),8)","v":{"$error":"#N/A"}},{"$error":"#N/A"},null,{"$error":"#N/A"},1,null,null,null,{"$f":"IFERROR(IF(AND(INDEX(Inventory!CB:CB,MATCH('Inspection Form'!B882,Inventory!B:B,0))=\"Not Qualified\",INDEX(Inventory!L:L,MATCH('Inspection Form'!B882,Inventory!B:B,0))<>\"\",$Q$5<>\"Pre\"),0,BY882*BZ882), 0)","v":0},null,{"$error":"#DIV/0!"},{"$error":"#DIV/0!"},879]
[null,881,null,null,null,null,null,null,null,null,null,null,null,null,null,null,null,null,null,null,null,null,null,null,null,null,null,null,null,null,null,null,null,null,null,null,null,null,null,null,null,null,null,null,null,null,null,null,null,null,null,null,null,null,null,null,null,null,null,null,null,null,null,null,null,null,null,null,null,null,null,null,null,{"$f":"INDEX('Fixture Descriptions'!A:K,MATCH('Inspection Form'!H885,'Fixture Descriptions'!A:A,0),8)","v":{"$error":"#N/A"}},{"$error":"#N/A"},null,{"$error":"#N/A"},1,null,null,null,{"$f":"IFERROR(IF(AND(INDEX(Inventory!CB:CB,MATCH('Inspection Form'!B885,Inventory!B:B,0))=\"Not Qualified\",INDEX(Inventory!L:L,MATCH('Inspection Form'!B885,Inventory!B:B,0))<>\"\",$Q$5<>\"Pre\"),0,BY885*BZ885), 0)","v":0},null,{"$error":"#DIV/0!"},{"$error":"#DIV/0!"},882]
[null,882,null,null,null,null,null,null,null,null,null,null,null,null,null,null,null,null,null,null,null,null,null,null,null,null,null,null,null,null,null,null,null,null,null,null,null,null,null,null,null,null,null,null,null,null,null,null,null,null,null,null,null,null,null,null,null,null,null,null,null,null,null,null,null,null,null,null,null,null,null,null,null,{"$f":"INDEX('Fixture Descriptions'!A:K,MATCH('Inspection Form'!H886,'Fixture Descriptions'!A:A,0),8)","v":{"$error":"#N/A"}},{"$error":"#N/A"},null,{"$error":"#N/A"},1,null,null,null,{"$f":"IFERROR(IF(AND(INDEX(Inventory!CB:CB,MATCH('Inspection Form'!B886,Inventory!B:B,0))=\"Not Qualified\",INDEX(Inventory!L:L,MATCH('Inspection Form'!B886,Inventory!B:B,0))<>\"\",$Q$5<>\"Pre\"),0,BY886*BZ886), 0)","v":0},null,{"$error":"#DIV/0!"},{"$error":"#DIV/0!"},883]
[null,884,null,null,null,null,null,null,null,null,null,null,null,null,null,null,null,null,null,null,null,null,null,null,null,null,null,null,null,null,null,null,null,null,null,null,null,null,null,null,null,null,null,null,null,null,null,null,null,null,null,null,null,null,null,null,null,null,null,null,null,null,null,null,null,null,null,null,null,null,null,null,null,{"$f":"INDEX('Fixture Descriptions'!A:K,MATCH('Inspection Form'!H888,'Fixture Descriptions'!A:A,0),8)","v":{"$error":"#N/A"}},{"$error":"#N/A"},null,{"$error":"#N/A"},1,null,null,null,{"$f":"IFERROR(IF(AND(INDEX(Inventory!CB:CB,MATCH('Inspection Form'!B888,Inventory!B:B,0))=\"Not Qualified\",INDEX(Inventory!L:L,MATCH('Inspection Form'!B888,Inventory!B:B,0))<>\"\",$Q$5<>\"Pre\"),0,BY888*BZ888), 0)","v":0},null,{"$error":"#DIV/0!"},{"$error":"#DIV/0!"},885]
[null,885,null,null,null,null,null,null,null,null,null,null,null,null,null,null,null,null,null,null,null,null,null,null,null,null,null,null,null,null,null,null,null,null,null,null,null,null,null,null,null,null,null,null,null,null,null,null,null,null,null,null,null,null,null,null,null,null,null,null,null,null,null,null,null,null,null,null,null,null,null,null,null,{"$f":"INDEX('Fixture Descriptions'!A:K,MATCH('Inspection Form'!H889,'Fixture Descriptions'!A:A,0),8)","v":{"$error":"#N/A"}},{"$error":"#N/A"},null,{"$error":"#N/A"},1,null,null,null,{"$f":"IFERROR(IF(AND(INDEX(Inventory!CB:CB,MATCH('Inspection Form'!B889,Inventory!B:B,0))=\"Not Qualified\",INDEX(Inventory!L:L,MATCH('Inspection Form'!B889,Inventory!B:B,0))<>\"\",$Q$5<>\"Pre\"),0,BY889*BZ889), 0)","v":0},null,{"$error":"#DIV/0!"},{"$error":"#DIV/0!"},886]
[null,888,null,null,null,null,null,null,null,null,null,null,null,null,null,null,null,null,null,null,null,null,null,null,null,null,null,null,null,null,null,null,null,null,null,null,null,null,null,null,null,null,null,null,null,null,null,null,null,null,null,null,null,null,null,null,null,null,null,null,null,null,null,null,null,null,null,null,null,null,null,null,null,{"$f":"INDEX('Fixture Descriptions'!A:K,MATCH('Inspection Form'!H892,'Fixture Descriptions'!A:A,0),8)","v":{"$error":"#N/A"}},{"$error":"#N/A"},null,{"$error":"#N/A"},1,null,null,null,{"$f":"IFERROR(IF(AND(INDEX(Inventory!CB:CB,MATCH('Inspection Form'!B892,Inventory!B:B,0))=\"Not Qualified\",INDEX(Inventory!L:L,MATCH('Inspection Form'!B892,Inventory!B:B,0))<>\"\",$Q$5<>\"Pre\"),0,BY892*BZ892), 0)","v":0},null,{"$error":"#DIV/0!"},{"$error":"#DIV/0!"},889]
[null,889,null,null,null,null,null,null,null,null,null,null,null,null,null,null,null,null,null,null,null,null,null,null,null,null,null,null,null,null,null,null,null,null,null,null,null,null,null,null,null,null,null,null,null,null,null,null,null,null,null,null,null,null,null,null,null,null,null,null,null,null,null,null,null,null,null,null,null,null,null,null,null,{"$f":"INDEX('Fixture Descriptions'!A:K,MATCH('Inspection Form'!H893,'Fixture Descriptions'!A:A,0),8)","v":{"$error":"#N/A"}},{"$error":"#N/A"},null,{"$error":"#N/A"},1,null,null,null,{"$f":"IFERROR(IF(AND(INDEX(Inventory!CB:CB,MATCH('Inspection Form'!B893,Inventory!B:B,0))=\"Not Qualified\",INDEX(Inventory!L:L,MATCH('Inspection Form'!B893,Inventory!B:B,0))<>\"\",$Q$5<>\"Pre\"),0,BY893*BZ893), 0)","v":0},null,{"$error":"#DIV/0!"},{"$error":"#DIV/0!"},890]
[null,891,null,null,null,null,null,null,null,null,null,null,null,null,null,null,null,null,null,null,null,null,null,null,null,null,null,null,null,null,null,null,null,null,null,null,null,null,null,null,null,null,null,null,null,null,null,null,null,null,null,null,null,null,null,null,null,null,null,null,null,null,null,null,null,null,null,null,null,null,null,null,null,{"$f":"INDEX('Fixture Descriptions'!A:K,MATCH('Inspection Form'!H895,'Fixture Descriptions'!A:A,0),8)","v":{"$error":"#N/A"}},{"$error":"#N/A"},null,{"$error":"#N/A"},1,null,null,null,{"$f":"IFERROR(IF(AND(INDEX(Inventory!CB:CB,MATCH('Inspection Form'!B895,Inventory!B:B,0))=\"Not Qualified\",INDEX(Inventory!L:L,MATCH('Inspection Form'!B895,Inventory!B:B,0))<>\"\",$Q$5<>\"Pre\"),0,BY895*BZ895), 0)","v":0},null,{"$error":"#DIV/0!"},{"$error":"#DIV/0!"},892]
[null,892,null,null,null,null,null,null,null,null,null,null,null,null,null,null,null,null,null,null,null,null,null,null,null,null,null,null,null,null,null,null,null,null,null,null,null,null,null,null,null,null,null,null,null,null,null,null,null,null,null,null,null,null,null,null,null,null,null,null,null,null,null,null,null,null,null,null,null,null,null,null,null,{"$f":"INDEX('Fixture Descriptions'!A:K,MATCH('Inspection Form'!H896,'Fixture Descriptions'!A:A,0),8)","v":{"$error":"#N/A"}},{"$error":"#N/A"},null,{"$error":"#N/A"},1,null,null,null,{"$f":"IFERROR(IF(AND(INDEX(Inventory!CB:CB,MATCH('Inspection Form'!B896,Inventory!B:B,0))=\"Not Qualified\",INDEX(Inventory!L:L,MATCH('Inspection Form'!B896,Inventory!B:B,0))<>\"\",$Q$5<>\"Pre\"),0,BY896*BZ896), 0)","v":0},null,{"$error":"#DIV/0!"},{"$error":"#DIV/0!"},893]
[null,895,null,null,null,null,null,null,null,null,null,null,null,null,null,null,null,null,null,null,null,null,null,null,null,null,null,null,null,null,null,null,null,null,null,null,null,null,null,null,null,null,null,null,null,null,null,null,null,null,null,null,null,null,null,null,null,null,null,null,null,null,null,null,null,null,null,null,null,null,null,null,null,{"$f":"INDEX('Fixture Descriptions'!A:K,MATCH('Inspection Form'!H899,'Fixture Descriptions'!A:A,0),8)","v":{"$error":"#N/A"}},{"$error":"#N/A"},null,{"$error":"#N/A"},1,null,null,null,{"$f":"IFERROR(IF(AND(INDEX(Inventory!CB:CB,MATCH('Inspection Form'!B899,Inventory!B:B,0))=\"Not Qualified\",INDEX(Inventory!L:L,MATCH('Inspection Form'!B899,Inventory!B:B,0))<>\"\",$Q$5<>\"Pre\"),0,BY899*BZ899), 0)","v":0},null,{"$error":"#DIV/0!"},{"$error":"#DIV/0!"},896]
[null,896,null,null,null,null,null,null,null,null,null,null,null,null,null,null,null,null,null,null,null,null,null,null,null,null,null,null,null,null,null,null,null,null,null,null,null,null,null,null,null,null,null,null,null,null,null,null,null,null,null,null,null,null,null,null,null,null,null,null,null,null,null,null,null,null,null,null,null,null,null,null,null,{"$f":"INDEX('Fixture Descriptions'!A:K,MATCH('Inspection Form'!H900,'Fixture Descriptions'!A:A,0),8)","v":{"$error":"#N/A"}},{"$error":"#N/A"},null,{"$error":"#N/A"},1,null,null,null,{"$f":"IFERROR(IF(AND(INDEX(Inventory!CB:CB,MATCH('Inspection Form'!B900,Inventory!B:B,0))=\"Not Qualified\",INDEX(Inventory!L:L,MATCH('Inspection Form'!B900,Inventory!B:B,0))<>\"\",$Q$5<>\"Pre\"),0,BY900*BZ900), 0)","v":0},null,{"$error":"#DIV/0!"},{"$error":"#DIV/0!"},897]
[null,898,null,null,null,null,null,null,null,null,null,null,null,null,null,null,null,null,null,null,null,null,null,null,null,null,null,null,null,null,null,null,null,null,null,null,null,null,null,null,null,null,null,null,null,null,null,null,null,null,null,null,null,null,null,null,null,null,null,null,null,null,null,null,null,null,null,null,null,null,null,null,null,{"$f":"INDEX('Fixture Descriptions'!A:K,MATCH('Inspection Form'!H902,'Fixture Descriptions'!A:A,0),8)","v":{"$error":"#N/A"}},{"$error":"#N/A"},null,{"$f":"BW902","v":{"$error":"#N/A"}},1,null,null,null,{"$f":"IFERROR(IF(AND(INDEX(Inventory!CB:CB,MATCH('Inspection Form'!B902,Inventory!B:B,0))=\"Not Qualified\",INDEX(Inventory!L:L,MATCH('Inspection Form'!B902,Inventory!B:B,0))<>\"\",$Q$5<>\"Pre\"),0,BY902*BZ902), 0)","v":0},null,{"$error":"#DIV/0!"},{"$error":"#DIV/0!"},899]
[null,899,null,null,null,null,null,null,null,null,null,null,null,null,null,null,null,null,null,null,null,null,null,null,null,null,null,null,null,null,null,null,null,null,null,null,null,null,null,null,null,null,null,null,null,null,null,null,null,null,null,null,null,null,null,null,null,null,null,null,null,null,null,null,null,null,null,null,null,null,null,null,null,{"$f":"INDEX('Fixture Descriptions'!A:K,MATCH('Inspection Form'!H903,'Fixture Descriptions'!A:A,0),8)","v":{"$error":"#N/A"}},{"$error":"#N/A"},null,{"$error":"#N/A"},1,null,null,null,{"$f":"IFERROR(IF(AND(INDEX(Inventory!CB:CB,MATCH('Inspection Form'!B903,Inventory!B:B,0))=\"Not Qualified\",INDEX(Inventory!L:L,MATCH('Inspection Form'!B903,Inventory!B:B,0))<>\"\",$Q$5<>\"Pre\"),0,BY903*BZ903), 0)","v":0},null,{"$error":"#DIV/0!"},{"$error":"#DIV/0!"},900]
[null,902,null,null,null,null,null,null,null,null,null,null,null,null,null,null,null,null,null,null,null,null,null,null,null,null,null,null,null,null,null,null,null,null,null,null,null,null,null,null,null,null,null,null,null,null,null,null,null,null,null,null,null,null,null,null,null,null,null,null,null,null,null,null,null,null,null,null,null,null,null,null,null,{"$f":"INDEX('Fixture Descriptions'!A:K,MATCH('Inspection Form'!H906,'Fixture Descriptions'!A:A,0),8)","v":{"$error":"#N/A"}},{"$error":"#N/A"},null,{"$error":"#N/A"},1,null,null,null,{"$f":"IFERROR(IF(AND(INDEX(Inventory!CB:CB,MATCH('Inspection Form'!B906,Inventory!B:B,0))=\"Not Qualified\",INDEX(Inventory!L:L,MATCH('Inspection Form'!B906,Inventory!B:B,0))<>\"\",$Q$5<>\"Pre\"),0,BY906*BZ906), 0)","v":0},null,{"$error":"#DIV/0!"},{"$error":"#DIV/0!"},903]
[null,903,null,null,null,null,null,null,null,null,null,null,null,null,null,null,null,null,null,null,null,null,null,null,null,null,null,null,null,null,null,null,null,null,null,null,null,null,null,null,null,null,null,null,null,null,null,null,null,null,null,null,null,null,null,null,null,null,null,null,null,null,null,null,null,null,null,null,null,null,null,null,null,{"$f":"INDEX('Fixture Descriptions'!A:K,MATCH('Inspection Form'!H907,'Fixture Descriptions'!A:A,0),8)","v":{"$error":"#N/A"}},{"$error":"#N/A"},null,{"$error":"#N/A"},1,null,null,null,{"$f":"IFERROR(IF(AND(INDEX(Inventory!CB:CB,MATCH('Inspection Form'!B907,Inventory!B:B,0))=\"Not Qualified\",INDEX(Inventory!L:L,MATCH('Inspection Form'!B907,Inventory!B:B,0))<>\"\",$Q$5<>\"Pre\"),0,BY907*BZ907), 0)","v":0},null,{"$error":"#DIV/0!"},{"$error":"#DIV/0!"},904]
[null,905,null,null,null,null,null,null,null,null,null,null,null,null,null,null,null,null,null,null,null,null,null,null,null,null,null,null,null,null,null,null,null,null,null,null,null,null,null,null,null,null,null,null,null,null,null,null,null,null,null,null,null,null,null,null,null,null,null,null,null,null,null,null,null,null,null,null,null,null,null,null,null,{"$f":"INDEX('Fixture Descriptions'!A:K,MATCH('Inspection Form'!H909,'Fixture Descriptions'!A:A,0),8)","v":{"$error":"#N/A"}},{"$error":"#N/A"},null,{"$error":"#N/A"},1,null,null,null,{"$f":"IFERROR(IF(AND(INDEX(Inventory!CB:CB,MATCH('Inspection Form'!B909,Inventory!B:B,0))=\"Not Qualified\",INDEX(Inventory!L:L,MATCH('Inspection Form'!B909,Inventory!B:B,0))<>\"\",$Q$5<>\"Pre\"),0,BY909*BZ909), 0)","v":0},null,{"$error":"#DIV/0!"},{"$error":"#DIV/0!"},906]
[null,906,null,null,null,null,null,null,null,null,null,null,null,null,null,null,null,null,null,null,null,null,null,null,null,null,null,null,null,null,null,null,null,null,null,null,null,null,null,null,null,null,null,null,null,null,null,null,null,null,null,null,null,null,null,null,null,null,null,null,null,null,null,null,null,null,null,null,null,null,null,null,null,{"$f":"INDEX('Fixture Descriptions'!A:K,MATCH('Inspection Form'!H910,'Fixture Descriptions'!A:A,0),8)","v":{"$error":"#N/A"}},{"$error":"#N/A"},null,{"$error":"#N/A"},1,null,null,null,{"$f":"IFERROR(IF(AND(INDEX(Inventory!CB:CB,MATCH('Inspection Form'!B910,Inventory!B:B,0))=\"Not Qualified\",INDEX(Inventory!L:L,MATCH('Inspection Form'!B910,Inventory!B:B,0))<>\"\",$Q$5<>\"Pre\"),0,BY910*BZ910), 0)","v":0},null,{"$error":"#DIV/0!"},{"$error":"#DIV/0!"},907]
[null,909,null,null,null,null,null,null,null,null,null,null,null,null,null,null,null,null,null,null,null,null,null,null,null,null,null,null,null,null,null,null,null,null,null,null,null,null,null,null,null,null,null,null,null,null,null,null,null,null,null,null,null,null,null,null,null,null,null,null,null,null,null,null,null,null,null,null,null,null,null,null,null,{"$f":"INDEX('Fixture Descriptions'!A:K,MATCH('Inspection Form'!H913,'Fixture Descriptions'!A:A,0),8)","v":{"$error":"#N/A"}},{"$error":"#N/A"},null,{"$error":"#N/A"},1,null,null,null,{"$f":"IFERROR(IF(AND(INDEX(Inventory!CB:CB,MATCH('Inspection Form'!B913,Inventory!B:B,0))=\"Not Qualified\",INDEX(Inventory!L:L,MATCH('Inspection Form'!B913,Inventory!B:B,0))<>\"\",$Q$5<>\"Pre\"),0,BY913*BZ913), 0)","v":0},null,{"$error":"#DIV/0!"},{"$error":"#DIV/0!"},910]
[null,910,null,null,null,null,null,null,null,null,null,null,null,null,null,null,null,null,null,null,null,null,null,null,null,null,null,null,null,null,null,null,null,null,null,null,null,null,null,null,null,null,null,null,null,null,null,null,null,null,null,null,null,null,null,null,null,null,null,null,null,null,null,null,null,null,null,null,null,null,null,null,null,{"$f":"INDEX('Fixture Descriptions'!A:K,MATCH('Inspection Form'!H914,'Fixture Descriptions'!A:A,0),8)","v":{"$error":"#N/A"}},{"$error":"#N/A"},null,{"$error":"#N/A"},1,null,null,null,{"$f":"IFERROR(IF(AND(INDEX(Inventory!CB:CB,MATCH('Inspection Form'!B914,Inventory!B:B,0))=\"Not Qualified\",INDEX(Inventory!L:L,MATCH('Inspection Form'!B914,Inventory!B:B,0))<>\"\",$Q$5<>\"Pre\"),0,BY914*BZ914), 0)","v":0},null,{"$error":"#DIV/0!"},{"$error":"#DIV/0!"},911]
[null,912,null,null,null,null,null,null,null,null,null,null,null,null,null,null,null,null,null,null,null,null,null,null,null,null,null,null,null,null,null,null,null,null,null,null,null,null,null,null,null,null,null,null,null,null,null,null,null,null,null,null,null,null,null,null,null,null,null,null,null,null,null,null,null,null,null,null,null,null,null,null,null,{"$f":"INDEX('Fixture Descriptions'!A:K,MATCH('Inspection Form'!H916,'Fixture Descriptions'!A:A,0),8)","v":{"$error":"#N/A"}},{"$error":"#N/A"},null,{"$error":"#N/A"},1,null,null,null,{"$f":"IFERROR(IF(AND(INDEX(Inventory!CB:CB,MATCH('Inspection Form'!B916,Inventory!B:B,0))=\"Not Qualified\",INDEX(Inventory!L:L,MATCH('Inspection Form'!B916,Inventory!B:B,0))<>\"\",$Q$5<>\"Pre\"),0,BY916*BZ916), 0)","v":0},null,{"$error":"#DIV/0!"},{"$error":"#DIV/0!"},913]
[null,913,null,null,null,null,null,null,null,null,null,null,null,null,null,null,null,null,null,null,null,null,null,null,null,null,null,null,null,null,null,null,null,null,null,null,null,null,null,null,null,null,null,null,null,null,null,null,null,null,null,null,null,null,null,null,null,null,null,null,null,null,null,null,null,null,null,null,null,null,null,null,null,{"$f":"INDEX('Fixture Descriptions'!A:K,MATCH('Inspection Form'!H917,'Fixture Descriptions'!A:A,0),8)","v":{"$error":"#N/A"}},{"$error":"#N/A"},null,{"$error":"#N/A"},1,null,null,null,{"$f":"IFERROR(IF(AND(INDEX(Inventory!CB:CB,MATCH('Inspection Form'!B917,Inventory!B:B,0))=\"Not Qualified\",INDEX(Inventory!L:L,MATCH('Inspection Form'!B917,Inventory!B:B,0))<>\"\",$Q$5<>\"Pre\"),0,BY917*BZ917), 0)","v":0},null,{"$error":"#DIV/0!"},{"$error":"#DIV/0!"},914]
[null,916,null,null,null,null,null,null,null,null,null,null,null,null,null,null,null,null,null,null,null,null,null,null,null,null,null,null,null,null,null,null,null,null,null,null,null,null,null,null,null,null,null,null,null,null,null,null,null,null,null,null,null,null,null,null,null,null,null,null,null,null,null,null,null,null,null,null,null,null,null,null,null,{"$f":"INDEX('Fixture Descriptions'!A:K,MATCH('Inspection Form'!H920,'Fixture Descriptions'!A:A,0),8)","v":{"$error":"#N/A"}},{"$error":"#N/A"},null,{"$error":"#N/A"},1,null,null,null,{"$f":"IFERROR(IF(AND(INDEX(Inventory!CB:CB,MATCH('Inspection Form'!B920,Inventory!B:B,0))=\"Not Qualified\",INDEX(Inventory!L:L,MATCH('Inspection Form'!B920,Inventory!B:B,0))<>\"\",$Q$5<>\"Pre\"),0,BY920*BZ920), 0)","v":0},null,{"$error":"#DIV/0!"},{"$error":"#DIV/0!"},917]
[null,917,null,null,null,null,null,null,null,null,null,null,null,null,null,null,null,null,null,null,null,null,null,null,null,null,null,null,null,null,null,null,null,null,null,null,null,null,null,null,null,null,null,null,null,null,null,null,null,null,null,null,null,null,null,null,null,null,null,null,null,null,null,null,null,null,null,null,null,null,null,null,null,{"$f":"INDEX('Fixture Descriptions'!A:K,MATCH('Inspection Form'!H921,'Fixture Descriptions'!A:A,0),8)","v":{"$error":"#N/A"}},{"$error":"#N/A"},null,{"$error":"#N/A"},1,null,null,null,{"$f":"IFERROR(IF(AND(INDEX(Inventory!CB:CB,MATCH('Inspection Form'!B921,Inventory!B:B,0))=\"Not Qualified\",INDEX(Inventory!L:L,MATCH('Inspection Form'!B921,Inventory!B:B,0))<>\"\",$Q$5<>\"Pre\"),0,BY921*BZ921), 0)","v":0},null,{"$error":"#DIV/0!"},{"$error":"#DIV/0!"},918]
[null,919,null,null,null,null,null,null,null,null,null,null,null,null,null,null,null,null,null,null,null,null,null,null,null,null,null,null,null,null,null,null,null,null,null,null,null,null,null,null,null,null,null,null,null,null,null,null,null,null,null,null,null,null,null,null,null,null,null,null,null,null,null,null,null,null,null,null,null,null,null,null,null,{"$f":"INDEX('Fixture Descriptions'!A:K,MATCH('Inspection Form'!H923,'Fixture Descriptions'!A:A,0),8)","v":{"$error":"#N/A"}},{"$error":"#N/A"},null,{"$error":"#N/A"},1,null,null,null,{"$f":"IFERROR(IF(AND(INDEX(Inventory!CB:CB,MATCH('Inspection Form'!B923,Inventory!B:B,0))=\"Not Qualified\",INDEX(Inventory!L:L,MATCH('Inspection Form'!B923,Inventory!B:B,0))<>\"\",$Q$5<>\"Pre\"),0,BY923*BZ923), 0)","v":0},null,{"$error":"#DIV/0!"},{"$error":"#DIV/0!"},920]
[null,920,null,null,null,null,null,null,null,null,null,null,null,null,null,null,null,null,null,null,null,null,null,null,null,null,null,null,null,null,null,null,null,null,null,null,null,null,null,null,null,null,null,null,null,null,null,null,null,null,null,null,null,null,null,null,null,null,null,null,null,null,null,null,null,null,null,null,null,null,null,null,null,{"$f":"INDEX('Fixture Descriptions'!A:K,MATCH('Inspection Form'!H924,'Fixture Descriptions'!A:A,0),8)","v":{"$error":"#N/A"}},{"$error":"#N/A"},null,{"$error":"#N/A"},1,null,null,null,{"$f":"IFERROR(IF(AND(INDEX(Inventory!CB:CB,MATCH('Inspection Form'!B924,Inventory!B:B,0))=\"Not Qualified\",INDEX(Inventory!L:L,MATCH('Inspection Form'!B924,Inventory!B:B,0))<>\"\",$Q$5<>\"Pre\"),0,BY924*BZ924), 0)","v":0},null,{"$error":"#DIV/0!"},{"$error":"#DIV/0!"},921]
[null,923,null,null,null,null,null,null,null,null,null,null,null,null,null,null,null,null,null,null,null,null,null,null,null,null,null,null,null,null,null,null,null,null,null,null,null,null,null,null,null,null,null,null,null,null,null,null,null,null,null,null,null,null,null,null,null,null,null,null,null,null,null,null,null,null,null,null,null,null,null,null,null,{"$f":"INDEX('Fixture Descriptions'!A:K,MATCH('Inspection Form'!H927,'Fixture Descriptions'!A:A,0),8)","v":{"$error":"#N/A"}},{"$error":"#N/A"},null,{"$error":"#N/A"},1,null,null,null,{"$f":"IFERROR(IF(AND(INDEX(Inventory!CB:CB,MATCH('Inspection Form'!B927,Inventory!B:B,0))=\"Not Qualified\",INDEX(Inventory!L:L,MATCH('Inspection Form'!B927,Inventory!B:B,0))<>\"\",$Q$5<>\"Pre\"),0,BY927*BZ927), 0)","v":0},null,{"$error":"#DIV/0!"},{"$error":"#DIV/0!"},924]
[null,924,null,null,null,null,null,null,null,null,null,null,null,null,null,null,null,null,null,null,null,null,null,null,null,null,null,null,null,null,null,null,null,null,null,null,null,null,null,null,null,null,null,null,null,null,null,null,null,null,null,null,null,null,null,null,null,null,null,null,null,null,null,null,null,null,null,null,null,null,null,null,null,{"$f":"INDEX('Fixture Descriptions'!A:K,MATCH('Inspection Form'!H928,'Fixture Descriptions'!A:A,0),8)","v":{"$error":"#N/A"}},{"$error":"#N/A"},null,{"$error":"#N/A"},1,null,null,null,{"$f":"IFERROR(IF(AND(INDEX(Inventory!CB:CB,MATCH('Inspection Form'!B928,Inventory!B:B,0))=\"Not Qualified\",INDEX(Inventory!L:L,MATCH('Inspection Form'!B928,Inventory!B:B,0))<>\"\",$Q$5<>\"Pre\"),0,BY928*BZ928), 0)","v":0},null,{"$error":"#DIV/0!"},{"$error":"#DIV/0!"},925]
[null,926,null,null,null,null,null,null,null,null,null,null,null,null,null,null,null,null,null,null,null,null,null,null,null,null,null,null,null,null,null,null,null,null,null,null,null,null,null,null,null,null,null,null,null,null,null,null,null,null,null,null,null,null,null,null,null,null,null,null,null,null,null,null,null,null,null,null,null,null,null,null,null,{"$f":"INDEX('Fixture Descriptions'!A:K,MATCH('Inspection Form'!H930,'Fixture Descriptions'!A:A,0),8)","v":{"$error":"#N/A"}},{"$error":"#N/A"},null,{"$error":"#N/A"},1,null,null,null,{"$f":"IFERROR(IF(AND(INDEX(Inventory!CB:CB,MATCH('Inspection Form'!B930,Inventory!B:B,0))=\"Not Qualified\",INDEX(Inventory!L:L,MATCH('Inspection Form'!B930,Inventory!B:B,0))<>\"\",$Q$5<>\"Pre\"),0,BY930*BZ930), 0)","v":0},null,{"$error":"#DIV/0!"},{"$error":"#DIV/0!"},927]
[null,927,null,null,null,null,null,null,null,null,null,null,null,null,null,null,null,null,null,null,null,null,null,null,null,null,null,null,null,null,null,null,null,null,null,null,null,null,null,null,null,null,null,null,null,null,null,null,null,null,null,null,null,null,null,null,null,null,null,null,null,null,null,null,null,null,null,null,null,null,null,null,null,{"$f":"INDEX('Fixture Descriptions'!A:K,MATCH('Inspection Form'!H931,'Fixture Descriptions'!A:A,0),8)","v":{"$error":"#N/A"}},{"$error":"#N/A"},null,{"$error":"#N/A"},1,null,null,null,{"$f":"IFERROR(IF(AND(INDEX(Inventory!CB:CB,MATCH('Inspection Form'!B931,Inventory!B:B,0))=\"Not Qualified\",INDEX(Inventory!L:L,MATCH('Inspection Form'!B931,Inventory!B:B,0))<>\"\",$Q$5<>\"Pre\"),0,BY931*BZ931), 0)","v":0},null,{"$error":"#DIV/0!"},{"$error":"#DIV/0!"},928]
[null,930,null,null,null,null,null,null,null,null,null,null,null,null,null,null,null,null,null,null,null,null,null,null,null,null,null,null,null,null,null,null,null,null,null,null,null,null,null,null,null,null,null,null,null,null,null,null,null,null,null,null,null,null,null,null,null,null,null,null,null,null,null,null,null,null,null,null,null,null,null,null,null,{"$f":"INDEX('Fixture Descriptions'!A:K,MATCH('Inspection Form'!H934,'Fixture Descriptions'!A:A,0),8)","v":{"$error":"#N/A"}},{"$error":"#N/A"},null,{"$error":"#N/A"},1,null,null,null,{"$f":"IFERROR(IF(AND(INDEX(Inventory!CB:CB,MATCH('Inspection Form'!B934,Inventory!B:B,0))=\"Not Qualified\",INDEX(Inventory!L:L,MATCH('Inspection Form'!B934,Inventory!B:B,0))<>\"\",$Q$5<>\"Pre\"),0,BY934*BZ934), 0)","v":0},null,{"$error":"#DIV/0!"},{"$error":"#DIV/0!"},931]
[null,931,null,null,null,null,null,null,null,null,null,null,null,null,null,null,null,null,null,null,null,null,null,null,null,null,null,null,null,null,null,null,null,null,null,null,null,null,null,null,null,null,null,null,null,null,null,null,null,null,null,null,null,null,null,null,null,null,null,null,null,null,null,null,null,null,null,null,null,null,null,null,null,{"$f":"INDEX('Fixture Descriptions'!A:K,MATCH('Inspection Form'!H935,'Fixture Descriptions'!A:A,0),8)","v":{"$error":"#N/A"}},{"$error":"#N/A"},null,{"$error":"#N/A"},1,null,null,null,{"$f":"IFERROR(IF(AND(INDEX(Inventory!CB:CB,MATCH('Inspection Form'!B935,Inventory!B:B,0))=\"Not Qualified\",INDEX(Inventory!L:L,MATCH('Inspection Form'!B935,Inventory!B:B,0))<>\"\",$Q$5<>\"Pre\"),0,BY935*BZ935), 0)","v":0},null,{"$error":"#DIV/0!"},{"$error":"#DIV/0!"},932]
[null,933,null,null,null,null,null,null,null,null,null,null,null,null,null,null,null,null,null,null,null,null,null,null,null,null,null,null,null,null,null,null,null,null,null,null,null,null,null,null,null,null,null,null,null,null,null,null,null,null,null,null,null,null,null,null,null,null,null,null,null,null,null,null,null,null,null,null,null,null,null,null,null,{"$f":"INDEX('Fixture Descriptions'!A:K,MATCH('Inspection Form'!H937,'Fixture Descriptions'!A:A,0),8)","v":{"$error":"#N/A"}},{"$error":"#N/A"},null,{"$error":"#N/A"},1,null,null,null,{"$f":"IFERROR(IF(AND(INDEX(Inventory!CB:CB,MATCH('Inspection Form'!B937,Inventory!B:B,0))=\"Not Qualified\",INDEX(Inventory!L:L,MATCH('Inspection Form'!B937,Inventory!B:B,0))<>\"\",$Q$5<>\"Pre\"),0,BY937*BZ937), 0)","v":0},null,{"$error":"#DIV/0!"},{"$error":"#DIV/0!"},934]
[null,934,null,null,null,null,null,null,null,null,null,null,null,null,null,null,null,null,null,null,null,null,null,null,null,null,null,null,null,null,null,null,null,null,null,null,null,null,null,null,null,null,null,null,null,null,null,null,null,null,null,null,null,null,null,null,null,null,null,null,null,null,null,null,null,null,null,null,null,null,null,null,null,{"$f":"INDEX('Fixture Descriptions'!A:K,MATCH('Inspection Form'!H938,'Fixture Descriptions'!A:A,0),8)","v":{"$error":"#N/A"}},{"$error":"#N/A"},null,{"$error":"#N/A"},1,null,null,null,{"$f":"IFERROR(IF(AND(INDEX(Inventory!CB:CB,MATCH('Inspection Form'!B938,Inventory!B:B,0))=\"Not Qualified\",INDEX(Inventory!L:L,MATCH('Inspection Form'!B938,Inventory!B:B,0))<>\"\",$Q$5<>\"Pre\"),0,BY938*BZ938), 0)","v":0},null,{"$error":"#DIV/0!"},{"$error":"#DIV/0!"},935]
[null,937,null,null,null,null,null,null,null,null,null,null,null,null,null,null,null,null,null,null,null,null,null,null,null,null,null,null,null,null,null,null,null,null,null,null,null,null,null,null,null,null,null,null,null,null,null,null,null,null,null,null,null,null,null,null,null,null,null,null,null,null,null,null,null,null,null,null,null,null,null,null,null,{"$f":"INDEX('Fixture Descriptions'!A:K,MATCH('Inspection Form'!H941,'Fixture Descriptions'!A:A,0),8)","v":{"$error":"#N/A"}},{"$error":"#N/A"},null,{"$error":"#N/A"},1,null,null,null,{"$f":"IFERROR(IF(AND(INDEX(Inventory!CB:CB,MATCH('Inspection Form'!B941,Inventory!B:B,0))=\"Not Qualified\",INDEX(Inventory!L:L,MATCH('Inspection Form'!B941,Inventory!B:B,0))<>\"\",$Q$5<>\"Pre\"),0,BY941*BZ941), 0)","v":0},null,{"$error":"#DIV/0!"},{"$error":"#DIV/0!"},938]
[null,938,null,null,null,null,null,null,null,null,null,null,null,null,null,null,null,null,null,null,null,null,null,null,null,null,null,null,null,null,null,null,null,null,null,null,null,null,null,null,null,null,null,null,null,null,null,null,null,null,null,null,null,null,null,null,null,null,null,null,null,null,null,null,null,null,null,null,null,null,null,null,null,{"$f":"INDEX('Fixture Descriptions'!A:K,MATCH('Inspection Form'!H942,'Fixture Descriptions'!A:A,0),8)","v":{"$error":"#N/A"}},{"$error":"#N/A"},null,{"$error":"#N/A"},1,null,null,null,{"$f":"IFERROR(IF(AND(INDEX(Inventory!CB:CB,MATCH('Inspection Form'!B942,Inventory!B:B,0))=\"Not Qualified\",INDEX(Inventory!L:L,MATCH('Inspection Form'!B942,Inventory!B:B,0))<>\"\",$Q$5<>\"Pre\"),0,BY942*BZ942), 0)","v":0},null,{"$error":"#DIV/0!"},{"$error":"#DIV/0!"},939]
[null,940,null,null,null,null,null,null,null,null,null,null,null,null,null,null,null,null,null,null,null,null,null,null,null,null,null,null,null,null,null,null,null,null,null,null,null,null,null,null,null,null,null,null,null,null,null,null,null,null,null,null,null,null,null,null,null,null,null,null,null,null,null,null,null,null,null,null,null,null,null,null,null,{"$f":"INDEX('Fixture Descriptions'!A:K,MATCH('Inspection Form'!H944,'Fixture Descriptions'!A:A,0),8)","v":{"$error":"#N/A"}},{"$error":"#N/A"},null,{"$error":"#N/A"},1,null,null,null,{"$f":"IFERROR(IF(AND(INDEX(Inventory!CB:CB,MATCH('Inspection Form'!B944,Inventory!B:B,0))=\"Not Qualified\",INDEX(Inventory!L:L,MATCH('Inspection Form'!B944,Inventory!B:B,0))<>\"\",$Q$5<>\"Pre\"),0,BY944*BZ944), 0)","v":0},null,{"$error":"#DIV/0!"},{"$error":"#DIV/0!"},941]
[null,941,null,null,null,null,null,null,null,null,null,null,null,null,null,null,null,null,null,null,null,null,null,null,null,null,null,null,null,null,null,null,null,null,null,null,null,null,null,null,null,null,null,null,null,null,null,null,null,null,null,null,null,null,null,null,null,null,null,null,null,null,null,null,null,null,null,null,null,null,null,null,null,{"$f":"INDEX('Fixture Descriptions'!A:K,MATCH('Inspection Form'!H945,'Fixture Descriptions'!A:A,0),8)","v":{"$error":"#N/A"}},{"$error":"#N/A"},null,{"$error":"#N/A"},1,null,null,null,{"$f":"IFERROR(IF(AND(INDEX(Inventory!CB:CB,MATCH('Inspection Form'!B945,Inventory!B:B,0))=\"Not Qualified\",INDEX(Inventory!L:L,MATCH('Inspection Form'!B945,Inventory!B:B,0))<>\"\",$Q$5<>\"Pre\"),0,BY945*BZ945), 0)","v":0},null,{"$error":"#DIV/0!"},{"$error":"#DIV/0!"},942]
[null,944,null,null,null,null,null,null,null,null,null,null,null,null,null,null,null,null,null,null,null,null,null,null,null,null,null,null,null,null,null,null,null,null,null,null,null,null,null,null,null,null,null,null,null,null,null,null,null,null,null,null,null,null,null,null,null,null,null,null,null,null,null,null,null,null,null,null,null,null,null,null,null,{"$f":"INDEX('Fixture Descriptions'!A:K,MATCH('Inspection Form'!H948,'Fixture Descriptions'!A:A,0),8)","v":{"$error":"#N/A"}},{"$error":"#N/A"},null,{"$error":"#N/A"},1,null,null,null,{"$f":"IFERROR(IF(AND(INDEX(Inventory!CB:CB,MATCH('Inspection Form'!B948,Inventory!B:B,0))=\"Not Qualified\",INDEX(Inventory!L:L,MATCH('Inspection Form'!B948,Inventory!B:B,0))<>\"\",$Q$5<>\"Pre\"),0,BY948*BZ948), 0)","v":0},null,{"$error":"#DIV/0!"},{"$error":"#DIV/0!"},945]
[null,945,null,null,null,null,null,null,null,null,null,null,null,null,null,null,null,null,null,null,null,null,null,null,null,null,null,null,null,null,null,null,null,null,null,null,null,null,null,null,null,null,null,null,null,null,null,null,null,null,null,null,null,null,null,null,null,null,null,null,null,null,null,null,null,null,null,null,null,null,null,null,null,{"$f":"INDEX('Fixture Descriptions'!A:K,MATCH('Inspection Form'!H949,'Fixture Descriptions'!A:A,0),8)","v":{"$error":"#N/A"}},{"$error":"#N/A"},null,{"$error":"#N/A"},1,null,null,null,{"$f":"IFERROR(IF(AND(INDEX(Inventory!CB:CB,MATCH('Inspection Form'!B949,Inventory!B:B,0))=\"Not Qualified\",INDEX(Inventory!L:L,MATCH('Inspection Form'!B949,Inventory!B:B,0))<>\"\",$Q$5<>\"Pre\"),0,BY949*BZ949), 0)","v":0},null,{"$error":"#DIV/0!"},{"$error":"#DIV/0!"},946]
[null,947,null,null,null,null,null,null,null,null,null,null,null,null,null,null,null,null,null,null,null,null,null,null,null,null,null,null,null,null,null,null,null,null,null,null,null,null,null,null,null,null,null,null,null,null,null,null,null,null,null,null,null,null,null,null,null,null,null,null,null,null,null,null,null,null,null,null,null,null,null,null,null,{"$f":"INDEX('Fixture Descriptions'!A:K,MATCH('Inspection Form'!H951,'Fixture Descriptions'!A:A,0),8)","v":{"$error":"#N/A"}},{"$error":"#N/A"},null,{"$error":"#N/A"},1,null,null,null,{"$f":"IFERROR(IF(AND(INDEX(Inventory!CB:CB,MATCH('Inspection Form'!B951,Inventory!B:B,0))=\"Not Qualified\",INDEX(Inventory!L:L,MATCH('Inspection Form'!B951,Inventory!B:B,0))<>\"\",$Q$5<>\"Pre\"),0,BY951*BZ951), 0)","v":0},null,{"$error":"#DIV/0!"},{"$error":"#DIV/0!"},948]
[null,948,null,null,null,null,null,null,null,null,null,null,null,null,null,null,null,null,null,null,null,null,null,null,null,null,null,null,null,null,null,null,null,null,null,null,null,null,null,null,null,null,null,null,null,null,null,null,null,null,null,null,null,null,null,null,null,null,null,null,null,null,null,null,null,null,null,null,null,null,null,null,null,{"$f":"INDEX('Fixture Descriptions'!A:K,MATCH('Inspection Form'!H952,'Fixture Descriptions'!A:A,0),8)","v":{"$error":"#N/A"}},{"$error":"#N/A"},null,{"$error":"#N/A"},1,null,null,null,{"$f":"IFERROR(IF(AND(INDEX(Inventory!CB:CB,MATCH('Inspection Form'!B952,Inventory!B:B,0))=\"Not Qualified\",INDEX(Inventory!L:L,MATCH('Inspection Form'!B952,Inventory!B:B,0))<>\"\",$Q$5<>\"Pre\"),0,BY952*BZ952), 0)","v":0},null,{"$error":"#DIV/0!"},{"$error":"#DIV/0!"},949]
[null,951,null,null,null,null,null,null,null,null,null,null,null,null,null,null,null,null,null,null,null,null,null,null,null,null,null,null,null,null,null,null,null,null,null,null,null,null,null,null,null,null,null,null,null,null,null,null,null,null,null,null,null,null,null,null,null,null,null,null,null,null,null,null,null,null,null,null,null,null,null,null,null,{"$f":"INDEX('Fixture Descriptions'!A:K,MATCH('Inspection Form'!H955,'Fixture Descriptions'!A:A,0),8)","v":{"$error":"#N/A"}},{"$error":"#N/A"},null,{"$error":"#N/A"},1,null,null,null,{"$f":"IFERROR(IF(AND(INDEX(Inventory!CB:CB,MATCH('Inspection Form'!B955,Inventory!B:B,0))=\"Not Qualified\",INDEX(Inventory!L:L,MATCH('Inspection Form'!B955,Inventory!B:B,0))<>\"\",$Q$5<>\"Pre\"),0,BY955*BZ955), 0)","v":0},null,{"$error":"#DIV/0!"},{"$error":"#DIV/0!"},952]
[null,952,null,null,null,null,null,null,null,null,null,null,null,null,null,null,null,null,null,null,null,null,null,null,null,null,null,null,null,null,null,null,null,null,null,null,null,null,null,null,null,null,null,null,null,null,null,null,null,null,null,null,null,null,null,null,null,null,null,null,null,null,null,null,null,null,null,null,null,null,null,null,null,{"$f":"INDEX('Fixture Descriptions'!A:K,MATCH('Inspection Form'!H956,'Fixture Descriptions'!A:A,0),8)","v":{"$error":"#N/A"}},{"$error":"#N/A"},null,{"$error":"#N/A"},1,null,null,null,{"$f":"IFERROR(IF(AND(INDEX(Inventory!CB:CB,MATCH('Inspection Form'!B956,Inventory!B:B,0))=\"Not Qualified\",INDEX(Inventory!L:L,MATCH('Inspection Form'!B956,Inventory!B:B,0))<>\"\",$Q$5<>\"Pre\"),0,BY956*BZ956), 0)","v":0},null,{"$error":"#DIV/0!"},{"$error":"#DIV/0!"},953]
[null,954,null,null,null,null,null,null,null,null,null,null,null,null,null,null,null,null,null,null,null,null,null,null,null,null,null,null,null,null,null,null,null,null,null,null,null,null,null,null,null,null,null,null,null,null,null,null,null,null,null,null,null,null,null,null,null,null,null,null,null,null,null,null,null,null,null,null,null,null,null,null,null,{"$f":"INDEX('Fixture Descriptions'!A:K,MATCH('Inspection Form'!H958,'Fixture Descriptions'!A:A,0),8)","v":{"$error":"#N/A"}},{"$error":"#N/A"},null,{"$error":"#N/A"},1,null,null,null,{"$f":"IFERROR(IF(AND(INDEX(Inventory!CB:CB,MATCH('Inspection Form'!B958,Inventory!B:B,0))=\"Not Qualified\",INDEX(Inventory!L:L,MATCH('Inspection Form'!B958,Inventory!B:B,0))<>\"\",$Q$5<>\"Pre\"),0,BY958*BZ958), 0)","v":0},null,{"$error":"#DIV/0!"},{"$error":"#DIV/0!"},955]
[null,955,null,null,null,null,null,null,null,null,null,null,null,null,null,null,null,null,null,null,null,null,null,null,null,null,null,null,null,null,null,null,null,null,null,null,null,null,null,null,null,null,null,null,null,null,null,null,null,null,null,null,null,null,null,null,null,null,null,null,null,null,null,null,null,null,null,null,null,null,null,null,null,{"$f":"INDEX('Fixture Descriptions'!A:K,MATCH('Inspection Form'!H959,'Fixture Descriptions'!A:A,0),8)","v":{"$error":"#N/A"}},{"$error":"#N/A"},null,{"$error":"#N/A"},1,null,null,null,{"$f":"IFERROR(IF(AND(INDEX(Inventory!CB:CB,MATCH('Inspection Form'!B959,Inventory!B:B,0))=\"Not Qualified\",INDEX(Inventory!L:L,MATCH('Inspection Form'!B959,Inventory!B:B,0))<>\"\",$Q$5<>\"Pre\"),0,BY959*BZ959), 0)","v":0},null,{"$error":"#DIV/0!"},{"$error":"#DIV/0!"},956]
[null,958,null,null,null,null,null,null,null,null,null,null,null,null,null,null,null,null,null,null,null,null,null,null,null,null,null,null,null,null,null,null,null,null,null,null,null,null,null,null,null,null,null,null,null,null,null,null,null,null,null,null,null,null,null,null,null,null,null,null,null,null,null,null,null,null,null,null,null,null,null,null,null,{"$f":"INDEX('Fixture Descriptions'!A:K,MATCH('Inspection Form'!H962,'Fixture Descriptions'!A:A,0),8)","v":{"$error":"#N/A"}},{"$error":"#N/A"},null,{"$error":"#N/A"},1,null,null,null,{"$f":"IFERROR(IF(AND(INDEX(Inventory!CB:CB,MATCH('Inspection Form'!B962,Inventory!B:B,0))=\"Not Qualified\",INDEX(Inventory!L:L,MATCH('Inspection Form'!B962,Inventory!B:B,0))<>\"\",$Q$5<>\"Pre\"),0,BY962*BZ962), 0)","v":0},null,{"$error":"#DIV/0!"},{"$error":"#DIV/0!"},959]
[null,959,null,null,null,null,null,null,null,null,null,null,null,null,null,null,null,null,null,null,null,null,null,null,null,null,null,null,null,null,null,null,null,null,null,null,null,null,null,null,null,null,null,null,null,null,null,null,null,null,null,null,null,null,null,null,null,null,null,null,null,null,null,null,null,null,null,null,null,null,null,null,null,{"$f":"INDEX('Fixture Descriptions'!A:K,MATCH('Inspection Form'!H963,'Fixture Descriptions'!A:A,0),8)","v":{"$error":"#N/A"}},{"$error":"#N/A"},null,{"$error":"#N/A"},1,null,null,null,{"$f":"IFERROR(IF(AND(INDEX(Inventory!CB:CB,MATCH('Inspection Form'!B963,Inventory!B:B,0))=\"Not Qualified\",INDEX(Inventory!L:L,MATCH('Inspection Form'!B963,Inventory!B:B,0))<>\"\",$Q$5<>\"Pre\"),0,BY963*BZ963), 0)","v":0},null,{"$error":"#DIV/0!"},{"$error":"#DIV/0!"},960]
[null,961,null,null,null,null,null,null,null,null,null,null,null,null,null,null,null,null,null,null,null,null,null,null,null,null,null,null,null,null,null,null,null,null,null,null,null,null,null,null,null,null,null,null,null,null,null,null,null,null,null,null,null,null,null,null,null,null,null,null,null,null,null,null,null,null,null,null,null,null,null,null,null,{"$f":"INDEX('Fixture Descriptions'!A:K,MATCH('Inspection Form'!H965,'Fixture Descriptions'!A:A,0),8)","v":{"$error":"#N/A"}},{"$error":"#N/A"},null,{"$error":"#N/A"},1,null,null,null,{"$f":"IFERROR(IF(AND(INDEX(Inventory!CB:CB,MATCH('Inspection Form'!B965,Inventory!B:B,0))=\"Not Qualified\",INDEX(Inventory!L:L,MATCH('Inspection Form'!B965,Inventory!B:B,0))<>\"\",$Q$5<>\"Pre\"),0,BY965*BZ965), 0)","v":0},null,{"$error":"#DIV/0!"},{"$error":"#DIV/0!"},962]
[null,962,null,null,null,null,null,null,null,null,null,null,null,null,null,null,null,null,null,null,null,null,null,null,null,null,null,null,null,null,null,null,null,null,null,null,null,null,null,null,null,null,null,null,null,null,null,null,null,null,null,null,null,null,null,null,null,null,null,null,null,null,null,null,null,null,null,null,null,null,null,null,null,{"$f":"INDEX('Fixture Descriptions'!A:K,MATCH('Inspection Form'!H966,'Fixture Descriptions'!A:A,0),8)","v":{"$error":"#N/A"}},{"$error":"#N/A"},null,{"$f":"BW966","v":{"$error":"#N/A"}},1,null,null,null,{"$f":"IFERROR(IF(AND(INDEX(Inventory!CB:CB,MATCH('Inspection Form'!B966,Inventory!B:B,0))=\"Not Qualified\",INDEX(Inventory!L:L,MATCH('Inspection Form'!B966,Inventory!B:B,0))<>\"\",$Q$5<>\"Pre\"),0,BY966*BZ966), 0)","v":0},null,{"$error":"#DIV/0!"},{"$error":"#DIV/0!"},963]
[null,965,null,null,null,null,null,null,null,null,null,null,null,null,null,null,null,null,null,null,null,null,null,null,null,null,null,null,null,null,null,null,null,null,null,null,null,null,null,null,null,null,null,null,null,null,null,null,null,null,null,null,null,null,null,null,null,null,null,null,null,null,null,null,null,null,null,null,null,null,null,null,null,{"$f":"INDEX('Fixture Descriptions'!A:K,MATCH('Inspection Form'!H969,'Fixture Descriptions'!A:A,0),8)","v":{"$error":"#N/A"}},{"$error":"#N/A"},null,{"$error":"#N/A"},1,null,null,null,{"$f":"IFERROR(IF(AND(INDEX(Inventory!CB:CB,MATCH('Inspection Form'!B969,Inventory!B:B,0))=\"Not Qualified\",INDEX(Inventory!L:L,MATCH('Inspection Form'!B969,Inventory!B:B,0))<>\"\",$Q$5<>\"Pre\"),0,BY969*BZ969), 0)","v":0},null,{"$error":"#DIV/0!"},{"$error":"#DIV/0!"},966]
[null,966,null,null,null,null,null,null,null,null,null,null,null,null,null,null,null,null,null,null,null,null,null,null,null,null,null,null,null,null,null,null,null,null,null,null,null,null,null,null,null,null,null,null,null,null,null,null,null,null,null,null,null,null,null,null,null,null,null,null,null,null,null,null,null,null,null,null,null,null,null,null,null,{"$f":"INDEX('Fixture Descriptions'!A:K,MATCH('Inspection Form'!H970,'Fixture Descriptions'!A:A,0),8)","v":{"$error":"#N/A"}},{"$error":"#N/A"},null,{"$error":"#N/A"},1,null,null,null,{"$f":"IFERROR(IF(AND(INDEX(Inventory!CB:CB,MATCH('Inspection Form'!B970,Inventory!B:B,0))=\"Not Qualified\",INDEX(Inventory!L:L,MATCH('Inspection Form'!B970,Inventory!B:B,0))<>\"\",$Q$5<>\"Pre\"),0,BY970*BZ970), 0)","v":0},null,{"$error":"#DIV/0!"},{"$error":"#DIV/0!"},967]
[null,968,null,null,null,null,null,null,null,null,null,null,null,null,null,null,null,null,null,null,null,null,null,null,null,null,null,null,null,null,null,null,null,null,null,null,null,null,null,null,null,null,null,null,null,null,null,null,null,null,null,null,null,null,null,null,null,null,null,null,null,null,null,null,null,null,null,null,null,null,null,null,null,{"$f":"INDEX('Fixture Descriptions'!A:K,MATCH('Inspection Form'!H972,'Fixture Descriptions'!A:A,0),8)","v":{"$error":"#N/A"}},{"$error":"#N/A"},null,{"$error":"#N/A"},1,null,null,null,{"$f":"IFERROR(IF(AND(INDEX(Inventory!CB:CB,MATCH('Inspection Form'!B972,Inventory!B:B,0))=\"Not Qualified\",INDEX(Inventory!L:L,MATCH('Inspection Form'!B972,Inventory!B:B,0))<>\"\",$Q$5<>\"Pre\"),0,BY972*BZ972), 0)","v":0},null,{"$error":"#DIV/0!"},{"$error":"#DIV/0!"},969]
[null,969,null,null,null,null,null,null,null,null,null,null,null,null,null,null,null,null,null,null,null,null,null,null,null,null,null,null,null,null,null,null,null,null,null,null,null,null,null,null,null,null,null,null,null,null,null,null,null,null,null,null,null,null,null,null,null,null,null,null,null,null,null,null,null,null,null,null,null,null,null,null,null,{"$f":"INDEX('Fixture Descriptions'!A:K,MATCH('Inspection Form'!H973,'Fixture Descriptions'!A:A,0),8)","v":{"$error":"#N/A"}},{"$error":"#N/A"},null,{"$error":"#N/A"},1,null,null,null,{"$f":"IFERROR(IF(AND(INDEX(Inventory!CB:CB,MATCH('Inspection Form'!B973,Inventory!B:B,0))=\"Not Qualified\",INDEX(Inventory!L:L,MATCH('Inspection Form'!B973,Inventory!B:B,0))<>\"\",$Q$5<>\"Pre\"),0,BY973*BZ973), 0)","v":0},null,{"$error":"#DIV/0!"},{"$error":"#DIV/0!"},970]
[null,972,null,null,null,null,null,null,null,null,null,null,null,null,null,null,null,null,null,null,null,null,null,null,null,null,null,null,null,null,null,null,null,null,null,null,null,null,null,null,null,null,null,null,null,null,null,null,null,null,null,null,null,null,null,null,null,null,null,null,null,null,null,null,null,null,null,null,null,null,null,null,null,{"$f":"INDEX('Fixture Descriptions'!A:K,MATCH('Inspection Form'!H976,'Fixture Descriptions'!A:A,0),8)","v":{"$error":"#N/A"}},{"$error":"#N/A"},null,{"$error":"#N/A"},1,null,null,null,{"$f":"IFERROR(IF(AND(INDEX(Inventory!CB:CB,MATCH('Inspection Form'!B976,Inventory!B:B,0))=\"Not Qualified\",INDEX(Inventory!L:L,MATCH('Inspection Form'!B976,Inventory!B:B,0))<>\"\",$Q$5<>\"Pre\"),0,BY976*BZ976), 0)","v":0},null,{"$error":"#DIV/0!"},{"$error":"#DIV/0!"},973]
[null,973,null,null,null,null,null,null,null,null,null,null,null,null,null,null,null,null,null,null,null,null,null,null,null,null,null,null,null,null,null,null,null,null,null,null,null,null,null,null,null,null,null,null,null,null,null,null,null,null,null,null,null,null,null,null,null,null,null,null,null,null,null,null,null,null,null,null,null,null,null,null,null,{"$f":"INDEX('Fixture Descriptions'!A:K,MATCH('Inspection Form'!H977,'Fixture Descriptions'!A:A,0),8)","v":{"$error":"#N/A"}},{"$error":"#N/A"},null,{"$error":"#N/A"},1,null,null,null,{"$f":"IFERROR(IF(AND(INDEX(Inventory!CB:CB,MATCH('Inspection Form'!B977,Inventory!B:B,0))=\"Not Qualified\",INDEX(Inventory!L:L,MATCH('Inspection Form'!B977,Inventory!B:B,0))<>\"\",$Q$5<>\"Pre\"),0,BY977*BZ977), 0)","v":0},null,{"$error":"#DIV/0!"},{"$error":"#DIV/0!"},974]
[null,975,null,null,null,null,null,null,null,null,null,null,null,null,null,null,null,null,null,null,null,null,null,null,null,null,null,null,null,null,null,null,null,null,null,null,null,null,null,null,null,null,null,null,null,null,null,null,null,null,null,null,null,null,null,null,null,null,null,null,null,null,null,null,null,null,null,null,null,null,null,null,null,{"$f":"INDEX('Fixture Descriptions'!A:K,MATCH('Inspection Form'!H979,'Fixture Descriptions'!A:A,0),8)","v":{"$error":"#N/A"}},{"$error":"#N/A"},null,{"$error":"#N/A"},1,null,null,null,{"$f":"IFERROR(IF(AND(INDEX(Inventory!CB:CB,MATCH('Inspection Form'!B979,Inventory!B:B,0))=\"Not Qualified\",INDEX(Inventory!L:L,MATCH('Inspection Form'!B979,Inventory!B:B,0))<>\"\",$Q$5<>\"Pre\"),0,BY979*BZ979), 0)","v":0},null,{"$error":"#DIV/0!"},{"$error":"#DIV/0!"},976]
[null,976,null,null,null,null,null,null,null,null,null,null,null,null,null,null,null,null,null,null,null,null,null,null,null,null,null,null,null,null,null,null,null,null,null,null,null,null,null,null,null,null,null,null,null,null,null,null,null,null,null,null,null,null,null,null,null,null,null,null,null,null,null,null,null,null,null,null,null,null,null,null,null,{"$f":"INDEX('Fixture Descriptions'!A:K,MATCH('Inspection Form'!H980,'Fixture Descriptions'!A:A,0),8)","v":{"$error":"#N/A"}},{"$error":"#N/A"},null,{"$error":"#N/A"},1,null,null,null,{"$f":"IFERROR(IF(AND(INDEX(Inventory!CB:CB,MATCH('Inspection Form'!B980,Inventory!B:B,0))=\"Not Qualified\",INDEX(Inventory!L:L,MATCH('Inspection Form'!B980,Inventory!B:B,0))<>\"\",$Q$5<>\"Pre\"),0,BY980*BZ980), 0)","v":0},null,{"$error":"#DIV/0!"},{"$error":"#DIV/0!"},977]
[null,979,null,null,null,null,null,null,null,null,null,null,null,null,null,null,null,null,null,null,null,null,null,null,null,null,null,null,null,null,null,null,null,null,null,null,null,null,null,null,null,null,null,null,null,null,null,null,null,null,null,null,null,null,null,null,null,null,null,null,null,null,null,null,null,null,null,null,null,null,null,null,null,{"$f":"INDEX('Fixture Descriptions'!A:K,MATCH('Inspection Form'!H983,'Fixture Descriptions'!A:A,0),8)","v":{"$error":"#N/A"}},{"$error":"#N/A"},null,{"$error":"#N/A"},1,null,null,null,{"$f":"IFERROR(IF(AND(INDEX(Inventory!CB:CB,MATCH('Inspection Form'!B983,Inventory!B:B,0))=\"Not Qualified\",INDEX(Inventory!L:L,MATCH('Inspection Form'!B983,Inventory!B:B,0))<>\"\",$Q$5<>\"Pre\"),0,BY983*BZ983), 0)","v":0},null,{"$error":"#DIV/0!"},{"$error":"#DIV/0!"},980]
[null,980,null,null,null,null,null,null,null,null,null,null,null,null,null,null,null,null,null,null,null,null,null,null,null,null,null,null,null,null,null,null,null,null,null,null,null,null,null,null,null,null,null,null,null,null,null,null,null,null,null,null,null,null,null,null,null,null,null,null,null,null,null,null,null,null,null,null,null,null,null,null,null,{"$f":"INDEX('Fixture Descriptions'!A:K,MATCH('Inspection Form'!H984,'Fixture Descriptions'!A:A,0),8)","v":{"$error":"#N/A"}},{"$error":"#N/A"},null,{"$error":"#N/A"},1,null,null,null,{"$f":"IFERROR(IF(AND(INDEX(Inventory!CB:CB,MATCH('Inspection Form'!B984,Inventory!B:B,0))=\"Not Qualified\",INDEX(Inventory!L:L,MATCH('Inspection Form'!B984,Inventory!B:B,0))<>\"\",$Q$5<>\"Pre\"),0,BY984*BZ984), 0)","v":0},null,{"$error":"#DIV/0!"},{"$error":"#DIV/0!"},981]
[null,982,null,null,null,null,null,null,null,null,null,null,null,null,null,null,null,null,null,null,null,null,null,null,null,null,null,null,null,null,null,null,null,null,null,null,null,null,null,null,null,null,null,null,null,null,null,null,null,null,null,null,null,null,null,null,null,null,null,null,null,null,null,null,null,null,null,null,null,null,null,null,null,{"$f":"INDEX('Fixture Descriptions'!A:K,MATCH('Inspection Form'!H986,'Fixture Descriptions'!A:A,0),8)","v":{"$error":"#N/A"}},{"$error":"#N/A"},null,{"$error":"#N/A"},1,null,null,null,{"$f":"IFERROR(IF(AND(INDEX(Inventory!CB:CB,MATCH('Inspection Form'!B986,Inventory!B:B,0))=\"Not Qualified\",INDEX(Inventory!L:L,MATCH('Inspection Form'!B986,Inventory!B:B,0))<>\"\",$Q$5<>\"Pre\"),0,BY986*BZ986), 0)","v":0},null,{"$error":"#DIV/0!"},{"$error":"#DIV/0!"},983]
[null,983,null,null,null,null,null,null,null,null,null,null,null,null,null,null,null,null,null,null,null,null,null,null,null,null,null,null,null,null,null,null,null,null,null,null,null,null,null,null,null,null,null,null,null,null,null,null,null,null,null,null,null,null,null,null,null,null,null,null,null,null,null,null,null,null,null,null,null,null,null,null,null,{"$f":"INDEX('Fixture Descriptions'!A:K,MATCH('Inspection Form'!H987,'Fixture Descriptions'!A:A,0),8)","v":{"$error":"#N/A"}},{"$error":"#N/A"},null,{"$error":"#N/A"},1,null,null,null,{"$f":"IFERROR(IF(AND(INDEX(Inventory!CB:CB,MATCH('Inspection Form'!B987,Inventory!B:B,0))=\"Not Qualified\",INDEX(Inventory!L:L,MATCH('Inspection Form'!B987,Inventory!B:B,0))<>\"\",$Q$5<>\"Pre\"),0,BY987*BZ987), 0)","v":0},null,{"$error":"#DIV/0!"},{"$error":"#DIV/0!"},984]
[null,986,null,null,null,null,null,null,null,null,null,null,null,null,null,null,null,null,null,null,null,null,null,null,null,null,null,null,null,null,null,null,null,null,null,null,null,null,null,null,null,null,null,null,null,null,null,null,null,null,null,null,null,null,null,null,null,null,null,null,null,null,null,null,null,null,null,null,null,null,null,null,null,{"$f":"INDEX('Fixture Descriptions'!A:K,MATCH('Inspection Form'!H990,'Fixture Descriptions'!A:A,0),8)","v":{"$error":"#N/A"}},{"$error":"#N/A"},null,{"$error":"#N/A"},1,null,null,null,{"$f":"IFERROR(IF(AND(INDEX(Inventory!CB:CB,MATCH('Inspection Form'!B990,Inventory!B:B,0))=\"Not Qualified\",INDEX(Inventory!L:L,MATCH('Inspection Form'!B990,Inventory!B:B,0))<>\"\",$Q$5<>\"Pre\"),0,BY990*BZ990), 0)","v":0},null,{"$error":"#DIV/0!"},{"$error":"#DIV/0!"},987]
[null,987,null,null,null,null,null,null,null,null,null,null,null,null,null,null,null,null,null,null,null,null,null,null,null,null,null,null,null,null,null,null,null,null,null,null,null,null,null,null,null,null,null,null,null,null,null,null,null,null,null,null,null,null,null,null,null,null,null,null,null,null,null,null,null,null,null,null,null,null,null,null,null,{"$f":"INDEX('Fixture Descriptions'!A:K,MATCH('Inspection Form'!H991,'Fixture Descriptions'!A:A,0),8)","v":{"$error":"#N/A"}},{"$error":"#N/A"},null,{"$error":"#N/A"},1,null,null,null,{"$f":"IFERROR(IF(AND(INDEX(Inventory!CB:CB,MATCH('Inspection Form'!B991,Inventory!B:B,0))=\"Not Qualified\",INDEX(Inventory!L:L,MATCH('Inspection Form'!B991,Inventory!B:B,0))<>\"\",$Q$5<>\"Pre\"),0,BY991*BZ991), 0)","v":0},null,{"$error":"#DIV/0!"},{"$error":"#DIV/0!"},988]
[null,989,null,null,null,null,null,null,null,null,null,null,null,null,null,null,null,null,null,null,null,null,null,null,null,null,null,null,null,null,null,null,null,null,null,null,null,null,null,null,null,null,null,null,null,null,null,null,null,null,null,null,null,null,null,null,null,null,null,null,null,null,null,null,null,null,null,null,null,null,null,null,null,{"$f":"INDEX('Fixture Descriptions'!A:K,MATCH('Inspection Form'!H993,'Fixture Descriptions'!A:A,0),8)","v":{"$error":"#N/A"}},{"$error":"#N/A"},null,{"$error":"#N/A"},1,null,null,null,{"$f":"IFERROR(IF(AND(INDEX(Inventory!CB:CB,MATCH('Inspection Form'!B993,Inventory!B:B,0))=\"Not Qualified\",INDEX(Inventory!L:L,MATCH('Inspection Form'!B993,Inventory!B:B,0))<>\"\",$Q$5<>\"Pre\"),0,BY993*BZ993), 0)","v":0},null,{"$error":"#DIV/0!"},{"$error":"#DIV/0!"},990]
[null,990,null,null,null,null,null,null,null,null,null,null,null,null,null,null,null,null,null,null,null,null,null,null,null,null,null,null,null,null,null,null,null,null,null,null,null,null,null,null,null,null,null,null,null,null,null,null,null,null,null,null,null,null,null,null,null,null,null,null,null,null,null,null,null,null,null,null,null,null,null,null,null,{"$f":"INDEX('Fixture Descriptions'!A:K,MATCH('Inspection Form'!H994,'Fixture Descriptions'!A:A,0),8)","v":{"$error":"#N/A"}},{"$error":"#N/A"},null,{"$error":"#N/A"},1,null,null,null,{"$f":"IFERROR(IF(AND(INDEX(Inventory!CB:CB,MATCH('Inspection Form'!B994,Inventory!B:B,0))=\"Not Qualified\",INDEX(Inventory!L:L,MATCH('Inspection Form'!B994,Inventory!B:B,0))<>\"\",$Q$5<>\"Pre\"),0,BY994*BZ994), 0)","v":0},null,{"$error":"#DIV/0!"},{"$error":"#DIV/0!"},991]
[null,993,null,null,null,null,null,null,null,null,null,null,null,null,null,null,null,null,null,null,null,null,null,null,null,null,null,null,null,null,null,null,null,null,null,null,null,null,null,null,null,null,null,null,null,null,null,null,null,null,null,null,null,null,null,null,null,null,null,null,null,null,null,null,null,null,null,null,null,null,null,null,null,{"$f":"INDEX('Fixture Descriptions'!A:K,MATCH('Inspection Form'!H997,'Fixture Descriptions'!A:A,0),8)","v":{"$error":"#N/A"}},{"$error":"#N/A"},null,{"$error":"#N/A"},1,null,null,null,{"$f":"IFERROR(IF(AND(INDEX(Inventory!CB:CB,MATCH('Inspection Form'!B997,Inventory!B:B,0))=\"Not Qualified\",INDEX(Inventory!L:L,MATCH('Inspection Form'!B997,Inventory!B:B,0))<>\"\",$Q$5<>\"Pre\"),0,BY997*BZ997), 0)","v":0},null,{"$error":"#DIV/0!"},{"$error":"#DIV/0!"},994]
[null,994,null,null,null,null,null,null,null,null,null,null,null,null,null,null,null,null,null,null,null,null,null,null,null,null,null,null,null,null,null,null,null,null,null,null,null,null,null,null,null,null,null,null,null,null,null,null,null,null,null,null,null,null,null,null,null,null,null,null,null,null,null,null,null,null,null,null,null,null,null,null,null,{"$f":"INDEX('Fixture Descriptions'!A:K,MATCH('Inspection Form'!H998,'Fixture Descriptions'!A:A,0),8)","v":{"$error":"#N/A"}},{"$error":"#N/A"},null,{"$error":"#N/A"},1,null,null,null,{"$f":"IFERROR(IF(AND(INDEX(Inventory!CB:CB,MATCH('Inspection Form'!B998,Inventory!B:B,0))=\"Not Qualified\",INDEX(Inventory!L:L,MATCH('Inspection Form'!B998,Inventory!B:B,0))<>\"\",$Q$5<>\"Pre\"),0,BY998*BZ998), 0)","v":0},null,{"$error":"#DIV/0!"},{"$error":"#DIV/0!"},995]
[null,997,null,null,null,null,null,null,null,null,null,null,null,null,null,null,null,null,null,null,null,null,null,null,null,null,null,null,null,null,null,null,null,null,null,null,null,null,null,null,null,null,null,null,null,null,null,null,null,null,null,null,null,null,null,null,null,null,null,null,null,null,null,null,null,null,null,null,null,null,null,null,null,{"$f":"INDEX('Fixture Descriptions'!A:K,MATCH('Inspection Form'!H1001,'Fixture Descriptions'!A:A,0),8)","v":{"$error":"#N/A"}},{"$error":"#N/A"},null,{"$error":"#N/A"},1,null,null,null,{"$f":"IFERROR(IF(AND(INDEX(Inventory!CB:CB,MATCH('Inspection Form'!B1001,Inventory!B:B,0))=\"Not Qualified\",INDEX(Inventory!L:L,MATCH('Inspection Form'!B1001,Inventory!B:B,0))<>\"\",$Q$5<>\"Pre\"),0,BY1001*BZ1001), 0)","v":0},null,{"$error":"#DIV/0!"},{"$error":"#DIV/0!"},998]
[null,998,null,null,null,null,null,null,null,null,null,null,null,null,null,null,null,null,null,null,null,null,null,null,null,null,null,null,null,null,null,null,null,null,null,null,null,null,null,null,null,null,null,null,null,null,null,null,null,null,null,null,null,null,null,null,null,null,null,null,null,null,null,null,null,null,null,null,null,null,null,null,null,{"$f":"INDEX('Fixture Descriptions'!A:K,MATCH('Inspection Form'!H1002,'Fixture Descriptions'!A:A,0),8)","v":{"$error":"#N/A"}},{"$error":"#N/A"},null,{"$error":"#N/A"},1,null,null,null,{"$f":"IFERROR(IF(AND(INDEX(Inventory!CB:CB,MATCH('Inspection Form'!B1002,Inventory!B:B,0))=\"Not Qualified\",INDEX(Inventory!L:L,MATCH('Inspection Form'!B1002,Inventory!B:B,0))<>\"\",$Q$5<>\"Pre\"),0,BY1002*BZ1002), 0)","v":0},null,{"$error":"#DIV/0!"},{"$error":"#DIV/0!"},999]
[null,1000,null,null,null,null,null,null,null,null,null,null,null,null,null,null,null,null,null,null,null,null,null,null,null,null,null,null,null,null,null,null,null,null,null,null,null,null,null,null,null,null,null,null,null,null,null,null,null,null,null,null,null,null,null,null,null,null,null,null,null,null,null,null,null,null,null,null,null,null,null,null,null,{"$f":"INDEX('Fixture Descriptions'!A:K,MATCH('Inspection Form'!H1004,'Fixture Descriptions'!A:A,0),8)","v":{"$error":"#N/A"}},{"$error":"#N/A"},null,{"$error":"#N/A"},1,null,null,null,{"$f":"IFERROR(IF(AND(INDEX(Inventory!CB:CB,MATCH('Inspection Form'!B1004,Inventory!B:B,0))=\"Not Qualified\",INDEX(Inventory!L:L,MATCH('Inspection Form'!B1004,Inventory!B:B,0))<>\"\",$Q$5<>\"Pre\"),0,BY1004*BZ1004), 0)","v":0},null,{"$error":"#DIV/0!"},{"$error":"#DIV/0!"},1001]
[null,1001,null,null,null,null,null,null,null,null,null,null,null,null,null,null,null,null,null,null,null,null,null,null,null,null,null,null,null,null,null,null,null,null,null,null,null,null,null,null,null,null,null,null,null,null,null,null,null,null,null,null,null,null,null,null,null,null,null,null,null,null,null,null,null,null,null,null,null,null,null,null,null,{"$f":"INDEX('Fixture Descriptions'!A:K,MATCH('Inspection Form'!H1005,'Fixture Descriptions'!A:A,0),8)","v":{"$error":"#N/A"}},{"$error":"#N/A"},null,{"$f":"BW1005","v":{"$error":"#N/A"}},1,null,null,null,{"$f":"IFERROR(IF(AND(INDEX(Inventory!CB:CB,MATCH('Inspection Form'!B1005,Inventory!B:B,0))=\"Not Qualified\",INDEX(Inventory!L:L,MATCH('Inspection Form'!B1005,Inventory!B:B,0))<>\"\",$Q$5<>\"Pre\"),0,BY1005*BZ1005), 0)","v":0},null,{"$error":"#DIV/0!"},{"$error":"#DIV/0!"},1002]
[null,1004,null,null,null,null,null,null,null,null,null,null,null,null,null,null,null,null,null,null,null,null,null,null,null,null,null,null,null,null,null,null,null,null,null,null,null,null,null,null,null,null,null,null,null,null,null,null,null,null,null,null,null,null,null,null,null,null,null,null,null,null,null,null,null,null,null,null,null,null,null,null,null,{"$f":"INDEX('Fixture Descriptions'!A:K,MATCH('Inspection Form'!H1008,'Fixture Descriptions'!A:A,0),8)","v":{"$error":"#N/A"}},{"$error":"#N/A"},null,{"$error":"#N/A"},1,null,null,null,{"$f":"IFERROR(IF(AND(INDEX(Inventory!CB:CB,MATCH('Inspection Form'!B1008,Inventory!B:B,0))=\"Not Qualified\",INDEX(Inventory!L:L,MATCH('Inspection Form'!B1008,Inventory!B:B,0))<>\"\",$Q$5<>\"Pre\"),0,BY1008*BZ1008), 0)","v":0},null,{"$error":"#DIV/0!"},{"$error":"#DIV/0!"},1005]
[null,1005,null,null,null,null,null,null,null,null,null,null,null,null,null,null,null,null,null,null,null,null,null,null,null,null,null,null,null,null,null,null,null,null,null,null,null,null,null,null,null,null,null,null,null,null,null,null,null,null,null,null,null,null,null,null,null,null,null,null,null,null,null,null,null,null,null,null,null,null,null,null,null,{"$f":"INDEX('Fixture Descriptions'!A:K,MATCH('Inspection Form'!H1009,'Fixture Descriptions'!A:A,0),8)","v":{"$error":"#N/A"}},{"$error":"#N/A"},null,{"$error":"#N/A"},1,null,null,null,{"$f":"IFERROR(IF(AND(INDEX(Inventory!CB:CB,MATCH('Inspection Form'!B1009,Inventory!B:B,0))=\"Not Qualified\",INDEX(Inventory!L:L,MATCH('Inspection Form'!B1009,Inventory!B:B,0))<>\"\",$Q$5<>\"Pre\"),0,BY1009*BZ1009), 0)","v":0},null,{"$error":"#DIV/0!"},{"$error":"#DIV/0!"},1006]
[null,1007,null,null,null,null,null,null,null,null,null,null,null,null,null,null,null,null,null,null,null,null,null,null,null,null,null,null,null,null,null,null,null,null,null,null,null,null,null,null,null,null,null,null,null,null,null,null,null,null,null,null,null,null,null,null,null,null,null,null,null,null,null,null,null,null,null,null,null,null,null,null,null,{"$f":"INDEX('Fixture Descriptions'!A:K,MATCH('Inspection Form'!H1011,'Fixture Descriptions'!A:A,0),8)","v":{"$error":"#N/A"}},{"$f":"BV1011*I1011","v":{"$error":"#N/A"}},null,{"$f":"BW1011","v":{"$error":"#N/A"}},{"$f":"IF($U$3=\"All\", 1, IF(AND(C1011=$U$3, H1011=$U$4), 1, 0))","v":1},null,null,null,{"$f":"IFERROR(IF(AND(INDEX(Inventory!CB:CB,MATCH('Inspection Form'!B1011,Inventory!B:B,0))=\"Not Qualified\",INDEX(Inventory!L:L,MATCH('Inspection Form'!B1011,Inventory!B:B,0))<>\"\",$Q$5<>\"Pre\"),0,BY1011*BZ1011), 0)","v":0},null,{"$f":"CD1011/$CE$5","v":{"$error":"#DIV/0!"}},{"$f":"CF1011+CG1010","v":{"$error":"#DIV/0!"}},1008]
[null,1008,null,null,null,null,null,null,null,null,null,null,null,null,null,null,null,null,null,null,null,null,null,null,null,null,null,null,null,null,null,null,null,null,null,null,null,null,null,null,null,null,null,null,null,null,null,null,null,null,null,null,null,null,null,null,null,null,null,null,null,null,null,null,null,null,null,null,null,null,null,null,null,{"$f":"INDEX('Fixture Descriptions'!A:K,MATCH('Inspection Form'!H1012,'Fixture Descriptions'!A:A,0),8)","v":{"$error":"#N/A"}},{"$error":"#N/A"},null,{"$error":"#N/A"},1,null,null,null,{"$f":"IFERROR(IF(AND(INDEX(Inventory!CB:CB,MATCH('Inspection Form'!B1012,Inventory!B:B,0))=\"Not Qualified\",INDEX(Inventory!L:L,MATCH('Inspection Form'!B1012,Inventory!B:B,0))<>\"\",$Q$5<>\"Pre\"),0,BY1012*BZ1012), 0)","v":0},null,{"$error":"#DIV/0!"},{"$error":"#DIV/0!"},1009]
[null,1011,null,null,null,null,null,null,null,null,null,null,null,null,null,null,null,null,null,null,null,null,null,null,null,null,null,null,null,null,null,null,null,null,null,null,null,null,null,null,null,null,null,null,null,null,null,null,null,null,null,null,null,null,null,null,null,null,null,null,null,null,null,null,null,null,null,null,null,null,null,null,null,{"$f":"INDEX('Fixture Descriptions'!A:K,MATCH('Inspection Form'!H1015,'Fixture Descriptions'!A:A,0),8)","v":{"$error":"#N/A"}},{"$error":"#N/A"},null,{"$error":"#N/A"},1,null,null,null,{"$f":"IFERROR(IF(AND(INDEX(Inventory!CB:CB,MATCH('Inspection Form'!B1015,Inventory!B:B,0))=\"Not Qualified\",INDEX(Inventory!L:L,MATCH('Inspection Form'!B1015,Inventory!B:B,0))<>\"\",$Q$5<>\"Pre\"),0,BY1015*BZ1015), 0)","v":0},null,{"$error":"#DIV/0!"},{"$error":"#DIV/0!"},1012]
[null,1012,null,null,null,null,null,null,null,null,null,null,null,null,null,null,null,null,null,null,null,null,null,null,null,null,null,null,null,null,null,null,null,null,null,null,null,null,null,null,null,null,null,null,null,null,null,null,null,null,null,null,null,null,null,null,null,null,null,null,null,null,null,null,null,null,null,null,null,null,null,null,null,{"$f":"INDEX('Fixture Descriptions'!A:K,MATCH('Inspection Form'!H1016,'Fixture Descriptions'!A:A,0),8)","v":{"$error":"#N/A"}},{"$error":"#N/A"},null,{"$error":"#N/A"},1,null,null,null,{"$f":"IFERROR(IF(AND(INDEX(Inventory!CB:CB,MATCH('Inspection Form'!B1016,Inventory!B:B,0))=\"Not Qualified\",INDEX(Inventory!L:L,MATCH('Inspection Form'!B1016,Inventory!B:B,0))<>\"\",$Q$5<>\"Pre\"),0,BY1016*BZ1016), 0)","v":0},null,{"$error":"#DIV/0!"},{"$error":"#DIV/0!"},1013]
[null,1014,null,null,null,null,null,null,null,null,null,null,null,null,null,null,null,null,null,null,null,null,null,null,null,null,null,null,null,null,null,null,null,null,null,null,null,null,null,null,null,null,null,null,null,null,null,null,null,null,null,null,null,null,null,null,null,null,null,null,null,null,null,null,null,null,null,null,null,null,null,null,null,{"$f":"INDEX('Fixture Descriptions'!A:K,MATCH('Inspection Form'!H1018,'Fixture Descriptions'!A:A,0),8)","v":{"$error":"#N/A"}},{"$error":"#N/A"},null,{"$error":"#N/A"},1,null,null,null,{"$f":"IFERROR(IF(AND(INDEX(Inventory!CB:CB,MATCH('Inspection Form'!B1018,Inventory!B:B,0))=\"Not Qualified\",INDEX(Inventory!L:L,MATCH('Inspection Form'!B1018,Inventory!B:B,0))<>\"\",$Q$5<>\"Pre\"),0,BY1018*BZ1018), 0)","v":0},null,{"$error":"#DIV/0!"},{"$error":"#DIV/0!"},1015]
[null,1015,null,null,null,null,null,null,null,null,null,null,null,null,null,null,null,null,null,null,null,null,null,null,null,null,null,null,null,null,null,null,null,null,null,null,null,null,null,null,null,null,null,null,null,null,null,null,null,null,null,null,null,null,null,null,null,null,null,null,null,null,null,null,null,null,null,null,null,null,null,null,null,{"$f":"INDEX('Fixture Descriptions'!A:K,MATCH('Inspection Form'!H1019,'Fixture Descriptions'!A:A,0),8)","v":{"$error":"#N/A"}},{"$error":"#N/A"},null,{"$error":"#N/A"},1,null,null,null,{"$f":"IFERROR(IF(AND(INDEX(Inventory!CB:CB,MATCH('Inspection Form'!B1019,Inventory!B:B,0))=\"Not Qualified\",INDEX(Inventory!L:L,MATCH('Inspection Form'!B1019,Inventory!B:B,0))<>\"\",$Q$5<>\"Pre\"),0,BY1019*BZ1019), 0)","v":0},null,{"$error":"#DIV/0!"},{"$error":"#DIV/0!"},1016]
[null,1018,null,null,null,null,null,null,null,null,null,null,null,null,null,null,null,null,null,null,null,null,null,null,null,null,null,null,null,null,null,null,null,null,null,null,null,null,null,null,null,null,null,null,null,null,null,null,null,null,null,null,null,null,null,null,null,null,null,null,null,null,null,null,null,null,null,null,null,null,null,null,null,{"$f":"INDEX('Fixture Descriptions'!A:K,MATCH('Inspection Form'!H1022,'Fixture Descriptions'!A:A,0),8)","v":{"$error":"#N/A"}},{"$error":"#N/A"},null,{"$error":"#N/A"},1,null,null,null,{"$f":"IFERROR(IF(AND(INDEX(Inventory!CB:CB,MATCH('Inspection Form'!B1022,Inventory!B:B,0))=\"Not Qualified\",INDEX(Inventory!L:L,MATCH('Inspection Form'!B1022,Inventory!B:B,0))<>\"\",$Q$5<>\"Pre\"),0,BY1022*BZ1022), 0)","v":0},null,{"$error":"#DIV/0!"},{"$error":"#DIV/0!"},1019]
[null,1019,null,null,null,null,null,null,null,null,null,null,null,null,null,null,null,null,null,null,null,null,null,null,null,null,null,null,null,null,null,null,null,null,null,null,null,null,null,null,null,null,null,null,null,null,null,null,null,null,null,null,null,null,null,null,null,null,null,null,null,null,null,null,null,null,null,null,null,null,null,null,null,{"$f":"INDEX('Fixture Descriptions'!A:K,MATCH('Inspection Form'!H1023,'Fixture Descriptions'!A:A,0),8)","v":{"$error":"#N/A"}},{"$error":"#N/A"},null,{"$error":"#N/A"},1,null,null,null,{"$f":"IFERROR(IF(AND(INDEX(Inventory!CB:CB,MATCH('Inspection Form'!B1023,Inventory!B:B,0))=\"Not Qualified\",INDEX(Inventory!L:L,MATCH('Inspection Form'!B1023,Inventory!B:B,0))<>\"\",$Q$5<>\"Pre\"),0,BY1023*BZ1023), 0)","v":0},null,{"$error":"#DIV/0!"},{"$error":"#DIV/0!"},1020]
[null,1021,null,null,null,null,null,null,null,null,null,null,null,null,null,null,null,null,null,null,null,null,null,null,null,null,null,null,null,null,null,null,null,null,null,null,null,null,null,null,null,null,null,null,null,null,null,null,null,null,null,null,null,null,null,null,null,null,null,null,null,null,null,null,null,null,null,null,null,null,null,null,null,{"$f":"INDEX('Fixture Descriptions'!A:K,MATCH('Inspection Form'!H1025,'Fixture Descriptions'!A:A,0),8)","v":{"$error":"#N/A"}},{"$error":"#N/A"},null,{"$error":"#N/A"},1,null,null,null,{"$f":"IFERROR(IF(AND(INDEX(Inventory!CB:CB,MATCH('Inspection Form'!B1025,Inventory!B:B,0))=\"Not Qualified\",INDEX(Inventory!L:L,MATCH('Inspection Form'!B1025,Inventory!B:B,0))<>\"\",$Q$5<>\"Pre\"),0,BY1025*BZ1025), 0)","v":0},null,{"$error":"#DIV/0!"},{"$error":"#DIV/0!"},1022]
[null,1022,null,null,null,null,null,null,null,null,null,null,null,null,null,null,null,null,null,null,null,null,null,null,null,null,null,null,null,null,null,null,null,null,null,null,null,null,null,null,null,null,null,null,null,null,null,null,null,null,null,null,null,null,null,null,null,null,null,null,null,null,null,null,null,null,null,null,null,null,null,null,null,{"$f":"INDEX('Fixture Descriptions'!A:K,MATCH('Inspection Form'!H1026,'Fixture Descriptions'!A:A,0),8)","v":{"$error":"#N/A"}},{"$error":"#N/A"},null,{"$error":"#N/A"},1,null,null,null,{"$f":"IFERROR(IF(AND(INDEX(Inventory!CB:CB,MATCH('Inspection Form'!B1026,Inventory!B:B,0))=\"Not Qualified\",INDEX(Inventory!L:L,MATCH('Inspection Form'!B1026,Inventory!B:B,0))<>\"\",$Q$5<>\"Pre\"),0,BY1026*BZ1026), 0)","v":0},null,{"$error":"#DIV/0!"},{"$error":"#DIV/0!"},1023]
[null,1025,null,null,null,null,null,null,null,null,null,null,null,null,null,null,null,null,null,null,null,null,null,null,null,null,null,null,null,null,null,null,null,null,null,null,null,null,null,null,null,null,null,null,null,null,null,null,null,null,null,null,null,null,null,null,null,null,null,null,null,null,null,null,null,null,null,null,null,null,null,null,null,{"$f":"INDEX('Fixture Descriptions'!A:K,MATCH('Inspection Form'!H1029,'Fixture Descriptions'!A:A,0),8)","v":{"$error":"#N/A"}},{"$error":"#N/A"},null,{"$error":"#N/A"},1,null,null,null,{"$f":"IFERROR(IF(AND(INDEX(Inventory!CB:CB,MATCH('Inspection Form'!B1029,Inventory!B:B,0))=\"Not Qualified\",INDEX(Inventory!L:L,MATCH('Inspection Form'!B1029,Inventory!B:B,0))<>\"\",$Q$5<>\"Pre\"),0,BY1029*BZ1029), 0)","v":0},null,{"$error":"#DIV/0!"},{"$error":"#DIV/0!"},1026]
[null,1026,null,null,null,null,null,null,null,null,null,null,null,null,null,null,null,null,null,null,null,null,null,null,null,null,null,null,null,null,null,null,null,null,null,null,null,null,null,null,null,null,null,null,null,null,null,null,null,null,null,null,null,null,null,null,null,null,null,null,null,null,null,null,null,null,null,null,null,null,null,null,null,{"$f":"INDEX('Fixture Descriptions'!A:K,MATCH('Inspection Form'!H1030,'Fixture Descriptions'!A:A,0),8)","v":{"$error":"#N/A"}},{"$error":"#N/A"},null,{"$error":"#N/A"},1,null,null,null,{"$f":"IFERROR(IF(AND(INDEX(Inventory!CB:CB,MATCH('Inspection Form'!B1030,Inventory!B:B,0))=\"Not Qualified\",INDEX(Inventory!L:L,MATCH('Inspection Form'!B1030,Inventory!B:B,0))<>\"\",$Q$5<>\"Pre\"),0,BY1030*BZ1030), 0)","v":0},null,{"$error":"#DIV/0!"},{"$error":"#DIV/0!"},1027]
[null,1028,null,null,null,null,null,null,null,null,null,null,null,null,null,null,null,null,null,null,null,null,null,null,null,null,null,null,null,null,null,null,null,null,null,null,null,null,null,null,null,null,null,null,null,null,null,null,null,null,null,null,null,null,null,null,null,null,null,null,null,null,null,null,null,null,null,null,null,null,null,null,null,{"$f":"INDEX('Fixture Descriptions'!A:K,MATCH('Inspection Form'!H1032,'Fixture Descriptions'!A:A,0),8)","v":{"$error":"#N/A"}},{"$error":"#N/A"},null,{"$error":"#N/A"},1,null,null,null,{"$f":"IFERROR(IF(AND(INDEX(Inventory!CB:CB,MATCH('Inspection Form'!B1032,Inventory!B:B,0))=\"Not Qualified\",INDEX(Inventory!L:L,MATCH('Inspection Form'!B1032,Inventory!B:B,0))<>\"\",$Q$5<>\"Pre\"),0,BY1032*BZ1032), 0)","v":0},null,{"$error":"#DIV/0!"},{"$error":"#DIV/0!"},1029]
[null,1029,null,null,null,null,null,null,null,null,null,null,null,null,null,null,null,null,null,null,null,null,null,null,null,null,null,null,null,null,null,null,null,null,null,null,null,null,null,null,null,null,null,null,null,null,null,null,null,null,null,null,null,null,null,null,null,null,null,null,null,null,null,null,null,null,null,null,null,null,null,null,null,{"$f":"INDEX('Fixture Descriptions'!A:K,MATCH('Inspection Form'!H1033,'Fixture Descriptions'!A:A,0),8)","v":{"$error":"#N/A"}},{"$error":"#N/A"},null,{"$error":"#N/A"},1,null,null,null,{"$f":"IFERROR(IF(AND(INDEX(Inventory!CB:CB,MATCH('Inspection Form'!B1033,Inventory!B:B,0))=\"Not Qualified\",INDEX(Inventory!L:L,MATCH('Inspection Form'!B1033,Inventory!B:B,0))<>\"\",$Q$5<>\"Pre\"),0,BY1033*BZ1033), 0)","v":0},null,{"$error":"#DIV/0!"},{"$error":"#DIV/0!"},1030]
[null,1032,null,null,null,null,null,null,null,null,null,null,null,null,null,null,null,null,null,null,null,null,null,null,null,null,null,null,null,null,null,null,null,null,null,null,null,null,null,null,null,null,null,null,null,null,null,null,null,null,null,null,null,null,null,null,null,null,null,null,null,null,null,null,null,null,null,null,null,null,null,null,null,{"$f":"INDEX('Fixture Descriptions'!A:K,MATCH('Inspection Form'!H1036,'Fixture Descriptions'!A:A,0),8)","v":{"$error":"#N/A"}},{"$error":"#N/A"},null,{"$error":"#N/A"},1,null,null,null,{"$f":"IFERROR(IF(AND(INDEX(Inventory!CB:CB,MATCH('Inspection Form'!B1036,Inventory!B:B,0))=\"Not Qualified\",INDEX(Inventory!L:L,MATCH('Inspection Form'!B1036,Inventory!B:B,0))<>\"\",$Q$5<>\"Pre\"),0,BY1036*BZ1036), 0)","v":0},null,{"$error":"#DIV/0!"},{"$error":"#DIV/0!"},1033]
[null,1033,null,null,null,null,null,null,null,null,null,null,null,null,null,null,null,null,null,null,null,null,null,null,null,null,null,null,null,null,null,null,null,null,null,null,null,null,null,null,null,null,null,null,null,null,null,null,null,null,null,null,null,null,null,null,null,null,null,null,null,null,null,null,null,null,null,null,null,null,null,null,null,{"$f":"INDEX('Fixture Descriptions'!A:K,MATCH('Inspection Form'!H1037,'Fixture Descriptions'!A:A,0),8)","v":{"$error":"#N/A"}},{"$error":"#N/A"},null,{"$error":"#N/A"},1,null,null,null,{"$f":"IFERROR(IF(AND(INDEX(Inventory!CB:CB,MATCH('Inspection Form'!B1037,Inventory!B:B,0))=\"Not Qualified\",INDEX(Inventory!L:L,MATCH('Inspection Form'!B1037,Inventory!B:B,0))<>\"\",$Q$5<>\"Pre\"),0,BY1037*BZ1037), 0)","v":0},null,{"$error":"#DIV/0!"},{"$error":"#DIV/0!"},1034]
[null,1035,null,null,null,null,null,null,null,null,null,null,null,null,null,null,null,null,null,null,null,null,null,null,null,null,null,null,null,null,null,null,null,null,null,null,null,null,null,null,null,null,null,null,null,null,null,null,null,null,null,null,null,null,null,null,null,null,null,null,null,null,null,null,null,null,null,null,null,null,null,null,null,{"$f":"INDEX('Fixture Descriptions'!A:K,MATCH('Inspection Form'!H1039,'Fixture Descriptions'!A:A,0),8)","v":{"$error":"#N/A"}},{"$error":"#N/A"},null,{"$error":"#N/A"},1,null,null,null,{"$f":"IFERROR(IF(AND(INDEX(Inventory!CB:CB,MATCH('Inspection Form'!B1039,Inventory!B:B,0))=\"Not Qualified\",INDEX(Inventory!L:L,MATCH('Inspection Form'!B1039,Inventory!B:B,0))<>\"\",$Q$5<>\"Pre\"),0,BY1039*BZ1039), 0)","v":0},null,{"$error":"#DIV/0!"},{"$error":"#DIV/0!"},1036]
[null,1036,null,null,null,null,null,null,null,null,null,null,null,null,null,null,null,null,null,null,null,null,null,null,null,null,null,null,null,null,null,null,null,null,null,null,null,null,null,null,null,null,null,null,null,null,null,null,null,null,null,null,null,null,null,null,null,null,null,null,null,null,null,null,null,null,null,null,null,null,null,null,null,{"$f":"INDEX('Fixture Descriptions'!A:K,MATCH('Inspection Form'!H1040,'Fixture Descriptions'!A:A,0),8)","v":{"$error":"#N/A"}},{"$error":"#N/A"},null,{"$error":"#N/A"},1,null,null,null,{"$f":"IFERROR(IF(AND(INDEX(Inventory!CB:CB,MATCH('Inspection Form'!B1040,Inventory!B:B,0))=\"Not Qualified\",INDEX(Inventory!L:L,MATCH('Inspection Form'!B1040,Inventory!B:B,0))<>\"\",$Q$5<>\"Pre\"),0,BY1040*BZ1040), 0)","v":0},null,{"$error":"#DIV/0!"},{"$error":"#DIV/0!"},1037]
[null,1039,null,null,null,null,null,null,null,null,null,null,null,null,null,null,null,null,null,null,null,null,null,null,null,null,null,null,null,null,null,null,null,null,null,null,null,null,null,null,null,null,null,null,null,null,null,null,null,null,null,null,null,null,null,null,null,null,null,null,null,null,null,null,null,null,null,null,null,null,null,null,null,{"$f":"INDEX('Fixture Descriptions'!A:K,MATCH('Inspection Form'!H1043,'Fixture Descriptions'!A:A,0),8)","v":{"$error":"#N/A"}},{"$error":"#N/A"},null,{"$error":"#N/A"},1,null,null,null,{"$f":"IFERROR(IF(AND(INDEX(Inventory!CB:CB,MATCH('Inspection Form'!B1043,Inventory!B:B,0))=\"Not Qualified\",INDEX(Inventory!L:L,MATCH('Inspection Form'!B1043,Inventory!B:B,0))<>\"\",$Q$5<>\"Pre\"),0,BY1043*BZ1043), 0)","v":0},null,{"$error":"#DIV/0!"},{"$error":"#DIV/0!"},1040]
[null,1040,null,null,null,null,null,null,null,null,null,null,null,null,null,null,null,null,null,null,null,null,null,null,null,null,null,null,null,null,null,null,null,null,null,null,null,null,null,null,null,null,null,null,null,null,null,null,null,null,null,null,null,null,null,null,null,null,null,null,null,null,null,null,null,null,null,null,null,null,null,null,null,{"$f":"INDEX('Fixture Descriptions'!A:K,MATCH('Inspection Form'!H1044,'Fixture Descriptions'!A:A,0),8)","v":{"$error":"#N/A"}},{"$error":"#N/A"},null,{"$error":"#N/A"},1,null,null,null,{"$f":"IFERROR(IF(AND(INDEX(Inventory!CB:CB,MATCH('Inspection Form'!B1044,Inventory!B:B,0))=\"Not Qualified\",INDEX(Inventory!L:L,MATCH('Inspection Form'!B1044,Inventory!B:B,0))<>\"\",$Q$5<>\"Pre\"),0,BY1044*BZ1044), 0)","v":0},null,{"$error":"#DIV/0!"},{"$error":"#DIV/0!"},1041]
[null,1042,null,null,null,null,null,null,null,null,null,null,null,null,null,null,null,null,null,null,null,null,null,null,null,null,null,null,null,null,null,null,null,null,null,null,null,null,null,null,null,null,null,null,null,null,null,null,null,null,null,null,null,null,null,null,null,null,null,null,null,null,null,null,null,null,null,null,null,null,null,null,null,{"$f":"INDEX('Fixture Descriptions'!A:K,MATCH('Inspection Form'!H1046,'Fixture Descriptions'!A:A,0),8)","v":{"$error":"#N/A"}},{"$error":"#N/A"},null,{"$error":"#N/A"},1,null,null,null,{"$f":"IFERROR(IF(AND(INDEX(Inventory!CB:CB,MATCH('Inspection Form'!B1046,Inventory!B:B,0))=\"Not Qualified\",INDEX(Inventory!L:L,MATCH('Inspection Form'!B1046,Inventory!B:B,0))<>\"\",$Q$5<>\"Pre\"),0,BY1046*BZ1046), 0)","v":0},null,{"$error":"#DIV/0!"},{"$error":"#DIV/0!"},1043]
[null,1043,null,null,null,null,null,null,null,null,null,null,null,null,null,null,null,null,null,null,null,null,null,null,null,null,null,null,null,null,null,null,null,null,null,null,null,null,null,null,null,null,null,null,null,null,null,null,null,null,null,null,null,null,null,null,null,null,null,null,null,null,null,null,null,null,null,null,null,null,null,null,null,{"$f":"INDEX('Fixture Descriptions'!A:K,MATCH('Inspection Form'!H1047,'Fixture Descriptions'!A:A,0),8)","v":{"$error":"#N/A"}},{"$error":"#N/A"},null,{"$error":"#N/A"},1,null,null,null,{"$f":"IFERROR(IF(AND(INDEX(Inventory!CB:CB,MATCH('Inspection Form'!B1047,Inventory!B:B,0))=\"Not Qualified\",INDEX(Inventory!L:L,MATCH('Inspection Form'!B1047,Inventory!B:B,0))<>\"\",$Q$5<>\"Pre\"),0,BY1047*BZ1047), 0)","v":0},null,{"$error":"#DIV/0!"},{"$error":"#DIV/0!"},1044]
[null,1046,null,null,null,null,null,null,null,null,null,null,null,null,null,null,null,null,null,null,null,null,null,null,null,null,null,null,null,null,null,null,null,null,null,null,null,null,null,null,null,null,null,null,null,null,null,null,null,null,null,null,null,null,null,null,null,null,null,null,null,null,null,null,null,null,null,null,null,null,null,null,null,{"$f":"INDEX('Fixture Descriptions'!A:K,MATCH('Inspection Form'!H1050,'Fixture Descriptions'!A:A,0),8)","v":{"$error":"#N/A"}},{"$error":"#N/A"},null,{"$error":"#N/A"},1,null,null,null,{"$f":"IFERROR(IF(AND(INDEX(Inventory!CB:CB,MATCH('Inspection Form'!B1050,Inventory!B:B,0))=\"Not Qualified\",INDEX(Inventory!L:L,MATCH('Inspection Form'!B1050,Inventory!B:B,0))<>\"\",$Q$5<>\"Pre\"),0,BY1050*BZ1050), 0)","v":0},null,{"$error":"#DIV/0!"},{"$error":"#DIV/0!"},1047]
[null,1047,null,null,null,null,null,null,null,null,null,null,null,null,null,null,null,null,null,null,null,null,null,null,null,null,null,null,null,null,null,null,null,null,null,null,null,null,null,null,null,null,null,null,null,null,null,null,null,null,null,null,null,null,null,null,null,null,null,null,null,null,null,null,null,null,null,null,null,null,null,null,null,{"$f":"INDEX('Fixture Descriptions'!A:K,MATCH('Inspection Form'!H1051,'Fixture Descriptions'!A:A,0),8)","v":{"$error":"#N/A"}},{"$error":"#N/A"},null,{"$error":"#N/A"},1,null,null,null,{"$f":"IFERROR(IF(AND(INDEX(Inventory!CB:CB,MATCH('Inspection Form'!B1051,Inventory!B:B,0))=\"Not Qualified\",INDEX(Inventory!L:L,MATCH('Inspection Form'!B1051,Inventory!B:B,0))<>\"\",$Q$5<>\"Pre\"),0,BY1051*BZ1051), 0)","v":0},null,{"$error":"#DIV/0!"},{"$error":"#DIV/0!"},1048]
[null,1049,null,null,null,null,null,null,null,null,null,null,null,null,null,null,null,null,null,null,null,null,null,null,null,null,null,null,null,null,null,null,null,null,null,null,null,null,null,null,null,null,null,null,null,null,null,null,null,null,null,null,null,null,null,null,null,null,null,null,null,null,null,null,null,null,null,null,null,null,null,null,null,{"$f":"INDEX('Fixture Descriptions'!A:K,MATCH('Inspection Form'!H1053,'Fixture Descriptions'!A:A,0),8)","v":{"$error":"#N/A"}},{"$error":"#N/A"},null,{"$error":"#N/A"},1,null,null,null,{"$f":"IFERROR(IF(AND(INDEX(Inventory!CB:CB,MATCH('Inspection Form'!B1053,Inventory!B:B,0))=\"Not Qualified\",INDEX(Inventory!L:L,MATCH('Inspection Form'!B1053,Inventory!B:B,0))<>\"\",$Q$5<>\"Pre\"),0,BY1053*BZ1053), 0)","v":0},null,{"$error":"#DIV/0!"},{"$error":"#DIV/0!"},1050]
[null,1050,null,null,null,null,null,null,null,null,null,null,null,null,null,null,null,null,null,null,null,null,null,null,null,null,null,null,null,null,null,null,null,null,null,null,null,null,null,null,null,null,null,null,null,null,null,null,null,null,null,null,null,null,null,null,null,null,null,null,null,null,null,null,null,null,null,null,null,null,null,null,null,{"$f":"INDEX('Fixture Descriptions'!A:K,MATCH('Inspection Form'!H1054,'Fixture Descriptions'!A:A,0),8)","v":{"$error":"#N/A"}},{"$error":"#N/A"},null,{"$error":"#N/A"},1,null,null,null,{"$f":"IFERROR(IF(AND(INDEX(Inventory!CB:CB,MATCH('Inspection Form'!B1054,Inventory!B:B,0))=\"Not Qualified\",INDEX(Inventory!L:L,MATCH('Inspection Form'!B1054,Inventory!B:B,0))<>\"\",$Q$5<>\"Pre\"),0,BY1054*BZ1054), 0)","v":0},null,{"$error":"#DIV/0!"},{"$error":"#DIV/0!"},1051]
[null,1053,null,null,null,null,null,null,null,null,null,null,null,null,null,null,null,null,null,null,null,null,null,null,null,null,null,null,null,null,null,null,null,null,null,null,null,null,null,null,null,null,null,null,null,null,null,null,null,null,null,null,null,null,null,null,null,null,null,null,null,null,null,null,null,null,null,null,null,null,null,null,null,{"$f":"INDEX('Fixture Descriptions'!A:K,MATCH('Inspection Form'!H1057,'Fixture Descriptions'!A:A,0),8)","v":{"$error":"#N/A"}},{"$error":"#N/A"},null,{"$error":"#N/A"},1,null,null,null,{"$f":"IFERROR(IF(AND(INDEX(Inventory!CB:CB,MATCH('Inspection Form'!B1057,Inventory!B:B,0))=\"Not Qualified\",INDEX(Inventory!L:L,MATCH('Inspection Form'!B1057,Inventory!B:B,0))<>\"\",$Q$5<>\"Pre\"),0,BY1057*BZ1057), 0)","v":0},null,{"$error":"#DIV/0!"},{"$error":"#DIV/0!"},1054]
[null,1054,null,null,null,null,null,null,null,null,null,null,null,null,null,null,null,null,null,null,null,null,null,null,null,null,null,null,null,null,null,null,null,null,null,null,null,null,null,null,null,null,null,null,null,null,null,null,null,null,null,null,null,null,null,null,null,null,null,null,null,null,null,null,null,null,null,null,null,null,null,null,null,{"$f":"INDEX('Fixture Descriptions'!A:K,MATCH('Inspection Form'!H1058,'Fixture Descriptions'!A:A,0),8)","v":{"$error":"#N/A"}},{"$error":"#N/A"},null,{"$error":"#N/A"},1,null,null,null,{"$f":"IFERROR(IF(AND(INDEX(Inventory!CB:CB,MATCH('Inspection Form'!B1058,Inventory!B:B,0))=\"Not Qualified\",INDEX(Inventory!L:L,MATCH('Inspection Form'!B1058,Inventory!B:B,0))<>\"\",$Q$5<>\"Pre\"),0,BY1058*BZ1058), 0)","v":0},null,{"$error":"#DIV/0!"},{"$error":"#DIV/0!"},1055]
[null,1056,null,null,null,null,null,null,null,null,null,null,null,null,null,null,null,null,null,null,null,null,null,null,null,null,null,null,null,null,null,null,null,null,null,null,null,null,null,null,null,null,null,null,null,null,null,null,null,null,null,null,null,null,null,null,null,null,null,null,null,null,null,null,null,null,null,null,null,null,null,null,null,{"$f":"INDEX('Fixture Descriptions'!A:K,MATCH('Inspection Form'!H1060,'Fixture Descriptions'!A:A,0),8)","v":{"$error":"#N/A"}},{"$error":"#N/A"},null,{"$error":"#N/A"},1,null,null,null,{"$f":"IFERROR(IF(AND(INDEX(Inventory!CB:CB,MATCH('Inspection Form'!B1060,Inventory!B:B,0))=\"Not Qualified\",INDEX(Inventory!L:L,MATCH('Inspection Form'!B1060,Inventory!B:B,0))<>\"\",$Q$5<>\"Pre\"),0,BY1060*BZ1060), 0)","v":0},null,{"$error":"#DIV/0!"},{"$error":"#DIV/0!"},1057]
[null,1057,null,null,null,null,null,null,null,null,null,null,null,null,null,null,null,null,null,null,null,null,null,null,null,null,null,null,null,null,null,null,null,null,null,null,null,null,null,null,null,null,null,null,null,null,null,null,null,null,null,null,null,null,null,null,null,null,null,null,null,null,null,null,null,null,null,null,null,null,null,null,null,{"$f":"INDEX('Fixture Descriptions'!A:K,MATCH('Inspection Form'!H1061,'Fixture Descriptions'!A:A,0),8)","v":{"$error":"#N/A"}},{"$error":"#N/A"},null,{"$error":"#N/A"},1,null,null,null,{"$f":"IFERROR(IF(AND(INDEX(Inventory!CB:CB,MATCH('Inspection Form'!B1061,Inventory!B:B,0))=\"Not Qualified\",INDEX(Inventory!L:L,MATCH('Inspection Form'!B1061,Inventory!B:B,0))<>\"\",$Q$5<>\"Pre\"),0,BY1061*BZ1061), 0)","v":0},null,{"$error":"#DIV/0!"},{"$error":"#DIV/0!"},1058]
[null,1060,null,null,null,null,null,null,null,null,null,null,null,null,null,null,null,null,null,null,null,null,null,null,null,null,null,null,null,null,null,null,null,null,null,null,null,null,null,null,null,null,null,null,null,null,null,null,null,null,null,null,null,null,null,null,null,null,null,null,null,null,null,null,null,null,null,null,null,null,null,null,null,{"$f":"INDEX('Fixture Descriptions'!A:K,MATCH('Inspection Form'!H1064,'Fixture Descriptions'!A:A,0),8)","v":{"$error":"#N/A"}},{"$error":"#N/A"},null,{"$error":"#N/A"},1,null,null,null,{"$f":"IFERROR(IF(AND(INDEX(Inventory!CB:CB,MATCH('Inspection Form'!B1064,Inventory!B:B,0))=\"Not Qualified\",INDEX(Inventory!L:L,MATCH('Inspection Form'!B1064,Inventory!B:B,0))<>\"\",$Q$5<>\"Pre\"),0,BY1064*BZ1064), 0)","v":0},null,{"$error":"#DIV/0!"},{"$error":"#DIV/0!"},1061]
[null,1061,null,null,null,null,null,null,null,null,null,null,null,null,null,null,null,null,null,null,null,null,null,null,null,null,null,null,null,null,null,null,null,null,null,null,null,null,null,null,null,null,null,null,null,null,null,null,null,null,null,null,null,null,null,null,null,null,null,null,null,null,null,null,null,null,null,null,null,null,null,null,null,{"$f":"INDEX('Fixture Descriptions'!A:K,MATCH('Inspection Form'!H1065,'Fixture Descriptions'!A:A,0),8)","v":{"$error":"#N/A"}},{"$error":"#N/A"},null,{"$error":"#N/A"},1,null,null,null,{"$f":"IFERROR(IF(AND(INDEX(Inventory!CB:CB,MATCH('Inspection Form'!B1065,Inventory!B:B,0))=\"Not Qualified\",INDEX(Inventory!L:L,MATCH('Inspection Form'!B1065,Inventory!B:B,0))<>\"\",$Q$5<>\"Pre\"),0,BY1065*BZ1065), 0)","v":0},null,{"$error":"#DIV/0!"},{"$error":"#DIV/0!"},1062]
[null,1063,null,null,null,null,null,null,null,null,null,null,null,null,null,null,null,null,null,null,null,null,null,null,null,null,null,null,null,null,null,null,null,null,null,null,null,null,null,null,null,null,null,null,null,null,null,null,null,null,null,null,null,null,null,null,null,null,null,null,null,null,null,null,null,null,null,null,null,null,null,null,null,{"$f":"INDEX('Fixture Descriptions'!A:K,MATCH('Inspection Form'!H1067,'Fixture Descriptions'!A:A,0),8)","v":{"$error":"#N/A"}},{"$error":"#N/A"},null,{"$error":"#N/A"},1,null,null,null,{"$f":"IFERROR(IF(AND(INDEX(Inventory!CB:CB,MATCH('Inspection Form'!B1067,Inventory!B:B,0))=\"Not Qualified\",INDEX(Inventory!L:L,MATCH('Inspection Form'!B1067,Inventory!B:B,0))<>\"\",$Q$5<>\"Pre\"),0,BY1067*BZ1067), 0)","v":0},null,{"$error":"#DIV/0!"},{"$error":"#DIV/0!"},1064]
[null,1064,null,null,null,null,null,null,null,null,null,null,null,null,null,null,null,null,null,null,null,null,null,null,null,null,null,null,null,null,null,null,null,null,null,null,null,null,null,null,null,null,null,null,null,null,null,null,null,null,null,null,null,null,null,null,null,null,null,null,null,null,null,null,null,null,null,null,null,null,null,null,null,{"$f":"INDEX('Fixture Descriptions'!A:K,MATCH('Inspection Form'!H1068,'Fixture Descriptions'!A:A,0),8)","v":{"$error":"#N/A"}},{"$error":"#N/A"},null,{"$error":"#N/A"},1,null,null,null,{"$f":"IFERROR(IF(AND(INDEX(Inventory!CB:CB,MATCH('Inspection Form'!B1068,Inventory!B:B,0))=\"Not Qualified\",INDEX(Inventory!L:L,MATCH('Inspection Form'!B1068,Inventory!B:B,0))<>\"\",$Q$5<>\"Pre\"),0,BY1068*BZ1068), 0)","v":0},null,{"$error":"#DIV/0!"},{"$error":"#DIV/0!"},1065]
[null,1067,null,null,null,null,null,null,null,null,null,null,null,null,null,null,null,null,null,null,null,null,null,null,null,null,null,null,null,null,null,null,null,null,null,null,null,null,null,null,null,null,null,null,null,null,null,null,null,null,null,null,null,null,null,null,null,null,null,null,null,null,null,null,null,null,null,null,null,null,null,null,null,{"$f":"INDEX('Fixture Descriptions'!A:K,MATCH('Inspection Form'!H1071,'Fixture Descriptions'!A:A,0),8)","v":{"$error":"#N/A"}},{"$error":"#N/A"},null,{"$error":"#N/A"},1,null,null,null,{"$f":"IFERROR(IF(AND(INDEX(Inventory!CB:CB,MATCH('Inspection Form'!B1071,Inventory!B:B,0))=\"Not Qualified\",INDEX(Inventory!L:L,MATCH('Inspection Form'!B1071,Inventory!B:B,0))<>\"\",$Q$5<>\"Pre\"),0,BY1071*BZ1071), 0)","v":0},null,{"$error":"#DIV/0!"},{"$error":"#DIV/0!"},1068]
[null,1068,null,null,null,null,null,null,null,null,null,null,null,null,null,null,null,null,null,null,null,null,null,null,null,null,null,null,null,null,null,null,null,null,null,null,null,null,null,null,null,null,null,null,null,null,null,null,null,null,null,null,null,null,null,null,null,null,null,null,null,null,null,null,null,null,null,null,null,null,null,null,null,{"$f":"INDEX('Fixture Descriptions'!A:K,MATCH('Inspection Form'!H1072,'Fixture Descriptions'!A:A,0),8)","v":{"$error":"#N/A"}},{"$error":"#N/A"},null,{"$error":"#N/A"},1,null,null,null,{"$f":"IFERROR(IF(AND(INDEX(Inventory!CB:CB,MATCH('Inspection Form'!B1072,Inventory!B:B,0))=\"Not Qualified\",INDEX(Inventory!L:L,MATCH('Inspection Form'!B1072,Inventory!B:B,0))<>\"\",$Q$5<>\"Pre\"),0,BY1072*BZ1072), 0)","v":0},null,{"$error":"#DIV/0!"},{"$error":"#DIV/0!"},1069]
[null,1070,null,null,null,null,null,null,null,null,null,null,null,null,null,null,null,null,null,null,null,null,null,null,null,null,null,null,null,null,null,null,null,null,null,null,null,null,null,null,null,null,null,null,null,null,null,null,null,null,null,null,null,null,null,null,null,null,null,null,null,null,null,null,null,null,null,null,null,null,null,null,null,{"$f":"INDEX('Fixture Descriptions'!A:K,MATCH('Inspection Form'!H1074,'Fixture Descriptions'!A:A,0),8)","v":{"$error":"#N/A"}},{"$error":"#N/A"},null,{"$error":"#N/A"},1,null,null,null,{"$f":"IFERROR(IF(AND(INDEX(Inventory!CB:CB,MATCH('Inspection Form'!B1074,Inventory!B:B,0))=\"Not Qualified\",INDEX(Inventory!L:L,MATCH('Inspection Form'!B1074,Inventory!B:B,0))<>\"\",$Q$5<>\"Pre\"),0,BY1074*BZ1074), 0)","v":0},null,{"$error":"#DIV/0!"},{"$error":"#DIV/0!"},1071]
[null,1071,null,null,null,null,null,null,null,null,null,null,null,null,null,null,null,null,null,null,null,null,null,null,null,null,null,null,null,null,null,null,null,null,null,null,null,null,null,null,null,null,null,null,null,null,null,null,null,null,null,null,null,null,null,null,null,null,null,null,null,null,null,null,null,null,null,null,null,null,null,null,null,{"$f":"INDEX('Fixture Descriptions'!A:K,MATCH('Inspection Form'!H1075,'Fixture Descriptions'!A:A,0),8)","v":{"$error":"#N/A"}},{"$f":"BV1075*I1075","v":{"$error":"#N/A"}},null,{"$f":"BW1075","v":{"$error":"#N/A"}},{"$f":"IF($U$3=\"All\", 1, IF(AND(C1075=$U$3, H1075=$U$4), 1, 0))","v":1},null,null,null,{"$f":"IFERROR(IF(AND(INDEX(Inventory!CB:CB,MATCH('Inspection Form'!B1075,Inventory!B:B,0))=\"Not Qualified\",INDEX(Inventory!L:L,MATCH('Inspection Form'!B1075,Inventory!B:B,0))<>\"\",$Q$5<>\"Pre\"),0,BY1075*BZ1075), 0)","v":0},null,{"$f":"CD1075/$CE$5","v":{"$error":"#DIV/0!"}},{"$f":"CF1075+CG1074","v":{"$error":"#DIV/0!"}},1072]
[null,1074,null,null,null,null,null,null,null,null,null,null,null,null,null,null,null,null,null,null,null,null,null,null,null,null,null,null,null,null,null,null,null,null,null,null,null,null,null,null,null,null,null,null,null,null,null,null,null,null,null,null,null,null,null,null,null,null,null,null,null,null,null,null,null,null,null,null,null,null,null,null,null,{"$f":"INDEX('Fixture Descriptions'!A:K,MATCH('Inspection Form'!H1078,'Fixture Descriptions'!A:A,0),8)","v":{"$error":"#N/A"}},{"$error":"#N/A"},null,{"$error":"#N/A"},1,null,null,null,{"$f":"IFERROR(IF(AND(INDEX(Inventory!CB:CB,MATCH('Inspection Form'!B1078,Inventory!B:B,0))=\"Not Qualified\",INDEX(Inventory!L:L,MATCH('Inspection Form'!B1078,Inventory!B:B,0))<>\"\",$Q$5<>\"Pre\"),0,BY1078*BZ1078), 0)","v":0},null,{"$error":"#DIV/0!"},{"$error":"#DIV/0!"},1075]
[null,1075,null,null,null,null,null,null,null,null,null,null,null,null,null,null,null,null,null,null,null,null,null,null,null,null,null,null,null,null,null,null,null,null,null,null,null,null,null,null,null,null,null,null,null,null,null,null,null,null,null,null,null,null,null,null,null,null,null,null,null,null,null,null,null,null,null,null,null,null,null,null,null,{"$f":"INDEX('Fixture Descriptions'!A:K,MATCH('Inspection Form'!H1079,'Fixture Descriptions'!A:A,0),8)","v":{"$error":"#N/A"}},{"$error":"#N/A"},null,{"$error":"#N/A"},1,null,null,null,{"$f":"IFERROR(IF(AND(INDEX(Inventory!CB:CB,MATCH('Inspection Form'!B1079,Inventory!B:B,0))=\"Not Qualified\",INDEX(Inventory!L:L,MATCH('Inspection Form'!B1079,Inventory!B:B,0))<>\"\",$Q$5<>\"Pre\"),0,BY1079*BZ1079), 0)","v":0},null,{"$error":"#DIV/0!"},{"$error":"#DIV/0!"},1076]
[null,1077,null,null,null,null,null,null,null,null,null,null,null,null,null,null,null,null,null,null,null,null,null,null,null,null,null,null,null,null,null,null,null,null,null,null,null,null,null,null,null,null,null,null,null,null,null,null,null,null,null,null,null,null,null,null,null,null,null,null,null,null,null,null,null,null,null,null,null,null,null,null,null,{"$f":"INDEX('Fixture Descriptions'!A:K,MATCH('Inspection Form'!H1081,'Fixture Descriptions'!A:A,0),8)","v":{"$error":"#N/A"}},{"$error":"#N/A"},null,{"$error":"#N/A"},1,null,null,null,{"$f":"IFERROR(IF(AND(INDEX(Inventory!CB:CB,MATCH('Inspection Form'!B1081,Inventory!B:B,0))=\"Not Qualified\",INDEX(Inventory!L:L,MATCH('Inspection Form'!B1081,Inventory!B:B,0))<>\"\",$Q$5<>\"Pre\"),0,BY1081*BZ1081), 0)","v":0},null,{"$error":"#DIV/0!"},{"$error":"#DIV/0!"},1078]
[null,1078,null,null,null,null,null,null,null,null,null,null,null,null,null,null,null,null,null,null,null,null,null,null,null,null,null,null,null,null,null,null,null,null,null,null,null,null,null,null,null,null,null,null,null,null,null,null,null,null,null,null,null,null,null,null,null,null,null,null,null,null,null,null,null,null,null,null,null,null,null,null,null,{"$f":"INDEX('Fixture Descriptions'!A:K,MATCH('Inspection Form'!H1082,'Fixture Descriptions'!A:A,0),8)","v":{"$error":"#N/A"}},{"$error":"#N/A"},null,{"$error":"#N/A"},1,null,null,null,{"$f":"IFERROR(IF(AND(INDEX(Inventory!CB:CB,MATCH('Inspection Form'!B1082,Inventory!B:B,0))=\"Not Qualified\",INDEX(Inventory!L:L,MATCH('Inspection Form'!B1082,Inventory!B:B,0))<>\"\",$Q$5<>\"Pre\"),0,BY1082*BZ1082), 0)","v":0},null,{"$error":"#DIV/0!"},{"$error":"#DIV/0!"},1079]
[null,1081,null,null,null,null,null,null,null,null,null,null,null,null,null,null,null,null,null,null,null,null,null,null,null,null,null,null,null,null,null,null,null,null,null,null,null,null,null,null,null,null,null,null,null,null,null,null,null,null,null,null,null,null,null,null,null,null,null,null,null,null,null,null,null,null,null,null,null,null,null,null,null,{"$f":"INDEX('Fixture Descriptions'!A:K,MATCH('Inspection Form'!H1085,'Fixture Descriptions'!A:A,0),8)","v":{"$error":"#N/A"}},{"$error":"#N/A"},null,{"$error":"#N/A"},1,null,null,null,{"$f":"IFERROR(IF(AND(INDEX(Inventory!CB:CB,MATCH('Inspection Form'!B1085,Inventory!B:B,0))=\"Not Qualified\",INDEX(Inventory!L:L,MATCH('Inspection Form'!B1085,Inventory!B:B,0))<>\"\",$Q$5<>\"Pre\"),0,BY1085*BZ1085), 0)","v":0},null,{"$error":"#DIV/0!"},{"$error":"#DIV/0!"},1082]
[null,1082,null,null,null,null,null,null,null,null,null,null,null,null,null,null,null,null,null,null,null,null,null,null,null,null,null,null,null,null,null,null,null,null,null,null,null,null,null,null,null,null,null,null,null,null,null,null,null,null,null,null,null,null,null,null,null,null,null,null,null,null,null,null,null,null,null,null,null,null,null,null,null,{"$f":"INDEX('Fixture Descriptions'!A:K,MATCH('Inspection Form'!H1086,'Fixture Descriptions'!A:A,0),8)","v":{"$error":"#N/A"}},{"$error":"#N/A"},null,{"$error":"#N/A"},1,null,null,null,{"$f":"IFERROR(IF(AND(INDEX(Inventory!CB:CB,MATCH('Inspection Form'!B1086,Inventory!B:B,0))=\"Not Qualified\",INDEX(Inventory!L:L,MATCH('Inspection Form'!B1086,Inventory!B:B,0))<>\"\",$Q$5<>\"Pre\"),0,BY1086*BZ1086), 0)","v":0},null,{"$error":"#DIV/0!"},{"$error":"#DIV/0!"},1083]
[null,1084,null,null,null,null,null,null,null,null,null,null,null,null,null,null,null,null,null,null,null,null,null,null,null,null,null,null,null,null,null,null,null,null,null,null,null,null,null,null,null,null,null,null,null,null,null,null,null,null,null,null,null,null,null,null,null,null,null,null,null,null,null,null,null,null,null,null,null,null,null,null,null,{"$f":"INDEX('Fixture Descriptions'!A:K,MATCH('Inspection Form'!H1088,'Fixture Descriptions'!A:A,0),8)","v":{"$error":"#N/A"}},{"$error":"#N/A"},null,{"$error":"#N/A"},1,null,null,null,{"$f":"IFERROR(IF(AND(INDEX(Inventory!CB:CB,MATCH('Inspection Form'!B1088,Inventory!B:B,0))=\"Not Qualified\",INDEX(Inventory!L:L,MATCH('Inspection Form'!B1088,Inventory!B:B,0))<>\"\",$Q$5<>\"Pre\"),0,BY1088*BZ1088), 0)","v":0},null,{"$error":"#DIV/0!"},{"$error":"#DIV/0!"},1085]
[null,1085,null,null,null,null,null,null,null,null,null,null,null,null,null,null,null,null,null,null,null,null,null,null,null,null,null,null,null,null,null,null,null,null,null,null,null,null,null,null,null,null,null,null,null,null,null,null,null,null,null,null,null,null,null,null,null,null,null,null,null,null,null,null,null,null,null,null,null,null,null,null,null,{"$f":"INDEX('Fixture Descriptions'!A:K,MATCH('Inspection Form'!H1089,'Fixture Descriptions'!A:A,0),8)","v":{"$error":"#N/A"}},{"$error":"#N/A"},null,{"$error":"#N/A"},1,null,null,null,{"$f":"IFERROR(IF(AND(INDEX(Inventory!CB:CB,MATCH('Inspection Form'!B1089,Inventory!B:B,0))=\"Not Qualified\",INDEX(Inventory!L:L,MATCH('Inspection Form'!B1089,Inventory!B:B,0))<>\"\",$Q$5<>\"Pre\"),0,BY1089*BZ1089), 0)","v":0},null,{"$error":"#DIV/0!"},{"$error":"#DIV/0!"},1086]
[null,1088,null,null,null,null,null,null,null,null,null,null,null,null,null,null,null,null,null,null,null,null,null,null,null,null,null,null,null,null,null,null,null,null,null,null,null,null,null,null,null,null,null,null,null,null,null,null,null,null,null,null,null,null,null,null,null,null,null,null,null,null,null,null,null,null,null,null,null,null,null,null,null,{"$f":"INDEX('Fixture Descriptions'!A:K,MATCH('Inspection Form'!H1092,'Fixture Descriptions'!A:A,0),8)","v":{"$error":"#N/A"}},{"$error":"#N/A"},null,{"$error":"#N/A"},1,null,null,null,{"$f":"IFERROR(IF(AND(INDEX(Inventory!CB:CB,MATCH('Inspection Form'!B1092,Inventory!B:B,0))=\"Not Qualified\",INDEX(Inventory!L:L,MATCH('Inspection Form'!B1092,Inventory!B:B,0))<>\"\",$Q$5<>\"Pre\"),0,BY1092*BZ1092), 0)","v":0},null,{"$error":"#DIV/0!"},{"$error":"#DIV/0!"},1089]
[null,1089,null,null,null,null,null,null,null,null,null,null,null,null,null,null,null,null,null,null,null,null,null,null,null,null,null,null,null,null,null,null,null,null,null,null,null,null,null,null,null,null,null,null,null,null,null,null,null,null,null,null,null,null,null,null,null,null,null,null,null,null,null,null,null,null,null,null,null,null,null,null,null,{"$f":"INDEX('Fixture Descriptions'!A:K,MATCH('Inspection Form'!H1093,'Fixture Descriptions'!A:A,0),8)","v":{"$error":"#N/A"}},{"$error":"#N/A"},null,{"$error":"#N/A"},1,null,null,null,{"$f":"IFERROR(IF(AND(INDEX(Inventory!CB:CB,MATCH('Inspection Form'!B1093,Inventory!B:B,0))=\"Not Qualified\",INDEX(Inventory!L:L,MATCH('Inspection Form'!B1093,Inventory!B:B,0))<>\"\",$Q$5<>\"Pre\"),0,BY1093*BZ1093), 0)","v":0},null,{"$error":"#DIV/0!"},{"$error":"#DIV/0!"},1090]
[null,1091,null,null,null,null,null,null,null,null,null,null,null,null,null,null,null,null,null,null,null,null,null,null,null,null,null,null,null,null,null,null,null,null,null,null,null,null,null,null,null,null,null,null,null,null,null,null,null,null,null,null,null,null,null,null,null,null,null,null,null,null,null,null,null,null,null,null,null,null,null,null,null,{"$f":"INDEX('Fixture Descriptions'!A:K,MATCH('Inspection Form'!H1095,'Fixture Descriptions'!A:A,0),8)","v":{"$error":"#N/A"}},{"$error":"#N/A"},null,{"$error":"#N/A"},1,null,null,null,{"$f":"IFERROR(IF(AND(INDEX(Inventory!CB:CB,MATCH('Inspection Form'!B1095,Inventory!B:B,0))=\"Not Qualified\",INDEX(Inventory!L:L,MATCH('Inspection Form'!B1095,Inventory!B:B,0))<>\"\",$Q$5<>\"Pre\"),0,BY1095*BZ1095), 0)","v":0},null,{"$error":"#DIV/0!"},{"$error":"#DIV/0!"},1092]
[null,1092,null,null,null,null,null,null,null,null,null,null,null,null,null,null,null,null,null,null,null,null,null,null,null,null,null,null,null,null,null,null,null,null,null,null,null,null,null,null,null,null,null,null,null,null,null,null,null,null,null,null,null,null,null,null,null,null,null,null,null,null,null,null,null,null,null,null,null,null,null,null,null,{"$f":"INDEX('Fixture Descriptions'!A:K,MATCH('Inspection Form'!H1096,'Fixture Descriptions'!A:A,0),8)","v":{"$error":"#N/A"}},{"$error":"#N/A"},null,{"$error":"#N/A"},1,null,null,null,{"$f":"IFERROR(IF(AND(INDEX(Inventory!CB:CB,MATCH('Inspection Form'!B1096,Inventory!B:B,0))=\"Not Qualified\",INDEX(Inventory!L:L,MATCH('Inspection Form'!B1096,Inventory!B:B,0))<>\"\",$Q$5<>\"Pre\"),0,BY1096*BZ1096), 0)","v":0},null,{"$error":"#DIV/0!"},{"$error":"#DIV/0!"},1093]
[null,1095,null,null,null,null,null,null,null,null,null,null,null,null,null,null,null,null,null,null,null,null,null,null,null,null,null,null,null,null,null,null,null,null,null,null,null,null,null,null,null,null,null,null,null,null,null,null,null,null,null,null,null,null,null,null,null,null,null,null,null,null,null,null,null,null,null,null,null,null,null,null,null,{"$f":"INDEX('Fixture Descriptions'!A:K,MATCH('Inspection Form'!H1099,'Fixture Descriptions'!A:A,0),8)","v":{"$error":"#N/A"}},{"$error":"#N/A"},null,{"$error":"#N/A"},1,null,null,null,{"$f":"IFERROR(IF(AND(INDEX(Inventory!CB:CB,MATCH('Inspection Form'!B1099,Inventory!B:B,0))=\"Not Qualified\",INDEX(Inventory!L:L,MATCH('Inspection Form'!B1099,Inventory!B:B,0))<>\"\",$Q$5<>\"Pre\"),0,BY1099*BZ1099), 0)","v":0},null,{"$error":"#DIV/0!"},{"$error":"#DIV/0!"},1096]
[null,1096,null,null,null,null,null,null,null,null,null,null,null,null,null,null,null,null,null,null,null,null,null,null,null,null,null,null,null,null,null,null,null,null,null,null,null,null,null,null,null,null,null,null,null,null,null,null,null,null,null,null,null,null,null,null,null,null,null,null,null,null,null,null,null,null,null,null,null,null,null,null,null,{"$f":"INDEX('Fixture Descriptions'!A:K,MATCH('Inspection Form'!H1100,'Fixture Descriptions'!A:A,0),8)","v":{"$error":"#N/A"}},{"$error":"#N/A"},null,{"$error":"#N/A"},1,null,null,null,{"$f":"IFERROR(IF(AND(INDEX(Inventory!CB:CB,MATCH('Inspection Form'!B1100,Inventory!B:B,0))=\"Not Qualified\",INDEX(Inventory!L:L,MATCH('Inspection Form'!B1100,Inventory!B:B,0))<>\"\",$Q$5<>\"Pre\"),0,BY1100*BZ1100), 0)","v":0},null,{"$error":"#DIV/0!"},{"$error":"#DIV/0!"},1097]
[null,1098,null,null,null,null,null,null,null,null,null,null,null,null,null,null,null,null,null,null,null,null,null,null,null,null,null,null,null,null,null,null,null,null,null,null,null,null,null,null,null,null,null,null,null,null,null,null,null,null,null,null,null,null,null,null,null,null,null,null,null,null,null,null,null,null,null,null,null,null,null,null,null,{"$f":"INDEX('Fixture Descriptions'!A:K,MATCH('Inspection Form'!H1102,'Fixture Descriptions'!A:A,0),8)","v":{"$error":"#N/A"}},{"$error":"#N/A"},null,{"$error":"#N/A"},1,null,null,null,{"$f":"IFERROR(IF(AND(INDEX(Inventory!CB:CB,MATCH('Inspection Form'!B1102,Inventory!B:B,0))=\"Not Qualified\",INDEX(Inventory!L:L,MATCH('Inspection Form'!B1102,Inventory!B:B,0))<>\"\",$Q$5<>\"Pre\"),0,BY1102*BZ1102), 0)","v":0},null,{"$error":"#DIV/0!"},{"$error":"#DIV/0!"},1099]
[null,1099,null,null,null,null,null,null,null,null,null,null,null,null,null,null,null,null,null,null,null,null,null,null,null,null,null,null,null,null,null,null,null,null,null,null,null,null,null,null,null,null,null,null,null,null,null,null,null,null,null,null,null,null,null,null,null,null,null,null,null,null,null,null,null,null,null,null,null,null,null,null,null,{"$f":"INDEX('Fixture Descriptions'!A:K,MATCH('Inspection Form'!H1103,'Fixture Descriptions'!A:A,0),8)","v":{"$error":"#N/A"}},{"$error":"#N/A"},null,{"$error":"#N/A"},1,null,null,null,{"$f":"IFERROR(IF(AND(INDEX(Inventory!CB:CB,MATCH('Inspection Form'!B1103,Inventory!B:B,0))=\"Not Qualified\",INDEX(Inventory!L:L,MATCH('Inspection Form'!B1103,Inventory!B:B,0))<>\"\",$Q$5<>\"Pre\"),0,BY1103*BZ1103), 0)","v":0},null,{"$error":"#DIV/0!"},{"$error":"#DIV/0!"},1100]
[null,1102,null,null,null,null,null,null,null,null,null,null,null,null,null,null,null,null,null,null,null,null,null,null,null,null,null,null,null,null,null,null,null,null,null,null,null,null,null,null,null,null,null,null,null,null,null,null,null,null,null,null,null,null,null,null,null,null,null,null,null,null,null,null,null,null,null,null,null,null,null,null,null,{"$f":"INDEX('Fixture Descriptions'!A:K,MATCH('Inspection Form'!H1106,'Fixture Descriptions'!A:A,0),8)","v":{"$error":"#N/A"}},{"$error":"#N/A"},null,{"$error":"#N/A"},1,null,null,null,{"$f":"IFERROR(IF(AND(INDEX(Inventory!CB:CB,MATCH('Inspection Form'!B1106,Inventory!B:B,0))=\"Not Qualified\",INDEX(Inventory!L:L,MATCH('Inspection Form'!B1106,Inventory!B:B,0))<>\"\",$Q$5<>\"Pre\"),0,BY1106*BZ1106), 0)","v":0},null,{"$error":"#DIV/0!"},{"$error":"#DIV/0!"},1103]
[null,1103,null,null,null,null,null,null,null,null,null,null,null,null,null,null,null,null,null,null,null,null,null,null,null,null,null,null,null,null,null,null,null,null,null,null,null,null,null,null,null,null,null,null,null,null,null,null,null,null,null,null,null,null,null,null,null,null,null,null,null,null,null,null,null,null,null,null,null,null,null,null,null,{"$f":"INDEX('Fixture Descriptions'!A:K,MATCH('Inspection Form'!H1107,'Fixture Descriptions'!A:A,0),8)","v":{"$error":"#N/A"}},{"$error":"#N/A"},null,{"$error":"#N/A"},1,null,null,null,{"$f":"IFERROR(IF(AND(INDEX(Inventory!CB:CB,MATCH('Inspection Form'!B1107,Inventory!B:B,0))=\"Not Qualified\",INDEX(Inventory!L:L,MATCH('Inspection Form'!B1107,Inventory!B:B,0))<>\"\",$Q$5<>\"Pre\"),0,BY1107*BZ1107), 0)","v":0},null,{"$error":"#DIV/0!"},{"$error":"#DIV/0!"},1104]
[null,1106,null,null,null,null,null,null,null,null,null,null,null,null,null,null,null,null,null,null,null,null,null,null,null,null,null,null,null,null,null,null,null,null,null,null,null,null,null,null,null,null,null,null,null,null,null,null,null,null,null,null,null,null,null,null,null,null,null,null,null,null,null,null,null,null,null,null,null,null,null,null,null,{"$f":"INDEX('Fixture Descriptions'!A:K,MATCH('Inspection Form'!H1110,'Fixture Descriptions'!A:A,0),8)","v":{"$error":"#N/A"}},{"$error":"#N/A"},null,{"$error":"#N/A"},1,null,null,null,{"$f":"IFERROR(IF(AND(INDEX(Inventory!CB:CB,MATCH('Inspection Form'!B1110,Inventory!B:B,0))=\"Not Qualified\",INDEX(Inventory!L:L,MATCH('Inspection Form'!B1110,Inventory!B:B,0))<>\"\",$Q$5<>\"Pre\"),0,BY1110*BZ1110), 0)","v":0},null,{"$error":"#DIV/0!"},{"$error":"#DIV/0!"},1107]
[null,1107,null,null,null,null,null,null,null,null,null,null,null,null,null,null,null,null,null,null,null,null,null,null,null,null,null,null,null,null,null,null,null,null,null,null,null,null,null,null,null,null,null,null,null,null,null,null,null,null,null,null,null,null,null,null,null,null,null,null,null,null,null,null,null,null,null,null,null,null,null,null,null,{"$f":"INDEX('Fixture Descriptions'!A:K,MATCH('Inspection Form'!H1111,'Fixture Descriptions'!A:A,0),8)","v":{"$error":"#N/A"}},{"$error":"#N/A"},null,{"$error":"#N/A"},1,null,null,null,{"$f":"IFERROR(IF(AND(INDEX(Inventory!CB:CB,MATCH('Inspection Form'!B1111,Inventory!B:B,0))=\"Not Qualified\",INDEX(Inventory!L:L,MATCH('Inspection Form'!B1111,Inventory!B:B,0))<>\"\",$Q$5<>\"Pre\"),0,BY1111*BZ1111), 0)","v":0},null,{"$error":"#DIV/0!"},{"$error":"#DIV/0!"},1108]
[null,1109,null,null,null,null,null,null,null,null,null,null,null,null,null,null,null,null,null,null,null,null,null,null,null,null,null,null,null,null,null,null,null,null,null,null,null,null,null,null,null,null,null,null,null,null,null,null,null,null,null,null,null,null,null,null,null,null,null,null,null,null,null,null,null,null,null,null,null,null,null,null,null,{"$f":"INDEX('Fixture Descriptions'!A:K,MATCH('Inspection Form'!H1113,'Fixture Descriptions'!A:A,0),8)","v":{"$error":"#N/A"}},{"$error":"#N/A"},null,{"$error":"#N/A"},1,null,null,null,{"$f":"IFERROR(IF(AND(INDEX(Inventory!CB:CB,MATCH('Inspection Form'!B1113,Inventory!B:B,0))=\"Not Qualified\",INDEX(Inventory!L:L,MATCH('Inspection Form'!B1113,Inventory!B:B,0))<>\"\",$Q$5<>\"Pre\"),0,BY1113*BZ1113), 0)","v":0},null,{"$error":"#DIV/0!"},{"$error":"#DIV/0!"},1110]
[null,1110,null,null,null,null,null,null,null,null,null,null,null,null,null,null,null,null,null,null,null,null,null,null,null,null,null,null,null,null,null,null,null,null,null,null,null,null,null,null,null,null,null,null,null,null,null,null,null,null,null,null,null,null,null,null,null,null,null,null,null,null,null,null,null,null,null,null,null,null,null,null,null,{"$f":"INDEX('Fixture Descriptions'!A:K,MATCH('Inspection Form'!H1114,'Fixture Descriptions'!A:A,0),8)","v":{"$error":"#N/A"}},{"$error":"#N/A"},null,{"$error":"#N/A"},1,null,null,null,{"$f":"IFERROR(IF(AND(INDEX(Inventory!CB:CB,MATCH('Inspection Form'!B1114,Inventory!B:B,0))=\"Not Qualified\",INDEX(Inventory!L:L,MATCH('Inspection Form'!B1114,Inventory!B:B,0))<>\"\",$Q$5<>\"Pre\"),0,BY1114*BZ1114), 0)","v":0},null,{"$error":"#DIV/0!"},{"$error":"#DIV/0!"},1111]
[null,1113,null,null,null,null,null,null,null,null,null,null,null,null,null,null,null,null,null,null,null,null,null,null,null,null,null,null,null,null,null,null,null,null,null,null,null,null,null,null,null,null,null,null,null,null,null,null,null,null,null,null,null,null,null,null,null,null,null,null,null,null,null,null,null,null,null,null,null,null,null,null,null,{"$f":"INDEX('Fixture Descriptions'!A:K,MATCH('Inspection Form'!H1117,'Fixture Descriptions'!A:A,0),8)","v":{"$error":"#N/A"}},{"$error":"#N/A"},null,{"$error":"#N/A"},1,null,null,null,{"$f":"IFERROR(IF(AND(INDEX(Inventory!CB:CB,MATCH('Inspection Form'!B1117,Inventory!B:B,0))=\"Not Qualified\",INDEX(Inventory!L:L,MATCH('Inspection Form'!B1117,Inventory!B:B,0))<>\"\",$Q$5<>\"Pre\"),0,BY1117*BZ1117), 0)","v":0},null,{"$error":"#DIV/0!"},{"$error":"#DIV/0!"},1114]
[null,1114,null,null,null,null,null,null,null,null,null,null,null,null,null,null,null,null,null,null,null,null,null,null,null,null,null,null,null,null,null,null,null,null,null,null,null,null,null,null,null,null,null,null,null,null,null,null,null,null,null,null,null,null,null,null,null,null,null,null,null,null,null,null,null,null,null,null,null,null,null,null,null,{"$f":"INDEX('Fixture Descriptions'!A:K,MATCH('Inspection Form'!H1118,'Fixture Descriptions'!A:A,0),8)","v":{"$error":"#N/A"}},{"$error":"#N/A"},null,{"$error":"#N/A"},1,null,null,null,{"$f":"IFERROR(IF(AND(INDEX(Inventory!CB:CB,MATCH('Inspection Form'!B1118,Inventory!B:B,0))=\"Not Qualified\",INDEX(Inventory!L:L,MATCH('Inspection Form'!B1118,Inventory!B:B,0))<>\"\",$Q$5<>\"Pre\"),0,BY1118*BZ1118), 0)","v":0},null,{"$error":"#DIV/0!"},{"$error":"#DIV/0!"},1115]
[null,1116,null,null,null,null,null,null,null,null,null,null,null,null,null,null,null,null,null,null,null,null,null,null,null,null,null,null,null,null,null,null,null,null,null,null,null,null,null,null,null,null,null,null,null,null,null,null,null,null,null,null,null,null,null,null,null,null,null,null,null,null,null,null,null,null,null,null,null,null,null,null,null,{"$f":"INDEX('Fixture Descriptions'!A:K,MATCH('Inspection Form'!H1120,'Fixture Descriptions'!A:A,0),8)","v":{"$error":"#N/A"}},{"$error":"#N/A"},null,{"$error":"#N/A"},1,null,null,null,{"$f":"IFERROR(IF(AND(INDEX(Inventory!CB:CB,MATCH('Inspection Form'!B1120,Inventory!B:B,0))=\"Not Qualified\",INDEX(Inventory!L:L,MATCH('Inspection Form'!B1120,Inventory!B:B,0))<>\"\",$Q$5<>\"Pre\"),0,BY1120*BZ1120), 0)","v":0},null,{"$error":"#DIV/0!"},{"$error":"#DIV/0!"},1117]
[null,1117,null,null,null,null,null,null,null,null,null,null,null,null,null,null,null,null,null,null,null,null,null,null,null,null,null,null,null,null,null,null,null,null,null,null,null,null,null,null,null,null,null,null,null,null,null,null,null,null,null,null,null,null,null,null,null,null,null,null,null,null,null,null,null,null,null,null,null,null,null,null,null,{"$f":"INDEX('Fixture Descriptions'!A:K,MATCH('Inspection Form'!H1121,'Fixture Descriptions'!A:A,0),8)","v":{"$error":"#N/A"}},{"$error":"#N/A"},null,{"$error":"#N/A"},1,null,null,null,{"$f":"IFERROR(IF(AND(INDEX(Inventory!CB:CB,MATCH('Inspection Form'!B1121,Inventory!B:B,0))=\"Not Qualified\",INDEX(Inventory!L:L,MATCH('Inspection Form'!B1121,Inventory!B:B,0))<>\"\",$Q$5<>\"Pre\"),0,BY1121*BZ1121), 0)","v":0},null,{"$error":"#DIV/0!"},{"$error":"#DIV/0!"},1118]
[null,1120,null,null,null,null,null,null,null,null,null,null,null,null,null,null,null,null,null,null,null,null,null,null,null,null,null,null,null,null,null,null,null,null,null,null,null,null,null,null,null,null,null,null,null,null,null,null,null,null,null,null,null,null,null,null,null,null,null,null,null,null,null,null,null,null,null,null,null,null,null,null,null,{"$f":"INDEX('Fixture Descriptions'!A:K,MATCH('Inspection Form'!H1124,'Fixture Descriptions'!A:A,0),8)","v":{"$error":"#N/A"}},{"$error":"#N/A"},null,{"$error":"#N/A"},1,null,null,null,{"$f":"IFERROR(IF(AND(INDEX(Inventory!CB:CB,MATCH('Inspection Form'!B1124,Inventory!B:B,0))=\"Not Qualified\",INDEX(Inventory!L:L,MATCH('Inspection Form'!B1124,Inventory!B:B,0))<>\"\",$Q$5<>\"Pre\"),0,BY1124*BZ1124), 0)","v":0},null,{"$error":"#DIV/0!"},{"$error":"#DIV/0!"},1121]
[null,1121,null,null,null,null,null,null,null,null,null,null,null,null,null,null,null,null,null,null,null,null,null,null,null,null,null,null,null,null,null,null,null,null,null,null,null,null,null,null,null,null,null,null,null,null,null,null,null,null,null,null,null,null,null,null,null,null,null,null,null,null,null,null,null,null,null,null,null,null,null,null,null,{"$f":"INDEX('Fixture Descriptions'!A:K,MATCH('Inspection Form'!H1125,'Fixture Descriptions'!A:A,0),8)","v":{"$error":"#N/A"}},{"$error":"#N/A"},null,{"$error":"#N/A"},1,null,null,null,{"$f":"IFERROR(IF(AND(INDEX(Inventory!CB:CB,MATCH('Inspection Form'!B1125,Inventory!B:B,0))=\"Not Qualified\",INDEX(Inventory!L:L,MATCH('Inspection Form'!B1125,Inventory!B:B,0))<>\"\",$Q$5<>\"Pre\"),0,BY1125*BZ1125), 0)","v":0},null,{"$error":"#DIV/0!"},{"$error":"#DIV/0!"},1122]
[null,1123,null,null,null,null,null,null,null,null,null,null,null,null,null,null,null,null,null,null,null,null,null,null,null,null,null,null,null,null,null,null,null,null,null,null,null,null,null,null,null,null,null,null,null,null,null,null,null,null,null,null,null,null,null,null,null,null,null,null,null,null,null,null,null,null,null,null,null,null,null,null,null,{"$f":"INDEX('Fixture Descriptions'!A:K,MATCH('Inspection Form'!H1127,'Fixture Descriptions'!A:A,0),8)","v":{"$error":"#N/A"}},{"$error":"#N/A"},null,{"$error":"#N/A"},1,null,null,null,{"$f":"IFERROR(IF(AND(INDEX(Inventory!CB:CB,MATCH('Inspection Form'!B1127,Inventory!B:B,0))=\"Not Qualified\",INDEX(Inventory!L:L,MATCH('Inspection Form'!B1127,Inventory!B:B,0))<>\"\",$Q$5<>\"Pre\"),0,BY1127*BZ1127), 0)","v":0},null,{"$error":"#DIV/0!"},{"$error":"#DIV/0!"},1124]
[null,1124,null,null,null,null,null,null,null,null,null,null,null,null,null,null,null,null,null,null,null,null,null,null,null,null,null,null,null,null,null,null,null,null,null,null,null,null,null,null,null,null,null,null,null,null,null,null,null,null,null,null,null,null,null,null,null,null,null,null,null,null,null,null,null,null,null,null,null,null,null,null,null,{"$f":"INDEX('Fixture Descriptions'!A:K,MATCH('Inspection Form'!H1128,'Fixture Descriptions'!A:A,0),8)","v":{"$error":"#N/A"}},{"$error":"#N/A"},null,{"$error":"#N/A"},1,null,null,null,{"$f":"IFERROR(IF(AND(INDEX(Inventory!CB:CB,MATCH('Inspection Form'!B1128,Inventory!B:B,0))=\"Not Qualified\",INDEX(Inventory!L:L,MATCH('Inspection Form'!B1128,Inventory!B:B,0))<>\"\",$Q$5<>\"Pre\"),0,BY1128*BZ1128), 0)","v":0},null,{"$error":"#DIV/0!"},{"$error":"#DIV/0!"},1125]
[null,1127,null,null,null,null,null,null,null,null,null,null,null,null,null,null,null,null,null,null,null,null,null,null,null,null,null,null,null,null,null,null,null,null,null,null,null,null,null,null,null,null,null,null,null,null,null,null,null,null,null,null,null,null,null,null,null,null,null,null,null,null,null,null,null,null,null,null,null,null,null,null,null,{"$f":"INDEX('Fixture Descriptions'!A:K,MATCH('Inspection Form'!H1131,'Fixture Descriptions'!A:A,0),8)","v":{"$error":"#N/A"}},{"$error":"#N/A"},null,{"$error":"#N/A"},1,null,null,null,{"$f":"IFERROR(IF(AND(INDEX(Inventory!CB:CB,MATCH('Inspection Form'!B1131,Inventory!B:B,0))=\"Not Qualified\",INDEX(Inventory!L:L,MATCH('Inspection Form'!B1131,Inventory!B:B,0))<>\"\",$Q$5<>\"Pre\"),0,BY1131*BZ1131), 0)","v":0},null,{"$error":"#DIV/0!"},{"$error":"#DIV/0!"},1128]
[null,1128,null,null,null,null,null,null,null,null,null,null,null,null,null,null,null,null,null,null,null,null,null,null,null,null,null,null,null,null,null,null,null,null,null,null,null,null,null,null,null,null,null,null,null,null,null,null,null,null,null,null,null,null,null,null,null,null,null,null,null,null,null,null,null,null,null,null,null,null,null,null,null,{"$f":"INDEX('Fixture Descriptions'!A:K,MATCH('Inspection Form'!H1132,'Fixture Descriptions'!A:A,0),8)","v":{"$error":"#N/A"}},{"$error":"#N/A"},null,{"$error":"#N/A"},1,null,null,null,{"$f":"IFERROR(IF(AND(INDEX(Inventory!CB:CB,MATCH('Inspection Form'!B1132,Inventory!B:B,0))=\"Not Qualified\",INDEX(Inventory!L:L,MATCH('Inspection Form'!B1132,Inventory!B:B,0))<>\"\",$Q$5<>\"Pre\"),0,BY1132*BZ1132), 0)","v":0},null,{"$error":"#DIV/0!"},{"$error":"#DIV/0!"},1129]
[null,1130,null,null,null,null,null,null,null,null,null,null,null,null,null,null,null,null,null,null,null,null,null,null,null,null,null,null,null,null,null,null,null,null,null,null,null,null,null,null,null,null,null,null,null,null,null,null,null,null,null,null,null,null,null,null,null,null,null,null,null,null,null,null,null,null,null,null,null,null,null,null,null,{"$f":"INDEX('Fixture Descriptions'!A:K,MATCH('Inspection Form'!H1134,'Fixture Descriptions'!A:A,0),8)","v":{"$error":"#N/A"}},{"$error":"#N/A"},null,{"$error":"#N/A"},1,null,null,null,{"$f":"IFERROR(IF(AND(INDEX(Inventory!CB:CB,MATCH('Inspection Form'!B1134,Inventory!B:B,0))=\"Not Qualified\",INDEX(Inventory!L:L,MATCH('Inspection Form'!B1134,Inventory!B:B,0))<>\"\",$Q$5<>\"Pre\"),0,BY1134*BZ1134), 0)","v":0},null,{"$error":"#DIV/0!"},{"$error":"#DIV/0!"},1131]
[null,1131,null,null,null,null,null,null,null,null,null,null,null,null,null,null,null,null,null,null,null,null,null,null,null,null,null,null,null,null,null,null,null,null,null,null,null,null,null,null,null,null,null,null,null,null,null,null,null,null,null,null,null,null,null,null,null,null,null,null,null,null,null,null,null,null,null,null,null,null,null,null,null,{"$f":"INDEX('Fixture Descriptions'!A:K,MATCH('Inspection Form'!H1135,'Fixture Descriptions'!A:A,0),8)","v":{"$error":"#N/A"}},{"$error":"#N/A"},null,{"$error":"#N/A"},1,null,null,null,{"$f":"IFERROR(IF(AND(INDEX(Inventory!CB:CB,MATCH('Inspection Form'!B1135,Inventory!B:B,0))=\"Not Qualified\",INDEX(Inventory!L:L,MATCH('Inspection Form'!B1135,Inventory!B:B,0))<>\"\",$Q$5<>\"Pre\"),0,BY1135*BZ1135), 0)","v":0},null,{"$error":"#DIV/0!"},{"$error":"#DIV/0!"},1132]
[null,1134,null,null,null,null,null,null,null,null,null,null,null,null,null,null,null,null,null,null,null,null,null,null,null,null,null,null,null,null,null,null,null,null,null,null,null,null,null,null,null,null,null,null,null,null,null,null,null,null,null,null,null,null,null,null,null,null,null,null,null,null,null,null,null,null,null,null,null,null,null,null,null,{"$f":"INDEX('Fixture Descriptions'!A:K,MATCH('Inspection Form'!H1138,'Fixture Descriptions'!A:A,0),8)","v":{"$error":"#N/A"}},{"$error":"#N/A"},null,{"$error":"#N/A"},1,null,null,null,{"$f":"IFERROR(IF(AND(INDEX(Inventory!CB:CB,MATCH('Inspection Form'!B1138,Inventory!B:B,0))=\"Not Qualified\",INDEX(Inventory!L:L,MATCH('Inspection Form'!B1138,Inventory!B:B,0))<>\"\",$Q$5<>\"Pre\"),0,BY1138*BZ1138), 0)","v":0},null,{"$error":"#DIV/0!"},{"$error":"#DIV/0!"},1135]
[null,1135,null,null,null,null,null,null,null,null,null,null,null,null,null,null,null,null,null,null,null,null,null,null,null,null,null,null,null,null,null,null,null,null,null,null,null,null,null,null,null,null,null,null,null,null,null,null,null,null,null,null,null,null,null,null,null,null,null,null,null,null,null,null,null,null,null,null,null,null,null,null,null,{"$f":"INDEX('Fixture Descriptions'!A:K,MATCH('Inspection Form'!H1139,'Fixture Descriptions'!A:A,0),8)","v":{"$error":"#N/A"}},{"$f":"BV1139*I1139","v":{"$error":"#N/A"}},null,{"$f":"BW1139","v":{"$error":"#N/A"}},{"$f":"IF($U$3=\"All\", 1, IF(AND(C1139=$U$3, H1139=$U$4), 1, 0))","v":1},null,null,null,{"$f":"IFERROR(IF(AND(INDEX(Inventory!CB:CB,MATCH('Inspection Form'!B1139,Inventory!B:B,0))=\"Not Qualified\",INDEX(Inventory!L:L,MATCH('Inspection Form'!B1139,Inventory!B:B,0))<>\"\",$Q$5<>\"Pre\"),0,BY1139*BZ1139), 0)","v":0},null,{"$f":"CD1139/$CE$5","v":{"$error":"#DIV/0!"}},{"$f":"CF1139+CG1138","v":{"$error":"#DIV/0!"}},1136]
[null,1137,null,null,null,null,null,null,null,null,null,null,null,null,null,null,null,null,null,null,null,null,null,null,null,null,null,null,null,null,null,null,null,null,null,null,null,null,null,null,null,null,null,null,null,null,null,null,null,null,null,null,null,null,null,null,null,null,null,null,null,null,null,null,null,null,null,null,null,null,null,null,null,{"$f":"INDEX('Fixture Descriptions'!A:K,MATCH('Inspection Form'!H1141,'Fixture Descriptions'!A:A,0),8)","v":{"$error":"#N/A"}},{"$error":"#N/A"},null,{"$error":"#N/A"},1,null,null,null,{"$f":"IFERROR(IF(AND(INDEX(Inventory!CB:CB,MATCH('Inspection Form'!B1141,Inventory!B:B,0))=\"Not Qualified\",INDEX(Inventory!L:L,MATCH('Inspection Form'!B1141,Inventory!B:B,0))<>\"\",$Q$5<>\"Pre\"),0,BY1141*BZ1141), 0)","v":0},null,{"$error":"#DIV/0!"},{"$error":"#DIV/0!"},1138]
[null,1138,null,null,null,null,null,null,null,null,null,null,null,null,null,null,null,null,null,null,null,null,null,null,null,null,null,null,null,null,null,null,null,null,null,null,null,null,null,null,null,null,null,null,null,null,null,null,null,null,null,null,null,null,null,null,null,null,null,null,null,null,null,null,null,null,null,null,null,null,null,null,null,{"$f":"INDEX('Fixture Descriptions'!A:K,MATCH('Inspection Form'!H1142,'Fixture Descriptions'!A:A,0),8)","v":{"$error":"#N/A"}},{"$error":"#N/A"},null,{"$error":"#N/A"},1,null,null,null,{"$f":"IFERROR(IF(AND(INDEX(Inventory!CB:CB,MATCH('Inspection Form'!B1142,Inventory!B:B,0))=\"Not Qualified\",INDEX(Inventory!L:L,MATCH('Inspection Form'!B1142,Inventory!B:B,0))<>\"\",$Q$5<>\"Pre\"),0,BY1142*BZ1142), 0)","v":0},null,{"$error":"#DIV/0!"},{"$error":"#DIV/0!"},1139]
[null,1141,null,null,null,null,null,null,null,null,null,null,null,null,null,null,null,null,null,null,null,null,null,null,null,null,null,null,null,null,null,null,null,null,null,null,null,null,null,null,null,null,null,null,null,null,null,null,null,null,null,null,null,null,null,null,null,null,null,null,null,null,null,null,null,null,null,null,null,null,null,null,null,{"$f":"INDEX('Fixture Descriptions'!A:K,MATCH('Inspection Form'!H1145,'Fixture Descriptions'!A:A,0),8)","v":{"$error":"#N/A"}},{"$error":"#N/A"},null,{"$error":"#N/A"},1,null,null,null,{"$f":"IFERROR(IF(AND(INDEX(Inventory!CB:CB,MATCH('Inspection Form'!B1145,Inventory!B:B,0))=\"Not Qualified\",INDEX(Inventory!L:L,MATCH('Inspection Form'!B1145,Inventory!B:B,0))<>\"\",$Q$5<>\"Pre\"),0,BY1145*BZ1145), 0)","v":0},null,{"$error":"#DIV/0!"},{"$error":"#DIV/0!"},1142]
[null,1142,null,null,null,null,null,null,null,null,null,null,null,null,null,null,null,null,null,null,null,null,null,null,null,null,null,null,null,null,null,null,null,null,null,null,null,null,null,null,null,null,null,null,null,null,null,null,null,null,null,null,null,null,null,null,null,null,null,null,null,null,null,null,null,null,null,null,null,null,null,null,null,{"$f":"INDEX('Fixture Descriptions'!A:K,MATCH('Inspection Form'!H1146,'Fixture Descriptions'!A:A,0),8)","v":{"$error":"#N/A"}},{"$error":"#N/A"},null,{"$error":"#N/A"},1,null,null,null,{"$f":"IFERROR(IF(AND(INDEX(Inventory!CB:CB,MATCH('Inspection Form'!B1146,Inventory!B:B,0))=\"Not Qualified\",INDEX(Inventory!L:L,MATCH('Inspection Form'!B1146,Inventory!B:B,0))<>\"\",$Q$5<>\"Pre\"),0,BY1146*BZ1146), 0)","v":0},null,{"$error":"#DIV/0!"},{"$error":"#DIV/0!"},1143]
[null,1144,null,null,null,null,null,null,null,null,null,null,null,null,null,null,null,null,null,null,null,null,null,null,null,null,null,null,null,null,null,null,null,null,null,null,null,null,null,null,null,null,null,null,null,null,null,null,null,null,null,null,null,null,null,null,null,null,null,null,null,null,null,null,null,null,null,null,null,null,null,null,null,{"$f":"INDEX('Fixture Descriptions'!A:K,MATCH('Inspection Form'!H1148,'Fixture Descriptions'!A:A,0),8)","v":{"$error":"#N/A"}},{"$error":"#N/A"},null,{"$error":"#N/A"},1,null,null,null,{"$f":"IFERROR(IF(AND(INDEX(Inventory!CB:CB,MATCH('Inspection Form'!B1148,Inventory!B:B,0))=\"Not Qualified\",INDEX(Inventory!L:L,MATCH('Inspection Form'!B1148,Inventory!B:B,0))<>\"\",$Q$5<>\"Pre\"),0,BY1148*BZ1148), 0)","v":0},null,{"$error":"#DIV/0!"},{"$error":"#DIV/0!"},1145]
[null,1145,null,null,null,null,null,null,null,null,null,null,null,null,null,null,null,null,null,null,null,null,null,null,null,null,null,null,null,null,null,null,null,null,null,null,null,null,null,null,null,null,null,null,null,null,null,null,null,null,null,null,null,null,null,null,null,null,null,null,null,null,null,null,null,null,null,null,null,null,null,null,null,{"$f":"INDEX('Fixture Descriptions'!A:K,MATCH('Inspection Form'!H1149,'Fixture Descriptions'!A:A,0),8)","v":{"$error":"#N/A"}},{"$error":"#N/A"},null,{"$error":"#N/A"},1,null,null,null,{"$f":"IFERROR(IF(AND(INDEX(Inventory!CB:CB,MATCH('Inspection Form'!B1149,Inventory!B:B,0))=\"Not Qualified\",INDEX(Inventory!L:L,MATCH('Inspection Form'!B1149,Inventory!B:B,0))<>\"\",$Q$5<>\"Pre\"),0,BY1149*BZ1149), 0)","v":0},null,{"$error":"#DIV/0!"},{"$error":"#DIV/0!"},1146]
[null,1148,null,null,null,null,null,null,null,null,null,null,null,null,null,null,null,null,null,null,null,null,null,null,null,null,null,null,null,null,null,null,null,null,null,null,null,null,null,null,null,null,null,null,null,null,null,null,null,null,null,null,null,null,null,null,null,null,null,null,null,null,null,null,null,null,null,null,null,null,null,null,null,{"$f":"INDEX('Fixture Descriptions'!A:K,MATCH('Inspection Form'!H1152,'Fixture Descriptions'!A:A,0),8)","v":{"$error":"#N/A"}},{"$error":"#N/A"},null,{"$error":"#N/A"},1,null,null,null,{"$f":"IFERROR(IF(AND(INDEX(Inventory!CB:CB,MATCH('Inspection Form'!B1152,Inventory!B:B,0))=\"Not Qualified\",INDEX(Inventory!L:L,MATCH('Inspection Form'!B1152,Inventory!B:B,0))<>\"\",$Q$5<>\"Pre\"),0,BY1152*BZ1152), 0)","v":0},null,{"$error":"#DIV/0!"},{"$error":"#DIV/0!"},1149]
[null,1149,null,null,null,null,null,null,null,null,null,null,null,null,null,null,null,null,null,null,null,null,null,null,null,null,null,null,null,null,null,null,null,null,null,null,null,null,null,null,null,null,null,null,null,null,null,null,null,null,null,null,null,null,null,null,null,null,null,null,null,null,null,null,null,null,null,null,null,null,null,null,null,{"$f":"INDEX('Fixture Descriptions'!A:K,MATCH('Inspection Form'!H1153,'Fixture Descriptions'!A:A,0),8)","v":{"$error":"#N/A"}},{"$error":"#N/A"},null,{"$error":"#N/A"},1,null,null,null,{"$f":"IFERROR(IF(AND(INDEX(Inventory!CB:CB,MATCH('Inspection Form'!B1153,Inventory!B:B,0))=\"Not Qualified\",INDEX(Inventory!L:L,MATCH('Inspection Form'!B1153,Inventory!B:B,0))<>\"\",$Q$5<>\"Pre\"),0,BY1153*BZ1153), 0)","v":0},null,{"$error":"#DIV/0!"},{"$error":"#DIV/0!"},1150]
[null,1151,null,null,null,null,null,null,null,null,null,null,null,null,null,null,null,null,null,null,null,null,null,null,null,null,null,null,null,null,null,null,null,null,null,null,null,null,null,null,null,null,null,null,null,null,null,null,null,null,null,null,null,null,null,null,null,null,null,null,null,null,null,null,null,null,null,null,null,null,null,null,null,{"$f":"INDEX('Fixture Descriptions'!A:K,MATCH('Inspection Form'!H1155,'Fixture Descriptions'!A:A,0),8)","v":{"$error":"#N/A"}},{"$error":"#N/A"},null,{"$error":"#N/A"},1,null,null,null,{"$f":"IFERROR(IF(AND(INDEX(Inventory!CB:CB,MATCH('Inspection Form'!B1155,Inventory!B:B,0))=\"Not Qualified\",INDEX(Inventory!L:L,MATCH('Inspection Form'!B1155,Inventory!B:B,0))<>\"\",$Q$5<>\"Pre\"),0,BY1155*BZ1155), 0)","v":0},null,{"$error":"#DIV/0!"},{"$error":"#DIV/0!"},1152]
[null,1152,null,null,null,null,null,null,null,null,null,null,null,null,null,null,null,null,null,null,null,null,null,null,null,null,null,null,null,null,null,null,null,null,null,null,null,null,null,null,null,null,null,null,null,null,null,null,null,null,null,null,null,null,null,null,null,null,null,null,null,null,null,null,null,null,null,null,null,null,null,null,null,{"$f":"INDEX('Fixture Descriptions'!A:K,MATCH('Inspection Form'!H1156,'Fixture Descriptions'!A:A,0),8)","v":{"$error":"#N/A"}},{"$error":"#N/A"},null,{"$error":"#N/A"},1,null,null,null,{"$f":"IFERROR(IF(AND(INDEX(Inventory!CB:CB,MATCH('Inspection Form'!B1156,Inventory!B:B,0))=\"Not Qualified\",INDEX(Inventory!L:L,MATCH('Inspection Form'!B1156,Inventory!B:B,0))<>\"\",$Q$5<>\"Pre\"),0,BY1156*BZ1156), 0)","v":0},null,{"$error":"#DIV/0!"},{"$error":"#DIV/0!"},1153]
[null,1155,null,null,null,null,null,null,null,null,null,null,null,null,null,null,null,null,null,null,null,null,null,null,null,null,null,null,null,null,null,null,null,null,null,null,null,null,null,null,null,null,null,null,null,null,null,null,null,null,null,null,null,null,null,null,null,null,null,null,null,null,null,null,null,null,null,null,null,null,null,null,null,{"$f":"INDEX('Fixture Descriptions'!A:K,MATCH('Inspection Form'!H1159,'Fixture Descriptions'!A:A,0),8)","v":{"$error":"#N/A"}},{"$error":"#N/A"},null,{"$error":"#N/A"},1,null,null,null,{"$f":"IFERROR(IF(AND(INDEX(Inventory!CB:CB,MATCH('Inspection Form'!B1159,Inventory!B:B,0))=\"Not Qualified\",INDEX(Inventory!L:L,MATCH('Inspection Form'!B1159,Inventory!B:B,0))<>\"\",$Q$5<>\"Pre\"),0,BY1159*BZ1159), 0)","v":0},null,{"$error":"#DIV/0!"},{"$error":"#DIV/0!"},1156]
[null,1156,null,null,null,null,null,null,null,null,null,null,null,null,null,null,null,null,null,null,null,null,null,null,null,null,null,null,null,null,null,null,null,null,null,null,null,null,null,null,null,null,null,null,null,null,null,null,null,null,null,null,null,null,null,null,null,null,null,null,null,null,null,null,null,null,null,null,null,null,null,null,null,{"$f":"INDEX('Fixture Descriptions'!A:K,MATCH('Inspection Form'!H1160,'Fixture Descriptions'!A:A,0),8)","v":{"$error":"#N/A"}},{"$error":"#N/A"},null,{"$error":"#N/A"},1,null,null,null,{"$f":"IFERROR(IF(AND(INDEX(Inventory!CB:CB,MATCH('Inspection Form'!B1160,Inventory!B:B,0))=\"Not Qualified\",INDEX(Inventory!L:L,MATCH('Inspection Form'!B1160,Inventory!B:B,0))<>\"\",$Q$5<>\"Pre\"),0,BY1160*BZ1160), 0)","v":0},null,{"$error":"#DIV/0!"},{"$error":"#DIV/0!"},1157]
[null,1158,null,null,null,null,null,null,null,null,null,null,null,null,null,null,null,null,null,null,null,null,null,null,null,null,null,null,null,null,null,null,null,null,null,null,null,null,null,null,null,null,null,null,null,null,null,null,null,null,null,null,null,null,null,null,null,null,null,null,null,null,null,null,null,null,null,null,null,null,null,null,null,{"$f":"INDEX('Fixture Descriptions'!A:K,MATCH('Inspection Form'!H1162,'Fixture Descriptions'!A:A,0),8)","v":{"$error":"#N/A"}},{"$error":"#N/A"},null,{"$error":"#N/A"},1,null,null,null,{"$f":"IFERROR(IF(AND(INDEX(Inventory!CB:CB,MATCH('Inspection Form'!B1162,Inventory!B:B,0))=\"Not Qualified\",INDEX(Inventory!L:L,MATCH('Inspection Form'!B1162,Inventory!B:B,0))<>\"\",$Q$5<>\"Pre\"),0,BY1162*BZ1162), 0)","v":0},null,{"$error":"#DIV/0!"},{"$error":"#DIV/0!"},1159]
[null,1159,null,null,null,null,null,null,null,null,null,null,null,null,null,null,null,null,null,null,null,null,null,null,null,null,null,null,null,null,null,null,null,null,null,null,null,null,null,null,null,null,null,null,null,null,null,null,null,null,null,null,null,null,null,null,null,null,null,null,null,null,null,null,null,null,null,null,null,null,null,null,null,{"$f":"INDEX('Fixture Descriptions'!A:K,MATCH('Inspection Form'!H1163,'Fixture Descriptions'!A:A,0),8)","v":{"$error":"#N/A"}},{"$error":"#N/A"},null,{"$error":"#N/A"},1,null,null,null,{"$f":"IFERROR(IF(AND(INDEX(Inventory!CB:CB,MATCH('Inspection Form'!B1163,Inventory!B:B,0))=\"Not Qualified\",INDEX(Inventory!L:L,MATCH('Inspection Form'!B1163,Inventory!B:B,0))<>\"\",$Q$5<>\"Pre\"),0,BY1163*BZ1163), 0)","v":0},null,{"$error":"#DIV/0!"},{"$error":"#DIV/0!"},1160]
[null,1162,null,null,null,null,null,null,null,null,null,null,null,null,null,null,null,null,null,null,null,null,null,null,null,null,null,null,null,null,null,null,null,null,null,null,null,null,null,null,null,null,null,null,null,null,null,null,null,null,null,null,null,null,null,null,null,null,null,null,null,null,null,null,null,null,null,null,null,null,null,null,null,{"$f":"INDEX('Fixture Descriptions'!A:K,MATCH('Inspection Form'!H1166,'Fixture Descriptions'!A:A,0),8)","v":{"$error":"#N/A"}},{"$error":"#N/A"},null,{"$error":"#N/A"},1,null,null,null,{"$f":"IFERROR(IF(AND(INDEX(Inventory!CB:CB,MATCH('Inspection Form'!B1166,Inventory!B:B,0))=\"Not Qualified\",INDEX(Inventory!L:L,MATCH('Inspection Form'!B1166,Inventory!B:B,0))<>\"\",$Q$5<>\"Pre\"),0,BY1166*BZ1166), 0)","v":0},null,{"$error":"#DIV/0!"},{"$error":"#DIV/0!"},1163]
[null,1163,null,null,null,null,null,null,null,null,null,null,null,null,null,null,null,null,null,null,null,null,null,null,null,null,null,null,null,null,null,null,null,null,null,null,null,null,null,null,null,null,null,null,null,null,null,null,null,null,null,null,null,null,null,null,null,null,null,null,null,null,null,null,null,null,null,null,null,null,null,null,null,{"$f":"INDEX('Fixture Descriptions'!A:K,MATCH('Inspection Form'!H1167,'Fixture Descriptions'!A:A,0),8)","v":{"$error":"#N/A"}},{"$error":"#N/A"},null,{"$error":"#N/A"},1,null,null,null,{"$f":"IFERROR(IF(AND(INDEX(Inventory!CB:CB,MATCH('Inspection Form'!B1167,Inventory!B:B,0))=\"Not Qualified\",INDEX(Inventory!L:L,MATCH('Inspection Form'!B1167,Inventory!B:B,0))<>\"\",$Q$5<>\"Pre\"),0,BY1167*BZ1167), 0)","v":0},null,{"$error":"#DIV/0!"},{"$error":"#DIV/0!"},1164]
[null,1165,null,null,null,null,null,null,null,null,null,null,null,null,null,null,null,null,null,null,null,null,null,null,null,null,null,null,null,null,null,null,null,null,null,null,null,null,null,null,null,null,null,null,null,null,null,null,null,null,null,null,null,null,null,null,null,null,null,null,null,null,null,null,null,null,null,null,null,null,null,null,null,{"$f":"INDEX('Fixture Descriptions'!A:K,MATCH('Inspection Form'!H1169,'Fixture Descriptions'!A:A,0),8)","v":{"$error":"#N/A"}},{"$error":"#N/A"},null,{"$error":"#N/A"},1,null,null,null,{"$f":"IFERROR(IF(AND(INDEX(Inventory!CB:CB,MATCH('Inspection Form'!B1169,Inventory!B:B,0))=\"Not Qualified\",INDEX(Inventory!L:L,MATCH('Inspection Form'!B1169,Inventory!B:B,0))<>\"\",$Q$5<>\"Pre\"),0,BY1169*BZ1169), 0)","v":0},null,{"$error":"#DIV/0!"},{"$error":"#DIV/0!"},1166]
[null,1166,null,null,null,null,null,null,null,null,null,null,null,null,null,null,null,null,null,null,null,null,null,null,null,null,null,null,null,null,null,null,null,null,null,null,null,null,null,null,null,null,null,null,null,null,null,null,null,null,null,null,null,null,null,null,null,null,null,null,null,null,null,null,null,null,null,null,null,null,null,null,null,{"$f":"INDEX('Fixture Descriptions'!A:K,MATCH('Inspection Form'!H1170,'Fixture Descriptions'!A:A,0),8)","v":{"$error":"#N/A"}},{"$error":"#N/A"},null,{"$error":"#N/A"},1,null,null,null,{"$f":"IFERROR(IF(AND(INDEX(Inventory!CB:CB,MATCH('Inspection Form'!B1170,Inventory!B:B,0))=\"Not Qualified\",INDEX(Inventory!L:L,MATCH('Inspection Form'!B1170,Inventory!B:B,0))<>\"\",$Q$5<>\"Pre\"),0,BY1170*BZ1170), 0)","v":0},null,{"$error":"#DIV/0!"},{"$error":"#DIV/0!"},1167]
[null,1169,null,null,null,null,null,null,null,null,null,null,null,null,null,null,null,null,null,null,null,null,null,null,null,null,null,null,null,null,null,null,null,null,null,null,null,null,null,null,null,null,null,null,null,null,null,null,null,null,null,null,null,null,null,null,null,null,null,null,null,null,null,null,null,null,null,null,null,null,null,null,null,{"$f":"INDEX('Fixture Descriptions'!A:K,MATCH('Inspection Form'!H1173,'Fixture Descriptions'!A:A,0),8)","v":{"$error":"#N/A"}},{"$error":"#N/A"},null,{"$error":"#N/A"},1,null,null,null,{"$f":"IFERROR(IF(AND(INDEX(Inventory!CB:CB,MATCH('Inspection Form'!B1173,Inventory!B:B,0))=\"Not Qualified\",INDEX(Inventory!L:L,MATCH('Inspection Form'!B1173,Inventory!B:B,0))<>\"\",$Q$5<>\"Pre\"),0,BY1173*BZ1173), 0)","v":0},null,{"$error":"#DIV/0!"},{"$error":"#DIV/0!"},1170]
[null,1170,null,null,null,null,null,null,null,null,null,null,null,null,null,null,null,null,null,null,null,null,null,null,null,null,null,null,null,null,null,null,null,null,null,null,null,null,null,null,null,null,null,null,null,null,null,null,null,null,null,null,null,null,null,null,null,null,null,null,null,null,null,null,null,null,null,null,null,null,null,null,null,{"$f":"INDEX('Fixture Descriptions'!A:K,MATCH('Inspection Form'!H1174,'Fixture Descriptions'!A:A,0),8)","v":{"$error":"#N/A"}},{"$error":"#N/A"},null,{"$error":"#N/A"},1,null,null,null,{"$f":"IFERROR(IF(AND(INDEX(Inventory!CB:CB,MATCH('Inspection Form'!B1174,Inventory!B:B,0))=\"Not Qualified\",INDEX(Inventory!L:L,MATCH('Inspection Form'!B1174,Inventory!B:B,0))<>\"\",$Q$5<>\"Pre\"),0,BY1174*BZ1174), 0)","v":0},null,{"$error":"#DIV/0!"},{"$error":"#DIV/0!"},1171]
[null,1172,null,null,null,null,null,null,null,null,null,null,null,null,null,null,null,null,null,null,null,null,null,null,null,null,null,null,null,null,null,null,null,null,null,null,null,null,null,null,null,null,null,null,null,null,null,null,null,null,null,null,null,null,null,null,null,null,null,null,null,null,null,null,null,null,null,null,null,null,null,null,null,{"$f":"INDEX('Fixture Descriptions'!A:K,MATCH('Inspection Form'!H1176,'Fixture Descriptions'!A:A,0),8)","v":{"$error":"#N/A"}},{"$error":"#N/A"},null,{"$error":"#N/A"},1,null,null,null,{"$f":"IFERROR(IF(AND(INDEX(Inventory!CB:CB,MATCH('Inspection Form'!B1176,Inventory!B:B,0))=\"Not Qualified\",INDEX(Inventory!L:L,MATCH('Inspection Form'!B1176,Inventory!B:B,0))<>\"\",$Q$5<>\"Pre\"),0,BY1176*BZ1176), 0)","v":0},null,{"$error":"#DIV/0!"},{"$error":"#DIV/0!"},1173]
[null,1173,null,null,null,null,null,null,null,null,null,null,null,null,null,null,null,null,null,null,null,null,null,null,null,null,null,null,null,null,null,null,null,null,null,null,null,null,null,null,null,null,null,null,null,null,null,null,null,null,null,null,null,null,null,null,null,null,null,null,null,null,null,null,null,null,null,null,null,null,null,null,null,{"$f":"INDEX('Fixture Descriptions'!A:K,MATCH('Inspection Form'!H1177,'Fixture Descriptions'!A:A,0),8)","v":{"$error":"#N/A"}},{"$error":"#N/A"},null,{"$error":"#N/A"},1,null,null,null,{"$f":"IFERROR(IF(AND(INDEX(Inventory!CB:CB,MATCH('Inspection Form'!B1177,Inventory!B:B,0))=\"Not Qualified\",INDEX(Inventory!L:L,MATCH('Inspection Form'!B1177,Inventory!B:B,0))<>\"\",$Q$5<>\"Pre\"),0,BY1177*BZ1177), 0)","v":0},null,{"$error":"#DIV/0!"},{"$error":"#DIV/0!"},1174]
[null,1176,null,null,null,null,null,null,null,null,null,null,null,null,null,null,null,null,null,null,null,null,null,null,null,null,null,null,null,null,null,null,null,null,null,null,null,null,null,null,null,null,null,null,null,null,null,null,null,null,null,null,null,null,null,null,null,null,null,null,null,null,null,null,null,null,null,null,null,null,null,null,null,{"$f":"INDEX('Fixture Descriptions'!A:K,MATCH('Inspection Form'!H1180,'Fixture Descriptions'!A:A,0),8)","v":{"$error":"#N/A"}},{"$error":"#N/A"},null,{"$error":"#N/A"},1,null,null,null,{"$f":"IFERROR(IF(AND(INDEX(Inventory!CB:CB,MATCH('Inspection Form'!B1180,Inventory!B:B,0))=\"Not Qualified\",INDEX(Inventory!L:L,MATCH('Inspection Form'!B1180,Inventory!B:B,0))<>\"\",$Q$5<>\"Pre\"),0,BY1180*BZ1180), 0)","v":0},null,{"$error":"#DIV/0!"},{"$error":"#DIV/0!"},1177]
[null,1177,null,null,null,null,null,null,null,null,null,null,null,null,null,null,null,null,null,null,null,null,null,null,null,null,null,null,null,null,null,null,null,null,null,null,null,null,null,null,null,null,null,null,null,null,null,null,null,null,null,null,null,null,null,null,null,null,null,null,null,null,null,null,null,null,null,null,null,null,null,null,null,{"$f":"INDEX('Fixture Descriptions'!A:K,MATCH('Inspection Form'!H1181,'Fixture Descriptions'!A:A,0),8)","v":{"$error":"#N/A"}},{"$error":"#N/A"},null,{"$error":"#N/A"},1,null,null,null,{"$f":"IFERROR(IF(AND(INDEX(Inventory!CB:CB,MATCH('Inspection Form'!B1181,Inventory!B:B,0))=\"Not Qualified\",INDEX(Inventory!L:L,MATCH('Inspection Form'!B1181,Inventory!B:B,0))<>\"\",$Q$5<>\"Pre\"),0,BY1181*BZ1181), 0)","v":0},null,{"$error":"#DIV/0!"},{"$error":"#DIV/0!"},1178]
[null,1179,null,null,null,null,null,null,null,null,null,null,null,null,null,null,null,null,null,null,null,null,null,null,null,null,null,null,null,null,null,null,null,null,null,null,null,null,null,null,null,null,null,null,null,null,null,null,null,null,null,null,null,null,null,null,null,null,null,null,null,null,null,null,null,null,null,null,null,null,null,null,null,{"$f":"INDEX('Fixture Descriptions'!A:K,MATCH('Inspection Form'!H1183,'Fixture Descriptions'!A:A,0),8)","v":{"$error":"#N/A"}},{"$error":"#N/A"},null,{"$error":"#N/A"},1,null,null,null,{"$f":"IFERROR(IF(AND(INDEX(Inventory!CB:CB,MATCH('Inspection Form'!B1183,Inventory!B:B,0))=\"Not Qualified\",INDEX(Inventory!L:L,MATCH('Inspection Form'!B1183,Inventory!B:B,0))<>\"\",$Q$5<>\"Pre\"),0,BY1183*BZ1183), 0)","v":0},null,{"$error":"#DIV/0!"},{"$error":"#DIV/0!"},1180]
[null,1180,null,null,null,null,null,null,null,null,null,null,null,null,null,null,null,null,null,null,null,null,null,null,null,null,null,null,null,null,null,null,null,null,null,null,null,null,null,null,null,null,null,null,null,null,null,null,null,null,null,null,null,null,null,null,null,null,null,null,null,null,null,null,null,null,null,null,null,null,null,null,null,{"$f":"INDEX('Fixture Descriptions'!A:K,MATCH('Inspection Form'!H1184,'Fixture Descriptions'!A:A,0),8)","v":{"$error":"#N/A"}},{"$error":"#N/A"},null,{"$error":"#N/A"},1,null,null,null,{"$f":"IFERROR(IF(AND(INDEX(Inventory!CB:CB,MATCH('Inspection Form'!B1184,Inventory!B:B,0))=\"Not Qualified\",INDEX(Inventory!L:L,MATCH('Inspection Form'!B1184,Inventory!B:B,0))<>\"\",$Q$5<>\"Pre\"),0,BY1184*BZ1184), 0)","v":0},null,{"$error":"#DIV/0!"},{"$error":"#DIV/0!"},1181]
[null,1183,null,null,null,null,null,null,null,null,null,null,null,null,null,null,null,null,null,null,null,null,null,null,null,null,null,null,null,null,null,null,null,null,null,null,null,null,null,null,null,null,null,null,null,null,null,null,null,null,null,null,null,null,null,null,null,null,null,null,null,null,null,null,null,null,null,null,null,null,null,null,null,{"$f":"INDEX('Fixture Descriptions'!A:K,MATCH('Inspection Form'!H1187,'Fixture Descriptions'!A:A,0),8)","v":{"$error":"#N/A"}},{"$error":"#N/A"},null,{"$error":"#N/A"},1,null,null,null,{"$f":"IFERROR(IF(AND(INDEX(Inventory!CB:CB,MATCH('Inspection Form'!B1187,Inventory!B:B,0))=\"Not Qualified\",INDEX(Inventory!L:L,MATCH('Inspection Form'!B1187,Inventory!B:B,0))<>\"\",$Q$5<>\"Pre\"),0,BY1187*BZ1187), 0)","v":0},null,{"$error":"#DIV/0!"},{"$error":"#DIV/0!"},1184]
[null,1184,null,null,null,null,null,null,null,null,null,null,null,null,null,null,null,null,null,null,null,null,null,null,null,null,null,null,null,null,null,null,null,null,null,null,null,null,null,null,null,null,null,null,null,null,null,null,null,null,null,null,null,null,null,null,null,null,null,null,null,null,null,null,null,null,null,null,null,null,null,null,null,{"$f":"INDEX('Fixture Descriptions'!A:K,MATCH('Inspection Form'!H1188,'Fixture Descriptions'!A:A,0),8)","v":{"$error":"#N/A"}},{"$error":"#N/A"},null,{"$error":"#N/A"},1,null,null,null,{"$f":"IFERROR(IF(AND(INDEX(Inventory!CB:CB,MATCH('Inspection Form'!B1188,Inventory!B:B,0))=\"Not Qualified\",INDEX(Inventory!L:L,MATCH('Inspection Form'!B1188,Inventory!B:B,0))<>\"\",$Q$5<>\"Pre\"),0,BY1188*BZ1188), 0)","v":0},null,{"$error":"#DIV/0!"},{"$error":"#DIV/0!"},1185]
[null,1186,null,null,null,null,null,null,null,null,null,null,null,null,null,null,null,null,null,null,null,null,null,null,null,null,null,null,null,null,null,null,null,null,null,null,null,null,null,null,null,null,null,null,null,null,null,null,null,null,null,null,null,null,null,null,null,null,null,null,null,null,null,null,null,null,null,null,null,null,null,null,null,{"$f":"INDEX('Fixture Descriptions'!A:K,MATCH('Inspection Form'!H1190,'Fixture Descriptions'!A:A,0),8)","v":{"$error":"#N/A"}},{"$error":"#N/A"},null,{"$error":"#N/A"},1,null,null,null,{"$f":"IFERROR(IF(AND(INDEX(Inventory!CB:CB,MATCH('Inspection Form'!B1190,Inventory!B:B,0))=\"Not Qualified\",INDEX(Inventory!L:L,MATCH('Inspection Form'!B1190,Inventory!B:B,0))<>\"\",$Q$5<>\"Pre\"),0,BY1190*BZ1190), 0)","v":0},null,{"$error":"#DIV/0!"},{"$error":"#DIV/0!"},1187]
[null,1187,null,null,null,null,null,null,null,null,null,null,null,null,null,null,null,null,null,null,null,null,null,null,null,null,null,null,null,null,null,null,null,null,null,null,null,null,null,null,null,null,null,null,null,null,null,null,null,null,null,null,null,null,null,null,null,null,null,null,null,null,null,null,null,null,null,null,null,null,null,null,null,{"$f":"INDEX('Fixture Descriptions'!A:K,MATCH('Inspection Form'!H1191,'Fixture Descriptions'!A:A,0),8)","v":{"$error":"#N/A"}},{"$error":"#N/A"},null,{"$error":"#N/A"},1,null,null,null,{"$f":"IFERROR(IF(AND(INDEX(Inventory!CB:CB,MATCH('Inspection Form'!B1191,Inventory!B:B,0))=\"Not Qualified\",INDEX(Inventory!L:L,MATCH('Inspection Form'!B1191,Inventory!B:B,0))<>\"\",$Q$5<>\"Pre\"),0,BY1191*BZ1191), 0)","v":0},null,{"$error":"#DIV/0!"},{"$error":"#DIV/0!"},1188]
[null,1190,null,null,null,null,null,null,null,null,null,null,null,null,null,null,null,null,null,null,null,null,null,null,null,null,null,null,null,null,null,null,null,null,null,null,null,null,null,null,null,null,null,null,null,null,null,null,null,null,null,null,null,null,null,null,null,null,null,null,null,null,null,null,null,null,null,null,null,null,null,null,null,{"$f":"INDEX('Fixture Descriptions'!A:K,MATCH('Inspection Form'!H1194,'Fixture Descriptions'!A:A,0),8)","v":{"$error":"#N/A"}},{"$error":"#N/A"},null,{"$error":"#N/A"},1,null,null,null,{"$f":"IFERROR(IF(AND(INDEX(Inventory!CB:CB,MATCH('Inspection Form'!B1194,Inventory!B:B,0))=\"Not Qualified\",INDEX(Inventory!L:L,MATCH('Inspection Form'!B1194,Inventory!B:B,0))<>\"\",$Q$5<>\"Pre\"),0,BY1194*BZ1194), 0)","v":0},null,{"$error":"#DIV/0!"},{"$error":"#DIV/0!"},1191]
[null,1191,null,null,null,null,null,null,null,null,null,null,null,null,null,null,null,null,null,null,null,null,null,null,null,null,null,null,null,null,null,null,null,null,null,null,null,null,null,null,null,null,null,null,null,null,null,null,null,null,null,null,null,null,null,null,null,null,null,null,null,null,null,null,null,null,null,null,null,null,null,null,null,{"$f":"INDEX('Fixture Descriptions'!A:K,MATCH('Inspection Form'!H1195,'Fixture Descriptions'!A:A,0),8)","v":{"$error":"#N/A"}},{"$error":"#N/A"},null,{"$error":"#N/A"},1,null,null,null,{"$f":"IFERROR(IF(AND(INDEX(Inventory!CB:CB,MATCH('Inspection Form'!B1195,Inventory!B:B,0))=\"Not Qualified\",INDEX(Inventory!L:L,MATCH('Inspection Form'!B1195,Inventory!B:B,0))<>\"\",$Q$5<>\"Pre\"),0,BY1195*BZ1195), 0)","v":0},null,{"$error":"#DIV/0!"},{"$error":"#DIV/0!"},1192]
[null,1193,null,null,null,null,null,null,null,null,null,null,null,null,null,null,null,null,null,null,null,null,null,null,null,null,null,null,null,null,null,null,null,null,null,null,null,null,null,null,null,null,null,null,null,null,null,null,null,null,null,null,null,null,null,null,null,null,null,null,null,null,null,null,null,null,null,null,null,null,null,null,null,{"$f":"INDEX('Fixture Descriptions'!A:K,MATCH('Inspection Form'!H1197,'Fixture Descriptions'!A:A,0),8)","v":{"$error":"#N/A"}},{"$error":"#N/A"},null,{"$error":"#N/A"},1,null,null,null,{"$f":"IFERROR(IF(AND(INDEX(Inventory!CB:CB,MATCH('Inspection Form'!B1197,Inventory!B:B,0))=\"Not Qualified\",INDEX(Inventory!L:L,MATCH('Inspection Form'!B1197,Inventory!B:B,0))<>\"\",$Q$5<>\"Pre\"),0,BY1197*BZ1197), 0)","v":0},null,{"$error":"#DIV/0!"},{"$error":"#DIV/0!"},1194]
[null,1194,null,null,null,null,null,null,null,null,null,null,null,null,null,null,null,null,null,null,null,null,null,null,null,null,null,null,null,null,null,null,null,null,null,null,null,null,null,null,null,null,null,null,null,null,null,null,null,null,null,null,null,null,null,null,null,null,null,null,null,null,null,null,null,null,null,null,null,null,null,null,null,{"$f":"INDEX('Fixture Descriptions'!A:K,MATCH('Inspection Form'!H1198,'Fixture Descriptions'!A:A,0),8)","v":{"$error":"#N/A"}},{"$error":"#N/A"},null,{"$error":"#N/A"},1,null,null,null,{"$f":"IFERROR(IF(AND(INDEX(Inventory!CB:CB,MATCH('Inspection Form'!B1198,Inventory!B:B,0))=\"Not Qualified\",INDEX(Inventory!L:L,MATCH('Inspection Form'!B1198,Inventory!B:B,0))<>\"\",$Q$5<>\"Pre\"),0,BY1198*BZ1198), 0)","v":0},null,{"$error":"#DIV/0!"},{"$error":"#DIV/0!"},1195]
[null,1197,null,null,null,null,null,null,null,null,null,null,null,null,null,null,null,null,null,null,null,null,null,null,null,null,null,null,null,null,null,null,null,null,null,null,null,null,null,null,null,null,null,null,null,null,null,null,null,null,null,null,null,null,null,null,null,null,null,null,null,null,null,null,null,null,null,null,null,null,null,null,null,{"$f":"INDEX('Fixture Descriptions'!A:K,MATCH('Inspection Form'!H1201,'Fixture Descriptions'!A:A,0),8)","v":{"$error":"#N/A"}},{"$error":"#N/A"},null,{"$error":"#N/A"},1,null,null,null,{"$f":"IFERROR(IF(AND(INDEX(Inventory!CB:CB,MATCH('Inspection Form'!B1201,Inventory!B:B,0))=\"Not Qualified\",INDEX(Inventory!L:L,MATCH('Inspection Form'!B1201,Inventory!B:B,0))<>\"\",$Q$5<>\"Pre\"),0,BY1201*BZ1201), 0)","v":0},null,{"$error":"#DIV/0!"},{"$error":"#DIV/0!"},1198]
[null,1198,null,null,null,null,null,null,null,null,null,null,null,null,null,null,null,null,null,null,null,null,null,null,null,null,null,null,null,null,null,null,null,null,null,null,null,null,null,null,null,null,null,null,null,null,null,null,null,null,null,null,null,null,null,null,null,null,null,null,null,null,null,null,null,null,null,null,null,null,null,null,null,{"$f":"INDEX('Fixture Descriptions'!A:K,MATCH('Inspection Form'!H1202,'Fixture Descriptions'!A:A,0),8)","v":{"$error":"#N/A"}},{"$error":"#N/A"},null,{"$error":"#N/A"},1,null,null,null,{"$f":"IFERROR(IF(AND(INDEX(Inventory!CB:CB,MATCH('Inspection Form'!B1202,Inventory!B:B,0))=\"Not Qualified\",INDEX(Inventory!L:L,MATCH('Inspection Form'!B1202,Inventory!B:B,0))<>\"\",$Q$5<>\"Pre\"),0,BY1202*BZ1202), 0)","v":0},null,{"$error":"#DIV/0!"},{"$error":"#DIV/0!"},1199]
[null,1200,null,null,null,null,null,null,null,null,null,null,null,null,null,null,null,null,null,null,null,null,null,null,null,null,null,null,null,null,null,null,null,null,null,null,null,null,null,null,null,null,null,null,null,null,null,null,null,null,null,null,null,null,null,null,null,null,null,null,null,null,null,null,null,null,null,null,null,null,null,null,null,{"$f":"INDEX('Fixture Descriptions'!A:K,MATCH('Inspection Form'!H1204,'Fixture Descriptions'!A:A,0),8)","v":{"$error":"#N/A"}},{"$error":"#N/A"},null,{"$error":"#N/A"},1,null,null,null,{"$f":"IFERROR(IF(AND(INDEX(Inventory!CB:CB,MATCH('Inspection Form'!B1204,Inventory!B:B,0))=\"Not Qualified\",INDEX(Inventory!L:L,MATCH('Inspection Form'!B1204,Inventory!B:B,0))<>\"\",$Q$5<>\"Pre\"),0,BY1204*BZ1204), 0)","v":0},null,{"$error":"#DIV/0!"},{"$error":"#DIV/0!"},1201]
[null,1201,null,null,null,null,null,null,null,null,null,null,null,null,null,null,null,null,null,null,null,null,null,null,null,null,null,null,null,null,null,null,null,null,null,null,null,null,null,null,null,null,null,null,null,null,null,null,null,null,null,null,null,null,null,null,null,null,null,null,null,null,null,null,null,null,null,null,null,null,null,null,null,{"$f":"INDEX('Fixture Descriptions'!A:K,MATCH('Inspection Form'!H1205,'Fixture Descriptions'!A:A,0),8)","v":{"$error":"#N/A"}},{"$error":"#N/A"},null,{"$error":"#N/A"},1,null,null,null,{"$f":"IFERROR(IF(AND(INDEX(Inventory!CB:CB,MATCH('Inspection Form'!B1205,Inventory!B:B,0))=\"Not Qualified\",INDEX(Inventory!L:L,MATCH('Inspection Form'!B1205,Inventory!B:B,0))<>\"\",$Q$5<>\"Pre\"),0,BY1205*BZ1205), 0)","v":0},null,{"$error":"#DIV/0!"},{"$error":"#DIV/0!"},1202]
[null,1204,null,null,null,null,null,null,null,null,null,null,null,null,null,null,null,null,null,null,null,null,null,null,null,null,null,null,null,null,null,null,null,null,null,null,null,null,null,null,null,null,null,null,null,null,null,null,null,null,null,null,null,null,null,null,null,null,null,null,null,null,null,null,null,null,null,null,null,null,null,null,null,{"$f":"INDEX('Fixture Descriptions'!A:K,MATCH('Inspection Form'!H1208,'Fixture Descriptions'!A:A,0),8)","v":{"$error":"#N/A"}},{"$error":"#N/A"},null,{"$error":"#N/A"},1,null,null,null,{"$f":"IFERROR(IF(AND(INDEX(Inventory!CB:CB,MATCH('Inspection Form'!B1208,Inventory!B:B,0))=\"Not Qualified\",INDEX(Inventory!L:L,MATCH('Inspection Form'!B1208,Inventory!B:B,0))<>\"\",$Q$5<>\"Pre\"),0,BY1208*BZ1208), 0)","v":0},null,{"$error":"#DIV/0!"},{"$error":"#DIV/0!"},1205]
[null,1205,null,null,null,null,null,null,null,null,null,null,null,null,null,null,null,null,null,null,null,null,null,null,null,null,null,null,null,null,null,null,null,null,null,null,null,null,null,null,null,null,null,null,null,null,null,null,null,null,null,null,null,null,null,null,null,null,null,null,null,null,null,null,null,null,null,null,null,null,null,null,null,{"$f":"INDEX('Fixture Descriptions'!A:K,MATCH('Inspection Form'!H1209,'Fixture Descriptions'!A:A,0),8)","v":{"$error":"#N/A"}},{"$error":"#N/A"},null,{"$error":"#N/A"},1,null,null,null,{"$f":"IFERROR(IF(AND(INDEX(Inventory!CB:CB,MATCH('Inspection Form'!B1209,Inventory!B:B,0))=\"Not Qualified\",INDEX(Inventory!L:L,MATCH('Inspection Form'!B1209,Inventory!B:B,0))<>\"\",$Q$5<>\"Pre\"),0,BY1209*BZ1209), 0)","v":0},null,{"$error":"#DIV/0!"},{"$error":"#DIV/0!"},1206]
[null,1207,null,null,null,null,null,null,null,null,null,null,null,null,null,null,null,null,null,null,null,null,null,null,null,null,null,null,null,null,null,null,null,null,null,null,null,null,null,null,null,null,null,null,null,null,null,null,null,null,null,null,null,null,null,null,null,null,null,null,null,null,null,null,null,null,null,null,null,null,null,null,null,{"$f":"INDEX('Fixture Descriptions'!A:K,MATCH('Inspection Form'!H1211,'Fixture Descriptions'!A:A,0),8)","v":{"$error":"#N/A"}},{"$error":"#N/A"},null,{"$error":"#N/A"},1,null,null,null,{"$f":"IFERROR(IF(AND(INDEX(Inventory!CB:CB,MATCH('Inspection Form'!B1211,Inventory!B:B,0))=\"Not Qualified\",INDEX(Inventory!L:L,MATCH('Inspection Form'!B1211,Inventory!B:B,0))<>\"\",$Q$5<>\"Pre\"),0,BY1211*BZ1211), 0)","v":0},null,{"$error":"#DIV/0!"},{"$error":"#DIV/0!"},1208]
[null,1208,null,null,null,null,null,null,null,null,null,null,null,null,null,null,null,null,null,null,null,null,null,null,null,null,null,null,null,null,null,null,null,null,null,null,null,null,null,null,null,null,null,null,null,null,null,null,null,null,null,null,null,null,null,null,null,null,null,null,null,null,null,null,null,null,null,null,null,null,null,null,null,{"$f":"INDEX('Fixture Descriptions'!A:K,MATCH('Inspection Form'!H1212,'Fixture Descriptions'!A:A,0),8)","v":{"$error":"#N/A"}},{"$error":"#N/A"},null,{"$error":"#N/A"},1,null,null,null,{"$f":"IFERROR(IF(AND(INDEX(Inventory!CB:CB,MATCH('Inspection Form'!B1212,Inventory!B:B,0))=\"Not Qualified\",INDEX(Inventory!L:L,MATCH('Inspection Form'!B1212,Inventory!B:B,0))<>\"\",$Q$5<>\"Pre\"),0,BY1212*BZ1212), 0)","v":0},null,{"$error":"#DIV/0!"},{"$error":"#DIV/0!"},1209]
[null,1211,null,null,null,null,null,null,null,null,null,null,null,null,null,null,null,null,null,null,null,null,null,null,null,null,null,null,null,null,null,null,null,null,null,null,null,null,null,null,null,null,null,null,null,null,null,null,null,null,null,null,null,null,null,null,null,null,null,null,null,null,null,null,null,null,null,null,null,null,null,null,null,{"$f":"INDEX('Fixture Descriptions'!A:K,MATCH('Inspection Form'!H1215,'Fixture Descriptions'!A:A,0),8)","v":{"$error":"#N/A"}},{"$error":"#N/A"},null,{"$error":"#N/A"},1,null,null,null,{"$f":"IFERROR(IF(AND(INDEX(Inventory!CB:CB,MATCH('Inspection Form'!B1215,Inventory!B:B,0))=\"Not Qualified\",INDEX(Inventory!L:L,MATCH('Inspection Form'!B1215,Inventory!B:B,0))<>\"\",$Q$5<>\"Pre\"),0,BY1215*BZ1215), 0)","v":0},null,{"$error":"#DIV/0!"},{"$error":"#DIV/0!"},1212]
[null,1212,null,null,null,null,null,null,null,null,null,null,null,null,null,null,null,null,null,null,null,null,null,null,null,null,null,null,null,null,null,null,null,null,null,null,null,null,null,null,null,null,null,null,null,null,null,null,null,null,null,null,null,null,null,null,null,null,null,null,null,null,null,null,null,null,null,null,null,null,null,null,null,{"$f":"INDEX('Fixture Descriptions'!A:K,MATCH('Inspection Form'!H1216,'Fixture Descriptions'!A:A,0),8)","v":{"$error":"#N/A"}},{"$error":"#N/A"},null,{"$error":"#N/A"},1,null,null,null,{"$f":"IFERROR(IF(AND(INDEX(Inventory!CB:CB,MATCH('Inspection Form'!B1216,Inventory!B:B,0))=\"Not Qualified\",INDEX(Inventory!L:L,MATCH('Inspection Form'!B1216,Inventory!B:B,0))<>\"\",$Q$5<>\"Pre\"),0,BY1216*BZ1216), 0)","v":0},null,{"$error":"#DIV/0!"},{"$error":"#DIV/0!"},1213]
[null,1215,null,null,null,null,null,null,null,null,null,null,null,null,null,null,null,null,null,null,null,null,null,null,null,null,null,null,null,null,null,null,null,null,null,null,null,null,null,null,null,null,null,null,null,null,null,null,null,null,null,null,null,null,null,null,null,null,null,null,null,null,null,null,null,null,null,null,null,null,null,null,null,{"$f":"INDEX('Fixture Descriptions'!A:K,MATCH('Inspection Form'!H1219,'Fixture Descriptions'!A:A,0),8)","v":{"$error":"#N/A"}},{"$error":"#N/A"},null,{"$error":"#N/A"},1,null,null,null,{"$f":"IFERROR(IF(AND(INDEX(Inventory!CB:CB,MATCH('Inspection Form'!B1219,Inventory!B:B,0))=\"Not Qualified\",INDEX(Inventory!L:L,MATCH('Inspection Form'!B1219,Inventory!B:B,0))<>\"\",$Q$5<>\"Pre\"),0,BY1219*BZ1219), 0)","v":0},null,{"$error":"#DIV/0!"},{"$error":"#DIV/0!"},1216]
[null,1216,null,null,null,null,null,null,null,null,null,null,null,null,null,null,null,null,null,null,null,null,null,null,null,null,null,null,null,null,null,null,null,null,null,null,null,null,null,null,null,null,null,null,null,null,null,null,null,null,null,null,null,null,null,null,null,null,null,null,null,null,null,null,null,null,null,null,null,null,null,null,null,{"$f":"INDEX('Fixture Descriptions'!A:K,MATCH('Inspection Form'!H1220,'Fixture Descriptions'!A:A,0),8)","v":{"$error":"#N/A"}},{"$error":"#N/A"},null,{"$error":"#N/A"},1,null,null,null,{"$f":"IFERROR(IF(AND(INDEX(Inventory!CB:CB,MATCH('Inspection Form'!B1220,Inventory!B:B,0))=\"Not Qualified\",INDEX(Inventory!L:L,MATCH('Inspection Form'!B1220,Inventory!B:B,0))<>\"\",$Q$5<>\"Pre\"),0,BY1220*BZ1220), 0)","v":0},null,{"$error":"#DIV/0!"},{"$error":"#DIV/0!"},1217]
[null,1218,null,null,null,null,null,null,null,null,null,null,null,null,null,null,null,null,null,null,null,null,null,null,null,null,null,null,null,null,null,null,null,null,null,null,null,null,null,null,null,null,null,null,null,null,null,null,null,null,null,null,null,null,null,null,null,null,null,null,null,null,null,null,null,null,null,null,null,null,null,null,null,{"$f":"INDEX('Fixture Descriptions'!A:K,MATCH('Inspection Form'!H1222,'Fixture Descriptions'!A:A,0),8)","v":{"$error":"#N/A"}},{"$error":"#N/A"},null,{"$error":"#N/A"},1,null,null,null,{"$f":"IFERROR(IF(AND(INDEX(Inventory!CB:CB,MATCH('Inspection Form'!B1222,Inventory!B:B,0))=\"Not Qualified\",INDEX(Inventory!L:L,MATCH('Inspection Form'!B1222,Inventory!B:B,0))<>\"\",$Q$5<>\"Pre\"),0,BY1222*BZ1222), 0)","v":0},null,{"$error":"#DIV/0!"},{"$error":"#DIV/0!"},1219]
[null,1219,null,null,null,null,null,null,null,null,null,null,null,null,null,null,null,null,null,null,null,null,null,null,null,null,null,null,null,null,null,null,null,null,null,null,null,null,null,null,null,null,null,null,null,null,null,null,null,null,null,null,null,null,null,null,null,null,null,null,null,null,null,null,null,null,null,null,null,null,null,null,null,{"$f":"INDEX('Fixture Descriptions'!A:K,MATCH('Inspection Form'!H1223,'Fixture Descriptions'!A:A,0),8)","v":{"$error":"#N/A"}},{"$error":"#N/A"},null,{"$error":"#N/A"},1,null,null,null,{"$f":"IFERROR(IF(AND(INDEX(Inventory!CB:CB,MATCH('Inspection Form'!B1223,Inventory!B:B,0))=\"Not Qualified\",INDEX(Inventory!L:L,MATCH('Inspection Form'!B1223,Inventory!B:B,0))<>\"\",$Q$5<>\"Pre\"),0,BY1223*BZ1223), 0)","v":0},null,{"$error":"#DIV/0!"},{"$error":"#DIV/0!"},1220]
[null,1222,null,null,null,null,null,null,null,null,null,null,null,null,null,null,null,null,null,null,null,null,null,null,null,null,null,null,null,null,null,null,null,null,null,null,null,null,null,null,null,null,null,null,null,null,null,null,null,null,null,null,null,null,null,null,null,null,null,null,null,null,null,null,null,null,null,null,null,null,null,null,null,{"$f":"INDEX('Fixture Descriptions'!A:K,MATCH('Inspection Form'!H1226,'Fixture Descriptions'!A:A,0),8)","v":{"$error":"#N/A"}},{"$error":"#N/A"},null,{"$error":"#N/A"},1,null,null,null,{"$f":"IFERROR(IF(AND(INDEX(Inventory!CB:CB,MATCH('Inspection Form'!B1226,Inventory!B:B,0))=\"Not Qualified\",INDEX(Inventory!L:L,MATCH('Inspection Form'!B1226,Inventory!B:B,0))<>\"\",$Q$5<>\"Pre\"),0,BY1226*BZ1226), 0)","v":0},null,{"$error":"#DIV/0!"},{"$error":"#DIV/0!"},1223]
[null,1223,null,null,null,null,null,null,null,null,null,null,null,null,null,null,null,null,null,null,null,null,null,null,null,null,null,null,null,null,null,null,null,null,null,null,null,null,null,null,null,null,null,null,null,null,null,null,null,null,null,null,null,null,null,null,null,null,null,null,null,null,null,null,null,null,null,null,null,null,null,null,null,{"$f":"INDEX('Fixture Descriptions'!A:K,MATCH('Inspection Form'!H1227,'Fixture Descriptions'!A:A,0),8)","v":{"$error":"#N/A"}},{"$error":"#N/A"},null,{"$error":"#N/A"},1,null,null,null,{"$f":"IFERROR(IF(AND(INDEX(Inventory!CB:CB,MATCH('Inspection Form'!B1227,Inventory!B:B,0))=\"Not Qualified\",INDEX(Inventory!L:L,MATCH('Inspection Form'!B1227,Inventory!B:B,0))<>\"\",$Q$5<>\"Pre\"),0,BY1227*BZ1227), 0)","v":0},null,{"$error":"#DIV/0!"},{"$error":"#DIV/0!"},1224]
[null,1225,null,null,null,null,null,null,null,null,null,null,null,null,null,null,null,null,null,null,null,null,null,null,null,null,null,null,null,null,null,null,null,null,null,null,null,null,null,null,null,null,null,null,null,null,null,null,null,null,null,null,null,null,null,null,null,null,null,null,null,null,null,null,null,null,null,null,null,null,null,null,null,{"$f":"INDEX('Fixture Descriptions'!A:K,MATCH('Inspection Form'!H1229,'Fixture Descriptions'!A:A,0),8)","v":{"$error":"#N/A"}},{"$error":"#N/A"},null,{"$error":"#N/A"},1,null,null,null,{"$f":"IFERROR(IF(AND(INDEX(Inventory!CB:CB,MATCH('Inspection Form'!B1229,Inventory!B:B,0))=\"Not Qualified\",INDEX(Inventory!L:L,MATCH('Inspection Form'!B1229,Inventory!B:B,0))<>\"\",$Q$5<>\"Pre\"),0,BY1229*BZ1229), 0)","v":0},null,{"$error":"#DIV/0!"},{"$error":"#DIV/0!"},1226]
[null,1226,null,null,null,null,null,null,null,null,null,null,null,null,null,null,null,null,null,null,null,null,null,null,null,null,null,null,null,null,null,null,null,null,null,null,null,null,null,null,null,null,null,null,null,null,null,null,null,null,null,null,null,null,null,null,null,null,null,null,null,null,null,null,null,null,null,null,null,null,null,null,null,{"$f":"INDEX('Fixture Descriptions'!A:K,MATCH('Inspection Form'!H1230,'Fixture Descriptions'!A:A,0),8)","v":{"$error":"#N/A"}},{"$error":"#N/A"},null,{"$error":"#N/A"},1,null,null,null,{"$f":"IFERROR(IF(AND(INDEX(Inventory!CB:CB,MATCH('Inspection Form'!B1230,Inventory!B:B,0))=\"Not Qualified\",INDEX(Inventory!L:L,MATCH('Inspection Form'!B1230,Inventory!B:B,0))<>\"\",$Q$5<>\"Pre\"),0,BY1230*BZ1230), 0)","v":0},null,{"$error":"#DIV/0!"},{"$error":"#DIV/0!"},1227]
[null,1229,null,null,null,null,null,null,null,null,null,null,null,null,null,null,null,null,null,null,null,null,null,null,null,null,null,null,null,null,null,null,null,null,null,null,null,null,null,null,null,null,null,null,null,null,null,null,null,null,null,null,null,null,null,null,null,null,null,null,null,null,null,null,null,null,null,null,null,null,null,null,null,{"$f":"INDEX('Fixture Descriptions'!A:K,MATCH('Inspection Form'!H1233,'Fixture Descriptions'!A:A,0),8)","v":{"$error":"#N/A"}},{"$error":"#N/A"},null,{"$error":"#N/A"},1,null,null,null,{"$f":"IFERROR(IF(AND(INDEX(Inventory!CB:CB,MATCH('Inspection Form'!B1233,Inventory!B:B,0))=\"Not Qualified\",INDEX(Inventory!L:L,MATCH('Inspection Form'!B1233,Inventory!B:B,0))<>\"\",$Q$5<>\"Pre\"),0,BY1233*BZ1233), 0)","v":0},null,{"$error":"#DIV/0!"},{"$error":"#DIV/0!"},1230]
[null,1230,null,null,null,null,null,null,null,null,null,null,null,null,null,null,null,null,null,null,null,null,null,null,null,null,null,null,null,null,null,null,null,null,null,null,null,null,null,null,null,null,null,null,null,null,null,null,null,null,null,null,null,null,null,null,null,null,null,null,null,null,null,null,null,null,null,null,null,null,null,null,null,{"$f":"INDEX('Fixture Descriptions'!A:K,MATCH('Inspection Form'!H1234,'Fixture Descriptions'!A:A,0),8)","v":{"$error":"#N/A"}},{"$error":"#N/A"},null,{"$error":"#N/A"},1,null,null,null,{"$f":"IFERROR(IF(AND(INDEX(Inventory!CB:CB,MATCH('Inspection Form'!B1234,Inventory!B:B,0))=\"Not Qualified\",INDEX(Inventory!L:L,MATCH('Inspection Form'!B1234,Inventory!B:B,0))<>\"\",$Q$5<>\"Pre\"),0,BY1234*BZ1234), 0)","v":0},null,{"$error":"#DIV/0!"},{"$error":"#DIV/0!"},1231]
[null,1232,null,null,null,null,null,null,null,null,null,null,null,null,null,null,null,null,null,null,null,null,null,null,null,null,null,null,null,null,null,null,null,null,null,null,null,null,null,null,null,null,null,null,null,null,null,null,null,null,null,null,null,null,null,null,null,null,null,null,null,null,null,null,null,null,null,null,null,null,null,null,null,{"$f":"INDEX('Fixture Descriptions'!A:K,MATCH('Inspection Form'!H1236,'Fixture Descriptions'!A:A,0),8)","v":{"$error":"#N/A"}},{"$error":"#N/A"},null,{"$error":"#N/A"},1,null,null,null,{"$f":"IFERROR(IF(AND(INDEX(Inventory!CB:CB,MATCH('Inspection Form'!B1236,Inventory!B:B,0))=\"Not Qualified\",INDEX(Inventory!L:L,MATCH('Inspection Form'!B1236,Inventory!B:B,0))<>\"\",$Q$5<>\"Pre\"),0,BY1236*BZ1236), 0)","v":0},null,{"$error":"#DIV/0!"},{"$error":"#DIV/0!"},1233]
[null,1233,null,null,null,null,null,null,null,null,null,null,null,null,null,null,null,null,null,null,null,null,null,null,null,null,null,null,null,null,null,null,null,null,null,null,null,null,null,null,null,null,null,null,null,null,null,null,null,null,null,null,null,null,null,null,null,null,null,null,null,null,null,null,null,null,null,null,null,null,null,null,null,{"$f":"INDEX('Fixture Descriptions'!A:K,MATCH('Inspection Form'!H1237,'Fixture Descriptions'!A:A,0),8)","v":{"$error":"#N/A"}},{"$error":"#N/A"},null,{"$error":"#N/A"},1,null,null,null,{"$f":"IFERROR(IF(AND(INDEX(Inventory!CB:CB,MATCH('Inspection Form'!B1237,Inventory!B:B,0))=\"Not Qualified\",INDEX(Inventory!L:L,MATCH('Inspection Form'!B1237,Inventory!B:B,0))<>\"\",$Q$5<>\"Pre\"),0,BY1237*BZ1237), 0)","v":0},null,{"$error":"#DIV/0!"},{"$error":"#DIV/0!"},1234]
[null,1236,null,null,null,null,null,null,null,null,null,null,null,null,null,null,null,null,null,null,null,null,null,null,null,null,null,null,null,null,null,null,null,null,null,null,null,null,null,null,null,null,null,null,null,null,null,null,null,null,null,null,null,null,null,null,null,null,null,null,null,null,null,null,null,null,null,null,null,null,null,null,null,{"$f":"INDEX('Fixture Descriptions'!A:K,MATCH('Inspection Form'!H1240,'Fixture Descriptions'!A:A,0),8)","v":{"$error":"#N/A"}},{"$error":"#N/A"},null,{"$error":"#N/A"},1,null,null,null,{"$f":"IFERROR(IF(AND(INDEX(Inventory!CB:CB,MATCH('Inspection Form'!B1240,Inventory!B:B,0))=\"Not Qualified\",INDEX(Inventory!L:L,MATCH('Inspection Form'!B1240,Inventory!B:B,0))<>\"\",$Q$5<>\"Pre\"),0,BY1240*BZ1240), 0)","v":0},null,{"$error":"#DIV/0!"},{"$error":"#DIV/0!"},1237]
[null,1237,null,null,null,null,null,null,null,null,null,null,null,null,null,null,null,null,null,null,null,null,null,null,null,null,null,null,null,null,null,null,null,null,null,null,null,null,null,null,null,null,null,null,null,null,null,null,null,null,null,null,null,null,null,null,null,null,null,null,null,null,null,null,null,null,null,null,null,null,null,null,null,{"$f":"INDEX('Fixture Descriptions'!A:K,MATCH('Inspection Form'!H1241,'Fixture Descriptions'!A:A,0),8)","v":{"$error":"#N/A"}},{"$error":"#N/A"},null,{"$error":"#N/A"},1,null,null,null,{"$f":"IFERROR(IF(AND(INDEX(Inventory!CB:CB,MATCH('Inspection Form'!B1241,Inventory!B:B,0))=\"Not Qualified\",INDEX(Inventory!L:L,MATCH('Inspection Form'!B1241,Inventory!B:B,0))<>\"\",$Q$5<>\"Pre\"),0,BY1241*BZ1241), 0)","v":0},null,{"$error":"#DIV/0!"},{"$error":"#DIV/0!"},1238]
[null,1239,null,null,null,null,null,null,null,null,null,null,null,null,null,null,null,null,null,null,null,null,null,null,null,null,null,null,null,null,null,null,null,null,null,null,null,null,null,null,null,null,null,null,null,null,null,null,null,null,null,null,null,null,null,null,null,null,null,null,null,null,null,null,null,null,null,null,null,null,null,null,null,{"$f":"INDEX('Fixture Descriptions'!A:K,MATCH('Inspection Form'!H1243,'Fixture Descriptions'!A:A,0),8)","v":{"$error":"#N/A"}},{"$error":"#N/A"},null,{"$error":"#N/A"},1,null,null,null,{"$f":"IFERROR(IF(AND(INDEX(Inventory!CB:CB,MATCH('Inspection Form'!B1243,Inventory!B:B,0))=\"Not Qualified\",INDEX(Inventory!L:L,MATCH('Inspection Form'!B1243,Inventory!B:B,0))<>\"\",$Q$5<>\"Pre\"),0,BY1243*BZ1243), 0)","v":0},null,{"$error":"#DIV/0!"},{"$error":"#DIV/0!"},1240]
[null,1240,null,null,null,null,null,null,null,null,null,null,null,null,null,null,null,null,null,null,null,null,null,null,null,null,null,null,null,null,null,null,null,null,null,null,null,null,null,null,null,null,null,null,null,null,null,null,null,null,null,null,null,null,null,null,null,null,null,null,null,null,null,null,null,null,null,null,null,null,null,null,null,{"$f":"INDEX('Fixture Descriptions'!A:K,MATCH('Inspection Form'!H1244,'Fixture Descriptions'!A:A,0),8)","v":{"$error":"#N/A"}},{"$error":"#N/A"},null,{"$error":"#N/A"},1,null,null,null,{"$f":"IFERROR(IF(AND(INDEX(Inventory!CB:CB,MATCH('Inspection Form'!B1244,Inventory!B:B,0))=\"Not Qualified\",INDEX(Inventory!L:L,MATCH('Inspection Form'!B1244,Inventory!B:B,0))<>\"\",$Q$5<>\"Pre\"),0,BY1244*BZ1244), 0)","v":0},null,{"$error":"#DIV/0!"},{"$error":"#DIV/0!"},1241]
[null,1243,null,null,null,null,null,null,null,null,null,null,null,null,null,null,null,null,null,null,null,null,null,null,null,null,null,null,null,null,null,null,null,null,null,null,null,null,null,null,null,null,null,null,null,null,null,null,null,null,null,null,null,null,null,null,null,null,null,null,null,null,null,null,null,null,null,null,null,null,null,null,null,{"$f":"INDEX('Fixture Descriptions'!A:K,MATCH('Inspection Form'!H1247,'Fixture Descriptions'!A:A,0),8)","v":{"$error":"#N/A"}},{"$error":"#N/A"},null,{"$error":"#N/A"},1,null,null,null,{"$f":"IFERROR(IF(AND(INDEX(Inventory!CB:CB,MATCH('Inspection Form'!B1247,Inventory!B:B,0))=\"Not Qualified\",INDEX(Inventory!L:L,MATCH('Inspection Form'!B1247,Inventory!B:B,0))<>\"\",$Q$5<>\"Pre\"),0,BY1247*BZ1247), 0)","v":0},null,{"$error":"#DIV/0!"},{"$error":"#DIV/0!"},1244]
[null,1244,null,null,null,null,null,null,null,null,null,null,null,null,null,null,null,null,null,null,null,null,null,null,null,null,null,null,null,null,null,null,null,null,null,null,null,null,null,null,null,null,null,null,null,null,null,null,null,null,null,null,null,null,null,null,null,null,null,null,null,null,null,null,null,null,null,null,null,null,null,null,null,{"$f":"INDEX('Fixture Descriptions'!A:K,MATCH('Inspection Form'!H1248,'Fixture Descriptions'!A:A,0),8)","v":{"$error":"#N/A"}},{"$error":"#N/A"},null,{"$error":"#N/A"},1,null,null,null,{"$f":"IFERROR(IF(AND(INDEX(Inventory!CB:CB,MATCH('Inspection Form'!B1248,Inventory!B:B,0))=\"Not Qualified\",INDEX(Inventory!L:L,MATCH('Inspection Form'!B1248,Inventory!B:B,0))<>\"\",$Q$5<>\"Pre\"),0,BY1248*BZ1248), 0)","v":0},null,{"$error":"#DIV/0!"},{"$error":"#DIV/0!"},1245]
[null,1246,null,null,null,null,null,null,null,null,null,null,null,null,null,null,null,null,null,null,null,null,null,null,null,null,null,null,null,null,null,null,null,null,null,null,null,null,null,null,null,null,null,null,null,null,null,null,null,null,null,null,null,null,null,null,null,null,null,null,null,null,null,null,null,null,null,null,null,null,null,null,null,{"$f":"INDEX('Fixture Descriptions'!A:K,MATCH('Inspection Form'!H1250,'Fixture Descriptions'!A:A,0),8)","v":{"$error":"#N/A"}},{"$error":"#N/A"},null,{"$error":"#N/A"},1,null,null,null,{"$f":"IFERROR(IF(AND(INDEX(Inventory!CB:CB,MATCH('Inspection Form'!B1250,Inventory!B:B,0))=\"Not Qualified\",INDEX(Inventory!L:L,MATCH('Inspection Form'!B1250,Inventory!B:B,0))<>\"\",$Q$5<>\"Pre\"),0,BY1250*BZ1250), 0)","v":0},null,{"$error":"#DIV/0!"},{"$error":"#DIV/0!"},1247]
[null,1247,null,null,null,null,null,null,null,null,null,null,null,null,null,null,null,null,null,null,null,null,null,null,null,null,null,null,null,null,null,null,null,null,null,null,null,null,null,null,null,null,null,null,null,null,null,null,null,null,null,null,null,null,null,null,null,null,null,null,null,null,null,null,null,null,null,null,null,null,null,null,null,{"$f":"INDEX('Fixture Descriptions'!A:K,MATCH('Inspection Form'!H1251,'Fixture Descriptions'!A:A,0),8)","v":{"$error":"#N/A"}},{"$error":"#N/A"},null,{"$error":"#N/A"},1,null,null,null,{"$f":"IFERROR(IF(AND(INDEX(Inventory!CB:CB,MATCH('Inspection Form'!B1251,Inventory!B:B,0))=\"Not Qualified\",INDEX(Inventory!L:L,MATCH('Inspection Form'!B1251,Inventory!B:B,0))<>\"\",$Q$5<>\"Pre\"),0,BY1251*BZ1251), 0)","v":0},null,{"$error":"#DIV/0!"},{"$error":"#DIV/0!"},1248]
[null,1250,null,null,null,null,null,null,null,null,null,null,null,null,null,null,null,null,null,null,null,null,null,null,null,null,null,null,null,null,null,null,null,null,null,null,null,null,null,null,null,null,null,null,null,null,null,null,null,null,null,null,null,null,null,null,null,null,null,null,null,null,null,null,null,null,null,null,null,null,null,null,null,{"$f":"INDEX('Fixture Descriptions'!A:K,MATCH('Inspection Form'!H1254,'Fixture Descriptions'!A:A,0),8)","v":{"$error":"#N/A"}},{"$error":"#N/A"},null,{"$error":"#N/A"},1,null,null,null,{"$f":"IFERROR(IF(AND(INDEX(Inventory!CB:CB,MATCH('Inspection Form'!B1254,Inventory!B:B,0))=\"Not Qualified\",INDEX(Inventory!L:L,MATCH('Inspection Form'!B1254,Inventory!B:B,0))<>\"\",$Q$5<>\"Pre\"),0,BY1254*BZ1254), 0)","v":0},null,{"$error":"#DIV/0!"},{"$error":"#DIV/0!"},1251]
[null,1251,null,null,null,null,null,null,null,null,null,null,null,null,null,null,null,null,null,null,null,null,null,null,null,null,null,null,null,null,null,null,null,null,null,null,null,null,null,null,null,null,null,null,null,null,null,null,null,null,null,null,null,null,null,null,null,null,null,null,null,null,null,null,null,null,null,null,null,null,null,null,null,{"$f":"INDEX('Fixture Descriptions'!A:K,MATCH('Inspection Form'!H1255,'Fixture Descriptions'!A:A,0),8)","v":{"$error":"#N/A"}},{"$error":"#N/A"},null,{"$error":"#N/A"},1,null,null,null,{"$f":"IFERROR(IF(AND(INDEX(Inventory!CB:CB,MATCH('Inspection Form'!B1255,Inventory!B:B,0))=\"Not Qualified\",INDEX(Inventory!L:L,MATCH('Inspection Form'!B1255,Inventory!B:B,0))<>\"\",$Q$5<>\"Pre\"),0,BY1255*BZ1255), 0)","v":0},null,{"$error":"#DIV/0!"},{"$error":"#DIV/0!"},1252]
[null,1253,null,null,null,null,null,null,null,null,null,null,null,null,null,null,null,null,null,null,null,null,null,null,null,null,null,null,null,null,null,null,null,null,null,null,null,null,null,null,null,null,null,null,null,null,null,null,null,null,null,null,null,null,null,null,null,null,null,null,null,null,null,null,null,null,null,null,null,null,null,null,null,{"$f":"INDEX('Fixture Descriptions'!A:K,MATCH('Inspection Form'!H1257,'Fixture Descriptions'!A:A,0),8)","v":{"$error":"#N/A"}},{"$error":"#N/A"},null,{"$error":"#N/A"},1,null,null,null,{"$f":"IFERROR(IF(AND(INDEX(Inventory!CB:CB,MATCH('Inspection Form'!B1257,Inventory!B:B,0))=\"Not Qualified\",INDEX(Inventory!L:L,MATCH('Inspection Form'!B1257,Inventory!B:B,0))<>\"\",$Q$5<>\"Pre\"),0,BY1257*BZ1257), 0)","v":0},null,{"$error":"#DIV/0!"},{"$error":"#DIV/0!"},1254]
[null,1254,null,null,null,null,null,null,null,null,null,null,null,null,null,null,null,null,null,null,null,null,null,null,null,null,null,null,null,null,null,null,null,null,null,null,null,null,null,null,null,null,null,null,null,null,null,null,null,null,null,null,null,null,null,null,null,null,null,null,null,null,null,null,null,null,null,null,null,null,null,null,null,{"$f":"INDEX('Fixture Descriptions'!A:K,MATCH('Inspection Form'!H1258,'Fixture Descriptions'!A:A,0),8)","v":{"$error":"#N/A"}},{"$error":"#N/A"},null,{"$error":"#N/A"},1,null,null,null,{"$f":"IFERROR(IF(AND(INDEX(Inventory!CB:CB,MATCH('Inspection Form'!B1258,Inventory!B:B,0))=\"Not Qualified\",INDEX(Inventory!L:L,MATCH('Inspection Form'!B1258,Inventory!B:B,0))<>\"\",$Q$5<>\"Pre\"),0,BY1258*BZ1258), 0)","v":0},null,{"$error":"#DIV/0!"},{"$error":"#DIV/0!"},1255]
[null,1257,null,null,null,null,null,null,null,null,null,null,null,null,null,null,null,null,null,null,null,null,null,null,null,null,null,null,null,null,null,null,null,null,null,null,null,null,null,null,null,null,null,null,null,null,null,null,null,null,null,null,null,null,null,null,null,null,null,null,null,null,null,null,null,null,null,null,null,null,null,null,null,{"$f":"INDEX('Fixture Descriptions'!A:K,MATCH('Inspection Form'!H1261,'Fixture Descriptions'!A:A,0),8)","v":{"$error":"#N/A"}},{"$error":"#N/A"},null,{"$error":"#N/A"},1,null,null,null,{"$f":"IFERROR(IF(AND(INDEX(Inventory!CB:CB,MATCH('Inspection Form'!B1261,Inventory!B:B,0))=\"Not Qualified\",INDEX(Inventory!L:L,MATCH('Inspection Form'!B1261,Inventory!B:B,0))<>\"\",$Q$5<>\"Pre\"),0,BY1261*BZ1261), 0)","v":0},null,{"$error":"#DIV/0!"},{"$error":"#DIV/0!"},1258]
[null,1258,null,null,null,null,null,null,null,null,null,null,null,null,null,null,null,null,null,null,null,null,null,null,null,null,null,null,null,null,null,null,null,null,null,null,null,null,null,null,null,null,null,null,null,null,null,null,null,null,null,null,null,null,null,null,null,null,null,null,null,null,null,null,null,null,null,null,null,null,null,null,null,{"$f":"INDEX('Fixture Descriptions'!A:K,MATCH('Inspection Form'!H1262,'Fixture Descriptions'!A:A,0),8)","v":{"$error":"#N/A"}},{"$error":"#N/A"},null,{"$error":"#N/A"},1,null,null,null,{"$f":"IFERROR(IF(AND(INDEX(Inventory!CB:CB,MATCH('Inspection Form'!B1262,Inventory!B:B,0))=\"Not Qualified\",INDEX(Inventory!L:L,MATCH('Inspection Form'!B1262,Inventory!B:B,0))<>\"\",$Q$5<>\"Pre\"),0,BY1262*BZ1262), 0)","v":0},null,{"$error":"#DIV/0!"},{"$error":"#DIV/0!"},1259]
[null,1260,null,null,null,null,null,null,null,null,null,null,null,null,null,null,null,null,null,null,null,null,null,null,null,null,null,null,null,null,null,null,null,null,null,null,null,null,null,null,null,null,null,null,null,null,null,null,null,null,null,null,null,null,null,null,null,null,null,null,null,null,null,null,null,null,null,null,null,null,null,null,null,{"$f":"INDEX('Fixture Descriptions'!A:K,MATCH('Inspection Form'!H1264,'Fixture Descriptions'!A:A,0),8)","v":{"$error":"#N/A"}},{"$error":"#N/A"},null,{"$error":"#N/A"},1,null,null,null,{"$f":"IFERROR(IF(AND(INDEX(Inventory!CB:CB,MATCH('Inspection Form'!B1264,Inventory!B:B,0))=\"Not Qualified\",INDEX(Inventory!L:L,MATCH('Inspection Form'!B1264,Inventory!B:B,0))<>\"\",$Q$5<>\"Pre\"),0,BY1264*BZ1264), 0)","v":0},null,{"$error":"#DIV/0!"},{"$error":"#DIV/0!"},1261]
[null,1261,null,null,null,null,null,null,null,null,null,null,null,null,null,null,null,null,null,null,null,null,null,null,null,null,null,null,null,null,null,null,null,null,null,null,null,null,null,null,null,null,null,null,null,null,null,null,null,null,null,null,null,null,null,null,null,null,null,null,null,null,null,null,null,null,null,null,null,null,null,null,null,{"$f":"INDEX('Fixture Descriptions'!A:K,MATCH('Inspection Form'!H1265,'Fixture Descriptions'!A:A,0),8)","v":{"$error":"#N/A"}},{"$error":"#N/A"},null,{"$error":"#N/A"},1,null,null,null,{"$f":"IFERROR(IF(AND(INDEX(Inventory!CB:CB,MATCH('Inspection Form'!B1265,Inventory!B:B,0))=\"Not Qualified\",INDEX(Inventory!L:L,MATCH('Inspection Form'!B1265,Inventory!B:B,0))<>\"\",$Q$5<>\"Pre\"),0,BY1265*BZ1265), 0)","v":0},null,{"$error":"#DIV/0!"},{"$error":"#DIV/0!"},1262]
[null,1264,null,null,null,null,null,null,null,null,null,null,null,null,null,null,null,null,null,null,null,null,null,null,null,null,null,null,null,null,null,null,null,null,null,null,null,null,null,null,null,null,null,null,null,null,null,null,null,null,null,null,null,null,null,null,null,null,null,null,null,null,null,null,null,null,null,null,null,null,null,null,null,{"$f":"INDEX('Fixture Descriptions'!A:K,MATCH('Inspection Form'!H1268,'Fixture Descriptions'!A:A,0),8)","v":{"$error":"#N/A"}},{"$error":"#N/A"},null,{"$error":"#N/A"},1,null,null,null,{"$f":"IFERROR(IF(AND(INDEX(Inventory!CB:CB,MATCH('Inspection Form'!B1268,Inventory!B:B,0))=\"Not Qualified\",INDEX(Inventory!L:L,MATCH('Inspection Form'!B1268,Inventory!B:B,0))<>\"\",$Q$5<>\"Pre\"),0,BY1268*BZ1268), 0)","v":0},null,{"$error":"#DIV/0!"},{"$error":"#DIV/0!"},1265]
[null,1265,null,null,null,null,null,null,null,null,null,null,null,null,null,null,null,null,null,null,null,null,null,null,null,null,null,null,null,null,null,null,null,null,null,null,null,null,null,null,null,null,null,null,null,null,null,null,null,null,null,null,null,null,null,null,null,null,null,null,null,null,null,null,null,null,null,null,null,null,null,null,null,{"$f":"INDEX('Fixture Descriptions'!A:K,MATCH('Inspection Form'!H1269,'Fixture Descriptions'!A:A,0),8)","v":{"$error":"#N/A"}},{"$error":"#N/A"},null,{"$error":"#N/A"},1,null,null,null,{"$f":"IFERROR(IF(AND(INDEX(Inventory!CB:CB,MATCH('Inspection Form'!B1269,Inventory!B:B,0))=\"Not Qualified\",INDEX(Inventory!L:L,MATCH('Inspection Form'!B1269,Inventory!B:B,0))<>\"\",$Q$5<>\"Pre\"),0,BY1269*BZ1269), 0)","v":0},null,{"$error":"#DIV/0!"},{"$error":"#DIV/0!"},1266]
[null,1267,null,null,null,null,null,null,null,null,null,null,null,null,null,null,null,null,null,null,null,null,null,null,null,null,null,null,null,null,null,null,null,null,null,null,null,null,null,null,null,null,null,null,null,null,null,null,null,null,null,null,null,null,null,null,null,null,null,null,null,null,null,null,null,null,null,null,null,null,null,null,null,{"$f":"INDEX('Fixture Descriptions'!A:K,MATCH('Inspection Form'!H1271,'Fixture Descriptions'!A:A,0),8)","v":{"$error":"#N/A"}},{"$error":"#N/A"},null,{"$error":"#N/A"},1,null,null,null,{"$f":"IFERROR(IF(AND(INDEX(Inventory!CB:CB,MATCH('Inspection Form'!B1271,Inventory!B:B,0))=\"Not Qualified\",INDEX(Inventory!L:L,MATCH('Inspection Form'!B1271,Inventory!B:B,0))<>\"\",$Q$5<>\"Pre\"),0,BY1271*BZ1271), 0)","v":0},null,{"$error":"#DIV/0!"},{"$error":"#DIV/0!"},1268]
[null,1268,null,null,null,null,null,null,null,null,null,null,null,null,null,null,null,null,null,null,null,null,null,null,null,null,null,null,null,null,null,null,null,null,null,null,null,null,null,null,null,null,null,null,null,null,null,null,null,null,null,null,null,null,null,null,null,null,null,null,null,null,null,null,null,null,null,null,null,null,null,null,null,{"$f":"INDEX('Fixture Descriptions'!A:K,MATCH('Inspection Form'!H1272,'Fixture Descriptions'!A:A,0),8)","v":{"$error":"#N/A"}},{"$error":"#N/A"},null,{"$error":"#N/A"},1,null,null,null,{"$f":"IFERROR(IF(AND(INDEX(Inventory!CB:CB,MATCH('Inspection Form'!B1272,Inventory!B:B,0))=\"Not Qualified\",INDEX(Inventory!L:L,MATCH('Inspection Form'!B1272,Inventory!B:B,0))<>\"\",$Q$5<>\"Pre\"),0,BY1272*BZ1272), 0)","v":0},null,{"$error":"#DIV/0!"},{"$error":"#DIV/0!"},1269]
[null,1271,null,null,null,null,null,null,null,null,null,null,null,null,null,null,null,null,null,null,null,null,null,null,null,null,null,null,null,null,null,null,null,null,null,null,null,null,null,null,null,null,null,null,null,null,null,null,null,null,null,null,null,null,null,null,null,null,null,null,null,null,null,null,null,null,null,null,null,null,null,null,null,{"$f":"INDEX('Fixture Descriptions'!A:K,MATCH('Inspection Form'!H1275,'Fixture Descriptions'!A:A,0),8)","v":{"$error":"#N/A"}},{"$error":"#N/A"},null,{"$error":"#N/A"},1,null,null,null,{"$f":"IFERROR(IF(AND(INDEX(Inventory!CB:CB,MATCH('Inspection Form'!B1275,Inventory!B:B,0))=\"Not Qualified\",INDEX(Inventory!L:L,MATCH('Inspection Form'!B1275,Inventory!B:B,0))<>\"\",$Q$5<>\"Pre\"),0,BY1275*BZ1275), 0)","v":0},null,{"$error":"#DIV/0!"},{"$error":"#DIV/0!"},1272]
[null,1272,null,null,null,null,null,null,null,null,null,null,null,null,null,null,null,null,null,null,null,null,null,null,null,null,null,null,null,null,null,null,null,null,null,null,null,null,null,null,null,null,null,null,null,null,null,null,null,null,null,null,null,null,null,null,null,null,null,null,null,null,null,null,null,null,null,null,null,null,null,null,null,{"$f":"INDEX('Fixture Descriptions'!A:K,MATCH('Inspection Form'!H1276,'Fixture Descriptions'!A:A,0),8)","v":{"$error":"#N/A"}},{"$error":"#N/A"},null,{"$error":"#N/A"},1,null,null,null,{"$f":"IFERROR(IF(AND(INDEX(Inventory!CB:CB,MATCH('Inspection Form'!B1276,Inventory!B:B,0))=\"Not Qualified\",INDEX(Inventory!L:L,MATCH('Inspection Form'!B1276,Inventory!B:B,0))<>\"\",$Q$5<>\"Pre\"),0,BY1276*BZ1276), 0)","v":0},null,{"$error":"#DIV/0!"},{"$error":"#DIV/0!"},1273]
[null,1274,null,null,null,null,null,null,null,null,null,null,null,null,null,null,null,null,null,null,null,null,null,null,null,null,null,null,null,null,null,null,null,null,null,null,null,null,null,null,null,null,null,null,null,null,null,null,null,null,null,null,null,null,null,null,null,null,null,null,null,null,null,null,null,null,null,null,null,null,null,null,null,{"$f":"INDEX('Fixture Descriptions'!A:K,MATCH('Inspection Form'!H1278,'Fixture Descriptions'!A:A,0),8)","v":{"$error":"#N/A"}},{"$error":"#N/A"},null,{"$error":"#N/A"},1,null,null,null,{"$f":"IFERROR(IF(AND(INDEX(Inventory!CB:CB,MATCH('Inspection Form'!B1278,Inventory!B:B,0))=\"Not Qualified\",INDEX(Inventory!L:L,MATCH('Inspection Form'!B1278,Inventory!B:B,0))<>\"\",$Q$5<>\"Pre\"),0,BY1278*BZ1278), 0)","v":0},null,{"$error":"#DIV/0!"},{"$error":"#DIV/0!"},1275]
[null,1275,null,null,null,null,null,null,null,null,null,null,null,null,null,null,null,null,null,null,null,null,null,null,null,null,null,null,null,null,null,null,null,null,null,null,null,null,null,null,null,null,null,null,null,null,null,null,null,null,null,null,null,null,null,null,null,null,null,null,null,null,null,null,null,null,null,null,null,null,null,null,null,{"$f":"INDEX('Fixture Descriptions'!A:K,MATCH('Inspection Form'!H1279,'Fixture Descriptions'!A:A,0),8)","v":{"$error":"#N/A"}},{"$error":"#N/A"},null,{"$error":"#N/A"},1,null,null,null,{"$f":"IFERROR(IF(AND(INDEX(Inventory!CB:CB,MATCH('Inspection Form'!B1279,Inventory!B:B,0))=\"Not Qualified\",INDEX(Inventory!L:L,MATCH('Inspection Form'!B1279,Inventory!B:B,0))<>\"\",$Q$5<>\"Pre\"),0,BY1279*BZ1279), 0)","v":0},null,{"$error":"#DIV/0!"},{"$error":"#DIV/0!"},1276]
[null,1278,null,null,null,null,null,null,null,null,null,null,null,null,null,null,null,null,null,null,null,null,null,null,null,null,null,null,null,null,null,null,null,null,null,null,null,null,null,null,null,null,null,null,null,null,null,null,null,null,null,null,null,null,null,null,null,null,null,null,null,null,null,null,null,null,null,null,null,null,null,null,null,{"$f":"INDEX('Fixture Descriptions'!A:K,MATCH('Inspection Form'!H1282,'Fixture Descriptions'!A:A,0),8)","v":{"$error":"#N/A"}},{"$error":"#N/A"},null,{"$error":"#N/A"},1,null,null,null,{"$f":"IFERROR(IF(AND(INDEX(Inventory!CB:CB,MATCH('Inspection Form'!B1282,Inventory!B:B,0))=\"Not Qualified\",INDEX(Inventory!L:L,MATCH('Inspection Form'!B1282,Inventory!B:B,0))<>\"\",$Q$5<>\"Pre\"),0,BY1282*BZ1282), 0)","v":0},null,{"$error":"#DIV/0!"},{"$error":"#DIV/0!"},1279]
[null,1279,null,null,null,null,null,null,null,null,null,null,null,null,null,null,null,null,null,null,null,null,null,null,null,null,null,null,null,null,null,null,null,null,null,null,null,null,null,null,null,null,null,null,null,null,null,null,null,null,null,null,null,null,null,null,null,null,null,null,null,null,null,null,null,null,null,null,null,null,null,null,null,{"$f":"INDEX('Fixture Descriptions'!A:K,MATCH('Inspection Form'!H1283,'Fixture Descriptions'!A:A,0),8)","v":{"$error":"#N/A"}},{"$error":"#N/A"},null,{"$error":"#N/A"},1,null,null,null,{"$f":"IFERROR(IF(AND(INDEX(Inventory!CB:CB,MATCH('Inspection Form'!B1283,Inventory!B:B,0))=\"Not Qualified\",INDEX(Inventory!L:L,MATCH('Inspection Form'!B1283,Inventory!B:B,0))<>\"\",$Q$5<>\"Pre\"),0,BY1283*BZ1283), 0)","v":0},null,{"$error":"#DIV/0!"},{"$error":"#DIV/0!"},1280]
[null,1281,null,null,null,null,null,null,null,null,null,null,null,null,null,null,null,null,null,null,null,null,null,null,null,null,null,null,null,null,null,null,null,null,null,null,null,null,null,null,null,null,null,null,null,null,null,null,null,null,null,null,null,null,null,null,null,null,null,null,null,null,null,null,null,null,null,null,null,null,null,null,null,{"$f":"INDEX('Fixture Descriptions'!A:K,MATCH('Inspection Form'!H1285,'Fixture Descriptions'!A:A,0),8)","v":{"$error":"#N/A"}},{"$error":"#N/A"},null,{"$error":"#N/A"},1,null,null,null,{"$f":"IFERROR(IF(AND(INDEX(Inventory!CB:CB,MATCH('Inspection Form'!B1285,Inventory!B:B,0))=\"Not Qualified\",INDEX(Inventory!L:L,MATCH('Inspection Form'!B1285,Inventory!B:B,0))<>\"\",$Q$5<>\"Pre\"),0,BY1285*BZ1285), 0)","v":0},null,{"$error":"#DIV/0!"},{"$error":"#DIV/0!"},1282]
[null,1282,null,null,null,null,null,null,null,null,null,null,null,null,null,null,null,null,null,null,null,null,null,null,null,null,null,null,null,null,null,null,null,null,null,null,null,null,null,null,null,null,null,null,null,null,null,null,null,null,null,null,null,null,null,null,null,null,null,null,null,null,null,null,null,null,null,null,null,null,null,null,null,{"$f":"INDEX('Fixture Descriptions'!A:K,MATCH('Inspection Form'!H1286,'Fixture Descriptions'!A:A,0),8)","v":{"$error":"#N/A"}},{"$error":"#N/A"},null,{"$error":"#N/A"},1,null,null,null,{"$f":"IFERROR(IF(AND(INDEX(Inventory!CB:CB,MATCH('Inspection Form'!B1286,Inventory!B:B,0))=\"Not Qualified\",INDEX(Inventory!L:L,MATCH('Inspection Form'!B1286,Inventory!B:B,0))<>\"\",$Q$5<>\"Pre\"),0,BY1286*BZ1286), 0)","v":0},null,{"$error":"#DIV/0!"},{"$error":"#DIV/0!"},1283]
[null,1285,null,null,null,null,null,null,null,null,null,null,null,null,null,null,null,null,null,null,null,null,null,null,null,null,null,null,null,null,null,null,null,null,null,null,null,null,null,null,null,null,null,null,null,null,null,null,null,null,null,null,null,null,null,null,null,null,null,null,null,null,null,null,null,null,null,null,null,null,null,null,null,{"$f":"INDEX('Fixture Descriptions'!A:K,MATCH('Inspection Form'!H1289,'Fixture Descriptions'!A:A,0),8)","v":{"$error":"#N/A"}},{"$error":"#N/A"},null,{"$error":"#N/A"},1,null,null,null,{"$f":"IFERROR(IF(AND(INDEX(Inventory!CB:CB,MATCH('Inspection Form'!B1289,Inventory!B:B,0))=\"Not Qualified\",INDEX(Inventory!L:L,MATCH('Inspection Form'!B1289,Inventory!B:B,0))<>\"\",$Q$5<>\"Pre\"),0,BY1289*BZ1289), 0)","v":0},null,{"$error":"#DIV/0!"},{"$error":"#DIV/0!"},1286]
[null,1286,null,null,null,null,null,null,null,null,null,null,null,null,null,null,null,null,null,null,null,null,null,null,null,null,null,null,null,null,null,null,null,null,null,null,null,null,null,null,null,null,null,null,null,null,null,null,null,null,null,null,null,null,null,null,null,null,null,null,null,null,null,null,null,null,null,null,null,null,null,null,null,{"$f":"INDEX('Fixture Descriptions'!A:K,MATCH('Inspection Form'!H1290,'Fixture Descriptions'!A:A,0),8)","v":{"$error":"#N/A"}},{"$error":"#N/A"},null,{"$error":"#N/A"},1,null,null,null,{"$f":"IFERROR(IF(AND(INDEX(Inventory!CB:CB,MATCH('Inspection Form'!B1290,Inventory!B:B,0))=\"Not Qualified\",INDEX(Inventory!L:L,MATCH('Inspection Form'!B1290,Inventory!B:B,0))<>\"\",$Q$5<>\"Pre\"),0,BY1290*BZ1290), 0)","v":0},null,{"$error":"#DIV/0!"},{"$error":"#DIV/0!"},1287]
[null,1288,null,null,null,null,null,null,null,null,null,null,null,null,null,null,null,null,null,null,null,null,null,null,null,null,null,null,null,null,null,null,null,null,null,null,null,null,null,null,null,null,null,null,null,null,null,null,null,null,null,null,null,null,null,null,null,null,null,null,null,null,null,null,null,null,null,null,null,null,null,null,null,{"$f":"INDEX('Fixture Descriptions'!A:K,MATCH('Inspection Form'!H1292,'Fixture Descriptions'!A:A,0),8)","v":{"$error":"#N/A"}},{"$error":"#N/A"},null,{"$error":"#N/A"},1,null,null,null,{"$f":"IFERROR(IF(AND(INDEX(Inventory!CB:CB,MATCH('Inspection Form'!B1292,Inventory!B:B,0))=\"Not Qualified\",INDEX(Inventory!L:L,MATCH('Inspection Form'!B1292,Inventory!B:B,0))<>\"\",$Q$5<>\"Pre\"),0,BY1292*BZ1292), 0)","v":0},null,{"$error":"#DIV/0!"},{"$error":"#DIV/0!"},1289]
[null,1289,null,null,null,null,null,null,null,null,null,null,null,null,null,null,null,null,null,null,null,null,null,null,null,null,null,null,null,null,null,null,null,null,null,null,null,null,null,null,null,null,null,null,null,null,null,null,null,null,null,null,null,null,null,null,null,null,null,null,null,null,null,null,null,null,null,null,null,null,null,null,null,{"$f":"INDEX('Fixture Descriptions'!A:K,MATCH('Inspection Form'!H1293,'Fixture Descriptions'!A:A,0),8)","v":{"$error":"#N/A"}},{"$error":"#N/A"},null,{"$error":"#N/A"},1,null,null,null,{"$f":"IFERROR(IF(AND(INDEX(Inventory!CB:CB,MATCH('Inspection Form'!B1293,Inventory!B:B,0))=\"Not Qualified\",INDEX(Inventory!L:L,MATCH('Inspection Form'!B1293,Inventory!B:B,0))<>\"\",$Q$5<>\"Pre\"),0,BY1293*BZ1293), 0)","v":0},null,{"$error":"#DIV/0!"},{"$error":"#DIV/0!"},1290]
[null,1292,null,null,null,null,null,null,null,null,null,null,null,null,null,null,null,null,null,null,null,null,null,null,null,null,null,null,null,null,null,null,null,null,null,null,null,null,null,null,null,null,null,null,null,null,null,null,null,null,null,null,null,null,null,null,null,null,null,null,null,null,null,null,null,null,null,null,null,null,null,null,null,{"$f":"INDEX('Fixture Descriptions'!A:K,MATCH('Inspection Form'!H1296,'Fixture Descriptions'!A:A,0),8)","v":{"$error":"#N/A"}},{"$error":"#N/A"},null,{"$error":"#N/A"},1,null,null,null,{"$f":"IFERROR(IF(AND(INDEX(Inventory!CB:CB,MATCH('Inspection Form'!B1296,Inventory!B:B,0))=\"Not Qualified\",INDEX(Inventory!L:L,MATCH('Inspection Form'!B1296,Inventory!B:B,0))<>\"\",$Q$5<>\"Pre\"),0,BY1296*BZ1296), 0)","v":0},null,{"$error":"#DIV/0!"},{"$error":"#DIV/0!"},1293]
[null,1293,null,null,null,null,null,null,null,null,null,null,null,null,null,null,null,null,null,null,null,null,null,null,null,null,null,null,null,null,null,null,null,null,null,null,null,null,null,null,null,null,null,null,null,null,null,null,null,null,null,null,null,null,null,null,null,null,null,null,null,null,null,null,null,null,null,null,null,null,null,null,null,{"$f":"INDEX('Fixture Descriptions'!A:K,MATCH('Inspection Form'!H1297,'Fixture Descriptions'!A:A,0),8)","v":{"$error":"#N/A"}},{"$error":"#N/A"},null,{"$error":"#N/A"},1,null,null,null,{"$f":"IFERROR(IF(AND(INDEX(Inventory!CB:CB,MATCH('Inspection Form'!B1297,Inventory!B:B,0))=\"Not Qualified\",INDEX(Inventory!L:L,MATCH('Inspection Form'!B1297,Inventory!B:B,0))<>\"\",$Q$5<>\"Pre\"),0,BY1297*BZ1297), 0)","v":0},null,{"$error":"#DIV/0!"},{"$error":"#DIV/0!"},1294]
[null,1295,null,null,null,null,null,null,null,null,null,null,null,null,null,null,null,null,null,null,null,null,null,null,null,null,null,null,null,null,null,null,null,null,null,null,null,null,null,null,null,null,null,null,null,null,null,null,null,null,null,null,null,null,null,null,null,null,null,null,null,null,null,null,null,null,null,null,null,null,null,null,null,{"$f":"INDEX('Fixture Descriptions'!A:K,MATCH('Inspection Form'!H1299,'Fixture Descriptions'!A:A,0),8)","v":{"$error":"#N/A"}},{"$error":"#N/A"},null,{"$error":"#N/A"},1,null,null,null,{"$f":"IFERROR(IF(AND(INDEX(Inventory!CB:CB,MATCH('Inspection Form'!B1299,Inventory!B:B,0))=\"Not Qualified\",INDEX(Inventory!L:L,MATCH('Inspection Form'!B1299,Inventory!B:B,0))<>\"\",$Q$5<>\"Pre\"),0,BY1299*BZ1299), 0)","v":0},null,{"$error":"#DIV/0!"},{"$error":"#DIV/0!"},1296]
[null,1296,null,null,null,null,null,null,null,null,null,null,null,null,null,null,null,null,null,null,null,null,null,null,null,null,null,null,null,null,null,null,null,null,null,null,null,null,null,null,null,null,null,null,null,null,null,null,null,null,null,null,null,null,null,null,null,null,null,null,null,null,null,null,null,null,null,null,null,null,null,null,null,{"$f":"INDEX('Fixture Descriptions'!A:K,MATCH('Inspection Form'!H1300,'Fixture Descriptions'!A:A,0),8)","v":{"$error":"#N/A"}},{"$error":"#N/A"},null,{"$error":"#N/A"},1,null,null,null,{"$f":"IFERROR(IF(AND(INDEX(Inventory!CB:CB,MATCH('Inspection Form'!B1300,Inventory!B:B,0))=\"Not Qualified\",INDEX(Inventory!L:L,MATCH('Inspection Form'!B1300,Inventory!B:B,0))<>\"\",$Q$5<>\"Pre\"),0,BY1300*BZ1300), 0)","v":0},null,{"$error":"#DIV/0!"},{"$error":"#DIV/0!"},1297]
[null,1299,null,null,null,null,null,null,null,null,null,null,null,null,null,null,null,null,null,null,null,null,null,null,null,null,null,null,null,null,null,null,null,null,null,null,null,null,null,null,null,null,null,null,null,null,null,null,null,null,null,null,null,null,null,null,null,null,null,null,null,null,null,null,null,null,null,null,null,null,null,null,null,{"$f":"INDEX('Fixture Descriptions'!A:K,MATCH('Inspection Form'!H1303,'Fixture Descriptions'!A:A,0),8)","v":{"$error":"#N/A"}},{"$error":"#N/A"},null,{"$error":"#N/A"},1,null,null,null,{"$f":"IFERROR(IF(AND(INDEX(Inventory!CB:CB,MATCH('Inspection Form'!B1303,Inventory!B:B,0))=\"Not Qualified\",INDEX(Inventory!L:L,MATCH('Inspection Form'!B1303,Inventory!B:B,0))<>\"\",$Q$5<>\"Pre\"),0,BY1303*BZ1303), 0)","v":0},null,{"$error":"#DIV/0!"},{"$error":"#DIV/0!"},1300]
[null,1300,null,null,null,null,null,null,null,null,null,null,null,null,null,null,null,null,null,null,null,null,null,null,null,null,null,null,null,null,null,null,null,null,null,null,null,null,null,null,null,null,null,null,null,null,null,null,null,null,null,null,null,null,null,null,null,null,null,null,null,null,null,null,null,null,null,null,null,null,null,null,null,{"$f":"INDEX('Fixture Descriptions'!A:K,MATCH('Inspection Form'!H1304,'Fixture Descriptions'!A:A,0),8)","v":{"$error":"#N/A"}},{"$error":"#N/A"},null,{"$error":"#N/A"},1,null,null,null,{"$f":"IFERROR(IF(AND(INDEX(Inventory!CB:CB,MATCH('Inspection Form'!B1304,Inventory!B:B,0))=\"Not Qualified\",INDEX(Inventory!L:L,MATCH('Inspection Form'!B1304,Inventory!B:B,0))<>\"\",$Q$5<>\"Pre\"),0,BY1304*BZ1304), 0)","v":0},null,{"$error":"#DIV/0!"},{"$error":"#DIV/0!"},1301]
[null,1302,null,null,null,null,null,null,null,null,null,null,null,null,null,null,null,null,null,null,null,null,null,null,null,null,null,null,null,null,null,null,null,null,null,null,null,null,null,null,null,null,null,null,null,null,null,null,null,null,null,null,null,null,null,null,null,null,null,null,null,null,null,null,null,null,null,null,null,null,null,null,null,{"$f":"INDEX('Fixture Descriptions'!A:K,MATCH('Inspection Form'!H1306,'Fixture Descriptions'!A:A,0),8)","v":{"$error":"#N/A"}},{"$error":"#N/A"},null,{"$error":"#N/A"},1,null,null,null,{"$f":"IFERROR(IF(AND(INDEX(Inventory!CB:CB,MATCH('Inspection Form'!B1306,Inventory!B:B,0))=\"Not Qualified\",INDEX(Inventory!L:L,MATCH('Inspection Form'!B1306,Inventory!B:B,0))<>\"\",$Q$5<>\"Pre\"),0,BY1306*BZ1306), 0)","v":0},null,{"$error":"#DIV/0!"},{"$error":"#DIV/0!"},1303]
[null,1303,null,null,null,null,null,null,null,null,null,null,null,null,null,null,null,null,null,null,null,null,null,null,null,null,null,null,null,null,null,null,null,null,null,null,null,null,null,null,null,null,null,null,null,null,null,null,null,null,null,null,null,null,null,null,null,null,null,null,null,null,null,null,null,null,null,null,null,null,null,null,null,{"$f":"INDEX('Fixture Descriptions'!A:K,MATCH('Inspection Form'!H1307,'Fixture Descriptions'!A:A,0),8)","v":{"$error":"#N/A"}},{"$error":"#N/A"},null,{"$error":"#N/A"},1,null,null,null,{"$f":"IFERROR(IF(AND(INDEX(Inventory!CB:CB,MATCH('Inspection Form'!B1307,Inventory!B:B,0))=\"Not Qualified\",INDEX(Inventory!L:L,MATCH('Inspection Form'!B1307,Inventory!B:B,0))<>\"\",$Q$5<>\"Pre\"),0,BY1307*BZ1307), 0)","v":0},null,{"$error":"#DIV/0!"},{"$error":"#DIV/0!"},1304]
[null,1306,null,null,null,null,null,null,null,null,null,null,null,null,null,null,null,null,null,null,null,null,null,null,null,null,null,null,null,null,null,null,null,null,null,null,null,null,null,null,null,null,null,null,null,null,null,null,null,null,null,null,null,null,null,null,null,null,null,null,null,null,null,null,null,null,null,null,null,null,null,null,null,{"$f":"INDEX('Fixture Descriptions'!A:K,MATCH('Inspection Form'!H1310,'Fixture Descriptions'!A:A,0),8)","v":{"$error":"#N/A"}},{"$error":"#N/A"},null,{"$error":"#N/A"},1,null,null,null,{"$f":"IFERROR(IF(AND(INDEX(Inventory!CB:CB,MATCH('Inspection Form'!B1310,Inventory!B:B,0))=\"Not Qualified\",INDEX(Inventory!L:L,MATCH('Inspection Form'!B1310,Inventory!B:B,0))<>\"\",$Q$5<>\"Pre\"),0,BY1310*BZ1310), 0)","v":0},null,{"$error":"#DIV/0!"},{"$error":"#DIV/0!"},1307]
[null,1307,null,null,null,null,null,null,null,null,null,null,null,null,null,null,null,null,null,null,null,null,null,null,null,null,null,null,null,null,null,null,null,null,null,null,null,null,null,null,null,null,null,null,null,null,null,null,null,null,null,null,null,null,null,null,null,null,null,null,null,null,null,null,null,null,null,null,null,null,null,null,null,{"$f":"INDEX('Fixture Descriptions'!A:K,MATCH('Inspection Form'!H1311,'Fixture Descriptions'!A:A,0),8)","v":{"$error":"#N/A"}},{"$error":"#N/A"},null,{"$error":"#N/A"},1,null,null,null,{"$f":"IFERROR(IF(AND(INDEX(Inventory!CB:CB,MATCH('Inspection Form'!B1311,Inventory!B:B,0))=\"Not Qualified\",INDEX(Inventory!L:L,MATCH('Inspection Form'!B1311,Inventory!B:B,0))<>\"\",$Q$5<>\"Pre\"),0,BY1311*BZ1311), 0)","v":0},null,{"$error":"#DIV/0!"},{"$error":"#DIV/0!"},1308]
[null,1309,null,null,null,null,null,null,null,null,null,null,null,null,null,null,null,null,null,null,null,null,null,null,null,null,null,null,null,null,null,null,null,null,null,null,null,null,null,null,null,null,null,null,null,null,null,null,null,null,null,null,null,null,null,null,null,null,null,null,null,null,null,null,null,null,null,null,null,null,null,null,null,{"$f":"INDEX('Fixture Descriptions'!A:K,MATCH('Inspection Form'!H1313,'Fixture Descriptions'!A:A,0),8)","v":{"$error":"#N/A"}},{"$error":"#N/A"},null,{"$error":"#N/A"},1,null,null,null,{"$f":"IFERROR(IF(AND(INDEX(Inventory!CB:CB,MATCH('Inspection Form'!B1313,Inventory!B:B,0))=\"Not Qualified\",INDEX(Inventory!L:L,MATCH('Inspection Form'!B1313,Inventory!B:B,0))<>\"\",$Q$5<>\"Pre\"),0,BY1313*BZ1313), 0)","v":0},null,{"$error":"#DIV/0!"},{"$error":"#DIV/0!"},1310]
[null,1310,null,null,null,null,null,null,null,null,null,null,null,null,null,null,null,null,null,null,null,null,null,null,null,null,null,null,null,null,null,null,null,null,null,null,null,null,null,null,null,null,null,null,null,null,null,null,null,null,null,null,null,null,null,null,null,null,null,null,null,null,null,null,null,null,null,null,null,null,null,null,null,{"$f":"INDEX('Fixture Descriptions'!A:K,MATCH('Inspection Form'!H1314,'Fixture Descriptions'!A:A,0),8)","v":{"$error":"#N/A"}},{"$error":"#N/A"},null,{"$error":"#N/A"},1,null,null,null,{"$f":"IFERROR(IF(AND(INDEX(Inventory!CB:CB,MATCH('Inspection Form'!B1314,Inventory!B:B,0))=\"Not Qualified\",INDEX(Inventory!L:L,MATCH('Inspection Form'!B1314,Inventory!B:B,0))<>\"\",$Q$5<>\"Pre\"),0,BY1314*BZ1314), 0)","v":0},null,{"$error":"#DIV/0!"},{"$error":"#DIV/0!"},1311]
[null,1313,null,null,null,null,null,null,null,null,null,null,null,null,null,null,null,null,null,null,null,null,null,null,null,null,null,null,null,null,null,null,null,null,null,null,null,null,null,null,null,null,null,null,null,null,null,null,null,null,null,null,null,null,null,null,null,null,null,null,null,null,null,null,null,null,null,null,null,null,null,null,null,{"$f":"INDEX('Fixture Descriptions'!A:K,MATCH('Inspection Form'!H1317,'Fixture Descriptions'!A:A,0),8)","v":{"$error":"#N/A"}},{"$error":"#N/A"},null,{"$error":"#N/A"},1,null,null,null,{"$f":"IFERROR(IF(AND(INDEX(Inventory!CB:CB,MATCH('Inspection Form'!B1317,Inventory!B:B,0))=\"Not Qualified\",INDEX(Inventory!L:L,MATCH('Inspection Form'!B1317,Inventory!B:B,0))<>\"\",$Q$5<>\"Pre\"),0,BY1317*BZ1317), 0)","v":0},null,{"$error":"#DIV/0!"},{"$error":"#DIV/0!"},1314]
[null,1314,null,null,null,null,null,null,null,null,null,null,null,null,null,null,null,null,null,null,null,null,null,null,null,null,null,null,null,null,null,null,null,null,null,null,null,null,null,null,null,null,null,null,null,null,null,null,null,null,null,null,null,null,null,null,null,null,null,null,null,null,null,null,null,null,null,null,null,null,null,null,null,{"$f":"INDEX('Fixture Descriptions'!A:K,MATCH('Inspection Form'!H1318,'Fixture Descriptions'!A:A,0),8)","v":{"$error":"#N/A"}},{"$error":"#N/A"},null,{"$error":"#N/A"},1,null,null,null,{"$f":"IFERROR(IF(AND(INDEX(Inventory!CB:CB,MATCH('Inspection Form'!B1318,Inventory!B:B,0))=\"Not Qualified\",INDEX(Inventory!L:L,MATCH('Inspection Form'!B1318,Inventory!B:B,0))<>\"\",$Q$5<>\"Pre\"),0,BY1318*BZ1318), 0)","v":0},null,{"$error":"#DIV/0!"},{"$error":"#DIV/0!"},1315]
[null,1316,null,null,null,null,null,null,null,null,null,null,null,null,null,null,null,null,null,null,null,null,null,null,null,null,null,null,null,null,null,null,null,null,null,null,null,null,null,null,null,null,null,null,null,null,null,null,null,null,null,null,null,null,null,null,null,null,null,null,null,null,null,null,null,null,null,null,null,null,null,null,null,{"$f":"INDEX('Fixture Descriptions'!A:K,MATCH('Inspection Form'!H1320,'Fixture Descriptions'!A:A,0),8)","v":{"$error":"#N/A"}},{"$error":"#N/A"},null,{"$error":"#N/A"},1,null,null,null,{"$f":"IFERROR(IF(AND(INDEX(Inventory!CB:CB,MATCH('Inspection Form'!B1320,Inventory!B:B,0))=\"Not Qualified\",INDEX(Inventory!L:L,MATCH('Inspection Form'!B1320,Inventory!B:B,0))<>\"\",$Q$5<>\"Pre\"),0,BY1320*BZ1320), 0)","v":0},null,{"$error":"#DIV/0!"},{"$error":"#DIV/0!"},1317]
[null,1317,null,null,null,null,null,null,null,null,null,null,null,null,null,null,null,null,null,null,null,null,null,null,null,null,null,null,null,null,null,null,null,null,null,null,null,null,null,null,null,null,null,null,null,null,null,null,null,null,null,null,null,null,null,null,null,null,null,null,null,null,null,null,null,null,null,null,null,null,null,null,null,{"$f":"INDEX('Fixture Descriptions'!A:K,MATCH('Inspection Form'!H1321,'Fixture Descriptions'!A:A,0),8)","v":{"$error":"#N/A"}},{"$error":"#N/A"},null,{"$error":"#N/A"},1,null,null,null,{"$f":"IFERROR(IF(AND(INDEX(Inventory!CB:CB,MATCH('Inspection Form'!B1321,Inventory!B:B,0))=\"Not Qualified\",INDEX(Inventory!L:L,MATCH('Inspection Form'!B1321,Inventory!B:B,0))<>\"\",$Q$5<>\"Pre\"),0,BY1321*BZ1321), 0)","v":0},null,{"$error":"#DIV/0!"},{"$error":"#DIV/0!"},1318]
[null,1320,null,null,null,null,null,null,null,null,null,null,null,null,null,null,null,null,null,null,null,null,null,null,null,null,null,null,null,null,null,null,null,null,null,null,null,null,null,null,null,null,null,null,null,null,null,null,null,null,null,null,null,null,null,null,null,null,null,null,null,null,null,null,null,null,null,null,null,null,null,null,null,{"$f":"INDEX('Fixture Descriptions'!A:K,MATCH('Inspection Form'!H1324,'Fixture Descriptions'!A:A,0),8)","v":{"$error":"#N/A"}},{"$error":"#N/A"},null,{"$error":"#N/A"},1,null,null,null,{"$f":"IFERROR(IF(AND(INDEX(Inventory!CB:CB,MATCH('Inspection Form'!B1324,Inventory!B:B,0))=\"Not Qualified\",INDEX(Inventory!L:L,MATCH('Inspection Form'!B1324,Inventory!B:B,0))<>\"\",$Q$5<>\"Pre\"),0,BY1324*BZ1324), 0)","v":0},null,{"$error":"#DIV/0!"},{"$error":"#DIV/0!"},1321]
[null,1321,null,null,null,null,null,null,null,null,null,null,null,null,null,null,null,null,null,null,null,null,null,null,null,null,null,null,null,null,null,null,null,null,null,null,null,null,null,null,null,null,null,null,null,null,null,null,null,null,null,null,null,null,null,null,null,null,null,null,null,null,null,null,null,null,null,null,null,null,null,null,null,{"$f":"INDEX('Fixture Descriptions'!A:K,MATCH('Inspection Form'!H1325,'Fixture Descriptions'!A:A,0),8)","v":{"$error":"#N/A"}},{"$error":"#N/A"},null,{"$error":"#N/A"},1,null,null,null,{"$f":"IFERROR(IF(AND(INDEX(Inventory!CB:CB,MATCH('Inspection Form'!B1325,Inventory!B:B,0))=\"Not Qualified\",INDEX(Inventory!L:L,MATCH('Inspection Form'!B1325,Inventory!B:B,0))<>\"\",$Q$5<>\"Pre\"),0,BY1325*BZ1325), 0)","v":0},null,{"$error":"#DIV/0!"},{"$error":"#DIV/0!"},1322]
[null,1324,null,null,null,null,null,null,null,null,null,null,null,null,null,null,null,null,null,null,null,null,null,null,null,null,null,null,null,null,null,null,null,null,null,null,null,null,null,null,null,null,null,null,null,null,null,null,null,null,null,null,null,null,null,null,null,null,null,null,null,null,null,null,null,null,null,null,null,null,null,null,null,{"$f":"INDEX('Fixture Descriptions'!A:K,MATCH('Inspection Form'!H1328,'Fixture Descriptions'!A:A,0),8)","v":{"$error":"#N/A"}},{"$error":"#N/A"},null,{"$error":"#N/A"},1,null,null,null,{"$f":"IFERROR(IF(AND(INDEX(Inventory!CB:CB,MATCH('Inspection Form'!B1328,Inventory!B:B,0))=\"Not Qualified\",INDEX(Inventory!L:L,MATCH('Inspection Form'!B1328,Inventory!B:B,0))<>\"\",$Q$5<>\"Pre\"),0,BY1328*BZ1328), 0)","v":0},null,{"$error":"#DIV/0!"},{"$error":"#DIV/0!"},1325]
[null,1325,null,null,null,null,null,null,null,null,null,null,null,null,null,null,null,null,null,null,null,null,null,null,null,null,null,null,null,null,null,null,null,null,null,null,null,null,null,null,null,null,null,null,null,null,null,null,null,null,null,null,null,null,null,null,null,null,null,null,null,null,null,null,null,null,null,null,null,null,null,null,null,{"$f":"INDEX('Fixture Descriptions'!A:K,MATCH('Inspection Form'!H1329,'Fixture Descriptions'!A:A,0),8)","v":{"$error":"#N/A"}},{"$error":"#N/A"},null,{"$error":"#N/A"},1,null,null,null,{"$f":"IFERROR(IF(AND(INDEX(Inventory!CB:CB,MATCH('Inspection Form'!B1329,Inventory!B:B,0))=\"Not Qualified\",INDEX(Inventory!L:L,MATCH('Inspection Form'!B1329,Inventory!B:B,0))<>\"\",$Q$5<>\"Pre\"),0,BY1329*BZ1329), 0)","v":0},null,{"$error":"#DIV/0!"},{"$error":"#DIV/0!"},1326]
[null,1327,null,null,null,null,null,null,null,null,null,null,null,null,null,null,null,null,null,null,null,null,null,null,null,null,null,null,null,null,null,null,null,null,null,null,null,null,null,null,null,null,null,null,null,null,null,null,null,null,null,null,null,null,null,null,null,null,null,null,null,null,null,null,null,null,null,null,null,null,null,null,null,{"$f":"INDEX('Fixture Descriptions'!A:K,MATCH('Inspection Form'!H1331,'Fixture Descriptions'!A:A,0),8)","v":{"$error":"#N/A"}},{"$f":"BV1331*I1331","v":{"$error":"#N/A"}},null,{"$f":"BW1331","v":{"$error":"#N/A"}},{"$f":"IF($U$3=\"All\", 1, IF(AND(C1331=$U$3, H1331=$U$4), 1, 0))","v":1},null,null,null,{"$f":"IFERROR(IF(AND(INDEX(Inventory!CB:CB,MATCH('Inspection Form'!B1331,Inventory!B:B,0))=\"Not Qualified\",INDEX(Inventory!L:L,MATCH('Inspection Form'!B1331,Inventory!B:B,0))<>\"\",$Q$5<>\"Pre\"),0,BY1331*BZ1331), 0)","v":0},null,{"$f":"CD1331/$CE$5","v":{"$error":"#DIV/0!"}},{"$f":"CF1331+CG1330","v":{"$error":"#DIV/0!"}},1328]
[null,1328,null,null,null,null,null,null,null,null,null,null,null,null,null,null,null,null,null,null,null,null,null,null,null,null,null,null,null,null,null,null,null,null,null,null,null,null,null,null,null,null,null,null,null,null,null,null,null,null,null,null,null,null,null,null,null,null,null,null,null,null,null,null,null,null,null,null,null,null,null,null,null,{"$f":"INDEX('Fixture Descriptions'!A:K,MATCH('Inspection Form'!H1332,'Fixture Descriptions'!A:A,0),8)","v":{"$error":"#N/A"}},{"$error":"#N/A"},null,{"$error":"#N/A"},1,null,null,null,{"$f":"IFERROR(IF(AND(INDEX(Inventory!CB:CB,MATCH('Inspection Form'!B1332,Inventory!B:B,0))=\"Not Qualified\",INDEX(Inventory!L:L,MATCH('Inspection Form'!B1332,Inventory!B:B,0))<>\"\",$Q$5<>\"Pre\"),0,BY1332*BZ1332), 0)","v":0},null,{"$error":"#DIV/0!"},{"$error":"#DIV/0!"},1329]
[null,1331,null,null,null,null,null,null,null,null,null,null,null,null,null,null,null,null,null,null,null,null,null,null,null,null,null,null,null,null,null,null,null,null,null,null,null,null,null,null,null,null,null,null,null,null,null,null,null,null,null,null,null,null,null,null,null,null,null,null,null,null,null,null,null,null,null,null,null,null,null,null,null,{"$f":"INDEX('Fixture Descriptions'!A:K,MATCH('Inspection Form'!H1335,'Fixture Descriptions'!A:A,0),8)","v":{"$error":"#N/A"}},{"$error":"#N/A"},null,{"$error":"#N/A"},1,null,null,null,{"$f":"IFERROR(IF(AND(INDEX(Inventory!CB:CB,MATCH('Inspection Form'!B1335,Inventory!B:B,0))=\"Not Qualified\",INDEX(Inventory!L:L,MATCH('Inspection Form'!B1335,Inventory!B:B,0))<>\"\",$Q$5<>\"Pre\"),0,BY1335*BZ1335), 0)","v":0},null,{"$error":"#DIV/0!"},{"$error":"#DIV/0!"},1332]
[null,1332,null,null,null,null,null,null,null,null,null,null,null,null,null,null,null,null,null,null,null,null,null,null,null,null,null,null,null,null,null,null,null,null,null,null,null,null,null,null,null,null,null,null,null,null,null,null,null,null,null,null,null,null,null,null,null,null,null,null,null,null,null,null,null,null,null,null,null,null,null,null,null,{"$f":"INDEX('Fixture Descriptions'!A:K,MATCH('Inspection Form'!H1336,'Fixture Descriptions'!A:A,0),8)","v":{"$error":"#N/A"}},{"$error":"#N/A"},null,{"$error":"#N/A"},1,null,null,null,{"$f":"IFERROR(IF(AND(INDEX(Inventory!CB:CB,MATCH('Inspection Form'!B1336,Inventory!B:B,0))=\"Not Qualified\",INDEX(Inventory!L:L,MATCH('Inspection Form'!B1336,Inventory!B:B,0))<>\"\",$Q$5<>\"Pre\"),0,BY1336*BZ1336), 0)","v":0},null,{"$error":"#DIV/0!"},{"$error":"#DIV/0!"},1333]
[null,1334,null,null,null,null,null,null,null,null,null,null,null,null,null,null,null,null,null,null,null,null,null,null,null,null,null,null,null,null,null,null,null,null,null,null,null,null,null,null,null,null,null,null,null,null,null,null,null,null,null,null,null,null,null,null,null,null,null,null,null,null,null,null,null,null,null,null,null,null,null,null,null,{"$f":"INDEX('Fixture Descriptions'!A:K,MATCH('Inspection Form'!H1338,'Fixture Descriptions'!A:A,0),8)","v":{"$error":"#N/A"}},{"$error":"#N/A"},null,{"$error":"#N/A"},1,null,null,null,{"$f":"IFERROR(IF(AND(INDEX(Inventory!CB:CB,MATCH('Inspection Form'!B1338,Inventory!B:B,0))=\"Not Qualified\",INDEX(Inventory!L:L,MATCH('Inspection Form'!B1338,Inventory!B:B,0))<>\"\",$Q$5<>\"Pre\"),0,BY1338*BZ1338), 0)","v":0},null,{"$error":"#DIV/0!"},{"$error":"#DIV/0!"},1335]
[null,1335,null,null,null,null,null,null,null,null,null,null,null,null,null,null,null,null,null,null,null,null,null,null,null,null,null,null,null,null,null,null,null,null,null,null,null,null,null,null,null,null,null,null,null,null,null,null,null,null,null,null,null,null,null,null,null,null,null,null,null,null,null,null,null,null,null,null,null,null,null,null,null,{"$f":"INDEX('Fixture Descriptions'!A:K,MATCH('Inspection Form'!H1339,'Fixture Descriptions'!A:A,0),8)","v":{"$error":"#N/A"}},{"$error":"#N/A"},null,{"$error":"#N/A"},1,null,null,null,{"$f":"IFERROR(IF(AND(INDEX(Inventory!CB:CB,MATCH('Inspection Form'!B1339,Inventory!B:B,0))=\"Not Qualified\",INDEX(Inventory!L:L,MATCH('Inspection Form'!B1339,Inventory!B:B,0))<>\"\",$Q$5<>\"Pre\"),0,BY1339*BZ1339), 0)","v":0},null,{"$error":"#DIV/0!"},{"$error":"#DIV/0!"},1336]
[null,1338,null,null,null,null,null,null,null,null,null,null,null,null,null,null,null,null,null,null,null,null,null,null,null,null,null,null,null,null,null,null,null,null,null,null,null,null,null,null,null,null,null,null,null,null,null,null,null,null,null,null,null,null,null,null,null,null,null,null,null,null,null,null,null,null,null,null,null,null,null,null,null,{"$f":"INDEX('Fixture Descriptions'!A:K,MATCH('Inspection Form'!H1342,'Fixture Descriptions'!A:A,0),8)","v":{"$error":"#N/A"}},{"$error":"#N/A"},null,{"$error":"#N/A"},1,null,null,null,{"$f":"IFERROR(IF(AND(INDEX(Inventory!CB:CB,MATCH('Inspection Form'!B1342,Inventory!B:B,0))=\"Not Qualified\",INDEX(Inventory!L:L,MATCH('Inspection Form'!B1342,Inventory!B:B,0))<>\"\",$Q$5<>\"Pre\"),0,BY1342*BZ1342), 0)","v":0},null,{"$error":"#DIV/0!"},{"$error":"#DIV/0!"},1339]
[null,1339,null,null,null,null,null,null,null,null,null,null,null,null,null,null,null,null,null,null,null,null,null,null,null,null,null,null,null,null,null,null,null,null,null,null,null,null,null,null,null,null,null,null,null,null,null,null,null,null,null,null,null,null,null,null,null,null,null,null,null,null,null,null,null,null,null,null,null,null,null,null,null,{"$f":"INDEX('Fixture Descriptions'!A:K,MATCH('Inspection Form'!H1343,'Fixture Descriptions'!A:A,0),8)","v":{"$error":"#N/A"}},{"$error":"#N/A"},null,{"$error":"#N/A"},1,null,null,null,{"$f":"IFERROR(IF(AND(INDEX(Inventory!CB:CB,MATCH('Inspection Form'!B1343,Inventory!B:B,0))=\"Not Qualified\",INDEX(Inventory!L:L,MATCH('Inspection Form'!B1343,Inventory!B:B,0))<>\"\",$Q$5<>\"Pre\"),0,BY1343*BZ1343), 0)","v":0},null,{"$error":"#DIV/0!"},{"$error":"#DIV/0!"},1340]
[null,1341,null,null,null,null,null,null,null,null,null,null,null,null,null,null,null,null,null,null,null,null,null,null,null,null,null,null,null,null,null,null,null,null,null,null,null,null,null,null,null,null,null,null,null,null,null,null,null,null,null,null,null,null,null,null,null,null,null,null,null,null,null,null,null,null,null,null,null,null,null,null,null,{"$f":"INDEX('Fixture Descriptions'!A:K,MATCH('Inspection Form'!H1345,'Fixture Descriptions'!A:A,0),8)","v":{"$error":"#N/A"}},{"$error":"#N/A"},null,{"$error":"#N/A"},1,null,null,null,{"$f":"IFERROR(IF(AND(INDEX(Inventory!CB:CB,MATCH('Inspection Form'!B1345,Inventory!B:B,0))=\"Not Qualified\",INDEX(Inventory!L:L,MATCH('Inspection Form'!B1345,Inventory!B:B,0))<>\"\",$Q$5<>\"Pre\"),0,BY1345*BZ1345), 0)","v":0},null,{"$error":"#DIV/0!"},{"$error":"#DIV/0!"},1342]
[null,1342,null,null,null,null,null,null,null,null,null,null,null,null,null,null,null,null,null,null,null,null,null,null,null,null,null,null,null,null,null,null,null,null,null,null,null,null,null,null,null,null,null,null,null,null,null,null,null,null,null,null,null,null,null,null,null,null,null,null,null,null,null,null,null,null,null,null,null,null,null,null,null,{"$f":"INDEX('Fixture Descriptions'!A:K,MATCH('Inspection Form'!H1346,'Fixture Descriptions'!A:A,0),8)","v":{"$error":"#N/A"}},{"$error":"#N/A"},null,{"$error":"#N/A"},1,null,null,null,{"$f":"IFERROR(IF(AND(INDEX(Inventory!CB:CB,MATCH('Inspection Form'!B1346,Inventory!B:B,0))=\"Not Qualified\",INDEX(Inventory!L:L,MATCH('Inspection Form'!B1346,Inventory!B:B,0))<>\"\",$Q$5<>\"Pre\"),0,BY1346*BZ1346), 0)","v":0},null,{"$error":"#DIV/0!"},{"$error":"#DIV/0!"},1343]
[null,1345,null,null,null,null,null,null,null,null,null,null,null,null,null,null,null,null,null,null,null,null,null,null,null,null,null,null,null,null,null,null,null,null,null,null,null,null,null,null,null,null,null,null,null,null,null,null,null,null,null,null,null,null,null,null,null,null,null,null,null,null,null,null,null,null,null,null,null,null,null,null,null,{"$f":"INDEX('Fixture Descriptions'!A:K,MATCH('Inspection Form'!H1349,'Fixture Descriptions'!A:A,0),8)","v":{"$error":"#N/A"}},{"$error":"#N/A"},null,{"$error":"#N/A"},1,null,null,null,{"$f":"IFERROR(IF(AND(INDEX(Inventory!CB:CB,MATCH('Inspection Form'!B1349,Inventory!B:B,0))=\"Not Qualified\",INDEX(Inventory!L:L,MATCH('Inspection Form'!B1349,Inventory!B:B,0))<>\"\",$Q$5<>\"Pre\"),0,BY1349*BZ1349), 0)","v":0},null,{"$error":"#DIV/0!"},{"$error":"#DIV/0!"},1346]
[null,1346,null,null,null,null,null,null,null,null,null,null,null,null,null,null,null,null,null,null,null,null,null,null,null,null,null,null,null,null,null,null,null,null,null,null,null,null,null,null,null,null,null,null,null,null,null,null,null,null,null,null,null,null,null,null,null,null,null,null,null,null,null,null,null,null,null,null,null,null,null,null,null,{"$f":"INDEX('Fixture Descriptions'!A:K,MATCH('Inspection Form'!H1350,'Fixture Descriptions'!A:A,0),8)","v":{"$error":"#N/A"}},{"$error":"#N/A"},null,{"$error":"#N/A"},1,null,null,null,{"$f":"IFERROR(IF(AND(INDEX(Inventory!CB:CB,MATCH('Inspection Form'!B1350,Inventory!B:B,0))=\"Not Qualified\",INDEX(Inventory!L:L,MATCH('Inspection Form'!B1350,Inventory!B:B,0))<>\"\",$Q$5<>\"Pre\"),0,BY1350*BZ1350), 0)","v":0},null,{"$error":"#DIV/0!"},{"$error":"#DIV/0!"},1347]
[null,1348,null,null,null,null,null,null,null,null,null,null,null,null,null,null,null,null,null,null,null,null,null,null,null,null,null,null,null,null,null,null,null,null,null,null,null,null,null,null,null,null,null,null,null,null,null,null,null,null,null,null,null,null,null,null,null,null,null,null,null,null,null,null,null,null,null,null,null,null,null,null,null,{"$f":"INDEX('Fixture Descriptions'!A:K,MATCH('Inspection Form'!H1352,'Fixture Descriptions'!A:A,0),8)","v":{"$error":"#N/A"}},{"$error":"#N/A"},null,{"$error":"#N/A"},1,null,null,null,{"$f":"IFERROR(IF(AND(INDEX(Inventory!CB:CB,MATCH('Inspection Form'!B1352,Inventory!B:B,0))=\"Not Qualified\",INDEX(Inventory!L:L,MATCH('Inspection Form'!B1352,Inventory!B:B,0))<>\"\",$Q$5<>\"Pre\"),0,BY1352*BZ1352), 0)","v":0},null,{"$error":"#DIV/0!"},{"$error":"#DIV/0!"},1349]
[null,1349,null,null,null,null,null,null,null,null,null,null,null,null,null,null,null,null,null,null,null,null,null,null,null,null,null,null,null,null,null,null,null,null,null,null,null,null,null,null,null,null,null,null,null,null,null,null,null,null,null,null,null,null,null,null,null,null,null,null,null,null,null,null,null,null,null,null,null,null,null,null,null,{"$f":"INDEX('Fixture Descriptions'!A:K,MATCH('Inspection Form'!H1353,'Fixture Descriptions'!A:A,0),8)","v":{"$error":"#N/A"}},{"$error":"#N/A"},null,{"$error":"#N/A"},1,null,null,null,{"$f":"IFERROR(IF(AND(INDEX(Inventory!CB:CB,MATCH('Inspection Form'!B1353,Inventory!B:B,0))=\"Not Qualified\",INDEX(Inventory!L:L,MATCH('Inspection Form'!B1353,Inventory!B:B,0))<>\"\",$Q$5<>\"Pre\"),0,BY1353*BZ1353), 0)","v":0},null,{"$error":"#DIV/0!"},{"$error":"#DIV/0!"},1350]
[null,1352,null,null,null,null,null,null,null,null,null,null,null,null,null,null,null,null,null,null,null,null,null,null,null,null,null,null,null,null,null,null,null,null,null,null,null,null,null,null,null,null,null,null,null,null,null,null,null,null,null,null,null,null,null,null,null,null,null,null,null,null,null,null,null,null,null,null,null,null,null,null,null,{"$f":"INDEX('Fixture Descriptions'!A:K,MATCH('Inspection Form'!H1356,'Fixture Descriptions'!A:A,0),8)","v":{"$error":"#N/A"}},{"$error":"#N/A"},null,{"$error":"#N/A"},1,null,null,null,{"$f":"IFERROR(IF(AND(INDEX(Inventory!CB:CB,MATCH('Inspection Form'!B1356,Inventory!B:B,0))=\"Not Qualified\",INDEX(Inventory!L:L,MATCH('Inspection Form'!B1356,Inventory!B:B,0))<>\"\",$Q$5<>\"Pre\"),0,BY1356*BZ1356), 0)","v":0},null,{"$error":"#DIV/0!"},{"$error":"#DIV/0!"},1353]
[null,1353,null,null,null,null,null,null,null,null,null,null,null,null,null,null,null,null,null,null,null,null,null,null,null,null,null,null,null,null,null,null,null,null,null,null,null,null,null,null,null,null,null,null,null,null,null,null,null,null,null,null,null,null,null,null,null,null,null,null,null,null,null,null,null,null,null,null,null,null,null,null,null,{"$f":"INDEX('Fixture Descriptions'!A:K,MATCH('Inspection Form'!H1357,'Fixture Descriptions'!A:A,0),8)","v":{"$error":"#N/A"}},{"$error":"#N/A"},null,{"$error":"#N/A"},1,null,null,null,{"$f":"IFERROR(IF(AND(INDEX(Inventory!CB:CB,MATCH('Inspection Form'!B1357,Inventory!B:B,0))=\"Not Qualified\",INDEX(Inventory!L:L,MATCH('Inspection Form'!B1357,Inventory!B:B,0))<>\"\",$Q$5<>\"Pre\"),0,BY1357*BZ1357), 0)","v":0},null,{"$error":"#DIV/0!"},{"$error":"#DIV/0!"},1354]
[null,1355,null,null,null,null,null,null,null,null,null,null,null,null,null,null,null,null,null,null,null,null,null,null,null,null,null,null,null,null,null,null,null,null,null,null,null,null,null,null,null,null,null,null,null,null,null,null,null,null,null,null,null,null,null,null,null,null,null,null,null,null,null,null,null,null,null,null,null,null,null,null,null,{"$f":"INDEX('Fixture Descriptions'!A:K,MATCH('Inspection Form'!H1359,'Fixture Descriptions'!A:A,0),8)","v":{"$error":"#N/A"}},{"$error":"#N/A"},null,{"$error":"#N/A"},1,null,null,null,{"$f":"IFERROR(IF(AND(INDEX(Inventory!CB:CB,MATCH('Inspection Form'!B1359,Inventory!B:B,0))=\"Not Qualified\",INDEX(Inventory!L:L,MATCH('Inspection Form'!B1359,Inventory!B:B,0))<>\"\",$Q$5<>\"Pre\"),0,BY1359*BZ1359), 0)","v":0},null,{"$error":"#DIV/0!"},{"$error":"#DIV/0!"},1356]
[null,1356,null,null,null,null,null,null,null,null,null,null,null,null,null,null,null,null,null,null,null,null,null,null,null,null,null,null,null,null,null,null,null,null,null,null,null,null,null,null,null,null,null,null,null,null,null,null,null,null,null,null,null,null,null,null,null,null,null,null,null,null,null,null,null,null,null,null,null,null,null,null,null,{"$f":"INDEX('Fixture Descriptions'!A:K,MATCH('Inspection Form'!H1360,'Fixture Descriptions'!A:A,0),8)","v":{"$error":"#N/A"}},{"$error":"#N/A"},null,{"$error":"#N/A"},1,null,null,null,{"$f":"IFERROR(IF(AND(INDEX(Inventory!CB:CB,MATCH('Inspection Form'!B1360,Inventory!B:B,0))=\"Not Qualified\",INDEX(Inventory!L:L,MATCH('Inspection Form'!B1360,Inventory!B:B,0))<>\"\",$Q$5<>\"Pre\"),0,BY1360*BZ1360), 0)","v":0},null,{"$error":"#DIV/0!"},{"$error":"#DIV/0!"},1357]
[null,1359,null,null,null,null,null,null,null,null,null,null,null,null,null,null,null,null,null,null,null,null,null,null,null,null,null,null,null,null,null,null,null,null,null,null,null,null,null,null,null,null,null,null,null,null,null,null,null,null,null,null,null,null,null,null,null,null,null,null,null,null,null,null,null,null,null,null,null,null,null,null,null,{"$f":"INDEX('Fixture Descriptions'!A:K,MATCH('Inspection Form'!H1363,'Fixture Descriptions'!A:A,0),8)","v":{"$error":"#N/A"}},{"$error":"#N/A"},null,{"$error":"#N/A"},1,null,null,null,{"$f":"IFERROR(IF(AND(INDEX(Inventory!CB:CB,MATCH('Inspection Form'!B1363,Inventory!B:B,0))=\"Not Qualified\",INDEX(Inventory!L:L,MATCH('Inspection Form'!B1363,Inventory!B:B,0))<>\"\",$Q$5<>\"Pre\"),0,BY1363*BZ1363), 0)","v":0},null,{"$error":"#DIV/0!"},{"$error":"#DIV/0!"},1360]
[null,1360,null,null,null,null,null,null,null,null,null,null,null,null,null,null,null,null,null,null,null,null,null,null,null,null,null,null,null,null,null,null,null,null,null,null,null,null,null,null,null,null,null,null,null,null,null,null,null,null,null,null,null,null,null,null,null,null,null,null,null,null,null,null,null,null,null,null,null,null,null,null,null,{"$f":"INDEX('Fixture Descriptions'!A:K,MATCH('Inspection Form'!H1364,'Fixture Descriptions'!A:A,0),8)","v":{"$error":"#N/A"}},{"$error":"#N/A"},null,{"$error":"#N/A"},1,null,null,null,{"$f":"IFERROR(IF(AND(INDEX(Inventory!CB:CB,MATCH('Inspection Form'!B1364,Inventory!B:B,0))=\"Not Qualified\",INDEX(Inventory!L:L,MATCH('Inspection Form'!B1364,Inventory!B:B,0))<>\"\",$Q$5<>\"Pre\"),0,BY1364*BZ1364), 0)","v":0},null,{"$error":"#DIV/0!"},{"$error":"#DIV/0!"},1361]
[null,1362,null,null,null,null,null,null,null,null,null,null,null,null,null,null,null,null,null,null,null,null,null,null,null,null,null,null,null,null,null,null,null,null,null,null,null,null,null,null,null,null,null,null,null,null,null,null,null,null,null,null,null,null,null,null,null,null,null,null,null,null,null,null,null,null,null,null,null,null,null,null,null,{"$f":"INDEX('Fixture Descriptions'!A:K,MATCH('Inspection Form'!H1366,'Fixture Descriptions'!A:A,0),8)","v":{"$error":"#N/A"}},{"$error":"#N/A"},null,{"$error":"#N/A"},1,null,null,null,{"$f":"IFERROR(IF(AND(INDEX(Inventory!CB:CB,MATCH('Inspection Form'!B1366,Inventory!B:B,0))=\"Not Qualified\",INDEX(Inventory!L:L,MATCH('Inspection Form'!B1366,Inventory!B:B,0))<>\"\",$Q$5<>\"Pre\"),0,BY1366*BZ1366), 0)","v":0},null,{"$error":"#DIV/0!"},{"$error":"#DIV/0!"},1363]
[null,1363,null,null,null,null,null,null,null,null,null,null,null,null,null,null,null,null,null,null,null,null,null,null,null,null,null,null,null,null,null,null,null,null,null,null,null,null,null,null,null,null,null,null,null,null,null,null,null,null,null,null,null,null,null,null,null,null,null,null,null,null,null,null,null,null,null,null,null,null,null,null,null,{"$f":"INDEX('Fixture Descriptions'!A:K,MATCH('Inspection Form'!H1367,'Fixture Descriptions'!A:A,0),8)","v":{"$error":"#N/A"}},{"$error":"#N/A"},null,{"$error":"#N/A"},1,null,null,null,{"$f":"IFERROR(IF(AND(INDEX(Inventory!CB:CB,MATCH('Inspection Form'!B1367,Inventory!B:B,0))=\"Not Qualified\",INDEX(Inventory!L:L,MATCH('Inspection Form'!B1367,Inventory!B:B,0))<>\"\",$Q$5<>\"Pre\"),0,BY1367*BZ1367), 0)","v":0},null,{"$error":"#DIV/0!"},{"$error":"#DIV/0!"},1364]
[null,1366,null,null,null,null,null,null,null,null,null,null,null,null,null,null,null,null,null,null,null,null,null,null,null,null,null,null,null,null,null,null,null,null,null,null,null,null,null,null,null,null,null,null,null,null,null,null,null,null,null,null,null,null,null,null,null,null,null,null,null,null,null,null,null,null,null,null,null,null,null,null,null,{"$f":"INDEX('Fixture Descriptions'!A:K,MATCH('Inspection Form'!H1370,'Fixture Descriptions'!A:A,0),8)","v":{"$error":"#N/A"}},{"$error":"#N/A"},null,{"$error":"#N/A"},1,null,null,null,{"$f":"IFERROR(IF(AND(INDEX(Inventory!CB:CB,MATCH('Inspection Form'!B1370,Inventory!B:B,0))=\"Not Qualified\",INDEX(Inventory!L:L,MATCH('Inspection Form'!B1370,Inventory!B:B,0))<>\"\",$Q$5<>\"Pre\"),0,BY1370*BZ1370), 0)","v":0},null,{"$error":"#DIV/0!"},{"$error":"#DIV/0!"},1367]
[null,1367,null,null,null,null,null,null,null,null,null,null,null,null,null,null,null,null,null,null,null,null,null,null,null,null,null,null,null,null,null,null,null,null,null,null,null,null,null,null,null,null,null,null,null,null,null,null,null,null,null,null,null,null,null,null,null,null,null,null,null,null,null,null,null,null,null,null,null,null,null,null,null,{"$f":"INDEX('Fixture Descriptions'!A:K,MATCH('Inspection Form'!H1371,'Fixture Descriptions'!A:A,0),8)","v":{"$error":"#N/A"}},{"$error":"#N/A"},null,{"$error":"#N/A"},1,null,null,null,{"$f":"IFERROR(IF(AND(INDEX(Inventory!CB:CB,MATCH('Inspection Form'!B1371,Inventory!B:B,0))=\"Not Qualified\",INDEX(Inventory!L:L,MATCH('Inspection Form'!B1371,Inventory!B:B,0))<>\"\",$Q$5<>\"Pre\"),0,BY1371*BZ1371), 0)","v":0},null,{"$error":"#DIV/0!"},{"$error":"#DIV/0!"},1368]
[null,1369,null,null,null,null,null,null,null,null,null,null,null,null,null,null,null,null,null,null,null,null,null,null,null,null,null,null,null,null,null,null,null,null,null,null,null,null,null,null,null,null,null,null,null,null,null,null,null,null,null,null,null,null,null,null,null,null,null,null,null,null,null,null,null,null,null,null,null,null,null,null,null,{"$f":"INDEX('Fixture Descriptions'!A:K,MATCH('Inspection Form'!H1373,'Fixture Descriptions'!A:A,0),8)","v":{"$error":"#N/A"}},{"$error":"#N/A"},null,{"$error":"#N/A"},1,null,null,null,{"$f":"IFERROR(IF(AND(INDEX(Inventory!CB:CB,MATCH('Inspection Form'!B1373,Inventory!B:B,0))=\"Not Qualified\",INDEX(Inventory!L:L,MATCH('Inspection Form'!B1373,Inventory!B:B,0))<>\"\",$Q$5<>\"Pre\"),0,BY1373*BZ1373), 0)","v":0},null,{"$error":"#DIV/0!"},{"$error":"#DIV/0!"},1370]
[null,1370,null,null,null,null,null,null,null,null,null,null,null,null,null,null,null,null,null,null,null,null,null,null,null,null,null,null,null,null,null,null,null,null,null,null,null,null,null,null,null,null,null,null,null,null,null,null,null,null,null,null,null,null,null,null,null,null,null,null,null,null,null,null,null,null,null,null,null,null,null,null,null,{"$f":"INDEX('Fixture Descriptions'!A:K,MATCH('Inspection Form'!H1374,'Fixture Descriptions'!A:A,0),8)","v":{"$error":"#N/A"}},{"$error":"#N/A"},null,{"$error":"#N/A"},1,null,null,null,{"$f":"IFERROR(IF(AND(INDEX(Inventory!CB:CB,MATCH('Inspection Form'!B1374,Inventory!B:B,0))=\"Not Qualified\",INDEX(Inventory!L:L,MATCH('Inspection Form'!B1374,Inventory!B:B,0))<>\"\",$Q$5<>\"Pre\"),0,BY1374*BZ1374), 0)","v":0},null,{"$error":"#DIV/0!"},{"$error":"#DIV/0!"},1371]
[null,1373,null,null,null,null,null,null,null,null,null,null,null,null,null,null,null,null,null,null,null,null,null,null,null,null,null,null,null,null,null,null,null,null,null,null,null,null,null,null,null,null,null,null,null,null,null,null,null,null,null,null,null,null,null,null,null,null,null,null,null,null,null,null,null,null,null,null,null,null,null,null,null,{"$f":"INDEX('Fixture Descriptions'!A:K,MATCH('Inspection Form'!H1377,'Fixture Descriptions'!A:A,0),8)","v":{"$error":"#N/A"}},{"$error":"#N/A"},null,{"$error":"#N/A"},1,null,null,null,{"$f":"IFERROR(IF(AND(INDEX(Inventory!CB:CB,MATCH('Inspection Form'!B1377,Inventory!B:B,0))=\"Not Qualified\",INDEX(Inventory!L:L,MATCH('Inspection Form'!B1377,Inventory!B:B,0))<>\"\",$Q$5<>\"Pre\"),0,BY1377*BZ1377), 0)","v":0},null,{"$error":"#DIV/0!"},{"$error":"#DIV/0!"},1374]
[null,1374,null,null,null,null,null,null,null,null,null,null,null,null,null,null,null,null,null,null,null,null,null,null,null,null,null,null,null,null,null,null,null,null,null,null,null,null,null,null,null,null,null,null,null,null,null,null,null,null,null,null,null,null,null,null,null,null,null,null,null,null,null,null,null,null,null,null,null,null,null,null,null,{"$f":"INDEX('Fixture Descriptions'!A:K,MATCH('Inspection Form'!H1378,'Fixture Descriptions'!A:A,0),8)","v":{"$error":"#N/A"}},{"$error":"#N/A"},null,{"$error":"#N/A"},1,null,null,null,{"$f":"IFERROR(IF(AND(INDEX(Inventory!CB:CB,MATCH('Inspection Form'!B1378,Inventory!B:B,0))=\"Not Qualified\",INDEX(Inventory!L:L,MATCH('Inspection Form'!B1378,Inventory!B:B,0))<>\"\",$Q$5<>\"Pre\"),0,BY1378*BZ1378), 0)","v":0},null,{"$error":"#DIV/0!"},{"$error":"#DIV/0!"},1375]
[null,1376,null,null,null,null,null,null,null,null,null,null,null,null,null,null,null,null,null,null,null,null,null,null,null,null,null,null,null,null,null,null,null,null,null,null,null,null,null,null,null,null,null,null,null,null,null,null,null,null,null,null,null,null,null,null,null,null,null,null,null,null,null,null,null,null,null,null,null,null,null,null,null,{"$f":"INDEX('Fixture Descriptions'!A:K,MATCH('Inspection Form'!H1380,'Fixture Descriptions'!A:A,0),8)","v":{"$error":"#N/A"}},{"$error":"#N/A"},null,{"$error":"#N/A"},1,null,null,null,{"$f":"IFERROR(IF(AND(INDEX(Inventory!CB:CB,MATCH('Inspection Form'!B1380,Inventory!B:B,0))=\"Not Qualified\",INDEX(Inventory!L:L,MATCH('Inspection Form'!B1380,Inventory!B:B,0))<>\"\",$Q$5<>\"Pre\"),0,BY1380*BZ1380), 0)","v":0},null,{"$error":"#DIV/0!"},{"$error":"#DIV/0!"},1377]
[null,1377,null,null,null,null,null,null,null,null,null,null,null,null,null,null,null,null,null,null,null,null,null,null,null,null,null,null,null,null,null,null,null,null,null,null,null,null,null,null,null,null,null,null,null,null,null,null,null,null,null,null,null,null,null,null,null,null,null,null,null,null,null,null,null,null,null,null,null,null,null,null,null,{"$f":"INDEX('Fixture Descriptions'!A:K,MATCH('Inspection Form'!H1381,'Fixture Descriptions'!A:A,0),8)","v":{"$error":"#N/A"}},{"$error":"#N/A"},null,{"$error":"#N/A"},1,null,null,null,{"$f":"IFERROR(IF(AND(INDEX(Inventory!CB:CB,MATCH('Inspection Form'!B1381,Inventory!B:B,0))=\"Not Qualified\",INDEX(Inventory!L:L,MATCH('Inspection Form'!B1381,Inventory!B:B,0))<>\"\",$Q$5<>\"Pre\"),0,BY1381*BZ1381), 0)","v":0},null,{"$error":"#DIV/0!"},{"$error":"#DIV/0!"},1378]
[null,1378,null,null,null,null,null,null,null,null,null,null,null,null,null,null,null,null,null,null,null,null,null,null,null,null,null,null,null,null,null,null,null,null,null,null,null,null,null,null,null,null,null,null,null,null,null,null,null,null,null,null,null,null,null,null,null,null,null,null,null,null,null,null,null,null,null,null,null,null,null,null,null,{"$f":"INDEX('Fixture Descriptions'!A:K,MATCH('Inspection Form'!H1382,'Fixture Descriptions'!A:A,0),8)","v":{"$error":"#N/A"}},{"$error":"#N/A"},null,{"$error":"#N/A"},1,null,null,null,{"$f":"IFERROR(IF(AND(INDEX(Inventory!CB:CB,MATCH('Inspection Form'!B1382,Inventory!B:B,0))=\"Not Qualified\",INDEX(Inventory!L:L,MATCH('Inspection Form'!B1382,Inventory!B:B,0))<>\"\",$Q$5<>\"Pre\"),0,BY1382*BZ1382), 0)","v":0},null,{"$error":"#DIV/0!"},{"$error":"#DIV/0!"},1379]
[null,1379,null,null,null,null,null,null,null,null,null,null,null,null,null,null,null,null,null,null,null,null,null,null,null,null,null,null,null,null,null,null,null,null,null,null,null,null,null,null,null,null,null,null,null,null,null,null,null,null,null,null,null,null,null,null,null,null,null,null,null,null,null,null,null,null,null,null,null,null,null,null,null,{"$f":"INDEX('Fixture Descriptions'!A:K,MATCH('Inspection Form'!H1383,'Fixture Descriptions'!A:A,0),8)","v":{"$error":"#N/A"}},{"$error":"#N/A"},null,{"$error":"#N/A"},1,null,null,null,{"$f":"IFERROR(IF(AND(INDEX(Inventory!CB:CB,MATCH('Inspection Form'!B1383,Inventory!B:B,0))=\"Not Qualified\",INDEX(Inventory!L:L,MATCH('Inspection Form'!B1383,Inventory!B:B,0))<>\"\",$Q$5<>\"Pre\"),0,BY1383*BZ1383), 0)","v":0},null,{"$error":"#DIV/0!"},{"$error":"#DIV/0!"},1380]
[null,1380,null,null,null,null,null,null,null,null,null,null,null,null,null,null,null,null,null,null,null,null,null,null,null,null,null,null,null,null,null,null,null,null,null,null,null,null,null,null,null,null,null,null,null,null,null,null,null,null,null,null,null,null,null,null,null,null,null,null,null,null,null,null,null,null,null,null,null,null,null,null,null,{"$f":"INDEX('Fixture Descriptions'!A:K,MATCH('Inspection Form'!H1384,'Fixture Descriptions'!A:A,0),8)","v":{"$error":"#N/A"}},{"$error":"#N/A"},null,{"$error":"#N/A"},1,null,null,null,{"$f":"IFERROR(IF(AND(INDEX(Inventory!CB:CB,MATCH('Inspection Form'!B1384,Inventory!B:B,0))=\"Not Qualified\",INDEX(Inventory!L:L,MATCH('Inspection Form'!B1384,Inventory!B:B,0))<>\"\",$Q$5<>\"Pre\"),0,BY1384*BZ1384), 0)","v":0},null,{"$error":"#DIV/0!"},{"$error":"#DIV/0!"},1381]
[null,1381,null,null,null,null,null,null,null,null,null,null,null,null,null,null,null,null,null,null,null,null,null,null,null,null,null,null,null,null,null,null,null,null,null,null,null,null,null,null,null,null,null,null,null,null,null,null,null,null,null,null,null,null,null,null,null,null,null,null,null,null,null,null,null,null,null,null,null,null,null,null,null,{"$f":"INDEX('Fixture Descriptions'!A:K,MATCH('Inspection Form'!H1385,'Fixture Descriptions'!A:A,0),8)","v":{"$error":"#N/A"}},{"$error":"#N/A"},null,{"$error":"#N/A"},1,null,null,null,{"$f":"IFERROR(IF(AND(INDEX(Inventory!CB:CB,MATCH('Inspection Form'!B1385,Inventory!B:B,0))=\"Not Qualified\",INDEX(Inventory!L:L,MATCH('Inspection Form'!B1385,Inventory!B:B,0))<>\"\",$Q$5<>\"Pre\"),0,BY1385*BZ1385), 0)","v":0},null,{"$error":"#DIV/0!"},{"$error":"#DIV/0!"},1382]
[null,1382,null,null,null,null,null,null,null,null,null,null,null,null,null,null,null,null,null,null,null,null,null,null,null,null,null,null,null,null,null,null,null,null,null,null,null,null,null,null,null,null,null,null,null,null,null,null,null,null,null,null,null,null,null,null,null,null,null,null,null,null,null,null,null,null,null,null,null,null,null,null,null,{"$f":"INDEX('Fixture Descriptions'!A:K,MATCH('Inspection Form'!H1386,'Fixture Descriptions'!A:A,0),8)","v":{"$error":"#N/A"}},{"$error":"#N/A"},null,{"$error":"#N/A"},1,null,null,null,{"$f":"IFERROR(IF(AND(INDEX(Inventory!CB:CB,MATCH('Inspection Form'!B1386,Inventory!B:B,0))=\"Not Qualified\",INDEX(Inventory!L:L,MATCH('Inspection Form'!B1386,Inventory!B:B,0))<>\"\",$Q$5<>\"Pre\"),0,BY1386*BZ1386), 0)","v":0},null,{"$error":"#DIV/0!"},{"$error":"#DIV/0!"},1383]
[null,1383,null,null,null,null,null,null,null,null,null,null,null,null,null,null,null,null,null,null,null,null,null,null,null,null,null,null,null,null,null,null,null,null,null,null,null,null,null,null,null,null,null,null,null,null,null,null,null,null,null,null,null,null,null,null,null,null,null,null,null,null,null,null,null,null,null,null,null,null,null,null,null,{"$f":"INDEX('Fixture Descriptions'!A:K,MATCH('Inspection Form'!H1387,'Fixture Descriptions'!A:A,0),8)","v":{"$error":"#N/A"}},{"$error":"#N/A"},null,{"$error":"#N/A"},1,null,null,null,{"$f":"IFERROR(IF(AND(INDEX(Inventory!CB:CB,MATCH('Inspection Form'!B1387,Inventory!B:B,0))=\"Not Qualified\",INDEX(Inventory!L:L,MATCH('Inspection Form'!B1387,Inventory!B:B,0))<>\"\",$Q$5<>\"Pre\"),0,BY1387*BZ1387), 0)","v":0},null,{"$error":"#DIV/0!"},{"$error":"#DIV/0!"},1384]
[null,1384,null,null,null,null,null,null,null,null,null,null,null,null,null,null,null,null,null,null,null,null,null,null,null,null,null,null,null,null,null,null,null,null,null,null,null,null,null,null,null,null,null,null,null,null,null,null,null,null,null,null,null,null,null,null,null,null,null,null,null,null,null,null,null,null,null,null,null,null,null,null,null,{"$f":"INDEX('Fixture Descriptions'!A:K,MATCH('Inspection Form'!H1388,'Fixture Descriptions'!A:A,0),8)","v":{"$error":"#N/A"}},{"$error":"#N/A"},null,{"$error":"#N/A"},1,null,null,null,{"$f":"IFERROR(IF(AND(INDEX(Inventory!CB:CB,MATCH('Inspection Form'!B1388,Inventory!B:B,0))=\"Not Qualified\",INDEX(Inventory!L:L,MATCH('Inspection Form'!B1388,Inventory!B:B,0))<>\"\",$Q$5<>\"Pre\"),0,BY1388*BZ1388), 0)","v":0},null,{"$error":"#DIV/0!"},{"$error":"#DIV/0!"},1385]
[null,1385,null,null,null,null,null,null,null,null,null,null,null,null,null,null,null,null,null,null,null,null,null,null,null,null,null,null,null,null,null,null,null,null,null,null,null,null,null,null,null,null,null,null,null,null,null,null,null,null,null,null,null,null,null,null,null,null,null,null,null,null,null,null,null,null,null,null,null,null,null,null,null,{"$f":"INDEX('Fixture Descriptions'!A:K,MATCH('Inspection Form'!H1389,'Fixture Descriptions'!A:A,0),8)","v":{"$error":"#N/A"}},{"$error":"#N/A"},null,{"$error":"#N/A"},1,null,null,null,{"$f":"IFERROR(IF(AND(INDEX(Inventory!CB:CB,MATCH('Inspection Form'!B1389,Inventory!B:B,0))=\"Not Qualified\",INDEX(Inventory!L:L,MATCH('Inspection Form'!B1389,Inventory!B:B,0))<>\"\",$Q$5<>\"Pre\"),0,BY1389*BZ1389), 0)","v":0},null,{"$error":"#DIV/0!"},{"$error":"#DIV/0!"},1386]
[null,1386,null,null,null,null,null,null,null,null,null,null,null,null,null,null,null,null,null,null,null,null,null,null,null,null,null,null,null,null,null,null,null,null,null,null,null,null,null,null,null,null,null,null,null,null,null,null,null,null,null,null,null,null,null,null,null,null,null,null,null,null,null,null,null,null,null,null,null,null,null,null,null,{"$f":"INDEX('Fixture Descriptions'!A:K,MATCH('Inspection Form'!H1390,'Fixture Descriptions'!A:A,0),8)","v":{"$error":"#N/A"}},{"$error":"#N/A"},null,{"$error":"#N/A"},1,null,null,null,{"$f":"IFERROR(IF(AND(INDEX(Inventory!CB:CB,MATCH('Inspection Form'!B1390,Inventory!B:B,0))=\"Not Qualified\",INDEX(Inventory!L:L,MATCH('Inspection Form'!B1390,Inventory!B:B,0))<>\"\",$Q$5<>\"Pre\"),0,BY1390*BZ1390), 0)","v":0},null,{"$error":"#DIV/0!"},{"$error":"#DIV/0!"},1387]
[null,1387,null,null,null,null,null,null,null,null,null,null,null,null,null,null,null,null,null,null,null,null,null,null,null,null,null,null,null,null,null,null,null,null,null,null,null,null,null,null,null,null,null,null,null,null,null,null,null,null,null,null,null,null,null,null,null,null,null,null,null,null,null,null,null,null,null,null,null,null,null,null,null,{"$f":"INDEX('Fixture Descriptions'!A:K,MATCH('Inspection Form'!H1391,'Fixture Descriptions'!A:A,0),8)","v":{"$error":"#N/A"}},{"$error":"#N/A"},null,{"$error":"#N/A"},1,null,null,null,{"$f":"IFERROR(IF(AND(INDEX(Inventory!CB:CB,MATCH('Inspection Form'!B1391,Inventory!B:B,0))=\"Not Qualified\",INDEX(Inventory!L:L,MATCH('Inspection Form'!B1391,Inventory!B:B,0))<>\"\",$Q$5<>\"Pre\"),0,BY1391*BZ1391), 0)","v":0},null,{"$error":"#DIV/0!"},{"$error":"#DIV/0!"},1388]
[null,1388,null,null,null,null,null,null,null,null,null,null,null,null,null,null,null,null,null,null,null,null,null,null,null,null,null,null,null,null,null,null,null,null,null,null,null,null,null,null,null,null,null,null,null,null,null,null,null,null,null,null,null,null,null,null,null,null,null,null,null,null,null,null,null,null,null,null,null,null,null,null,null,{"$f":"INDEX('Fixture Descriptions'!A:K,MATCH('Inspection Form'!H1392,'Fixture Descriptions'!A:A,0),8)","v":{"$error":"#N/A"}},{"$error":"#N/A"},null,{"$error":"#N/A"},1,null,null,null,{"$f":"IFERROR(IF(AND(INDEX(Inventory!CB:CB,MATCH('Inspection Form'!B1392,Inventory!B:B,0))=\"Not Qualified\",INDEX(Inventory!L:L,MATCH('Inspection Form'!B1392,Inventory!B:B,0))<>\"\",$Q$5<>\"Pre\"),0,BY1392*BZ1392), 0)","v":0},null,{"$error":"#DIV/0!"},{"$error":"#DIV/0!"},1389]
[null,1389,null,null,null,null,null,null,null,null,null,null,null,null,null,null,null,null,null,null,null,null,null,null,null,null,null,null,null,null,null,null,null,null,null,null,null,null,null,null,null,null,null,null,null,null,null,null,null,null,null,null,null,null,null,null,null,null,null,null,null,null,null,null,null,null,null,null,null,null,null,null,null,{"$f":"INDEX('Fixture Descriptions'!A:K,MATCH('Inspection Form'!H1393,'Fixture Descriptions'!A:A,0),8)","v":{"$error":"#N/A"}},{"$error":"#N/A"},null,{"$error":"#N/A"},1,null,null,null,{"$f":"IFERROR(IF(AND(INDEX(Inventory!CB:CB,MATCH('Inspection Form'!B1393,Inventory!B:B,0))=\"Not Qualified\",INDEX(Inventory!L:L,MATCH('Inspection Form'!B1393,Inventory!B:B,0))<>\"\",$Q$5<>\"Pre\"),0,BY1393*BZ1393), 0)","v":0},null,{"$error":"#DIV/0!"},{"$error":"#DIV/0!"},1390]
[null,1390,null,null,null,null,null,null,null,null,null,null,null,null,null,null,null,null,null,null,null,null,null,null,null,null,null,null,null,null,null,null,null,null,null,null,null,null,null,null,null,null,null,null,null,null,null,null,null,null,null,null,null,null,null,null,null,null,null,null,null,null,null,null,null,null,null,null,null,null,null,null,null,{"$f":"INDEX('Fixture Descriptions'!A:K,MATCH('Inspection Form'!H1394,'Fixture Descriptions'!A:A,0),8)","v":{"$error":"#N/A"}},{"$error":"#N/A"},null,{"$error":"#N/A"},1,null,null,null,{"$f":"IFERROR(IF(AND(INDEX(Inventory!CB:CB,MATCH('Inspection Form'!B1394,Inventory!B:B,0))=\"Not Qualified\",INDEX(Inventory!L:L,MATCH('Inspection Form'!B1394,Inventory!B:B,0))<>\"\",$Q$5<>\"Pre\"),0,BY1394*BZ1394), 0)","v":0},null,{"$error":"#DIV/0!"},{"$error":"#DIV/0!"},1391]
[null,1391,null,null,null,null,null,null,null,null,null,null,null,null,null,null,null,null,null,null,null,null,null,null,null,null,null,null,null,null,null,null,null,null,null,null,null,null,null,null,null,null,null,null,null,null,null,null,null,null,null,null,null,null,null,null,null,null,null,null,null,null,null,null,null,null,null,null,null,null,null,null,null,{"$f":"INDEX('Fixture Descriptions'!A:K,MATCH('Inspection Form'!H1395,'Fixture Descriptions'!A:A,0),8)","v":{"$error":"#N/A"}},{"$f":"BV1395*I1395","v":{"$error":"#N/A"}},null,{"$f":"BW1395","v":{"$error":"#N/A"}},{"$f":"IF($U$3=\"All\", 1, IF(AND(C1395=$U$3, H1395=$U$4), 1, 0))","v":1},null,null,null,{"$f":"IFERROR(IF(AND(INDEX(Inventory!CB:CB,MATCH('Inspection Form'!B1395,Inventory!B:B,0))=\"Not Qualified\",INDEX(Inventory!L:L,MATCH('Inspection Form'!B1395,Inventory!B:B,0))<>\"\",$Q$5<>\"Pre\"),0,BY1395*BZ1395), 0)","v":0},null,{"$f":"CD1395/$CE$5","v":{"$error":"#DIV/0!"}},{"$f":"CF1395+CG1394","v":{"$error":"#DIV/0!"}},1392]
[null,1392,null,null,null,null,null,null,null,null,null,null,null,null,null,null,null,null,null,null,null,null,null,null,null,null,null,null,null,null,null,null,null,null,null,null,null,null,null,null,null,null,null,null,null,null,null,null,null,null,null,null,null,null,null,null,null,null,null,null,null,null,null,null,null,null,null,null,null,null,null,null,null,{"$f":"INDEX('Fixture Descriptions'!A:K,MATCH('Inspection Form'!H1396,'Fixture Descriptions'!A:A,0),8)","v":{"$error":"#N/A"}},{"$error":"#N/A"},null,{"$error":"#N/A"},1,null,null,null,{"$f":"IFERROR(IF(AND(INDEX(Inventory!CB:CB,MATCH('Inspection Form'!B1396,Inventory!B:B,0))=\"Not Qualified\",INDEX(Inventory!L:L,MATCH('Inspection Form'!B1396,Inventory!B:B,0))<>\"\",$Q$5<>\"Pre\"),0,BY1396*BZ1396), 0)","v":0},null,{"$error":"#DIV/0!"},{"$error":"#DIV/0!"},1393]
[null,1393,null,null,null,null,null,null,null,null,null,null,null,null,null,null,null,null,null,null,null,null,null,null,null,null,null,null,null,null,null,null,null,null,null,null,null,null,null,null,null,null,null,null,null,null,null,null,null,null,null,null,null,null,null,null,null,null,null,null,null,null,null,null,null,null,null,null,null,null,null,null,null,{"$f":"INDEX('Fixture Descriptions'!A:K,MATCH('Inspection Form'!H1397,'Fixture Descriptions'!A:A,0),8)","v":{"$error":"#N/A"}},{"$error":"#N/A"},null,{"$error":"#N/A"},1,null,null,null,{"$f":"IFERROR(IF(AND(INDEX(Inventory!CB:CB,MATCH('Inspection Form'!B1397,Inventory!B:B,0))=\"Not Qualified\",INDEX(Inventory!L:L,MATCH('Inspection Form'!B1397,Inventory!B:B,0))<>\"\",$Q$5<>\"Pre\"),0,BY1397*BZ1397), 0)","v":0},null,{"$error":"#DIV/0!"},{"$error":"#DIV/0!"},1394]
[null,1394,null,null,null,null,null,null,null,null,null,null,null,null,null,null,null,null,null,null,null,null,null,null,null,null,null,null,null,null,null,null,null,null,null,null,null,null,null,null,null,null,null,null,null,null,null,null,null,null,null,null,null,null,null,null,null,null,null,null,null,null,null,null,null,null,null,null,null,null,null,null,null,{"$f":"INDEX('Fixture Descriptions'!A:K,MATCH('Inspection Form'!H1398,'Fixture Descriptions'!A:A,0),8)","v":{"$error":"#N/A"}},{"$error":"#N/A"},null,{"$error":"#N/A"},1,null,null,null,{"$f":"IFERROR(IF(AND(INDEX(Inventory!CB:CB,MATCH('Inspection Form'!B1398,Inventory!B:B,0))=\"Not Qualified\",INDEX(Inventory!L:L,MATCH('Inspection Form'!B1398,Inventory!B:B,0))<>\"\",$Q$5<>\"Pre\"),0,BY1398*BZ1398), 0)","v":0},null,{"$error":"#DIV/0!"},{"$error":"#DIV/0!"},1395]
[null,1395,null,null,null,null,null,null,null,null,null,null,null,null,null,null,null,null,null,null,null,null,null,null,null,null,null,null,null,null,null,null,null,null,null,null,null,null,null,null,null,null,null,null,null,null,null,null,null,null,null,null,null,null,null,null,null,null,null,null,null,null,null,null,null,null,null,null,null,null,null,null,null,{"$f":"INDEX('Fixture Descriptions'!A:K,MATCH('Inspection Form'!H1399,'Fixture Descriptions'!A:A,0),8)","v":{"$error":"#N/A"}},{"$error":"#N/A"},null,{"$error":"#N/A"},1,null,null,null,{"$f":"IFERROR(IF(AND(INDEX(Inventory!CB:CB,MATCH('Inspection Form'!B1399,Inventory!B:B,0))=\"Not Qualified\",INDEX(Inventory!L:L,MATCH('Inspection Form'!B1399,Inventory!B:B,0))<>\"\",$Q$5<>\"Pre\"),0,BY1399*BZ1399), 0)","v":0},null,{"$error":"#DIV/0!"},{"$error":"#DIV/0!"},1396]
[null,1396,null,null,null,null,null,null,null,null,null,null,null,null,null,null,null,null,null,null,null,null,null,null,null,null,null,null,null,null,null,null,null,null,null,null,null,null,null,null,null,null,null,null,null,null,null,null,null,null,null,null,null,null,null,null,null,null,null,null,null,null,null,null,null,null,null,null,null,null,null,null,null,{"$f":"INDEX('Fixture Descriptions'!A:K,MATCH('Inspection Form'!H1400,'Fixture Descriptions'!A:A,0),8)","v":{"$error":"#N/A"}},{"$error":"#N/A"},null,{"$error":"#N/A"},1,null,null,null,{"$f":"IFERROR(IF(AND(INDEX(Inventory!CB:CB,MATCH('Inspection Form'!B1400,Inventory!B:B,0))=\"Not Qualified\",INDEX(Inventory!L:L,MATCH('Inspection Form'!B1400,Inventory!B:B,0))<>\"\",$Q$5<>\"Pre\"),0,BY1400*BZ1400), 0)","v":0},null,{"$error":"#DIV/0!"},{"$error":"#DIV/0!"},1397]
[null,1397,null,null,null,null,null,null,null,null,null,null,null,null,null,null,null,null,null,null,null,null,null,null,null,null,null,null,null,null,null,null,null,null,null,null,null,null,null,null,null,null,null,null,null,null,null,null,null,null,null,null,null,null,null,null,null,null,null,null,null,null,null,null,null,null,null,null,null,null,null,null,null,{"$f":"INDEX('Fixture Descriptions'!A:K,MATCH('Inspection Form'!H1401,'Fixture Descriptions'!A:A,0),8)","v":{"$error":"#N/A"}},{"$error":"#N/A"},null,{"$error":"#N/A"},1,null,null,null,{"$f":"IFERROR(IF(AND(INDEX(Inventory!CB:CB,MATCH('Inspection Form'!B1401,Inventory!B:B,0))=\"Not Qualified\",INDEX(Inventory!L:L,MATCH('Inspection Form'!B1401,Inventory!B:B,0))<>\"\",$Q$5<>\"Pre\"),0,BY1401*BZ1401), 0)","v":0},null,{"$error":"#DIV/0!"},{"$error":"#DIV/0!"},1398]
[null,1398,null,null,null,null,null,null,null,null,null,null,null,null,null,null,null,null,null,null,null,null,null,null,null,null,null,null,null,null,null,null,null,null,null,null,null,null,null,null,null,null,null,null,null,null,null,null,null,null,null,null,null,null,null,null,null,null,null,null,null,null,null,null,null,null,null,null,null,null,null,null,null,{"$f":"INDEX('Fixture Descriptions'!A:K,MATCH('Inspection Form'!H1402,'Fixture Descriptions'!A:A,0),8)","v":{"$error":"#N/A"}},{"$error":"#N/A"},null,{"$error":"#N/A"},1,null,null,null,{"$f":"IFERROR(IF(AND(INDEX(Inventory!CB:CB,MATCH('Inspection Form'!B1402,Inventory!B:B,0))=\"Not Qualified\",INDEX(Inventory!L:L,MATCH('Inspection Form'!B1402,Inventory!B:B,0))<>\"\",$Q$5<>\"Pre\"),0,BY1402*BZ1402), 0)","v":0},null,{"$error":"#DIV/0!"},{"$error":"#DIV/0!"},1399]
[null,1399,null,null,null,null,null,null,null,null,null,null,null,null,null,null,null,null,null,null,null,null,null,null,null,null,null,null,null,null,null,null,null,null,null,null,null,null,null,null,null,null,null,null,null,null,null,null,null,null,null,null,null,null,null,null,null,null,null,null,null,null,null,null,null,null,null,null,null,null,null,null,null,{"$f":"INDEX('Fixture Descriptions'!A:K,MATCH('Inspection Form'!H1403,'Fixture Descriptions'!A:A,0),8)","v":{"$error":"#N/A"}},{"$error":"#N/A"},null,{"$error":"#N/A"},1,null,null,null,{"$f":"IFERROR(IF(AND(INDEX(Inventory!CB:CB,MATCH('Inspection Form'!B1403,Inventory!B:B,0))=\"Not Qualified\",INDEX(Inventory!L:L,MATCH('Inspection Form'!B1403,Inventory!B:B,0))<>\"\",$Q$5<>\"Pre\"),0,BY1403*BZ1403), 0)","v":0},null,{"$error":"#DIV/0!"},{"$error":"#DIV/0!"},1400]
[null,1400,null,null,null,null,null,null,null,null,null,null,null,null,null,null,null,null,null,null,null,null,null,null,null,null,null,null,null,null,null,null,null,null,null,null,null,null,null,null,null,null,null,null,null,null,null,null,null,null,null,null,null,null,null,null,null,null,null,null,null,null,null,null,null,null,null,null,null,null,null,null,null,{"$f":"INDEX('Fixture Descriptions'!A:K,MATCH('Inspection Form'!H1404,'Fixture Descriptions'!A:A,0),8)","v":{"$error":"#N/A"}},{"$error":"#N/A"},null,{"$error":"#N/A"},1,null,null,null,{"$f":"IFERROR(IF(AND(INDEX(Inventory!CB:CB,MATCH('Inspection Form'!B1404,Inventory!B:B,0))=\"Not Qualified\",INDEX(Inventory!L:L,MATCH('Inspection Form'!B1404,Inventory!B:B,0))<>\"\",$Q$5<>\"Pre\"),0,BY1404*BZ1404), 0)","v":0},null,{"$error":"#DIV/0!"},{"$error":"#DIV/0!"},1401]
[null,1401,null,null,null,null,null,null,null,null,null,null,null,null,null,null,null,null,null,null,null,null,null,null,null,null,null,null,null,null,null,null,null,null,null,null,null,null,null,null,null,null,null,null,null,null,null,null,null,null,null,null,null,null,null,null,null,null,null,null,null,null,null,null,null,null,null,null,null,null,null,null,null,{"$f":"INDEX('Fixture Descriptions'!A:K,MATCH('Inspection Form'!H1405,'Fixture Descriptions'!A:A,0),8)","v":{"$error":"#N/A"}},{"$error":"#N/A"},null,{"$error":"#N/A"},1,null,null,null,{"$f":"IFERROR(IF(AND(INDEX(Inventory!CB:CB,MATCH('Inspection Form'!B1405,Inventory!B:B,0))=\"Not Qualified\",INDEX(Inventory!L:L,MATCH('Inspection Form'!B1405,Inventory!B:B,0))<>\"\",$Q$5<>\"Pre\"),0,BY1405*BZ1405), 0)","v":0},null,{"$error":"#DIV/0!"},{"$error":"#DIV/0!"},1402]
[null,1402,null,null,null,null,null,null,null,null,null,null,null,null,null,null,null,null,null,null,null,null,null,null,null,null,null,null,null,null,null,null,null,null,null,null,null,null,null,null,null,null,null,null,null,null,null,null,null,null,null,null,null,null,null,null,null,null,null,null,null,null,null,null,null,null,null,null,null,null,null,null,null,{"$f":"INDEX('Fixture Descriptions'!A:K,MATCH('Inspection Form'!H1406,'Fixture Descriptions'!A:A,0),8)","v":{"$error":"#N/A"}},{"$error":"#N/A"},null,{"$error":"#N/A"},1,null,null,null,{"$f":"IFERROR(IF(AND(INDEX(Inventory!CB:CB,MATCH('Inspection Form'!B1406,Inventory!B:B,0))=\"Not Qualified\",INDEX(Inventory!L:L,MATCH('Inspection Form'!B1406,Inventory!B:B,0))<>\"\",$Q$5<>\"Pre\"),0,BY1406*BZ1406), 0)","v":0},null,{"$error":"#DIV/0!"},{"$error":"#DIV/0!"},1403]
[null,1403,null,null,null,null,null,null,null,null,null,null,null,null,null,null,null,null,null,null,null,null,null,null,null,null,null,null,null,null,null,null,null,null,null,null,null,null,null,null,null,null,null,null,null,null,null,null,null,null,null,null,null,null,null,null,null,null,null,null,null,null,null,null,null,null,null,null,null,null,null,null,null,{"$f":"INDEX('Fixture Descriptions'!A:K,MATCH('Inspection Form'!H1407,'Fixture Descriptions'!A:A,0),8)","v":{"$error":"#N/A"}},{"$error":"#N/A"},null,{"$error":"#N/A"},1,null,null,null,{"$f":"IFERROR(IF(AND(INDEX(Inventory!CB:CB,MATCH('Inspection Form'!B1407,Inventory!B:B,0))=\"Not Qualified\",INDEX(Inventory!L:L,MATCH('Inspection Form'!B1407,Inventory!B:B,0))<>\"\",$Q$5<>\"Pre\"),0,BY1407*BZ1407), 0)","v":0},null,{"$error":"#DIV/0!"},{"$error":"#DIV/0!"},1404]
[null,1404,null,null,null,null,null,null,null,null,null,null,null,null,null,null,null,null,null,null,null,null,null,null,null,null,null,null,null,null,null,null,null,null,null,null,null,null,null,null,null,null,null,null,null,null,null,null,null,null,null,null,null,null,null,null,null,null,null,null,null,null,null,null,null,null,null,null,null,null,null,null,null,{"$f":"INDEX('Fixture Descriptions'!A:K,MATCH('Inspection Form'!H1408,'Fixture Descriptions'!A:A,0),8)","v":{"$error":"#N/A"}},{"$error":"#N/A"},null,{"$error":"#N/A"},1,null,null,null,{"$f":"IFERROR(IF(AND(INDEX(Inventory!CB:CB,MATCH('Inspection Form'!B1408,Inventory!B:B,0))=\"Not Qualified\",INDEX(Inventory!L:L,MATCH('Inspection Form'!B1408,Inventory!B:B,0))<>\"\",$Q$5<>\"Pre\"),0,BY1408*BZ1408), 0)","v":0},null,{"$error":"#DIV/0!"},{"$error":"#DIV/0!"},1405]
[null,1405,null,null,null,null,null,null,null,null,null,null,null,null,null,null,null,null,null,null,null,null,null,null,null,null,null,null,null,null,null,null,null,null,null,null,null,null,null,null,null,null,null,null,null,null,null,null,null,null,null,null,null,null,null,null,null,null,null,null,null,null,null,null,null,null,null,null,null,null,null,null,null,{"$f":"INDEX('Fixture Descriptions'!A:K,MATCH('Inspection Form'!H1409,'Fixture Descriptions'!A:A,0),8)","v":{"$error":"#N/A"}},{"$error":"#N/A"},null,{"$error":"#N/A"},1,null,null,null,{"$f":"IFERROR(IF(AND(INDEX(Inventory!CB:CB,MATCH('Inspection Form'!B1409,Inventory!B:B,0))=\"Not Qualified\",INDEX(Inventory!L:L,MATCH('Inspection Form'!B1409,Inventory!B:B,0))<>\"\",$Q$5<>\"Pre\"),0,BY1409*BZ1409), 0)","v":0},null,{"$error":"#DIV/0!"},{"$error":"#DIV/0!"},1406]
[null,1406,null,null,null,null,null,null,null,null,null,null,null,null,null,null,null,null,null,null,null,null,null,null,null,null,null,null,null,null,null,null,null,null,null,null,null,null,null,null,null,null,null,null,null,null,null,null,null,null,null,null,null,null,null,null,null,null,null,null,null,null,null,null,null,null,null,null,null,null,null,null,null,{"$f":"INDEX('Fixture Descriptions'!A:K,MATCH('Inspection Form'!H1410,'Fixture Descriptions'!A:A,0),8)","v":{"$error":"#N/A"}},{"$error":"#N/A"},null,{"$error":"#N/A"},1,null,null,null,{"$f":"IFERROR(IF(AND(INDEX(Inventory!CB:CB,MATCH('Inspection Form'!B1410,Inventory!B:B,0))=\"Not Qualified\",INDEX(Inventory!L:L,MATCH('Inspection Form'!B1410,Inventory!B:B,0))<>\"\",$Q$5<>\"Pre\"),0,BY1410*BZ1410), 0)","v":0},null,{"$error":"#DIV/0!"},{"$error":"#DIV/0!"},1407]
[null,1407,null,null,null,null,null,null,null,null,null,null,null,null,null,null,null,null,null,null,null,null,null,null,null,null,null,null,null,null,null,null,null,null,null,null,null,null,null,null,null,null,null,null,null,null,null,null,null,null,null,null,null,null,null,null,null,null,null,null,null,null,null,null,null,null,null,null,null,null,null,null,null,{"$f":"INDEX('Fixture Descriptions'!A:K,MATCH('Inspection Form'!H1411,'Fixture Descriptions'!A:A,0),8)","v":{"$error":"#N/A"}},{"$error":"#N/A"},null,{"$error":"#N/A"},1,null,null,null,{"$f":"IFERROR(IF(AND(INDEX(Inventory!CB:CB,MATCH('Inspection Form'!B1411,Inventory!B:B,0))=\"Not Qualified\",INDEX(Inventory!L:L,MATCH('Inspection Form'!B1411,Inventory!B:B,0))<>\"\",$Q$5<>\"Pre\"),0,BY1411*BZ1411), 0)","v":0},null,{"$error":"#DIV/0!"},{"$error":"#DIV/0!"},1408]
[null,1408,null,null,null,null,null,null,null,null,null,null,null,null,null,null,null,null,null,null,null,null,null,null,null,null,null,null,null,null,null,null,null,null,null,null,null,null,null,null,null,null,null,null,null,null,null,null,null,null,null,null,null,null,null,null,null,null,null,null,null,null,null,null,null,null,null,null,null,null,null,null,null,{"$f":"INDEX('Fixture Descriptions'!A:K,MATCH('Inspection Form'!H1412,'Fixture Descriptions'!A:A,0),8)","v":{"$error":"#N/A"}},{"$error":"#N/A"},null,{"$error":"#N/A"},1,null,null,null,{"$f":"IFERROR(IF(AND(INDEX(Inventory!CB:CB,MATCH('Inspection Form'!B1412,Inventory!B:B,0))=\"Not Qualified\",INDEX(Inventory!L:L,MATCH('Inspection Form'!B1412,Inventory!B:B,0))<>\"\",$Q$5<>\"Pre\"),0,BY1412*BZ1412), 0)","v":0},null,{"$error":"#DIV/0!"},{"$error":"#DIV/0!"},1409]
[null,1409,null,null,null,null,null,null,null,null,null,null,null,null,null,null,null,null,null,null,null,null,null,null,null,null,null,null,null,null,null,null,null,null,null,null,null,null,null,null,null,null,null,null,null,null,null,null,null,null,null,null,null,null,null,null,null,null,null,null,null,null,null,null,null,null,null,null,null,null,null,null,null,{"$f":"INDEX('Fixture Descriptions'!A:K,MATCH('Inspection Form'!H1413,'Fixture Descriptions'!A:A,0),8)","v":{"$error":"#N/A"}},{"$error":"#N/A"},null,{"$error":"#N/A"},1,null,null,null,{"$f":"IFERROR(IF(AND(INDEX(Inventory!CB:CB,MATCH('Inspection Form'!B1413,Inventory!B:B,0))=\"Not Qualified\",INDEX(Inventory!L:L,MATCH('Inspection Form'!B1413,Inventory!B:B,0))<>\"\",$Q$5<>\"Pre\"),0,BY1413*BZ1413), 0)","v":0},null,{"$error":"#DIV/0!"},{"$error":"#DIV/0!"},1410]
[null,1410,null,null,null,null,null,null,null,null,null,null,null,null,null,null,null,null,null,null,null,null,null,null,null,null,null,null,null,null,null,null,null,null,null,null,null,null,null,null,null,null,null,null,null,null,null,null,null,null,null,null,null,null,null,null,null,null,null,null,null,null,null,null,null,null,null,null,null,null,null,null,null,{"$f":"INDEX('Fixture Descriptions'!A:K,MATCH('Inspection Form'!H1414,'Fixture Descriptions'!A:A,0),8)","v":{"$error":"#N/A"}},{"$error":"#N/A"},null,{"$error":"#N/A"},1,null,null,null,{"$f":"IFERROR(IF(AND(INDEX(Inventory!CB:CB,MATCH('Inspection Form'!B1414,Inventory!B:B,0))=\"Not Qualified\",INDEX(Inventory!L:L,MATCH('Inspection Form'!B1414,Inventory!B:B,0))<>\"\",$Q$5<>\"Pre\"),0,BY1414*BZ1414), 0)","v":0},null,{"$error":"#DIV/0!"},{"$error":"#DIV/0!"},1411]
[null,1411,null,null,null,null,null,null,null,null,null,null,null,null,null,null,null,null,null,null,null,null,null,null,null,null,null,null,null,null,null,null,null,null,null,null,null,null,null,null,null,null,null,null,null,null,null,null,null,null,null,null,null,null,null,null,null,null,null,null,null,null,null,null,null,null,null,null,null,null,null,null,null,{"$f":"INDEX('Fixture Descriptions'!A:K,MATCH('Inspection Form'!H1415,'Fixture Descriptions'!A:A,0),8)","v":{"$error":"#N/A"}},{"$error":"#N/A"},null,{"$error":"#N/A"},1,null,null,null,{"$f":"IFERROR(IF(AND(INDEX(Inventory!CB:CB,MATCH('Inspection Form'!B1415,Inventory!B:B,0))=\"Not Qualified\",INDEX(Inventory!L:L,MATCH('Inspection Form'!B1415,Inventory!B:B,0))<>\"\",$Q$5<>\"Pre\"),0,BY1415*BZ1415), 0)","v":0},null,{"$error":"#DIV/0!"},{"$error":"#DIV/0!"},1412]
[null,1412,null,null,null,null,null,null,null,null,null,null,null,null,null,null,null,null,null,null,null,null,null,null,null,null,null,null,null,null,null,null,null,null,null,null,null,null,null,null,null,null,null,null,null,null,null,null,null,null,null,null,null,null,null,null,null,null,null,null,null,null,null,null,null,null,null,null,null,null,null,null,null,{"$f":"INDEX('Fixture Descriptions'!A:K,MATCH('Inspection Form'!H1416,'Fixture Descriptions'!A:A,0),8)","v":{"$error":"#N/A"}},{"$error":"#N/A"},null,{"$error":"#N/A"},1,null,null,null,{"$f":"IFERROR(IF(AND(INDEX(Inventory!CB:CB,MATCH('Inspection Form'!B1416,Inventory!B:B,0))=\"Not Qualified\",INDEX(Inventory!L:L,MATCH('Inspection Form'!B1416,Inventory!B:B,0))<>\"\",$Q$5<>\"Pre\"),0,BY1416*BZ1416), 0)","v":0},null,{"$error":"#DIV/0!"},{"$error":"#DIV/0!"},1413]
[null,1413,null,null,null,null,null,null,null,null,null,null,null,null,null,null,null,null,null,null,null,null,null,null,null,null,null,null,null,null,null,null,null,null,null,null,null,null,null,null,null,null,null,null,null,null,null,null,null,null,null,null,null,null,null,null,null,null,null,null,null,null,null,null,null,null,null,null,null,null,null,null,null,{"$f":"INDEX('Fixture Descriptions'!A:K,MATCH('Inspection Form'!H1417,'Fixture Descriptions'!A:A,0),8)","v":{"$error":"#N/A"}},{"$error":"#N/A"},null,{"$error":"#N/A"},1,null,null,null,{"$f":"IFERROR(IF(AND(INDEX(Inventory!CB:CB,MATCH('Inspection Form'!B1417,Inventory!B:B,0))=\"Not Qualified\",INDEX(Inventory!L:L,MATCH('Inspection Form'!B1417,Inventory!B:B,0))<>\"\",$Q$5<>\"Pre\"),0,BY1417*BZ1417), 0)","v":0},null,{"$error":"#DIV/0!"},{"$error":"#DIV/0!"},1414]
[null,1414,null,null,null,null,null,null,null,null,null,null,null,null,null,null,null,null,null,null,null,null,null,null,null,null,null,null,null,null,null,null,null,null,null,null,null,null,null,null,null,null,null,null,null,null,null,null,null,null,null,null,null,null,null,null,null,null,null,null,null,null,null,null,null,null,null,null,null,null,null,null,null,{"$f":"INDEX('Fixture Descriptions'!A:K,MATCH('Inspection Form'!H1418,'Fixture Descriptions'!A:A,0),8)","v":{"$error":"#N/A"}},{"$error":"#N/A"},null,{"$error":"#N/A"},1,null,null,null,{"$f":"IFERROR(IF(AND(INDEX(Inventory!CB:CB,MATCH('Inspection Form'!B1418,Inventory!B:B,0))=\"Not Qualified\",INDEX(Inventory!L:L,MATCH('Inspection Form'!B1418,Inventory!B:B,0))<>\"\",$Q$5<>\"Pre\"),0,BY1418*BZ1418), 0)","v":0},null,{"$error":"#DIV/0!"},{"$error":"#DIV/0!"},1415]
[null,1415,null,null,null,null,null,null,null,null,null,null,null,null,null,null,null,null,null,null,null,null,null,null,null,null,null,null,null,null,null,null,null,null,null,null,null,null,null,null,null,null,null,null,null,null,null,null,null,null,null,null,null,null,null,null,null,null,null,null,null,null,null,null,null,null,null,null,null,null,null,null,null,{"$f":"INDEX('Fixture Descriptions'!A:K,MATCH('Inspection Form'!H1419,'Fixture Descriptions'!A:A,0),8)","v":{"$error":"#N/A"}},{"$error":"#N/A"},null,{"$error":"#N/A"},1,null,null,null,{"$f":"IFERROR(IF(AND(INDEX(Inventory!CB:CB,MATCH('Inspection Form'!B1419,Inventory!B:B,0))=\"Not Qualified\",INDEX(Inventory!L:L,MATCH('Inspection Form'!B1419,Inventory!B:B,0))<>\"\",$Q$5<>\"Pre\"),0,BY1419*BZ1419), 0)","v":0},null,{"$error":"#DIV/0!"},{"$error":"#DIV/0!"},1416]
[null,1416,null,null,null,null,null,null,null,null,null,null,null,null,null,null,null,null,null,null,null,null,null,null,null,null,null,null,null,null,null,null,null,null,null,null,null,null,null,null,null,null,null,null,null,null,null,null,null,null,null,null,null,null,null,null,null,null,null,null,null,null,null,null,null,null,null,null,null,null,null,null,null,{"$f":"INDEX('Fixture Descriptions'!A:K,MATCH('Inspection Form'!H1420,'Fixture Descriptions'!A:A,0),8)","v":{"$error":"#N/A"}},{"$error":"#N/A"},null,{"$error":"#N/A"},1,null,null,null,{"$f":"IFERROR(IF(AND(INDEX(Inventory!CB:CB,MATCH('Inspection Form'!B1420,Inventory!B:B,0))=\"Not Qualified\",INDEX(Inventory!L:L,MATCH('Inspection Form'!B1420,Inventory!B:B,0))<>\"\",$Q$5<>\"Pre\"),0,BY1420*BZ1420), 0)","v":0},null,{"$error":"#DIV/0!"},{"$error":"#DIV/0!"},1417]
[null,1417,null,null,null,null,null,null,null,null,null,null,null,null,null,null,null,null,null,null,null,null,null,null,null,null,null,null,null,null,null,null,null,null,null,null,null,null,null,null,null,null,null,null,null,null,null,null,null,null,null,null,null,null,null,null,null,null,null,null,null,null,null,null,null,null,null,null,null,null,null,null,null,{"$f":"INDEX('Fixture Descriptions'!A:K,MATCH('Inspection Form'!H1421,'Fixture Descriptions'!A:A,0),8)","v":{"$error":"#N/A"}},{"$error":"#N/A"},null,{"$error":"#N/A"},1,null,null,null,{"$f":"IFERROR(IF(AND(INDEX(Inventory!CB:CB,MATCH('Inspection Form'!B1421,Inventory!B:B,0))=\"Not Qualified\",INDEX(Inventory!L:L,MATCH('Inspection Form'!B1421,Inventory!B:B,0))<>\"\",$Q$5<>\"Pre\"),0,BY1421*BZ1421), 0)","v":0},null,{"$error":"#DIV/0!"},{"$error":"#DIV/0!"},1418]
[null,1418,null,null,null,null,null,null,null,null,null,null,null,null,null,null,null,null,null,null,null,null,null,null,null,null,null,null,null,null,null,null,null,null,null,null,null,null,null,null,null,null,null,null,null,null,null,null,null,null,null,null,null,null,null,null,null,null,null,null,null,null,null,null,null,null,null,null,null,null,null,null,null,{"$f":"INDEX('Fixture Descriptions'!A:K,MATCH('Inspection Form'!H1422,'Fixture Descriptions'!A:A,0),8)","v":{"$error":"#N/A"}},{"$error":"#N/A"},null,{"$error":"#N/A"},1,null,null,null,{"$f":"IFERROR(IF(AND(INDEX(Inventory!CB:CB,MATCH('Inspection Form'!B1422,Inventory!B:B,0))=\"Not Qualified\",INDEX(Inventory!L:L,MATCH('Inspection Form'!B1422,Inventory!B:B,0))<>\"\",$Q$5<>\"Pre\"),0,BY1422*BZ1422), 0)","v":0},null,{"$error":"#DIV/0!"},{"$error":"#DIV/0!"},1419]
[null,1419,null,null,null,null,null,null,null,null,null,null,null,null,null,null,null,null,null,null,null,null,null,null,null,null,null,null,null,null,null,null,null,null,null,null,null,null,null,null,null,null,null,null,null,null,null,null,null,null,null,null,null,null,null,null,null,null,null,null,null,null,null,null,null,null,null,null,null,null,null,null,null,{"$f":"INDEX('Fixture Descriptions'!A:K,MATCH('Inspection Form'!H1423,'Fixture Descriptions'!A:A,0),8)","v":{"$error":"#N/A"}},{"$error":"#N/A"},null,{"$error":"#N/A"},1,null,null,null,{"$f":"IFERROR(IF(AND(INDEX(Inventory!CB:CB,MATCH('Inspection Form'!B1423,Inventory!B:B,0))=\"Not Qualified\",INDEX(Inventory!L:L,MATCH('Inspection Form'!B1423,Inventory!B:B,0))<>\"\",$Q$5<>\"Pre\"),0,BY1423*BZ1423), 0)","v":0},null,{"$error":"#DIV/0!"},{"$error":"#DIV/0!"},1420]
[null,1420,null,null,null,null,null,null,null,null,null,null,null,null,null,null,null,null,null,null,null,null,null,null,null,null,null,null,null,null,null,null,null,null,null,null,null,null,null,null,null,null,null,null,null,null,null,null,null,null,null,null,null,null,null,null,null,null,null,null,null,null,null,null,null,null,null,null,null,null,null,null,null,{"$f":"INDEX('Fixture Descriptions'!A:K,MATCH('Inspection Form'!H1424,'Fixture Descriptions'!A:A,0),8)","v":{"$error":"#N/A"}},{"$error":"#N/A"},null,{"$error":"#N/A"},1,null,null,null,{"$f":"IFERROR(IF(AND(INDEX(Inventory!CB:CB,MATCH('Inspection Form'!B1424,Inventory!B:B,0))=\"Not Qualified\",INDEX(Inventory!L:L,MATCH('Inspection Form'!B1424,Inventory!B:B,0))<>\"\",$Q$5<>\"Pre\"),0,BY1424*BZ1424), 0)","v":0},null,{"$error":"#DIV/0!"},{"$error":"#DIV/0!"},1421]
[null,1421,null,null,null,null,null,null,null,null,null,null,null,null,null,null,null,null,null,null,null,null,null,null,null,null,null,null,null,null,null,null,null,null,null,null,null,null,null,null,null,null,null,null,null,null,null,null,null,null,null,null,null,null,null,null,null,null,null,null,null,null,null,null,null,null,null,null,null,null,null,null,null,{"$f":"INDEX('Fixture Descriptions'!A:K,MATCH('Inspection Form'!H1425,'Fixture Descriptions'!A:A,0),8)","v":{"$error":"#N/A"}},{"$error":"#N/A"},null,{"$error":"#N/A"},1,null,null,null,{"$f":"IFERROR(IF(AND(INDEX(Inventory!CB:CB,MATCH('Inspection Form'!B1425,Inventory!B:B,0))=\"Not Qualified\",INDEX(Inventory!L:L,MATCH('Inspection Form'!B1425,Inventory!B:B,0))<>\"\",$Q$5<>\"Pre\"),0,BY1425*BZ1425), 0)","v":0},null,{"$error":"#DIV/0!"},{"$error":"#DIV/0!"},1422]
[null,1422,null,null,null,null,null,null,null,null,null,null,null,null,null,null,null,null,null,null,null,null,null,null,null,null,null,null,null,null,null,null,null,null,null,null,null,null,null,null,null,null,null,null,null,null,null,null,null,null,null,null,null,null,null,null,null,null,null,null,null,null,null,null,null,null,null,null,null,null,null,null,null,{"$f":"INDEX('Fixture Descriptions'!A:K,MATCH('Inspection Form'!H1426,'Fixture Descriptions'!A:A,0),8)","v":{"$error":"#N/A"}},{"$error":"#N/A"},null,{"$error":"#N/A"},1,null,null,null,{"$f":"IFERROR(IF(AND(INDEX(Inventory!CB:CB,MATCH('Inspection Form'!B1426,Inventory!B:B,0))=\"Not Qualified\",INDEX(Inventory!L:L,MATCH('Inspection Form'!B1426,Inventory!B:B,0))<>\"\",$Q$5<>\"Pre\"),0,BY1426*BZ1426), 0)","v":0},null,{"$error":"#DIV/0!"},{"$error":"#DIV/0!"},1423]
[null,1423,null,null,null,null,null,null,null,null,null,null,null,null,null,null,null,null,null,null,null,null,null,null,null,null,null,null,null,null,null,null,null,null,null,null,null,null,null,null,null,null,null,null,null,null,null,null,null,null,null,null,null,null,null,null,null,null,null,null,null,null,null,null,null,null,null,null,null,null,null,null,null,{"$f":"INDEX('Fixture Descriptions'!A:K,MATCH('Inspection Form'!H1427,'Fixture Descriptions'!A:A,0),8)","v":{"$error":"#N/A"}},{"$error":"#N/A"},null,{"$error":"#N/A"},1,null,null,null,{"$f":"IFERROR(IF(AND(INDEX(Inventory!CB:CB,MATCH('Inspection Form'!B1427,Inventory!B:B,0))=\"Not Qualified\",INDEX(Inventory!L:L,MATCH('Inspection Form'!B1427,Inventory!B:B,0))<>\"\",$Q$5<>\"Pre\"),0,BY1427*BZ1427), 0)","v":0},null,{"$error":"#DIV/0!"},{"$error":"#DIV/0!"},1424]
[null,1424,null,null,null,null,null,null,null,null,null,null,null,null,null,null,null,null,null,null,null,null,null,null,null,null,null,null,null,null,null,null,null,null,null,null,null,null,null,null,null,null,null,null,null,null,null,null,null,null,null,null,null,null,null,null,null,null,null,null,null,null,null,null,null,null,null,null,null,null,null,null,null,{"$f":"INDEX('Fixture Descriptions'!A:K,MATCH('Inspection Form'!H1428,'Fixture Descriptions'!A:A,0),8)","v":{"$error":"#N/A"}},{"$error":"#N/A"},null,{"$error":"#N/A"},1,null,null,null,{"$f":"IFERROR(IF(AND(INDEX(Inventory!CB:CB,MATCH('Inspection Form'!B1428,Inventory!B:B,0))=\"Not Qualified\",INDEX(Inventory!L:L,MATCH('Inspection Form'!B1428,Inventory!B:B,0))<>\"\",$Q$5<>\"Pre\"),0,BY1428*BZ1428), 0)","v":0},null,{"$error":"#DIV/0!"},{"$error":"#DIV/0!"},1425]
[null,1425,null,null,null,null,null,null,null,null,null,null,null,null,null,null,null,null,null,null,null,null,null,null,null,null,null,null,null,null,null,null,null,null,null,null,null,null,null,null,null,null,null,null,null,null,null,null,null,null,null,null,null,null,null,null,null,null,null,null,null,null,null,null,null,null,null,null,null,null,null,null,null,{"$f":"INDEX('Fixture Descriptions'!A:K,MATCH('Inspection Form'!H1429,'Fixture Descriptions'!A:A,0),8)","v":{"$error":"#N/A"}},{"$error":"#N/A"},null,{"$error":"#N/A"},1,null,null,null,{"$f":"IFERROR(IF(AND(INDEX(Inventory!CB:CB,MATCH('Inspection Form'!B1429,Inventory!B:B,0))=\"Not Qualified\",INDEX(Inventory!L:L,MATCH('Inspection Form'!B1429,Inventory!B:B,0))<>\"\",$Q$5<>\"Pre\"),0,BY1429*BZ1429), 0)","v":0},null,{"$error":"#DIV/0!"},{"$error":"#DIV/0!"},1426]
[null,1426,null,null,null,null,null,null,null,null,null,null,null,null,null,null,null,null,null,null,null,null,null,null,null,null,null,null,null,null,null,null,null,null,null,null,null,null,null,null,null,null,null,null,null,null,null,null,null,null,null,null,null,null,null,null,null,null,null,null,null,null,null,null,null,null,null,null,null,null,null,null,null,{"$f":"INDEX('Fixture Descriptions'!A:K,MATCH('Inspection Form'!H1430,'Fixture Descriptions'!A:A,0),8)","v":{"$error":"#N/A"}},{"$error":"#N/A"},null,{"$error":"#N/A"},1,null,null,null,{"$f":"IFERROR(IF(AND(INDEX(Inventory!CB:CB,MATCH('Inspection Form'!B1430,Inventory!B:B,0))=\"Not Qualified\",INDEX(Inventory!L:L,MATCH('Inspection Form'!B1430,Inventory!B:B,0))<>\"\",$Q$5<>\"Pre\"),0,BY1430*BZ1430), 0)","v":0},null,{"$error":"#DIV/0!"},{"$error":"#DIV/0!"},1427]
[null,1427,null,null,null,null,null,null,null,null,null,null,null,null,null,null,null,null,null,null,null,null,null,null,null,null,null,null,null,null,null,null,null,null,null,null,null,null,null,null,null,null,null,null,null,null,null,null,null,null,null,null,null,null,null,null,null,null,null,null,null,null,null,null,null,null,null,null,null,null,null,null,null,{"$f":"INDEX('Fixture Descriptions'!A:K,MATCH('Inspection Form'!H1431,'Fixture Descriptions'!A:A,0),8)","v":{"$error":"#N/A"}},{"$error":"#N/A"},null,{"$error":"#N/A"},1,null,null,null,{"$f":"IFERROR(IF(AND(INDEX(Inventory!CB:CB,MATCH('Inspection Form'!B1431,Inventory!B:B,0))=\"Not Qualified\",INDEX(Inventory!L:L,MATCH('Inspection Form'!B1431,Inventory!B:B,0))<>\"\",$Q$5<>\"Pre\"),0,BY1431*BZ1431), 0)","v":0},null,{"$error":"#DIV/0!"},{"$error":"#DIV/0!"},1428]
[null,1428,null,null,null,null,null,null,null,null,null,null,null,null,null,null,null,null,null,null,null,null,null,null,null,null,null,null,null,null,null,null,null,null,null,null,null,null,null,null,null,null,null,null,null,null,null,null,null,null,null,null,null,null,null,null,null,null,null,null,null,null,null,null,null,null,null,null,null,null,null,null,null,{"$f":"INDEX('Fixture Descriptions'!A:K,MATCH('Inspection Form'!H1432,'Fixture Descriptions'!A:A,0),8)","v":{"$error":"#N/A"}},{"$error":"#N/A"},null,{"$error":"#N/A"},1,null,null,null,{"$f":"IFERROR(IF(AND(INDEX(Inventory!CB:CB,MATCH('Inspection Form'!B1432,Inventory!B:B,0))=\"Not Qualified\",INDEX(Inventory!L:L,MATCH('Inspection Form'!B1432,Inventory!B:B,0))<>\"\",$Q$5<>\"Pre\"),0,BY1432*BZ1432), 0)","v":0},null,{"$error":"#DIV/0!"},{"$error":"#DIV/0!"},1429]
[null,1429,null,null,null,null,null,null,null,null,null,null,null,null,null,null,null,null,null,null,null,null,null,null,null,null,null,null,null,null,null,null,null,null,null,null,null,null,null,null,null,null,null,null,null,null,null,null,null,null,null,null,null,null,null,null,null,null,null,null,null,null,null,null,null,null,null,null,null,null,null,null,null,{"$f":"INDEX('Fixture Descriptions'!A:K,MATCH('Inspection Form'!H1433,'Fixture Descriptions'!A:A,0),8)","v":{"$error":"#N/A"}},{"$error":"#N/A"},null,{"$error":"#N/A"},1,null,null,null,{"$f":"IFERROR(IF(AND(INDEX(Inventory!CB:CB,MATCH('Inspection Form'!B1433,Inventory!B:B,0))=\"Not Qualified\",INDEX(Inventory!L:L,MATCH('Inspection Form'!B1433,Inventory!B:B,0))<>\"\",$Q$5<>\"Pre\"),0,BY1433*BZ1433), 0)","v":0},null,{"$error":"#DIV/0!"},{"$error":"#DIV/0!"},1430]
[null,1430,null,null,null,null,null,null,null,null,null,null,null,null,null,null,null,null,null,null,null,null,null,null,null,null,null,null,null,null,null,null,null,null,null,null,null,null,null,null,null,null,null,null,null,null,null,null,null,null,null,null,null,null,null,null,null,null,null,null,null,null,null,null,null,null,null,null,null,null,null,null,null,{"$f":"INDEX('Fixture Descriptions'!A:K,MATCH('Inspection Form'!H1434,'Fixture Descriptions'!A:A,0),8)","v":{"$error":"#N/A"}},{"$error":"#N/A"},null,{"$error":"#N/A"},1,null,null,null,{"$f":"IFERROR(IF(AND(INDEX(Inventory!CB:CB,MATCH('Inspection Form'!B1434,Inventory!B:B,0))=\"Not Qualified\",INDEX(Inventory!L:L,MATCH('Inspection Form'!B1434,Inventory!B:B,0))<>\"\",$Q$5<>\"Pre\"),0,BY1434*BZ1434), 0)","v":0},null,{"$error":"#DIV/0!"},{"$error":"#DIV/0!"},1431]
[null,1431,null,null,null,null,null,null,null,null,null,null,null,null,null,null,null,null,null,null,null,null,null,null,null,null,null,null,null,null,null,null,null,null,null,null,null,null,null,null,null,null,null,null,null,null,null,null,null,null,null,null,null,null,null,null,null,null,null,null,null,null,null,null,null,null,null,null,null,null,null,null,null,{"$f":"INDEX('Fixture Descriptions'!A:K,MATCH('Inspection Form'!H1435,'Fixture Descriptions'!A:A,0),8)","v":{"$error":"#N/A"}},{"$error":"#N/A"},null,{"$error":"#N/A"},1,null,null,null,{"$f":"IFERROR(IF(AND(INDEX(Inventory!CB:CB,MATCH('Inspection Form'!B1435,Inventory!B:B,0))=\"Not Qualified\",INDEX(Inventory!L:L,MATCH('Inspection Form'!B1435,Inventory!B:B,0))<>\"\",$Q$5<>\"Pre\"),0,BY1435*BZ1435), 0)","v":0},null,{"$error":"#DIV/0!"},{"$error":"#DIV/0!"},1432]
[null,1432,null,null,null,null,null,null,null,null,null,null,null,null,null,null,null,null,null,null,null,null,null,null,null,null,null,null,null,null,null,null,null,null,null,null,null,null,null,null,null,null,null,null,null,null,null,null,null,null,null,null,null,null,null,null,null,null,null,null,null,null,null,null,null,null,null,null,null,null,null,null,null,{"$f":"INDEX('Fixture Descriptions'!A:K,MATCH('Inspection Form'!H1436,'Fixture Descriptions'!A:A,0),8)","v":{"$error":"#N/A"}},{"$error":"#N/A"},null,{"$error":"#N/A"},1,null,null,null,{"$f":"IFERROR(IF(AND(INDEX(Inventory!CB:CB,MATCH('Inspection Form'!B1436,Inventory!B:B,0))=\"Not Qualified\",INDEX(Inventory!L:L,MATCH('Inspection Form'!B1436,Inventory!B:B,0))<>\"\",$Q$5<>\"Pre\"),0,BY1436*BZ1436), 0)","v":0},null,{"$error":"#DIV/0!"},{"$error":"#DIV/0!"},1433]
[null,1433,null,null,null,null,null,null,null,null,null,null,null,null,null,null,null,null,null,null,null,null,null,null,null,null,null,null,null,null,null,null,null,null,null,null,null,null,null,null,null,null,null,null,null,null,null,null,null,null,null,null,null,null,null,null,null,null,null,null,null,null,null,null,null,null,null,null,null,null,null,null,null,{"$f":"INDEX('Fixture Descriptions'!A:K,MATCH('Inspection Form'!H1437,'Fixture Descriptions'!A:A,0),8)","v":{"$error":"#N/A"}},{"$error":"#N/A"},null,{"$error":"#N/A"},1,null,null,null,{"$f":"IFERROR(IF(AND(INDEX(Inventory!CB:CB,MATCH('Inspection Form'!B1437,Inventory!B:B,0))=\"Not Qualified\",INDEX(Inventory!L:L,MATCH('Inspection Form'!B1437,Inventory!B:B,0))<>\"\",$Q$5<>\"Pre\"),0,BY1437*BZ1437), 0)","v":0},null,{"$error":"#DIV/0!"},{"$error":"#DIV/0!"},1434]
[null,1434,null,null,null,null,null,null,null,null,null,null,null,null,null,null,null,null,null,null,null,null,null,null,null,null,null,null,null,null,null,null,null,null,null,null,null,null,null,null,null,null,null,null,null,null,null,null,null,null,null,null,null,null,null,null,null,null,null,null,null,null,null,null,null,null,null,null,null,null,null,null,null,{"$f":"INDEX('Fixture Descriptions'!A:K,MATCH('Inspection Form'!H1438,'Fixture Descriptions'!A:A,0),8)","v":{"$error":"#N/A"}},{"$error":"#N/A"},null,{"$error":"#N/A"},1,null,null,null,{"$f":"IFERROR(IF(AND(INDEX(Inventory!CB:CB,MATCH('Inspection Form'!B1438,Inventory!B:B,0))=\"Not Qualified\",INDEX(Inventory!L:L,MATCH('Inspection Form'!B1438,Inventory!B:B,0))<>\"\",$Q$5<>\"Pre\"),0,BY1438*BZ1438), 0)","v":0},null,{"$error":"#DIV/0!"},{"$error":"#DIV/0!"},1435]
[null,1435,null,null,null,null,null,null,null,null,null,null,null,null,null,null,null,null,null,null,null,null,null,null,null,null,null,null,null,null,null,null,null,null,null,null,null,null,null,null,null,null,null,null,null,null,null,null,null,null,null,null,null,null,null,null,null,null,null,null,null,null,null,null,null,null,null,null,null,null,null,null,null,{"$f":"INDEX('Fixture Descriptions'!A:K,MATCH('Inspection Form'!H1439,'Fixture Descriptions'!A:A,0),8)","v":{"$error":"#N/A"}},{"$error":"#N/A"},null,{"$error":"#N/A"},1,null,null,null,{"$f":"IFERROR(IF(AND(INDEX(Inventory!CB:CB,MATCH('Inspection Form'!B1439,Inventory!B:B,0))=\"Not Qualified\",INDEX(Inventory!L:L,MATCH('Inspection Form'!B1439,Inventory!B:B,0))<>\"\",$Q$5<>\"Pre\"),0,BY1439*BZ1439), 0)","v":0},null,{"$error":"#DIV/0!"},{"$error":"#DIV/0!"},1436]
[null,1436,null,null,null,null,null,null,null,null,null,null,null,null,null,null,null,null,null,null,null,null,null,null,null,null,null,null,null,null,null,null,null,null,null,null,null,null,null,null,null,null,null,null,null,null,null,null,null,null,null,null,null,null,null,null,null,null,null,null,null,null,null,null,null,null,null,null,null,null,null,null,null,{"$f":"INDEX('Fixture Descriptions'!A:K,MATCH('Inspection Form'!H1440,'Fixture Descriptions'!A:A,0),8)","v":{"$error":"#N/A"}},{"$error":"#N/A"},null,{"$error":"#N/A"},1,null,null,null,{"$f":"IFERROR(IF(AND(INDEX(Inventory!CB:CB,MATCH('Inspection Form'!B1440,Inventory!B:B,0))=\"Not Qualified\",INDEX(Inventory!L:L,MATCH('Inspection Form'!B1440,Inventory!B:B,0))<>\"\",$Q$5<>\"Pre\"),0,BY1440*BZ1440), 0)","v":0},null,{"$error":"#DIV/0!"},{"$error":"#DIV/0!"},1437]
[null,1437,null,null,null,null,null,null,null,null,null,null,null,null,null,null,null,null,null,null,null,null,null,null,null,null,null,null,null,null,null,null,null,null,null,null,null,null,null,null,null,null,null,null,null,null,null,null,null,null,null,null,null,null,null,null,null,null,null,null,null,null,null,null,null,null,null,null,null,null,null,null,null,{"$f":"INDEX('Fixture Descriptions'!A:K,MATCH('Inspection Form'!H1441,'Fixture Descriptions'!A:A,0),8)","v":{"$error":"#N/A"}},{"$error":"#N/A"},null,{"$error":"#N/A"},1,null,null,null,{"$f":"IFERROR(IF(AND(INDEX(Inventory!CB:CB,MATCH('Inspection Form'!B1441,Inventory!B:B,0))=\"Not Qualified\",INDEX(Inventory!L:L,MATCH('Inspection Form'!B1441,Inventory!B:B,0))<>\"\",$Q$5<>\"Pre\"),0,BY1441*BZ1441), 0)","v":0},null,{"$error":"#DIV/0!"},{"$error":"#DIV/0!"},1438]
[null,1438,null,null,null,null,null,null,null,null,null,null,null,null,null,null,null,null,null,null,null,null,null,null,null,null,null,null,null,null,null,null,null,null,null,null,null,null,null,null,null,null,null,null,null,null,null,null,null,null,null,null,null,null,null,null,null,null,null,null,null,null,null,null,null,null,null,null,null,null,null,null,null,{"$f":"INDEX('Fixture Descriptions'!A:K,MATCH('Inspection Form'!H1442,'Fixture Descriptions'!A:A,0),8)","v":{"$error":"#N/A"}},{"$error":"#N/A"},null,{"$error":"#N/A"},1,null,null,null,{"$f":"IFERROR(IF(AND(INDEX(Inventory!CB:CB,MATCH('Inspection Form'!B1442,Inventory!B:B,0))=\"Not Qualified\",INDEX(Inventory!L:L,MATCH('Inspection Form'!B1442,Inventory!B:B,0))<>\"\",$Q$5<>\"Pre\"),0,BY1442*BZ1442), 0)","v":0},null,{"$error":"#DIV/0!"},{"$error":"#DIV/0!"},1439]
[null,1439,null,null,null,null,null,null,null,null,null,null,null,null,null,null,null,null,null,null,null,null,null,null,null,null,null,null,null,null,null,null,null,null,null,null,null,null,null,null,null,null,null,null,null,null,null,null,null,null,null,null,null,null,null,null,null,null,null,null,null,null,null,null,null,null,null,null,null,null,null,null,null,{"$f":"INDEX('Fixture Descriptions'!A:K,MATCH('Inspection Form'!H1443,'Fixture Descriptions'!A:A,0),8)","v":{"$error":"#N/A"}},{"$error":"#N/A"},null,{"$error":"#N/A"},1,null,null,null,{"$f":"IFERROR(IF(AND(INDEX(Inventory!CB:CB,MATCH('Inspection Form'!B1443,Inventory!B:B,0))=\"Not Qualified\",INDEX(Inventory!L:L,MATCH('Inspection Form'!B1443,Inventory!B:B,0))<>\"\",$Q$5<>\"Pre\"),0,BY1443*BZ1443), 0)","v":0},null,{"$error":"#DIV/0!"},{"$error":"#DIV/0!"},1440]
[null,1440,null,null,null,null,null,null,null,null,null,null,null,null,null,null,null,null,null,null,null,null,null,null,null,null,null,null,null,null,null,null,null,null,null,null,null,null,null,null,null,null,null,null,null,null,null,null,null,null,null,null,null,null,null,null,null,null,null,null,null,null,null,null,null,null,null,null,null,null,null,null,null,{"$f":"INDEX('Fixture Descriptions'!A:K,MATCH('Inspection Form'!H1444,'Fixture Descriptions'!A:A,0),8)","v":{"$error":"#N/A"}},{"$error":"#N/A"},null,{"$error":"#N/A"},1,null,null,null,{"$f":"IFERROR(IF(AND(INDEX(Inventory!CB:CB,MATCH('Inspection Form'!B1444,Inventory!B:B,0))=\"Not Qualified\",INDEX(Inventory!L:L,MATCH('Inspection Form'!B1444,Inventory!B:B,0))<>\"\",$Q$5<>\"Pre\"),0,BY1444*BZ1444), 0)","v":0},null,{"$error":"#DIV/0!"},{"$error":"#DIV/0!"},1441]
[null,1441,null,null,null,null,null,null,null,null,null,null,null,null,null,null,null,null,null,null,null,null,null,null,null,null,null,null,null,null,null,null,null,null,null,null,null,null,null,null,null,null,null,null,null,null,null,null,null,null,null,null,null,null,null,null,null,null,null,null,null,null,null,null,null,null,null,null,null,null,null,null,null,{"$f":"INDEX('Fixture Descriptions'!A:K,MATCH('Inspection Form'!H1445,'Fixture Descriptions'!A:A,0),8)","v":{"$error":"#N/A"}},{"$error":"#N/A"},null,{"$error":"#N/A"},1,null,null,null,{"$f":"IFERROR(IF(AND(INDEX(Inventory!CB:CB,MATCH('Inspection Form'!B1445,Inventory!B:B,0))=\"Not Qualified\",INDEX(Inventory!L:L,MATCH('Inspection Form'!B1445,Inventory!B:B,0))<>\"\",$Q$5<>\"Pre\"),0,BY1445*BZ1445), 0)","v":0},null,{"$error":"#DIV/0!"},{"$error":"#DIV/0!"},1442]
[null,1442,null,null,null,null,null,null,null,null,null,null,null,null,null,null,null,null,null,null,null,null,null,null,null,null,null,null,null,null,null,null,null,null,null,null,null,null,null,null,null,null,null,null,null,null,null,null,null,null,null,null,null,null,null,null,null,null,null,null,null,null,null,null,null,null,null,null,null,null,null,null,null,{"$f":"INDEX('Fixture Descriptions'!A:K,MATCH('Inspection Form'!H1446,'Fixture Descriptions'!A:A,0),8)","v":{"$error":"#N/A"}},{"$error":"#N/A"},null,{"$error":"#N/A"},1,null,null,null,{"$f":"IFERROR(IF(AND(INDEX(Inventory!CB:CB,MATCH('Inspection Form'!B1446,Inventory!B:B,0))=\"Not Qualified\",INDEX(Inventory!L:L,MATCH('Inspection Form'!B1446,Inventory!B:B,0))<>\"\",$Q$5<>\"Pre\"),0,BY1446*BZ1446), 0)","v":0},null,{"$error":"#DIV/0!"},{"$error":"#DIV/0!"},1443]
[null,1443,null,null,null,null,null,null,null,null,null,null,null,null,null,null,null,null,null,null,null,null,null,null,null,null,null,null,null,null,null,null,null,null,null,null,null,null,null,null,null,null,null,null,null,null,null,null,null,null,null,null,null,null,null,null,null,null,null,null,null,null,null,null,null,null,null,null,null,null,null,null,null,{"$f":"INDEX('Fixture Descriptions'!A:K,MATCH('Inspection Form'!H1447,'Fixture Descriptions'!A:A,0),8)","v":{"$error":"#N/A"}},{"$error":"#N/A"},null,{"$error":"#N/A"},1,null,null,null,{"$f":"IFERROR(IF(AND(INDEX(Inventory!CB:CB,MATCH('Inspection Form'!B1447,Inventory!B:B,0))=\"Not Qualified\",INDEX(Inventory!L:L,MATCH('Inspection Form'!B1447,Inventory!B:B,0))<>\"\",$Q$5<>\"Pre\"),0,BY1447*BZ1447), 0)","v":0},null,{"$error":"#DIV/0!"},{"$error":"#DIV/0!"},1444]
[null,1444,null,null,null,null,null,null,null,null,null,null,null,null,null,null,null,null,null,null,null,null,null,null,null,null,null,null,null,null,null,null,null,null,null,null,null,null,null,null,null,null,null,null,null,null,null,null,null,null,null,null,null,null,null,null,null,null,null,null,null,null,null,null,null,null,null,null,null,null,null,null,null,{"$f":"INDEX('Fixture Descriptions'!A:K,MATCH('Inspection Form'!H1448,'Fixture Descriptions'!A:A,0),8)","v":{"$error":"#N/A"}},{"$error":"#N/A"},null,{"$error":"#N/A"},1,null,null,null,{"$f":"IFERROR(IF(AND(INDEX(Inventory!CB:CB,MATCH('Inspection Form'!B1448,Inventory!B:B,0))=\"Not Qualified\",INDEX(Inventory!L:L,MATCH('Inspection Form'!B1448,Inventory!B:B,0))<>\"\",$Q$5<>\"Pre\"),0,BY1448*BZ1448), 0)","v":0},null,{"$error":"#DIV/0!"},{"$error":"#DIV/0!"},1445]
[null,1445,null,null,null,null,null,null,null,null,null,null,null,null,null,null,null,null,null,null,null,null,null,null,null,null,null,null,null,null,null,null,null,null,null,null,null,null,null,null,null,null,null,null,null,null,null,null,null,null,null,null,null,null,null,null,null,null,null,null,null,null,null,null,null,null,null,null,null,null,null,null,null,{"$f":"INDEX('Fixture Descriptions'!A:K,MATCH('Inspection Form'!H1449,'Fixture Descriptions'!A:A,0),8)","v":{"$error":"#N/A"}},{"$error":"#N/A"},null,{"$error":"#N/A"},1,null,null,null,{"$f":"IFERROR(IF(AND(INDEX(Inventory!CB:CB,MATCH('Inspection Form'!B1449,Inventory!B:B,0))=\"Not Qualified\",INDEX(Inventory!L:L,MATCH('Inspection Form'!B1449,Inventory!B:B,0))<>\"\",$Q$5<>\"Pre\"),0,BY1449*BZ1449), 0)","v":0},null,{"$error":"#DIV/0!"},{"$error":"#DIV/0!"},1446]
[null,1446,null,null,null,null,null,null,null,null,null,null,null,null,null,null,null,null,null,null,null,null,null,null,null,null,null,null,null,null,null,null,null,null,null,null,null,null,null,null,null,null,null,null,null,null,null,null,null,null,null,null,null,null,null,null,null,null,null,null,null,null,null,null,null,null,null,null,null,null,null,null,null,{"$f":"INDEX('Fixture Descriptions'!A:K,MATCH('Inspection Form'!H1450,'Fixture Descriptions'!A:A,0),8)","v":{"$error":"#N/A"}},{"$error":"#N/A"},null,{"$error":"#N/A"},1,null,null,null,{"$f":"IFERROR(IF(AND(INDEX(Inventory!CB:CB,MATCH('Inspection Form'!B1450,Inventory!B:B,0))=\"Not Qualified\",INDEX(Inventory!L:L,MATCH('Inspection Form'!B1450,Inventory!B:B,0))<>\"\",$Q$5<>\"Pre\"),0,BY1450*BZ1450), 0)","v":0},null,{"$error":"#DIV/0!"},{"$error":"#DIV/0!"},1447]
[null,1447,null,null,null,null,null,null,null,null,null,null,null,null,null,null,null,null,null,null,null,null,null,null,null,null,null,null,null,null,null,null,null,null,null,null,null,null,null,null,null,null,null,null,null,null,null,null,null,null,null,null,null,null,null,null,null,null,null,null,null,null,null,null,null,null,null,null,null,null,null,null,null,{"$f":"INDEX('Fixture Descriptions'!A:K,MATCH('Inspection Form'!H1451,'Fixture Descriptions'!A:A,0),8)","v":{"$error":"#N/A"}},{"$error":"#N/A"},null,{"$error":"#N/A"},1,null,null,null,{"$f":"IFERROR(IF(AND(INDEX(Inventory!CB:CB,MATCH('Inspection Form'!B1451,Inventory!B:B,0))=\"Not Qualified\",INDEX(Inventory!L:L,MATCH('Inspection Form'!B1451,Inventory!B:B,0))<>\"\",$Q$5<>\"Pre\"),0,BY1451*BZ1451), 0)","v":0},null,{"$error":"#DIV/0!"},{"$error":"#DIV/0!"},1448]
[null,1448,null,null,null,null,null,null,null,null,null,null,null,null,null,null,null,null,null,null,null,null,null,null,null,null,null,null,null,null,null,null,null,null,null,null,null,null,null,null,null,null,null,null,null,null,null,null,null,null,null,null,null,null,null,null,null,null,null,null,null,null,null,null,null,null,null,null,null,null,null,null,null,{"$f":"INDEX('Fixture Descriptions'!A:K,MATCH('Inspection Form'!H1452,'Fixture Descriptions'!A:A,0),8)","v":{"$error":"#N/A"}},{"$error":"#N/A"},null,{"$error":"#N/A"},1,null,null,null,{"$f":"IFERROR(IF(AND(INDEX(Inventory!CB:CB,MATCH('Inspection Form'!B1452,Inventory!B:B,0))=\"Not Qualified\",INDEX(Inventory!L:L,MATCH('Inspection Form'!B1452,Inventory!B:B,0))<>\"\",$Q$5<>\"Pre\"),0,BY1452*BZ1452), 0)","v":0},null,{"$error":"#DIV/0!"},{"$error":"#DIV/0!"},1449]
[null,1449,null,null,null,null,null,null,null,null,null,null,null,null,null,null,null,null,null,null,null,null,null,null,null,null,null,null,null,null,null,null,null,null,null,null,null,null,null,null,null,null,null,null,null,null,null,null,null,null,null,null,null,null,null,null,null,null,null,null,null,null,null,null,null,null,null,null,null,null,null,null,null,{"$f":"INDEX('Fixture Descriptions'!A:K,MATCH('Inspection Form'!H1453,'Fixture Descriptions'!A:A,0),8)","v":{"$error":"#N/A"}},{"$error":"#N/A"},null,{"$error":"#N/A"},1,null,null,null,{"$f":"IFERROR(IF(AND(INDEX(Inventory!CB:CB,MATCH('Inspection Form'!B1453,Inventory!B:B,0))=\"Not Qualified\",INDEX(Inventory!L:L,MATCH('Inspection Form'!B1453,Inventory!B:B,0))<>\"\",$Q$5<>\"Pre\"),0,BY1453*BZ1453), 0)","v":0},null,{"$error":"#DIV/0!"},{"$error":"#DIV/0!"},1450]
[null,1450,null,null,null,null,null,null,null,null,null,null,null,null,null,null,null,null,null,null,null,null,null,null,null,null,null,null,null,null,null,null,null,null,null,null,null,null,null,null,null,null,null,null,null,null,null,null,null,null,null,null,null,null,null,null,null,null,null,null,null,null,null,null,null,null,null,null,null,null,null,null,null,{"$f":"INDEX('Fixture Descriptions'!A:K,MATCH('Inspection Form'!H1454,'Fixture Descriptions'!A:A,0),8)","v":{"$error":"#N/A"}},{"$error":"#N/A"},null,{"$error":"#N/A"},1,null,null,null,{"$f":"IFERROR(IF(AND(INDEX(Inventory!CB:CB,MATCH('Inspection Form'!B1454,Inventory!B:B,0))=\"Not Qualified\",INDEX(Inventory!L:L,MATCH('Inspection Form'!B1454,Inventory!B:B,0))<>\"\",$Q$5<>\"Pre\"),0,BY1454*BZ1454), 0)","v":0},null,{"$error":"#DIV/0!"},{"$error":"#DIV/0!"},1451]
[null,1451,null,null,null,null,null,null,null,null,null,null,null,null,null,null,null,null,null,null,null,null,null,null,null,null,null,null,null,null,null,null,null,null,null,null,null,null,null,null,null,null,null,null,null,null,null,null,null,null,null,null,null,null,null,null,null,null,null,null,null,null,null,null,null,null,null,null,null,null,null,null,null,{"$f":"INDEX('Fixture Descriptions'!A:K,MATCH('Inspection Form'!H1455,'Fixture Descriptions'!A:A,0),8)","v":{"$error":"#N/A"}},{"$error":"#N/A"},null,{"$error":"#N/A"},1,null,null,null,{"$f":"IFERROR(IF(AND(INDEX(Inventory!CB:CB,MATCH('Inspection Form'!B1455,Inventory!B:B,0))=\"Not Qualified\",INDEX(Inventory!L:L,MATCH('Inspection Form'!B1455,Inventory!B:B,0))<>\"\",$Q$5<>\"Pre\"),0,BY1455*BZ1455), 0)","v":0},null,{"$error":"#DIV/0!"},{"$error":"#DIV/0!"},1452]
[null,1452,null,null,null,null,null,null,null,null,null,null,null,null,null,null,null,null,null,null,null,null,null,null,null,null,null,null,null,null,null,null,null,null,null,null,null,null,null,null,null,null,null,null,null,null,null,null,null,null,null,null,null,null,null,null,null,null,null,null,null,null,null,null,null,null,null,null,null,null,null,null,null,{"$f":"INDEX('Fixture Descriptions'!A:K,MATCH('Inspection Form'!H1456,'Fixture Descriptions'!A:A,0),8)","v":{"$error":"#N/A"}},{"$error":"#N/A"},null,{"$error":"#N/A"},1,null,null,null,{"$f":"IFERROR(IF(AND(INDEX(Inventory!CB:CB,MATCH('Inspection Form'!B1456,Inventory!B:B,0))=\"Not Qualified\",INDEX(Inventory!L:L,MATCH('Inspection Form'!B1456,Inventory!B:B,0))<>\"\",$Q$5<>\"Pre\"),0,BY1456*BZ1456), 0)","v":0},null,{"$error":"#DIV/0!"},{"$error":"#DIV/0!"},1453]
[null,1453,null,null,null,null,null,null,null,null,null,null,null,null,null,null,null,null,null,null,null,null,null,null,null,null,null,null,null,null,null,null,null,null,null,null,null,null,null,null,null,null,null,null,null,null,null,null,null,null,null,null,null,null,null,null,null,null,null,null,null,null,null,null,null,null,null,null,null,null,null,null,null,{"$f":"INDEX('Fixture Descriptions'!A:K,MATCH('Inspection Form'!H1457,'Fixture Descriptions'!A:A,0),8)","v":{"$error":"#N/A"}},{"$error":"#N/A"},null,{"$error":"#N/A"},1,null,null,null,{"$f":"IFERROR(IF(AND(INDEX(Inventory!CB:CB,MATCH('Inspection Form'!B1457,Inventory!B:B,0))=\"Not Qualified\",INDEX(Inventory!L:L,MATCH('Inspection Form'!B1457,Inventory!B:B,0))<>\"\",$Q$5<>\"Pre\"),0,BY1457*BZ1457), 0)","v":0},null,{"$error":"#DIV/0!"},{"$error":"#DIV/0!"},1454]
[null,1454,null,null,null,null,null,null,null,null,null,null,null,null,null,null,null,null,null,null,null,null,null,null,null,null,null,null,null,null,null,null,null,null,null,null,null,null,null,null,null,null,null,null,null,null,null,null,null,null,null,null,null,null,null,null,null,null,null,null,null,null,null,null,null,null,null,null,null,null,null,null,null,{"$f":"INDEX('Fixture Descriptions'!A:K,MATCH('Inspection Form'!H1458,'Fixture Descriptions'!A:A,0),8)","v":{"$error":"#N/A"}},{"$error":"#N/A"},null,{"$error":"#N/A"},1,null,null,null,{"$f":"IFERROR(IF(AND(INDEX(Inventory!CB:CB,MATCH('Inspection Form'!B1458,Inventory!B:B,0))=\"Not Qualified\",INDEX(Inventory!L:L,MATCH('Inspection Form'!B1458,Inventory!B:B,0))<>\"\",$Q$5<>\"Pre\"),0,BY1458*BZ1458), 0)","v":0},null,{"$error":"#DIV/0!"},{"$error":"#DIV/0!"},1455]
[null,1455,null,null,null,null,null,null,null,null,null,null,null,null,null,null,null,null,null,null,null,null,null,null,null,null,null,null,null,null,null,null,null,null,null,null,null,null,null,null,null,null,null,null,null,null,null,null,null,null,null,null,null,null,null,null,null,null,null,null,null,null,null,null,null,null,null,null,null,null,null,null,null,{"$f":"INDEX('Fixture Descriptions'!A:K,MATCH('Inspection Form'!H1459,'Fixture Descriptions'!A:A,0),8)","v":{"$error":"#N/A"}},{"$f":"BV1459*I1459","v":{"$error":"#N/A"}},null,{"$f":"BW1459","v":{"$error":"#N/A"}},{"$f":"IF($U$3=\"All\", 1, IF(AND(C1459=$U$3, H1459=$U$4), 1, 0))","v":1},null,null,null,{"$f":"IFERROR(IF(AND(INDEX(Inventory!CB:CB,MATCH('Inspection Form'!B1459,Inventory!B:B,0))=\"Not Qualified\",INDEX(Inventory!L:L,MATCH('Inspection Form'!B1459,Inventory!B:B,0))<>\"\",$Q$5<>\"Pre\"),0,BY1459*BZ1459), 0)","v":0},null,{"$f":"CD1459/$CE$5","v":{"$error":"#DIV/0!"}},{"$f":"CF1459+CG1458","v":{"$error":"#DIV/0!"}},1456]
[null,1456,null,null,null,null,null,null,null,null,null,null,null,null,null,null,null,null,null,null,null,null,null,null,null,null,null,null,null,null,null,null,null,null,null,null,null,null,null,null,null,null,null,null,null,null,null,null,null,null,null,null,null,null,null,null,null,null,null,null,null,null,null,null,null,null,null,null,null,null,null,null,null,{"$f":"INDEX('Fixture Descriptions'!A:K,MATCH('Inspection Form'!H1460,'Fixture Descriptions'!A:A,0),8)","v":{"$error":"#N/A"}},{"$error":"#N/A"},null,{"$error":"#N/A"},1,null,null,null,{"$f":"IFERROR(IF(AND(INDEX(Inventory!CB:CB,MATCH('Inspection Form'!B1460,Inventory!B:B,0))=\"Not Qualified\",INDEX(Inventory!L:L,MATCH('Inspection Form'!B1460,Inventory!B:B,0))<>\"\",$Q$5<>\"Pre\"),0,BY1460*BZ1460), 0)","v":0},null,{"$error":"#DIV/0!"},{"$error":"#DIV/0!"},1457]
[null,1457,null,null,null,null,null,null,null,null,null,null,null,null,null,null,null,null,null,null,null,null,null,null,null,null,null,null,null,null,null,null,null,null,null,null,null,null,null,null,null,null,null,null,null,null,null,null,null,null,null,null,null,null,null,null,null,null,null,null,null,null,null,null,null,null,null,null,null,null,null,null,null,{"$f":"INDEX('Fixture Descriptions'!A:K,MATCH('Inspection Form'!H1461,'Fixture Descriptions'!A:A,0),8)","v":{"$error":"#N/A"}},{"$error":"#N/A"},null,{"$error":"#N/A"},1,null,null,null,{"$f":"IFERROR(IF(AND(INDEX(Inventory!CB:CB,MATCH('Inspection Form'!B1461,Inventory!B:B,0))=\"Not Qualified\",INDEX(Inventory!L:L,MATCH('Inspection Form'!B1461,Inventory!B:B,0))<>\"\",$Q$5<>\"Pre\"),0,BY1461*BZ1461), 0)","v":0},null,{"$error":"#DIV/0!"},{"$error":"#DIV/0!"},1458]
[null,1458,null,null,null,null,null,null,null,null,null,null,null,null,null,null,null,null,null,null,null,null,null,null,null,null,null,null,null,null,null,null,null,null,null,null,null,null,null,null,null,null,null,null,null,null,null,null,null,null,null,null,null,null,null,null,null,null,null,null,null,null,null,null,null,null,null,null,null,null,null,null,null,{"$f":"INDEX('Fixture Descriptions'!A:K,MATCH('Inspection Form'!H1462,'Fixture Descriptions'!A:A,0),8)","v":{"$error":"#N/A"}},{"$error":"#N/A"},null,{"$error":"#N/A"},1,null,null,null,{"$f":"IFERROR(IF(AND(INDEX(Inventory!CB:CB,MATCH('Inspection Form'!B1462,Inventory!B:B,0))=\"Not Qualified\",INDEX(Inventory!L:L,MATCH('Inspection Form'!B1462,Inventory!B:B,0))<>\"\",$Q$5<>\"Pre\"),0,BY1462*BZ1462), 0)","v":0},null,{"$error":"#DIV/0!"},{"$error":"#DIV/0!"},1459]
[null,1459,null,null,null,null,null,null,null,null,null,null,null,null,null,null,null,null,null,null,null,null,null,null,null,null,null,null,null,null,null,null,null,null,null,null,null,null,null,null,null,null,null,null,null,null,null,null,null,null,null,null,null,null,null,null,null,null,null,null,null,null,null,null,null,null,null,null,null,null,null,null,null,{"$f":"INDEX('Fixture Descriptions'!A:K,MATCH('Inspection Form'!H1463,'Fixture Descriptions'!A:A,0),8)","v":{"$error":"#N/A"}},{"$error":"#N/A"},null,{"$error":"#N/A"},1,null,null,null,{"$f":"IFERROR(IF(AND(INDEX(Inventory!CB:CB,MATCH('Inspection Form'!B1463,Inventory!B:B,0))=\"Not Qualified\",INDEX(Inventory!L:L,MATCH('Inspection Form'!B1463,Inventory!B:B,0))<>\"\",$Q$5<>\"Pre\"),0,BY1463*BZ1463), 0)","v":0},null,{"$error":"#DIV/0!"},{"$error":"#DIV/0!"},1460]
[null,1460,null,null,null,null,null,null,null,null,null,null,null,null,null,null,null,null,null,null,null,null,null,null,null,null,null,null,null,null,null,null,null,null,null,null,null,null,null,null,null,null,null,null,null,null,null,null,null,null,null,null,null,null,null,null,null,null,null,null,null,null,null,null,null,null,null,null,null,null,null,null,null,{"$f":"INDEX('Fixture Descriptions'!A:K,MATCH('Inspection Form'!H1464,'Fixture Descriptions'!A:A,0),8)","v":{"$error":"#N/A"}},{"$error":"#N/A"},null,{"$error":"#N/A"},1,null,null,null,{"$f":"IFERROR(IF(AND(INDEX(Inventory!CB:CB,MATCH('Inspection Form'!B1464,Inventory!B:B,0))=\"Not Qualified\",INDEX(Inventory!L:L,MATCH('Inspection Form'!B1464,Inventory!B:B,0))<>\"\",$Q$5<>\"Pre\"),0,BY1464*BZ1464), 0)","v":0},null,{"$error":"#DIV/0!"},{"$error":"#DIV/0!"},1461]
[null,1461,null,null,null,null,null,null,null,null,null,null,null,null,null,null,null,null,null,null,null,null,null,null,null,null,null,null,null,null,null,null,null,null,null,null,null,null,null,null,null,null,null,null,null,null,null,null,null,null,null,null,null,null,null,null,null,null,null,null,null,null,null,null,null,null,null,null,null,null,null,null,null,{"$f":"INDEX('Fixture Descriptions'!A:K,MATCH('Inspection Form'!H1465,'Fixture Descriptions'!A:A,0),8)","v":{"$error":"#N/A"}},{"$error":"#N/A"},null,{"$error":"#N/A"},1,null,null,null,{"$f":"IFERROR(IF(AND(INDEX(Inventory!CB:CB,MATCH('Inspection Form'!B1465,Inventory!B:B,0))=\"Not Qualified\",INDEX(Inventory!L:L,MATCH('Inspection Form'!B1465,Inventory!B:B,0))<>\"\",$Q$5<>\"Pre\"),0,BY1465*BZ1465), 0)","v":0},null,{"$error":"#DIV/0!"},{"$error":"#DIV/0!"},1462]
[null,1462,null,null,null,null,null,null,null,null,null,null,null,null,null,null,null,null,null,null,null,null,null,null,null,null,null,null,null,null,null,null,null,null,null,null,null,null,null,null,null,null,null,null,null,null,null,null,null,null,null,null,null,null,null,null,null,null,null,null,null,null,null,null,null,null,null,null,null,null,null,null,null,{"$f":"INDEX('Fixture Descriptions'!A:K,MATCH('Inspection Form'!H1466,'Fixture Descriptions'!A:A,0),8)","v":{"$error":"#N/A"}},{"$error":"#N/A"},null,{"$error":"#N/A"},1,null,null,null,{"$f":"IFERROR(IF(AND(INDEX(Inventory!CB:CB,MATCH('Inspection Form'!B1466,Inventory!B:B,0))=\"Not Qualified\",INDEX(Inventory!L:L,MATCH('Inspection Form'!B1466,Inventory!B:B,0))<>\"\",$Q$5<>\"Pre\"),0,BY1466*BZ1466), 0)","v":0},null,{"$error":"#DIV/0!"},{"$error":"#DIV/0!"},1463]
[null,1463,null,null,null,null,null,null,null,null,null,null,null,null,null,null,null,null,null,null,null,null,null,null,null,null,null,null,null,null,null,null,null,null,null,null,null,null,null,null,null,null,null,null,null,null,null,null,null,null,null,null,null,null,null,null,null,null,null,null,null,null,null,null,null,null,null,null,null,null,null,null,null,{"$f":"INDEX('Fixture Descriptions'!A:K,MATCH('Inspection Form'!H1467,'Fixture Descriptions'!A:A,0),8)","v":{"$error":"#N/A"}},{"$error":"#N/A"},null,{"$error":"#N/A"},1,null,null,null,{"$f":"IFERROR(IF(AND(INDEX(Inventory!CB:CB,MATCH('Inspection Form'!B1467,Inventory!B:B,0))=\"Not Qualified\",INDEX(Inventory!L:L,MATCH('Inspection Form'!B1467,Inventory!B:B,0))<>\"\",$Q$5<>\"Pre\"),0,BY1467*BZ1467), 0)","v":0},null,{"$error":"#DIV/0!"},{"$error":"#DIV/0!"},1464]
[null,1464,null,null,null,null,null,null,null,null,null,null,null,null,null,null,null,null,null,null,null,null,null,null,null,null,null,null,null,null,null,null,null,null,null,null,null,null,null,null,null,null,null,null,null,null,null,null,null,null,null,null,null,null,null,null,null,null,null,null,null,null,null,null,null,null,null,null,null,null,null,null,null,{"$f":"INDEX('Fixture Descriptions'!A:K,MATCH('Inspection Form'!H1468,'Fixture Descriptions'!A:A,0),8)","v":{"$error":"#N/A"}},{"$error":"#N/A"},null,{"$error":"#N/A"},1,null,null,null,{"$f":"IFERROR(IF(AND(INDEX(Inventory!CB:CB,MATCH('Inspection Form'!B1468,Inventory!B:B,0))=\"Not Qualified\",INDEX(Inventory!L:L,MATCH('Inspection Form'!B1468,Inventory!B:B,0))<>\"\",$Q$5<>\"Pre\"),0,BY1468*BZ1468), 0)","v":0},null,{"$error":"#DIV/0!"},{"$error":"#DIV/0!"},1465]
[null,1465,null,null,null,null,null,null,null,null,null,null,null,null,null,null,null,null,null,null,null,null,null,null,null,null,null,null,null,null,null,null,null,null,null,null,null,null,null,null,null,null,null,null,null,null,null,null,null,null,null,null,null,null,null,null,null,null,null,null,null,null,null,null,null,null,null,null,null,null,null,null,null,{"$f":"INDEX('Fixture Descriptions'!A:K,MATCH('Inspection Form'!H1469,'Fixture Descriptions'!A:A,0),8)","v":{"$error":"#N/A"}},{"$error":"#N/A"},null,{"$error":"#N/A"},1,null,null,null,{"$f":"IFERROR(IF(AND(INDEX(Inventory!CB:CB,MATCH('Inspection Form'!B1469,Inventory!B:B,0))=\"Not Qualified\",INDEX(Inventory!L:L,MATCH('Inspection Form'!B1469,Inventory!B:B,0))<>\"\",$Q$5<>\"Pre\"),0,BY1469*BZ1469), 0)","v":0},null,{"$error":"#DIV/0!"},{"$error":"#DIV/0!"},1466]
[null,1466,null,null,null,null,null,null,null,null,null,null,null,null,null,null,null,null,null,null,null,null,null,null,null,null,null,null,null,null,null,null,null,null,null,null,null,null,null,null,null,null,null,null,null,null,null,null,null,null,null,null,null,null,null,null,null,null,null,null,null,null,null,null,null,null,null,null,null,null,null,null,null,{"$f":"INDEX('Fixture Descriptions'!A:K,MATCH('Inspection Form'!H1470,'Fixture Descriptions'!A:A,0),8)","v":{"$error":"#N/A"}},{"$error":"#N/A"},null,{"$error":"#N/A"},1,null,null,null,{"$f":"IFERROR(IF(AND(INDEX(Inventory!CB:CB,MATCH('Inspection Form'!B1470,Inventory!B:B,0))=\"Not Qualified\",INDEX(Inventory!L:L,MATCH('Inspection Form'!B1470,Inventory!B:B,0))<>\"\",$Q$5<>\"Pre\"),0,BY1470*BZ1470), 0)","v":0},null,{"$error":"#DIV/0!"},{"$error":"#DIV/0!"},1467]
[null,1467,null,null,null,null,null,null,null,null,null,null,null,null,null,null,null,null,null,null,null,null,null,null,null,null,null,null,null,null,null,null,null,null,null,null,null,null,null,null,null,null,null,null,null,null,null,null,null,null,null,null,null,null,null,null,null,null,null,null,null,null,null,null,null,null,null,null,null,null,null,null,null,{"$f":"INDEX('Fixture Descriptions'!A:K,MATCH('Inspection Form'!H1471,'Fixture Descriptions'!A:A,0),8)","v":{"$error":"#N/A"}},{"$error":"#N/A"},null,{"$error":"#N/A"},1,null,null,null,{"$f":"IFERROR(IF(AND(INDEX(Inventory!CB:CB,MATCH('Inspection Form'!B1471,Inventory!B:B,0))=\"Not Qualified\",INDEX(Inventory!L:L,MATCH('Inspection Form'!B1471,Inventory!B:B,0))<>\"\",$Q$5<>\"Pre\"),0,BY1471*BZ1471), 0)","v":0},null,{"$error":"#DIV/0!"},{"$error":"#DIV/0!"},1468]
[null,1468,null,null,null,null,null,null,null,null,null,null,null,null,null,null,null,null,null,null,null,null,null,null,null,null,null,null,null,null,null,null,null,null,null,null,null,null,null,null,null,null,null,null,null,null,null,null,null,null,null,null,null,null,null,null,null,null,null,null,null,null,null,null,null,null,null,null,null,null,null,null,null,{"$f":"INDEX('Fixture Descriptions'!A:K,MATCH('Inspection Form'!H1472,'Fixture Descriptions'!A:A,0),8)","v":{"$error":"#N/A"}},{"$error":"#N/A"},null,{"$error":"#N/A"},1,null,null,null,{"$f":"IFERROR(IF(AND(INDEX(Inventory!CB:CB,MATCH('Inspection Form'!B1472,Inventory!B:B,0))=\"Not Qualified\",INDEX(Inventory!L:L,MATCH('Inspection Form'!B1472,Inventory!B:B,0))<>\"\",$Q$5<>\"Pre\"),0,BY1472*BZ1472), 0)","v":0},null,{"$error":"#DIV/0!"},{"$error":"#DIV/0!"},1469]
[null,1469,null,null,null,null,null,null,null,null,null,null,null,null,null,null,null,null,null,null,null,null,null,null,null,null,null,null,null,null,null,null,null,null,null,null,null,null,null,null,null,null,null,null,null,null,null,null,null,null,null,null,null,null,null,null,null,null,null,null,null,null,null,null,null,null,null,null,null,null,null,null,null,{"$f":"INDEX('Fixture Descriptions'!A:K,MATCH('Inspection Form'!H1473,'Fixture Descriptions'!A:A,0),8)","v":{"$error":"#N/A"}},{"$error":"#N/A"},null,{"$error":"#N/A"},1,null,null,null,{"$f":"IFERROR(IF(AND(INDEX(Inventory!CB:CB,MATCH('Inspection Form'!B1473,Inventory!B:B,0))=\"Not Qualified\",INDEX(Inventory!L:L,MATCH('Inspection Form'!B1473,Inventory!B:B,0))<>\"\",$Q$5<>\"Pre\"),0,BY1473*BZ1473), 0)","v":0},null,{"$error":"#DIV/0!"},{"$error":"#DIV/0!"},1470]
[null,1470,null,null,null,null,null,null,null,null,null,null,null,null,null,null,null,null,null,null,null,null,null,null,null,null,null,null,null,null,null,null,null,null,null,null,null,null,null,null,null,null,null,null,null,null,null,null,null,null,null,null,null,null,null,null,null,null,null,null,null,null,null,null,null,null,null,null,null,null,null,null,null,{"$f":"INDEX('Fixture Descriptions'!A:K,MATCH('Inspection Form'!H1474,'Fixture Descriptions'!A:A,0),8)","v":{"$error":"#N/A"}},{"$error":"#N/A"},null,{"$error":"#N/A"},1,null,null,null,{"$f":"IFERROR(IF(AND(INDEX(Inventory!CB:CB,MATCH('Inspection Form'!B1474,Inventory!B:B,0))=\"Not Qualified\",INDEX(Inventory!L:L,MATCH('Inspection Form'!B1474,Inventory!B:B,0))<>\"\",$Q$5<>\"Pre\"),0,BY1474*BZ1474), 0)","v":0},null,{"$error":"#DIV/0!"},{"$error":"#DIV/0!"},1471]
[null,1471,null,null,null,null,null,null,null,null,null,null,null,null,null,null,null,null,null,null,null,null,null,null,null,null,null,null,null,null,null,null,null,null,null,null,null,null,null,null,null,null,null,null,null,null,null,null,null,null,null,null,null,null,null,null,null,null,null,null,null,null,null,null,null,null,null,null,null,null,null,null,null,{"$f":"INDEX('Fixture Descriptions'!A:K,MATCH('Inspection Form'!H1475,'Fixture Descriptions'!A:A,0),8)","v":{"$error":"#N/A"}},{"$error":"#N/A"},null,{"$error":"#N/A"},1,null,null,null,{"$f":"IFERROR(IF(AND(INDEX(Inventory!CB:CB,MATCH('Inspection Form'!B1475,Inventory!B:B,0))=\"Not Qualified\",INDEX(Inventory!L:L,MATCH('Inspection Form'!B1475,Inventory!B:B,0))<>\"\",$Q$5<>\"Pre\"),0,BY1475*BZ1475), 0)","v":0},null,{"$error":"#DIV/0!"},{"$error":"#DIV/0!"},1472]
[null,1472,null,null,null,null,null,null,null,null,null,null,null,null,null,null,null,null,null,null,null,null,null,null,null,null,null,null,null,null,null,null,null,null,null,null,null,null,null,null,null,null,null,null,null,null,null,null,null,null,null,null,null,null,null,null,null,null,null,null,null,null,null,null,null,null,null,null,null,null,null,null,null,{"$f":"INDEX('Fixture Descriptions'!A:K,MATCH('Inspection Form'!H1476,'Fixture Descriptions'!A:A,0),8)","v":{"$error":"#N/A"}},{"$error":"#N/A"},null,{"$error":"#N/A"},1,null,null,null,{"$f":"IFERROR(IF(AND(INDEX(Inventory!CB:CB,MATCH('Inspection Form'!B1476,Inventory!B:B,0))=\"Not Qualified\",INDEX(Inventory!L:L,MATCH('Inspection Form'!B1476,Inventory!B:B,0))<>\"\",$Q$5<>\"Pre\"),0,BY1476*BZ1476), 0)","v":0},null,{"$error":"#DIV/0!"},{"$error":"#DIV/0!"},1473]
[null,1473,null,null,null,null,null,null,null,null,null,null,null,null,null,null,null,null,null,null,null,null,null,null,null,null,null,null,null,null,null,null,null,null,null,null,null,null,null,null,null,null,null,null,null,null,null,null,null,null,null,null,null,null,null,null,null,null,null,null,null,null,null,null,null,null,null,null,null,null,null,null,null,{"$f":"INDEX('Fixture Descriptions'!A:K,MATCH('Inspection Form'!H1477,'Fixture Descriptions'!A:A,0),8)","v":{"$error":"#N/A"}},{"$error":"#N/A"},null,{"$error":"#N/A"},1,null,null,null,{"$f":"IFERROR(IF(AND(INDEX(Inventory!CB:CB,MATCH('Inspection Form'!B1477,Inventory!B:B,0))=\"Not Qualified\",INDEX(Inventory!L:L,MATCH('Inspection Form'!B1477,Inventory!B:B,0))<>\"\",$Q$5<>\"Pre\"),0,BY1477*BZ1477), 0)","v":0},null,{"$error":"#DIV/0!"},{"$error":"#DIV/0!"},1474]
[null,1474,null,null,null,null,null,null,null,null,null,null,null,null,null,null,null,null,null,null,null,null,null,null,null,null,null,null,null,null,null,null,null,null,null,null,null,null,null,null,null,null,null,null,null,null,null,null,null,null,null,null,null,null,null,null,null,null,null,null,null,null,null,null,null,null,null,null,null,null,null,null,null,{"$f":"INDEX('Fixture Descriptions'!A:K,MATCH('Inspection Form'!H1478,'Fixture Descriptions'!A:A,0),8)","v":{"$error":"#N/A"}},{"$error":"#N/A"},null,{"$error":"#N/A"},1,null,null,null,{"$f":"IFERROR(IF(AND(INDEX(Inventory!CB:CB,MATCH('Inspection Form'!B1478,Inventory!B:B,0))=\"Not Qualified\",INDEX(Inventory!L:L,MATCH('Inspection Form'!B1478,Inventory!B:B,0))<>\"\",$Q$5<>\"Pre\"),0,BY1478*BZ1478), 0)","v":0},null,{"$error":"#DIV/0!"},{"$error":"#DIV/0!"},1475]
[null,1475,null,null,null,null,null,null,null,null,null,null,null,null,null,null,null,null,null,null,null,null,null,null,null,null,null,null,null,null,null,null,null,null,null,null,null,null,null,null,null,null,null,null,null,null,null,null,null,null,null,null,null,null,null,null,null,null,null,null,null,null,null,null,null,null,null,null,null,null,null,null,null,{"$f":"INDEX('Fixture Descriptions'!A:K,MATCH('Inspection Form'!H1479,'Fixture Descriptions'!A:A,0),8)","v":{"$error":"#N/A"}},{"$error":"#N/A"},null,{"$error":"#N/A"},1,null,null,null,{"$f":"IFERROR(IF(AND(INDEX(Inventory!CB:CB,MATCH('Inspection Form'!B1479,Inventory!B:B,0))=\"Not Qualified\",INDEX(Inventory!L:L,MATCH('Inspection Form'!B1479,Inventory!B:B,0))<>\"\",$Q$5<>\"Pre\"),0,BY1479*BZ1479), 0)","v":0},null,{"$error":"#DIV/0!"},{"$error":"#DIV/0!"},1476]
[null,1476,null,null,null,null,null,null,null,null,null,null,null,null,null,null,null,null,null,null,null,null,null,null,null,null,null,null,null,null,null,null,null,null,null,null,null,null,null,null,null,null,null,null,null,null,null,null,null,null,null,null,null,null,null,null,null,null,null,null,null,null,null,null,null,null,null,null,null,null,null,null,null,{"$f":"INDEX('Fixture Descriptions'!A:K,MATCH('Inspection Form'!H1480,'Fixture Descriptions'!A:A,0),8)","v":{"$error":"#N/A"}},{"$error":"#N/A"},null,{"$error":"#N/A"},1,null,null,null,{"$f":"IFERROR(IF(AND(INDEX(Inventory!CB:CB,MATCH('Inspection Form'!B1480,Inventory!B:B,0))=\"Not Qualified\",INDEX(Inventory!L:L,MATCH('Inspection Form'!B1480,Inventory!B:B,0))<>\"\",$Q$5<>\"Pre\"),0,BY1480*BZ1480), 0)","v":0},null,{"$error":"#DIV/0!"},{"$error":"#DIV/0!"},1477]
[null,1477,null,null,null,null,null,null,null,null,null,null,null,null,null,null,null,null,null,null,null,null,null,null,null,null,null,null,null,null,null,null,null,null,null,null,null,null,null,null,null,null,null,null,null,null,null,null,null,null,null,null,null,null,null,null,null,null,null,null,null,null,null,null,null,null,null,null,null,null,null,null,null,{"$f":"INDEX('Fixture Descriptions'!A:K,MATCH('Inspection Form'!H1481,'Fixture Descriptions'!A:A,0),8)","v":{"$error":"#N/A"}},{"$error":"#N/A"},null,{"$error":"#N/A"},1,null,null,null,{"$f":"IFERROR(IF(AND(INDEX(Inventory!CB:CB,MATCH('Inspection Form'!B1481,Inventory!B:B,0))=\"Not Qualified\",INDEX(Inventory!L:L,MATCH('Inspection Form'!B1481,Inventory!B:B,0))<>\"\",$Q$5<>\"Pre\"),0,BY1481*BZ1481), 0)","v":0},null,{"$error":"#DIV/0!"},{"$error":"#DIV/0!"},1478]
[null,1478,null,null,null,null,null,null,null,null,null,null,null,null,null,null,null,null,null,null,null,null,null,null,null,null,null,null,null,null,null,null,null,null,null,null,null,null,null,null,null,null,null,null,null,null,null,null,null,null,null,null,null,null,null,null,null,null,null,null,null,null,null,null,null,null,null,null,null,null,null,null,null,{"$f":"INDEX('Fixture Descriptions'!A:K,MATCH('Inspection Form'!H1482,'Fixture Descriptions'!A:A,0),8)","v":{"$error":"#N/A"}},{"$error":"#N/A"},null,{"$error":"#N/A"},1,null,null,null,{"$f":"IFERROR(IF(AND(INDEX(Inventory!CB:CB,MATCH('Inspection Form'!B1482,Inventory!B:B,0))=\"Not Qualified\",INDEX(Inventory!L:L,MATCH('Inspection Form'!B1482,Inventory!B:B,0))<>\"\",$Q$5<>\"Pre\"),0,BY1482*BZ1482), 0)","v":0},null,{"$error":"#DIV/0!"},{"$error":"#DIV/0!"},1479]
[null,1479,null,null,null,null,null,null,null,null,null,null,null,null,null,null,null,null,null,null,null,null,null,null,null,null,null,null,null,null,null,null,null,null,null,null,null,null,null,null,null,null,null,null,null,null,null,null,null,null,null,null,null,null,null,null,null,null,null,null,null,null,null,null,null,null,null,null,null,null,null,null,null,{"$f":"INDEX('Fixture Descriptions'!A:K,MATCH('Inspection Form'!H1483,'Fixture Descriptions'!A:A,0),8)","v":{"$error":"#N/A"}},{"$error":"#N/A"},null,{"$error":"#N/A"},1,null,null,null,{"$f":"IFERROR(IF(AND(INDEX(Inventory!CB:CB,MATCH('Inspection Form'!B1483,Inventory!B:B,0))=\"Not Qualified\",INDEX(Inventory!L:L,MATCH('Inspection Form'!B1483,Inventory!B:B,0))<>\"\",$Q$5<>\"Pre\"),0,BY1483*BZ1483), 0)","v":0},null,{"$error":"#DIV/0!"},{"$error":"#DIV/0!"},1480]
[null,1480,null,null,null,null,null,null,null,null,null,null,null,null,null,null,null,null,null,null,null,null,null,null,null,null,null,null,null,null,null,null,null,null,null,null,null,null,null,null,null,null,null,null,null,null,null,null,null,null,null,null,null,null,null,null,null,null,null,null,null,null,null,null,null,null,null,null,null,null,null,null,null,{"$f":"INDEX('Fixture Descriptions'!A:K,MATCH('Inspection Form'!H1484,'Fixture Descriptions'!A:A,0),8)","v":{"$error":"#N/A"}},{"$error":"#N/A"},null,{"$error":"#N/A"},1,null,null,null,{"$f":"IFERROR(IF(AND(INDEX(Inventory!CB:CB,MATCH('Inspection Form'!B1484,Inventory!B:B,0))=\"Not Qualified\",INDEX(Inventory!L:L,MATCH('Inspection Form'!B1484,Inventory!B:B,0))<>\"\",$Q$5<>\"Pre\"),0,BY1484*BZ1484), 0)","v":0},null,{"$error":"#DIV/0!"},{"$error":"#DIV/0!"},1481]
[null,1481,null,null,null,null,null,null,null,null,null,null,null,null,null,null,null,null,null,null,null,null,null,null,null,null,null,null,null,null,null,null,null,null,null,null,null,null,null,null,null,null,null,null,null,null,null,null,null,null,null,null,null,null,null,null,null,null,null,null,null,null,null,null,null,null,null,null,null,null,null,null,null,{"$f":"INDEX('Fixture Descriptions'!A:K,MATCH('Inspection Form'!H1485,'Fixture Descriptions'!A:A,0),8)","v":{"$error":"#N/A"}},{"$error":"#N/A"},null,{"$error":"#N/A"},1,null,null,null,{"$f":"IFERROR(IF(AND(INDEX(Inventory!CB:CB,MATCH('Inspection Form'!B1485,Inventory!B:B,0))=\"Not Qualified\",INDEX(Inventory!L:L,MATCH('Inspection Form'!B1485,Inventory!B:B,0))<>\"\",$Q$5<>\"Pre\"),0,BY1485*BZ1485), 0)","v":0},null,{"$error":"#DIV/0!"},{"$error":"#DIV/0!"},1482]
[null,1482,null,null,null,null,null,null,null,null,null,null,null,null,null,null,null,null,null,null,null,null,null,null,null,null,null,null,null,null,null,null,null,null,null,null,null,null,null,null,null,null,null,null,null,null,null,null,null,null,null,null,null,null,null,null,null,null,null,null,null,null,null,null,null,null,null,null,null,null,null,null,null,{"$f":"INDEX('Fixture Descriptions'!A:K,MATCH('Inspection Form'!H1486,'Fixture Descriptions'!A:A,0),8)","v":{"$error":"#N/A"}},{"$error":"#N/A"},null,{"$error":"#N/A"},1,null,null,null,{"$f":"IFERROR(IF(AND(INDEX(Inventory!CB:CB,MATCH('Inspection Form'!B1486,Inventory!B:B,0))=\"Not Qualified\",INDEX(Inventory!L:L,MATCH('Inspection Form'!B1486,Inventory!B:B,0))<>\"\",$Q$5<>\"Pre\"),0,BY1486*BZ1486), 0)","v":0},null,{"$error":"#DIV/0!"},{"$error":"#DIV/0!"},1483]
[null,1483,null,null,null,null,null,null,null,null,null,null,null,null,null,null,null,null,null,null,null,null,null,null,null,null,null,null,null,null,null,null,null,null,null,null,null,null,null,null,null,null,null,null,null,null,null,null,null,null,null,null,null,null,null,null,null,null,null,null,null,null,null,null,null,null,null,null,null,null,null,null,null,{"$f":"INDEX('Fixture Descriptions'!A:K,MATCH('Inspection Form'!H1487,'Fixture Descriptions'!A:A,0),8)","v":{"$error":"#N/A"}},{"$error":"#N/A"},null,{"$error":"#N/A"},1,null,null,null,{"$f":"IFERROR(IF(AND(INDEX(Inventory!CB:CB,MATCH('Inspection Form'!B1487,Inventory!B:B,0))=\"Not Qualified\",INDEX(Inventory!L:L,MATCH('Inspection Form'!B1487,Inventory!B:B,0))<>\"\",$Q$5<>\"Pre\"),0,BY1487*BZ1487), 0)","v":0},null,{"$error":"#DIV/0!"},{"$error":"#DIV/0!"},1484]
[null,1484,null,null,null,null,null,null,null,null,null,null,null,null,null,null,null,null,null,null,null,null,null,null,null,null,null,null,null,null,null,null,null,null,null,null,null,null,null,null,null,null,null,null,null,null,null,null,null,null,null,null,null,null,null,null,null,null,null,null,null,null,null,null,null,null,null,null,null,null,null,null,null,{"$f":"INDEX('Fixture Descriptions'!A:K,MATCH('Inspection Form'!H1488,'Fixture Descriptions'!A:A,0),8)","v":{"$error":"#N/A"}},{"$error":"#N/A"},null,{"$error":"#N/A"},1,null,null,null,{"$f":"IFERROR(IF(AND(INDEX(Inventory!CB:CB,MATCH('Inspection Form'!B1488,Inventory!B:B,0))=\"Not Qualified\",INDEX(Inventory!L:L,MATCH('Inspection Form'!B1488,Inventory!B:B,0))<>\"\",$Q$5<>\"Pre\"),0,BY1488*BZ1488), 0)","v":0},null,{"$error":"#DIV/0!"},{"$error":"#DIV/0!"},1485]
[null,1485,null,null,null,null,null,null,null,null,null,null,null,null,null,null,null,null,null,null,null,null,null,null,null,null,null,null,null,null,null,null,null,null,null,null,null,null,null,null,null,null,null,null,null,null,null,null,null,null,null,null,null,null,null,null,null,null,null,null,null,null,null,null,null,null,null,null,null,null,null,null,null,{"$f":"INDEX('Fixture Descriptions'!A:K,MATCH('Inspection Form'!H1489,'Fixture Descriptions'!A:A,0),8)","v":{"$error":"#N/A"}},{"$error":"#N/A"},null,{"$error":"#N/A"},1,null,null,null,{"$f":"IFERROR(IF(AND(INDEX(Inventory!CB:CB,MATCH('Inspection Form'!B1489,Inventory!B:B,0))=\"Not Qualified\",INDEX(Inventory!L:L,MATCH('Inspection Form'!B1489,Inventory!B:B,0))<>\"\",$Q$5<>\"Pre\"),0,BY1489*BZ1489), 0)","v":0},null,{"$error":"#DIV/0!"},{"$error":"#DIV/0!"},1486]
[null,1486,null,null,null,null,null,null,null,null,null,null,null,null,null,null,null,null,null,null,null,null,null,null,null,null,null,null,null,null,null,null,null,null,null,null,null,null,null,null,null,null,null,null,null,null,null,null,null,null,null,null,null,null,null,null,null,null,null,null,null,null,null,null,null,null,null,null,null,null,null,null,null,{"$f":"INDEX('Fixture Descriptions'!A:K,MATCH('Inspection Form'!H1490,'Fixture Descriptions'!A:A,0),8)","v":{"$error":"#N/A"}},{"$error":"#N/A"},null,{"$error":"#N/A"},1,null,null,null,{"$f":"IFERROR(IF(AND(INDEX(Inventory!CB:CB,MATCH('Inspection Form'!B1490,Inventory!B:B,0))=\"Not Qualified\",INDEX(Inventory!L:L,MATCH('Inspection Form'!B1490,Inventory!B:B,0))<>\"\",$Q$5<>\"Pre\"),0,BY1490*BZ1490), 0)","v":0},null,{"$error":"#DIV/0!"},{"$error":"#DIV/0!"},1487]
[null,1487,null,null,null,null,null,null,null,null,null,null,null,null,null,null,null,null,null,null,null,null,null,null,null,null,null,null,null,null,null,null,null,null,null,null,null,null,null,null,null,null,null,null,null,null,null,null,null,null,null,null,null,null,null,null,null,null,null,null,null,null,null,null,null,null,null,null,null,null,null,null,null,{"$f":"INDEX('Fixture Descriptions'!A:K,MATCH('Inspection Form'!H1491,'Fixture Descriptions'!A:A,0),8)","v":{"$error":"#N/A"}},{"$error":"#N/A"},null,{"$error":"#N/A"},1,null,null,null,{"$f":"IFERROR(IF(AND(INDEX(Inventory!CB:CB,MATCH('Inspection Form'!B1491,Inventory!B:B,0))=\"Not Qualified\",INDEX(Inventory!L:L,MATCH('Inspection Form'!B1491,Inventory!B:B,0))<>\"\",$Q$5<>\"Pre\"),0,BY1491*BZ1491), 0)","v":0},null,{"$error":"#DIV/0!"},{"$error":"#DIV/0!"},1488]
[null,1488,null,null,null,null,null,null,null,null,null,null,null,null,null,null,null,null,null,null,null,null,null,null,null,null,null,null,null,null,null,null,null,null,null,null,null,null,null,null,null,null,null,null,null,null,null,null,null,null,null,null,null,null,null,null,null,null,null,null,null,null,null,null,null,null,null,null,null,null,null,null,null,{"$f":"INDEX('Fixture Descriptions'!A:K,MATCH('Inspection Form'!H1492,'Fixture Descriptions'!A:A,0),8)","v":{"$error":"#N/A"}},{"$error":"#N/A"},null,{"$error":"#N/A"},1,null,null,null,{"$f":"IFERROR(IF(AND(INDEX(Inventory!CB:CB,MATCH('Inspection Form'!B1492,Inventory!B:B,0))=\"Not Qualified\",INDEX(Inventory!L:L,MATCH('Inspection Form'!B1492,Inventory!B:B,0))<>\"\",$Q$5<>\"Pre\"),0,BY1492*BZ1492), 0)","v":0},null,{"$error":"#DIV/0!"},{"$error":"#DIV/0!"},1489]
[null,1489,null,null,null,null,null,null,null,null,null,null,null,null,null,null,null,null,null,null,null,null,null,null,null,null,null,null,null,null,null,null,null,null,null,null,null,null,null,null,null,null,null,null,null,null,null,null,null,null,null,null,null,null,null,null,null,null,null,null,null,null,null,null,null,null,null,null,null,null,null,null,null,{"$f":"INDEX('Fixture Descriptions'!A:K,MATCH('Inspection Form'!H1493,'Fixture Descriptions'!A:A,0),8)","v":{"$error":"#N/A"}},{"$error":"#N/A"},null,{"$error":"#N/A"},1,null,null,null,{"$f":"IFERROR(IF(AND(INDEX(Inventory!CB:CB,MATCH('Inspection Form'!B1493,Inventory!B:B,0))=\"Not Qualified\",INDEX(Inventory!L:L,MATCH('Inspection Form'!B1493,Inventory!B:B,0))<>\"\",$Q$5<>\"Pre\"),0,BY1493*BZ1493), 0)","v":0},null,{"$error":"#DIV/0!"},{"$error":"#DIV/0!"},1490]
[null,1490,null,null,null,null,null,null,null,null,null,null,null,null,null,null,null,null,null,null,null,null,null,null,null,null,null,null,null,null,null,null,null,null,null,null,null,null,null,null,null,null,null,null,null,null,null,null,null,null,null,null,null,null,null,null,null,null,null,null,null,null,null,null,null,null,null,null,null,null,null,null,null,{"$f":"INDEX('Fixture Descriptions'!A:K,MATCH('Inspection Form'!H1494,'Fixture Descriptions'!A:A,0),8)","v":{"$error":"#N/A"}},{"$error":"#N/A"},null,{"$error":"#N/A"},1,null,null,null,{"$f":"IFERROR(IF(AND(INDEX(Inventory!CB:CB,MATCH('Inspection Form'!B1494,Inventory!B:B,0))=\"Not Qualified\",INDEX(Inventory!L:L,MATCH('Inspection Form'!B1494,Inventory!B:B,0))<>\"\",$Q$5<>\"Pre\"),0,BY1494*BZ1494), 0)","v":0},null,{"$error":"#DIV/0!"},{"$error":"#DIV/0!"},1491]
[null,1491,null,null,null,null,null,null,null,null,null,null,null,null,null,null,null,null,null,null,null,null,null,null,null,null,null,null,null,null,null,null,null,null,null,null,null,null,null,null,null,null,null,null,null,null,null,null,null,null,null,null,null,null,null,null,null,null,null,null,null,null,null,null,null,null,null,null,null,null,null,null,null,{"$f":"INDEX('Fixture Descriptions'!A:K,MATCH('Inspection Form'!H1495,'Fixture Descriptions'!A:A,0),8)","v":{"$error":"#N/A"}},{"$error":"#N/A"},null,{"$error":"#N/A"},1,null,null,null,{"$f":"IFERROR(IF(AND(INDEX(Inventory!CB:CB,MATCH('Inspection Form'!B1495,Inventory!B:B,0))=\"Not Qualified\",INDEX(Inventory!L:L,MATCH('Inspection Form'!B1495,Inventory!B:B,0))<>\"\",$Q$5<>\"Pre\"),0,BY1495*BZ1495), 0)","v":0},null,{"$error":"#DIV/0!"},{"$error":"#DIV/0!"},1492]
[null,1492,null,null,null,null,null,null,null,null,null,null,null,null,null,null,null,null,null,null,null,null,null,null,null,null,null,null,null,null,null,null,null,null,null,null,null,null,null,null,null,null,null,null,null,null,null,null,null,null,null,null,null,null,null,null,null,null,null,null,null,null,null,null,null,null,null,null,null,null,null,null,null,{"$f":"INDEX('Fixture Descriptions'!A:K,MATCH('Inspection Form'!H1496,'Fixture Descriptions'!A:A,0),8)","v":{"$error":"#N/A"}},{"$error":"#N/A"},null,{"$error":"#N/A"},1,null,null,null,{"$f":"IFERROR(IF(AND(INDEX(Inventory!CB:CB,MATCH('Inspection Form'!B1496,Inventory!B:B,0))=\"Not Qualified\",INDEX(Inventory!L:L,MATCH('Inspection Form'!B1496,Inventory!B:B,0))<>\"\",$Q$5<>\"Pre\"),0,BY1496*BZ1496), 0)","v":0},null,{"$error":"#DIV/0!"},{"$error":"#DIV/0!"},1493]
[null,1493,null,null,null,null,null,null,null,null,null,null,null,null,null,null,null,null,null,null,null,null,null,null,null,null,null,null,null,null,null,null,null,null,null,null,null,null,null,null,null,null,null,null,null,null,null,null,null,null,null,null,null,null,null,null,null,null,null,null,null,null,null,null,null,null,null,null,null,null,null,null,null,{"$f":"INDEX('Fixture Descriptions'!A:K,MATCH('Inspection Form'!H1497,'Fixture Descriptions'!A:A,0),8)","v":{"$error":"#N/A"}},{"$error":"#N/A"},null,{"$error":"#N/A"},1,null,null,null,{"$f":"IFERROR(IF(AND(INDEX(Inventory!CB:CB,MATCH('Inspection Form'!B1497,Inventory!B:B,0))=\"Not Qualified\",INDEX(Inventory!L:L,MATCH('Inspection Form'!B1497,Inventory!B:B,0))<>\"\",$Q$5<>\"Pre\"),0,BY1497*BZ1497), 0)","v":0},null,{"$error":"#DIV/0!"},{"$error":"#DIV/0!"},1494]
[null,1494,null,null,null,null,null,null,null,null,null,null,null,null,null,null,null,null,null,null,null,null,null,null,null,null,null,null,null,null,null,null,null,null,null,null,null,null,null,null,null,null,null,null,null,null,null,null,null,null,null,null,null,null,null,null,null,null,null,null,null,null,null,null,null,null,null,null,null,null,null,null,null,{"$f":"INDEX('Fixture Descriptions'!A:K,MATCH('Inspection Form'!H1498,'Fixture Descriptions'!A:A,0),8)","v":{"$error":"#N/A"}},{"$error":"#N/A"},null,{"$error":"#N/A"},1,null,null,null,{"$f":"IFERROR(IF(AND(INDEX(Inventory!CB:CB,MATCH('Inspection Form'!B1498,Inventory!B:B,0))=\"Not Qualified\",INDEX(Inventory!L:L,MATCH('Inspection Form'!B1498,Inventory!B:B,0))<>\"\",$Q$5<>\"Pre\"),0,BY1498*BZ1498), 0)","v":0},null,{"$error":"#DIV/0!"},{"$error":"#DIV/0!"},1495]
[null,1495,null,null,null,null,null,null,null,null,null,null,null,null,null,null,null,null,null,null,null,null,null,null,null,null,null,null,null,null,null,null,null,null,null,null,null,null,null,null,null,null,null,null,null,null,null,null,null,null,null,null,null,null,null,null,null,null,null,null,null,null,null,null,null,null,null,null,null,null,null,null,null,{"$f":"INDEX('Fixture Descriptions'!A:K,MATCH('Inspection Form'!H1499,'Fixture Descriptions'!A:A,0),8)","v":{"$error":"#N/A"}},{"$error":"#N/A"},null,{"$error":"#N/A"},1,null,null,null,{"$f":"IFERROR(IF(AND(INDEX(Inventory!CB:CB,MATCH('Inspection Form'!B1499,Inventory!B:B,0))=\"Not Qualified\",INDEX(Inventory!L:L,MATCH('Inspection Form'!B1499,Inventory!B:B,0))<>\"\",$Q$5<>\"Pre\"),0,BY1499*BZ1499), 0)","v":0},null,{"$error":"#DIV/0!"},{"$error":"#DIV/0!"},1496]
[null,1496,null,null,null,null,null,null,null,null,null,null,null,null,null,null,null,null,null,null,null,null,null,null,null,null,null,null,null,null,null,null,null,null,null,null,null,null,null,null,null,null,null,null,null,null,null,null,null,null,null,null,null,null,null,null,null,null,null,null,null,null,null,null,null,null,null,null,null,null,null,null,null,{"$f":"INDEX('Fixture Descriptions'!A:K,MATCH('Inspection Form'!H1500,'Fixture Descriptions'!A:A,0),8)","v":{"$error":"#N/A"}},{"$error":"#N/A"},null,{"$error":"#N/A"},1,null,null,null,{"$f":"IFERROR(IF(AND(INDEX(Inventory!CB:CB,MATCH('Inspection Form'!B1500,Inventory!B:B,0))=\"Not Qualified\",INDEX(Inventory!L:L,MATCH('Inspection Form'!B1500,Inventory!B:B,0))<>\"\",$Q$5<>\"Pre\"),0,BY1500*BZ1500), 0)","v":0},null,{"$error":"#DIV/0!"},{"$error":"#DIV/0!"},1497]
[null,1497,null,null,null,null,null,null,null,null,null,null,null,null,null,null,null,null,null,null,null,null,null,null,null,null,null,null,null,null,null,null,null,null,null,null,null,null,null,null,null,null,null,null,null,null,null,null,null,null,null,null,null,null,null,null,null,null,null,null,null,null,null,null,null,null,null,null,null,null,null,null,null,{"$f":"INDEX('Fixture Descriptions'!A:K,MATCH('Inspection Form'!H1501,'Fixture Descriptions'!A:A,0),8)","v":{"$error":"#N/A"}},{"$error":"#N/A"},null,{"$error":"#N/A"},1,null,null,null,{"$f":"IFERROR(IF(AND(INDEX(Inventory!CB:CB,MATCH('Inspection Form'!B1501,Inventory!B:B,0))=\"Not Qualified\",INDEX(Inventory!L:L,MATCH('Inspection Form'!B1501,Inventory!B:B,0))<>\"\",$Q$5<>\"Pre\"),0,BY1501*BZ1501), 0)","v":0},null,{"$error":"#DIV/0!"},{"$error":"#DIV/0!"},1498]
[null,1498,null,null,null,null,null,null,null,null,null,null,null,null,null,null,null,null,null,null,null,null,null,null,null,null,null,null,null,null,null,null,null,null,null,null,null,null,null,null,null,null,null,null,null,null,null,null,null,null,null,null,null,null,null,null,null,null,null,null,null,null,null,null,null,null,null,null,null,null,null,null,null,{"$f":"INDEX('Fixture Descriptions'!A:K,MATCH('Inspection Form'!H1502,'Fixture Descriptions'!A:A,0),8)","v":{"$error":"#N/A"}},{"$error":"#N/A"},null,{"$error":"#N/A"},1,null,null,null,{"$f":"IFERROR(IF(AND(INDEX(Inventory!CB:CB,MATCH('Inspection Form'!B1502,Inventory!B:B,0))=\"Not Qualified\",INDEX(Inventory!L:L,MATCH('Inspection Form'!B1502,Inventory!B:B,0))<>\"\",$Q$5<>\"Pre\"),0,BY1502*BZ1502), 0)","v":0},null,{"$error":"#DIV/0!"},{"$error":"#DIV/0!"},1499]
[null,1499,null,null,null,null,null,null,null,null,null,null,null,null,null,null,null,null,null,null,null,null,null,null,null,null,null,null,null,null,null,null,null,null,null,null,null,null,null,null,null,null,null,null,null,null,null,null,null,null,null,null,null,null,null,null,null,null,null,null,null,null,null,null,null,null,null,null,null,null,null,null,null,{"$f":"INDEX('Fixture Descriptions'!A:K,MATCH('Inspection Form'!H1503,'Fixture Descriptions'!A:A,0),8)","v":{"$error":"#N/A"}},{"$error":"#N/A"},null,{"$error":"#N/A"},1,null,null,null,{"$f":"IFERROR(IF(AND(INDEX(Inventory!CB:CB,MATCH('Inspection Form'!B1503,Inventory!B:B,0))=\"Not Qualified\",INDEX(Inventory!L:L,MATCH('Inspection Form'!B1503,Inventory!B:B,0))<>\"\",$Q$5<>\"Pre\"),0,BY1503*BZ1503), 0)","v":0},null,{"$error":"#DIV/0!"},{"$error":"#DIV/0!"},1500]
[null,1500,null,null,null,null,null,null,null,null,null,null,null,null,null,null,null,null,null,null,null,null,null,null,null,null,null,null,null,null,null,null,null,null,null,null,null,null,null,null,null,null,null,null,null,null,null,null,null,null,null,null,null,null,null,null,null,null,null,null,null,null,null,null,null,null,null,null,null,null,null,null,null,{"$f":"INDEX('Fixture Descriptions'!A:K,MATCH('Inspection Form'!H1504,'Fixture Descriptions'!A:A,0),8)","v":{"$error":"#N/A"}},{"$error":"#N/A"},null,{"$error":"#N/A"},1,null,null,null,{"$f":"IFERROR(IF(AND(INDEX(Inventory!CB:CB,MATCH('Inspection Form'!B1504,Inventory!B:B,0))=\"Not Qualified\",INDEX(Inventory!L:L,MATCH('Inspection Form'!B1504,Inventory!B:B,0))<>\"\",$Q$5<>\"Pre\"),0,BY1504*BZ1504), 0)","v":0},null,{"$error":"#DIV/0!"},{"$error":"#DIV/0!"},1501]

{"sheet":"CPSE PAF","index":10,"n_rows":57,"n_cols":20,"rows_kept":57,"cut":false,"hidden":false,"merged":[[40,2,40,15],[41,2,41,15],[42,2,42,15],[44,2,44,15],[35,2,35,15],[36,2,36,15],[37,2,37,15],[38,2,38,15],[39,2,39,15],[52,2,52,5],[53,2,53,5],[13,9,13,15],[52,7,52,11],[49,7,49,11],[21,2,21,9],[46,2,47,15],[49,2,49,5],[50,2,50,5],[28,2,28,15],[29,2,29,15],[30,2,30,15],[31,2,31,15],[32,2,32,15],[33,2,33,15],[34,2,34,15],[1,3,1,4],[3,3,3,4],[3,6,3,7],[3,8,3,11],[4,3,4,4],[4,6,4,7],[4,8,4,11],[5,3,5,4],[5,6,5,7],[5,8,5,11],[6,3,6,4],[6,6,6,7],[6,8,6,11],[8,3,8,4],[11,3,11,4],[12,3,12,4],[12,12,12,14],[8,8,8,11],[9,8,9,11]]}
[]
[null,null,"CPS Energy Program Name:",{"$f":"Program","v":0}]
[]
[null,null,"Customer/Business Name:",{"$f":"'Project Info'!D5","v":0},null,null,"Contractor Name:"]
[null,null,"Contact Name:",{"$f":"'Project Info'!D9","v":0},null,null,"Contractor Name:"]
[null,null,"Contact Phone:",{"$f":"'Project Info'!D10","v":0},null,null,"Contractor Phone:"]
[null,null,"Contact Email:",{"$f":"'Project Info'!I10","v":0},null,null,"Contractor Email:"]
[]
[null,null,"Incentive To Be Paid To:",{"$f":"'Project Info'!D15","v":0},null,null,null,"Incentive Mailing Address:"]
[]
[]
[null,null,"Submit To:","CPSEnergyCommercial@clearesult.com",null,null,null,"W-9 Received :","Yes",null,null,false]
[]
[null,null,null,null,null,null,null,null,null,"Program Staff Only"]
[null,null,"Building Name","Street Address","CPS Account # ","Retrofit or New Construction (select one)","Measure Type            (select one)","Project Start Date","Project Complete Date","Estimated Demand Reduction (kW)","Estimated Annual Energy Savings (kWh/yr)","Estimated Incentive ($)","Initial (IA) vs. Final (FA)","Date of FA Approval","Program Consultant Initials (FA)","Project ID"]
[null,1,{"$f":"'Project Info'!D4","v":0},{"$f":"'Project Info'!D12","v":0},{"$f":"'Utility Admin'!C33","v":0},{"$f":"ProjectType","v":0},"Lighting",null,null,{"$f":"Summary!D7","v":0},{"$f":"Summary!F7","v":0},{"$f":"Summary!G7","v":0},null,null,null,{"$f":"'Project Info'!D3&'Project Info'!E3","v":"EA-"}]
[null,2]
[null,3]
[null,4]
[null,5]
[null,null,null,null,null,null,null,null,null,{"$f":"SUM(J16:J20)","v":0},{"$f":"SUM(K16:K20)","v":0},{"$f":"SUM(L16:L20)","v":0}]
[null,null,"Please see second page for Program Terms & Conditions and Signature of Confirmation"]
[null,null,null,null,null,null,null,null,null,null,null,null,null,null,null,"page 1 of 2"]
[]
[]
[]
[]
[null,"Program Terms & Conditions:"]
[null,"1.","Programs may be modified or terminated at any time and without notice by CPS Energy."]
[null,"2.","Program requirements and incentive levels are subject to change without notice."]
[null,"3.","The program does not endorse, guarantee or warrant any particular contractor, manufacturer or installation."]
[null,"4.","The customer is responsible for the project application process, from initiation through completion. The customer may designate an agent/primary contact; however, the customer is responsible for ensuring that all equipment requirements, terms and conditions, and program processes are strictly followed. Customer is responsible for, and must sign, the application and agrees to all program requirements including these terms and conditions upon doing so. Customer is responsible for informing program if the assigned contractor changes."]
[null,"5.","The program and CPS Energy assume no responsibility for the performance of the equipment or equipment warranty, the quality of the work, labor and/or materials supplied, and/or the acts or omissions of the participating contractor."]
[null,"6.","Incentives calculated in this application form are based on the scope of work provided by the customer or the active contractor. Any change to the scope of work will result in a change in the incentive amount. The final incentive amount is calculated upon final verification of the work by the program and may vary from estimates. A final review of all of the documentation and calculations will be conducted  prior to the program issuing an incentive check. "]
[null,"7.","The incentive funds offered under the Program are limited to a Program budget. If the Program's budget is fully reserved, Project Application Forms will be placed on a waitlist. When/if additional budget becomes available, waitlisted projects will be reviewed based on the date of Final Application approval by the program."]
[null,"8.","The program is not under any obligation to provide more incentives than the amount reserved by the Project Application Form for any project, even if project achieves greater energy savings by the project than what were estimated.  If budget is still available at the time of project completion, the program may elect to increase the incentive payment up to the incentive calculated by the achieved energy savings."]
[null,"9.","Installations must be completed in accordance with all laws, codes, permits and other applicable requirements under federal, state and local authority. Customer agrees to use only qualified materials approved by the Program. All lighting equipment must be approved by Design Lights Consortium, Energy Star, or Consortium of Energy Efficiency to qualify for incentives. Incentives calculated on this form assume all material will be qualified.  Failure to install qualified material will result in a reduced incentive amount upon project completion.  "]
[null,"10.","Prior to issuing incentive check, the program may conduct a site visit/audit to verify that the installed equipment is eligible and completed. The post-installation inspection, and all aspects related to the site visit/audit, is conducted solely for determining eligibility of the project(s) for participating in the program. The site visit/audit is not a safety review and is not intended for any other purposes than verifying project eligibility. By submitting a Project Application Form to the program, a customer agrees to provide site access to program personnel or its designated agents to the rebated equipment for verifying eligibility."]
[null,"11.","Incentives are paid based on verified demand (kW) and energy savings (kWh). Project invoice and/or final equipment submittals must be provided in order to show proof of purchase of specific makes/models of equipment that will be installed."]
[null,"12.","The program is not responsible for any errors that occur while utilizing forms, tools, or calculators made available to the customer for project application purposes."]
[null,"13.",{"$f":"IF(Program=\"Schools & Inst\",T42,T41)","v":"The customer hereby agrees to indemnify, defend and hold harmless, CPS Energy, its parents, subsidiaries, affiliates, officers, employees, contractors and agents from any and all liability arising from customer’s installation, acts or omissions taken by customer’s contractor, and/or for the actions taken by customer or CPS Energy pursuant to offering these programs."},null,null,null,null,null,null,null,null,null,null,null,null,null,null,null,null,"The customer hereby agrees to indemnify, defend and hold harmless, CPS Energy, its parents, subsidiaries, affiliates, officers, employees, contractors and agents from any and all liability arising from customer’s installation, acts or omissions taken by customer’s contractor, and/or for the actions taken by customer or CPS Energy pursuant to offering these programs."]
[null,"14.","The customer is urged to seek appropriate consultation concerning any tax liabilities that may be associated with the receipt of the incentive. CPS Energy, its parents, subsidiaries, affiliates, officers, employees, contractors and agents are not responsible for any tax liabilities that a customer may incur.",null,null,null,null,null,null,null,null,null,null,null,null,null,null,null,null,"Customer releases CPS Energy and CLEAResult from any loss, damages, costs, and liability arising from any claims related to any products installed or services performed during the installation or maintenance of the Energy Efficiency Measure (EEM).  Neither CPS Energy, CLEAResult, nor Customer shall be liable to each other for any incidental, special, indirect, or consequential damages related to this agreement."]
[null,"15.","1.No energy savings are guaranteed as a result of the purchase and installation of eligible equipment."]
[]
[null,null,"Approval of Project Application Forms and resulting incentive fund reservations are solely within the discretion of the Program. This application form is considered an Initial Project Application (IA) when submitted. Incentive funds estimated on this form are not officially reserved until program has approved them and notified customer of final project application amounts (FA). Also, please note that all savings/incentive estimates are preliminary only and are based on best available information at the time of this application."]
[]
[null,null,"CUSTOMER ACKNOWLEDGEMENT: All information included here is true and correct to the best of my knowledge. I am authorized to commit my organization to reserving incentive funds for these projects in this Program."]
[]
[]
[]
[null,null,"Customer Signature",null,null,null,null,"Program Consultant Signature (FA)"]
[]
[]
[null,null,"Date",null,null,null,null,"Date"]
[]
[]
[null,null,null,null,null,null,null,null,null,null,null,null,null,null,null,"page 2 of 2"]

{"sheet":"DSMT Export","index":11,"n_rows":40,"n_cols":45,"rows_kept":40,"cut":false,"hidden":true,"merged":[[22,1,23,5],[12,0,13,5],[14,0,15,5],[0,0,0,3]]}
["Project Export for DSMT\nUse this sheet to export a lighting project to a CSV file, which can be uploaded into DSMT using the Salesforce Data Import Wizard. Only white cells need to be filled in.",null,null,null,{"$f":"IF(C30=\"UAT\",\"UAT\",\"\")","v":""},null,null,{"$f":"COUNTA(Inventory!C9:C108)+3","v":3},"Eligible_Measure__c","Application_Premise__c","Enrollment_Application__c","Project_Type__c","Building_Type__c","Building_Exterior_Area_Type__c","M_Installation_Location__c","Description__c","Annual_Operating_Hours_hours_year__c","Coincident_Factor_PJM_SC__c","Non_Coincident_Peak_Demand_Factor__c","Cooling_System_Type__c","Interior_Space_Area_ft2__c","Exterior_Space_Area_ft2__c","Baseline_Lighting_Power_Density_W_ft2__c","Baseline_Fixture_Code__c","Baseline_Fixture_Quantity__c","Existing_Non_Operating_Fixture_Count__c","Baseline_Control_Strategy__c","Efficient_Lamp_Type__c","Efficient_Fixture_Code__c","Efficient_Fixture_Quantity__c","Efficient_Control_Strategy__c","Model__c","Qualified_Product__c","Measure_Life_years__c","Control_Measure_Life_years__c","Control_Annual_Energy_Savings_kWh__c","Control_NC_Peak_Demand_Savings_kW__c","Control_SC_Peak_Demand_Savings_kW__c","Fixture_Annual_Energy_Savings_kWh__c","Fixture_NC_Peak_Demand_Savings_kW__c","Fixture_SC_Peak_Demand_Savings_kW__c","Annual_Electric_Energy_Savings_kwh__c","Summer_Coincident_Peak_Demand_Savings_kW__c","Non_Coincident_Peak_Demand_Savings_kW__c","Total_Incentive_New__c"]
["Import Instructions",null,null,null,null,null,null,null,{"$f":"E$5","v":""},{"$f":"$C$6","v":0},{"$f":"C$5","v":0},{"$f":"ProjectType","v":0},null,null,"Interior","Interior New Construction Savings",null,null,null,null,{"$f":"SUMIF('Buildings and Areas'!C5:C14,\"Interior\",'Buildings and Areas'!H5:H14)","v":0},null,{"$f":"SUMIF(Inventory!AH112:AH121,\"Interior\",Inventory!AU112:AU121)*1000/'DSMT Export'!U2","v":{"$error":"#DIV/0!"}},null,null,null,null,"Interior NC Project Total",null,{"$f":"SUMIF(Inventory!AH112:AH121,\"Interior\",Inventory!J112:J121)","v":0},null,null,null,14,{"$f":"10","v":10},{"$f":"0","v":0},{"$f":"0","v":0},{"$f":"0","v":0},{"$f":"0","v":0},{"$f":"0","v":0},{"$f":"0","v":0},{"$f":"IF(ProjectType=\"New Construction\",SUMIF(Inventory!AH112:AH121,\"Interior\",Inventory!U112:U121),0)","v":0},{"$f":"SUMIF(Inventory!AH112:AH121,\"Interior\",Inventory!R112:R121)","v":0},{"$f":"SUMIF(Inventory!AH112:AH121,\"Interior\",Inventory!O112:O121)","v":0},{"$f":"SUMIF(Inventory!AH112:AH121,\"Interior\",Inventory!X112:X121)","v":0}]
["Enter the Enrollment Application ID and Application Premise ID below, then use the buttons to create and export the CSV.",null,null,null,null,null,null,null,{"$f":"E$5","v":""},{"$f":"$C$6","v":0},{"$f":"C$5","v":0},0,null,null,"Exterior","Exterior New Construction Savings",null,null,null,null,null,{"$f":"SUMIF('Buildings and Areas'!C5:C14,\"Exterior\",'Buildings and Areas'!H5:H14)","v":0},{"$f":"SUMIF(Inventory!AH112:AH121,\"Exterior\",Inventory!AU112:AU121)*1000/'DSMT Export'!V3","v":{"$error":"#DIV/0!"}},null,null,null,null,"Exterior NC Project Total",null,{"$f":"SUMIF(Inventory!AH112:AH121,\"Exterior\",Inventory!J112:J121)","v":0},null,null,null,15,{"$f":"10","v":10},{"$f":"0","v":0},{"$f":"0","v":0},{"$f":"0","v":0},{"$f":"0","v":0},{"$f":"0","v":0},{"$f":"0","v":0},{"$f":"IF(ProjectType=\"New Construction\",SUMIF(Inventory!AH112:AH121,\"Exterior\",Inventory!U112:U121),0)","v":0},{"$f":"SUMIF(Inventory!AH112:AH121,\"Exterior\",Inventory!R112:R121)","v":0},{"$f":"SUMIF(Inventory!AH112:AH121,\"Exterior\",Inventory!O112:O121)","v":0},{"$f":"SUMIF(Inventory!AH112:AH121,\"Exterior\",Inventory!X112:X121)","v":0}]
[null,null,null,null,null,null,null,null,{"$f":"E$5","v":""},{"$f":"$C$6","v":0},{"$f":"C$5","v":0},0,{"$f":"Inventory!AG9","v":""},{"$f":"IF(ProjectType=\"New Construction\",IF(O4=\"Exterior\",\"Outdoor \",\"\")&Inventory!AM9,\"\")","v":""},{"$f":"Inventory!AH9","v":""},{"$f":"IF(Inventory!D9=\"\",\"\",Inventory!D9)","v":""},{"$f":"Inventory!AI9","v":0},{"$f":"Inventory!AJ9","v":0},{"$f":"Inventory!AK9","v":0},{"$f":"IF(Inventory!AL9<>\"\",Inventory!AL9,\"\")","v":""},{"$f":"IF(AND(Inventory!AN9<>0,O4=\"Interior\"),Inventory!AN9,\"\")","v":""},{"$f":"IF(AND(Inventory!AN9<>0,O4=\"Exterior\"),Inventory!AN9,\"\")","v":""},{"$f":"IFERROR(IF(ProjectType=\"New Construction\",INDEX('Buildings and Areas'!$J$5:$J$14,MATCH(Inventory!C9,'Buildings and Areas'!$B$5:$B$14,0)),\"\"),\"\")","v":""},{"$f":"IF(AND(Inventory!E9<>\"\",ProjectType=\"Retrofit\"),Inventory!E9,\"\")","v":""},{"$f":"IF(AND(Inventory!F9<>\"\",ProjectType=\"Retrofit\"),Inventory!F9,\"\")","v":""},{"$f":"IF(AND(Inventory!G9<>\"\",ProjectType=\"Retrofit\"),Inventory!G9,0)","v":0},{"$f":"IF(AND(Inventory!H9<>\"\",ProjectType=\"Retrofit\"),Inventory!H9,\"None\")","v":"None"},{"$f":"IF(AND(Inventory!BZ9=\"LED Replacement Tubes\",$E$40),'Factor Tables'!$H$9,Inventory!BZ9)","v":0},{"$f":"Inventory!AD9","v":""},{"$f":"Inventory!J9","v":0},{"$f":"IF(Inventory!K9<>\"\",Inventory!K9,\"None\")","v":"None"},{"$f":"IF(Inventory!M9=\"\",\"\",Inventory!M9)","v":""},{"$f":"IFERROR(IF(MATCH(Inventory!L9,Qualification,0)>0,Inventory!L9),_xlfn.XLOOKUP(LEFT(Inventory!L9,1),'Factor Tables'!$L$4:$L$9,Qualification,\"\"))","v":""},{"$f":"Inventory!AF9","v":0},{"$f":"IF(Inventory!AE9<>\"\",Inventory!AE9,\"\")","v":10},{"$f":"IF(Inventory!V9<>\"\",Inventory!V9,\"\")","v":0},{"$f":"IF(Inventory!P9<>\"\",Inventory!P9,\"\")","v":0},{"$f":"IF(Inventory!S9<>\"\",Inventory!S9,\"\")","v":0},{"$f":"IF(Inventory!U9<>\"\",Inventory!U9,\"\")","v":0},{"$f":"IF(Inventory!O9<>\"\",Inventory!O9,\"\")","v":0},{"$f":"IF(Inventory!R9<>\"\",Inventory!R9,\"\")","v":0},{"$f":"Inventory!W9","v":0},{"$f":"IF(Inventory!T9<>\"\",Inventory!T9,\"\")","v":0},{"$f":"IF(Inventory!Q9<>\"\",Inventory!Q9,\"\")","v":0},{"$f":"IF(OR(Inventory!X9<>\"\",Inventory!Y9<>\"\"),Inventory!X9+Inventory!Y9,\"\")","v":0}]
[null,"Enrollment Application ID:",null,"Eligible Measure:",{"$f":"IFERROR(INDEX(D33:D40,MATCH(1,(Program='DSMT Export'!B33:B40)*('DSMT Export'!C30='DSMT Export'!C33:C40),0)),\"\")","v":""}]
[null,"Premise ID:",null,"Record Type ID:",{"$f":"IFERROR(INDEX(E33:E40,MATCH(1,(Program='DSMT Export'!B33:B40)*('DSMT Export'!C30='DSMT Export'!C33:C40),0)),\"\")","v":""}]
[]
[]
[]
[]
[]
[]
["The enrollment application record ID can be found by navigating to the Enrollment Application in DSMT in your web browser and copying the ID at the end of the web address (after .com/)."]
[]
["The application premise record ID can be found by navigating to the Application Premise in DSMT in your web browser and copying the ID at the end of the web address (after .com/)."]
[]
[]
["Launching the Import Wizard in Salesforce"]
["1.","Login to Salesforce in the environment you will be testing. "]
["2.","Navigate to Upload MLIs by clicking on the \"+\" sign in the top right corner of the page."]
["3.","Click on the \"Choose File\" button and select the CSV file you created."]
["4.","Select the \"Upload File\" button."]
["5.","An email will be sent to your account once all MLIs are imported. Depending on how large the CSV file is, this may take anywhere between 1-3 hours."]
[]
["Note: You can import multiple CSV files at once. One email will be sent out for each file."]
[]
[]
[]
[]
[null,"DSMT Environment:","PROD",null,"Clear Formulas after MLI creation?","Yes"]
[]
[null,"Program","Environment","Eligible Measure","Record Type ID"]
[null,"Commercial Solutions","PROD","a1r3u0000069Bu7AAE","0123u000000aP5dAAE",null," "]
[null,"Score/CitySmart","PROD","a1r3u0000069DBEAA2","0123u000000aP5dAAE",null," "]
[null,"Commercial Solutions","UAT","a1r79000000A2oYAAS","012790000004PuTAAU",null," "]
[null,"Score/CitySmart","UAT","a1r79000000A6XwAAk","012790000004PuTAAU",null," "]
[]
[]
[]
[null,null,null,"Replace \"LED Replacement Tubes\" with \"Light Emitting Diode (LED)\"?",false]

{"sheet":"Measure_Line_Item__c","index":12,"n_rows":0,"n_cols":0,"rows_kept":0,"cut":false,"hidden":true,"merged":[]}

{"sheet":"Factor Tables","index":13,"n_rows":115,"n_cols":12,"rows_kept":115,"cut":false,"hidden":true,"merged":[[93,1,93,2]]}
[1]
[null,"Operating Hours and Coincidence Factor Table"]
[null,"Building Type","Hours","Summer CF","Non-CF",null,null,"LampType",null,null,"Qualification"]
[null,"Agriculture: Long-Day Lighting",6209,1,1,null,null,"Halogen",null,null,"DLC","D"]
[null,"Agriculture: Non-24 Hour Grow Lighting",5479,1,1,null,null,"High Intensity Discharge (HID)",null,null,"ENERGY STAR","E"]
[null,"Data Center",4008,0.85,0.85,null,null,"Integrated-ballast CFL Lamps",null,null,"LightingFacts","L"]
[null,"Education: K-12 with Summer Session, College, University, Vocational, and Day Care",3577,0.9,0.9,null,null,"Integrated-ballast LED Lamps",null,null,"CEE","C"]
[null,"Education: K-12 with Partial Summer Session",3177,0.84,0.9,null,null,"LED Replacement Tubes",null,null,"Other/Exception","O"]
[null,"Education: K-12 without Summer Session",2777,0.32,0.9,null,null,"Light Emitting Diode (LED)",null,null,"Not Qualified","N"]
[null,"Food Sales: Non-24 Hour Supermarket or Convenience Store",4706,0.9,0.9,null,null,"Light Emitting Plasma (LEP)"]
[null,"Food Sales: 24 Hour Supermarket or Convenience Store",6900,0.9,0.9,null,null,"Linear Fluorescent"]
[null,"Food Service: Full-Service Restaurant",4368,0.9,0.9,null,null,"Modular CFL and CCFL Fixtures"]
[null,"Food Service: Quick-Service Restaurant",6188,0.9,0.9,null,null,"Modular CFL Fixtures"]
[null,"Food Service: 24 Hour Restaurant",7311,0.9,0.9,null,null,"Removed"]
[null,"Health Care: Inpatient",5730,0.81,0.9]
[null,"Health Care: Outpatient",3386,0.71,0.9]
[null,"Health Care: Resident Care and Nursing Home",4271,0.71,0.9]
[null,"Lodging: Hotel/Motel/Dorm, Common Area",6630,0.9,0.9]
[null,"Lodging: Hotel/Motel/Dorm, Room",3055,0.3,0.9]
[null,"Manufacturing: 1 Shift (<70 hr/week)",2786,0.83,0.85]
[null,"Manufacturing: 2 Shift (70-120 hr/week)",5188,0.85,0.85]
[null,"Manufacturing: 3 Shift (>120 hr/week)",6414,0.85,0.85]
[null,"Mercantile: Non-24 Hour Stand-alone Retail",3668,0.9,0.9]
[null,"Mercantile: Enclosed Mall",4813,0.9,0.9]
[null,"Mercantile: Strip Center and Non-Enclosed Mall",3965,0.9,0.9]
[null,"Mercantile: 24 Hour Stand-Alone Retail",6900,0.9,0.9]
[null,"Multifamily: Common Area",4772,0.9,0.9]
[null,"Office",3737,0.86,0.9]
[null,"Parking Garage",7884,1,1]
[null,"Public Assembly",2638,0.65,0.65]
[null,"Public Order and Safety: Jail and Prison",7264,0.9,0.9]
[null,"Public Order and Safety: Other",3472,0.71,0.9]
[null,"Religious Worship",1824,0.65,0.65]
[null,"Service: Excluding Food",3406,0.9,0.9]
[null,"Warehouse: Non-Refrigerated",3501,0.79,0.85]
[null,"Warehouse: Refrigerated",3798,0.79,0.85]
[null,"Other",2638,0.65,0.65]
[null,"Custom",2638,0.65,0.65]
[null,"Outdoor: Dusk-to-Dawn",4161,0,1]
[null,"Outdoor: Less Than Dusk-to-Dawn",1998,0,1]
[null,"Outdoor: Athletic Field and Court",767,0,1]
[null,"Outdoor: Billboard",3470,0,1]
[]
[null,"Power/Energy Adjustment Factors Table"]
[null,"Control Code","PAF","EAF"]
[null,"None",1,1]
[null,"OS",0.76,0.76]
[null,"Daylighting",0.72,0.72]
[null,"PT",0.69,0.69]
[null,"IT",0.64,0.64]
[null,"Multiple",0.53,0.53]
[]
[null,"Interactive Effect Factors"]
[null,null,"Air Conditioned Space ( >41°F)","Med. Temp. Refrigeration (33-41°F)","Low Temp. Refrigeration (-10-10°F)","None"]
[null,"Interactive Effect Factor -Demand",1.1000000000000001,1.25,1.3,1]
[null,"Interactive Effect Factor - Energy",1.05,1.25,1.3,1]
[]
[]
[null,"Code Allowed Lighting Power Density (W/ft2):"]
[null,"Facility Type","Power Density Factor"]
[null,"Automotive Facility","Lighted Floor Area (SqFt):","SqFt",0.71]
[null,"Convention Center","Lighted Floor Area (SqFt):","SqFt",0.76]
[null,"Courthouse","Lighted Floor Area (SqFt):","SqFt",0.9]
[null,"Dining: Bar/Lounge/Leisure","Lighted Floor Area (SqFt):","SqFt",0.9]
[null,"Dining: Cafeteria","Lighted Floor Area (SqFt):","SqFt",0.79]
[null,"Dining: Family","Lighted Floor Area (SqFt):","SqFt",0.78]
[null,"Dormitory","Lighted Floor Area (SqFt):","SqFt",0.61]
[null,"Exercise Center","Lighted Floor Area (SqFt):","SqFt",0.65]
[null,"Fire Station","Lighted Floor Area (SqFt):","SqFt",0.53]
[null,"Gymnasium","Lighted Floor Area (SqFt):","SqFt",0.68]
[null,"Health Care - Clinic","Lighted Floor Area (SqFt):","SqFt",0.82]
[null,"Hospital","Lighted Floor Area (SqFt):","SqFt",1.05]
[null,"Hotel","Lighted Floor Area (SqFt):","SqFt",0.75]
[null,"Library","Lighted Floor Area (SqFt):","SqFt",0.78]
[null,"Manufacturing","Lighted Floor Area (SqFt):","SqFt",0.9]
[null,"Motel","Lighted Floor Area (SqFt):","SqFt",0.75]
[null,"Motion Picture","Lighted Floor Area (SqFt):","SqFt",0.83]
[null,"Multi-Family","Lighted Floor Area (SqFt):","SqFt",0.68]
[null,"Museum","Lighted Floor Area (SqFt):","SqFt",1.06]
[null,"Office","Lighted Floor Area (SqFt):","SqFt",0.79]
[null,"Parking Garage","Lighted Floor Area (SqFt):","SqFt",0.15]
[null,"Penitentiary","Lighted Floor Area (SqFt):","SqFt",0.75]
[null,"Performing Arts","Lighted Floor Area (SqFt):","SqFt",1.18]
[null,"Police Station","Lighted Floor Area (SqFt):","SqFt",0.8]
[null,"Post Office","Lighted Floor Area (SqFt):","SqFt",0.67]
[null,"Religious Buildings","Lighted Floor Area (SqFt):","SqFt",0.94]
[null,"Retail","Lighted Floor Area (SqFt):","SqFt",1.06]
[null,"School/University","Lighted Floor Area (SqFt):","SqFt",0.81]
[null,"Sports Arena","Lighted Floor Area (SqFt):","SqFt",0.87]
[null,"Town Hall","Lighted Floor Area (SqFt):","SqFt",0.8]
[null,"Transportation","Lighted Floor Area (SqFt):","SqFt",0.61]
[null,"Warehouse","Lighted Floor Area (SqFt):","SqFt",0.48]
[null,"Workshop","Lighted Floor Area (SqFt):","SqFt",0.9]
[null,"Power Density Factor Source: ANSI/ASHRAE/IESNA Standard 90.1 -2007 Tbl. 9.5.1, p. 62\n& IECC 2009 Tbl. 505.5.2, p. 59"]
[]
[null,null,null,null,"Power Density Factor"]
[null,"IECC 2018 Exterior Space Type",null,null,"Zone 1","Zone 2","Zone 3","Zone 4"]
[null,"Parking Areas and Drives","Lighted Floor Area (SqFt):","SqFt",0.03,0.04,0.06,0.08]
[null,"Walkways > 10 ft wide, Plaza Areas, and Special Feature Areas","Lighted Floor Area (SqFt):","SqFt",0.1,0.1,0.11,0.14000000000000001]
[null,"Stairways","Lighted Floor Area (SqFt):","SqFt",0.6,0.7,0.7,0.7]
[null,"Pedestrian Tunnels","Lighted Floor Area (SqFt):","SqFt",0.12,0.12,0.14000000000000001,0.21]
[null,"Landscaping","Lighted Floor Area (SqFt):","SqFt",0.03,0.04,0.04,0.04]
[null,"Entry Canopies","Lighted Floor Area (SqFt):","SqFt",0.2,0.25,0.4,0.4]
[null,"Loading Docks","Lighted Floor Area (SqFt):","SqFt",0.35,0.35,0.35,0.35]
[null,"Free-standing and Attached Sales Canopies","Lighted Floor Area (SqFt):","SqFt",0.4,0.4,0.6,0.7]
[null,"Outdoor Sales Areas, Vehicle Sales Lots","Lighted Floor Area (SqFt):","SqFt",0.2,0.2,0.35,0.5]
[null,"Building Facades","Lighted Wall area (SqFt):","SqFt",0,7.4999999999999997E-2,0.113,0.15]
[null,"Entrances and Gatehouse Inspection Stations","Lighted Floor Area (SqFt):","SqFt",0.5,0.5,0.5,0.5]
[null,"Loading Areas for Emergency Vehicles","Lighted Floor Area (SqFt):","SqFt",0.35,0.35,0.35,0.35]
[]
[null,"IECC Zone","Base Allowance (W)"]
[null,"Zone 1",350]
[null,"Zone 2",400]
[null,"Zone 3",500]
[null,"Zone 4",900]

{"sheet":"Utility Admin","index":14,"n_rows":35,"n_cols":49,"rows_kept":35,"cut":false,"hidden":true,"merged":[]}
[1,null,null,null,null,"$/NCPkW","$/NCPkW","$/NCPkW","$/NCPkW","$/NCPkW","$/NCPkW","$/NCPkW","$/NCPkW","$/NCPkW","$/NCPkW","$/NCPkW","$/NCPkW","$/NCPkW","$/NCPkW","$/NCPkW","$/NCPkW","$/NCPkW","$/NCPkW","$/NCPkW","$/NCPkW","$/NCPkW","$/NCPkW","$/kWh","$/kWh","$/kWh","$/kWh","$/kWh","$/kWh","$/kWh","$/kWh","$/kWh","$/kWh","$/kWh","$/kWh","$/kWh","$/kWh","$/kWh","$/kWh","$/kWh","$/kWh","$/kWh","$/kWh","$/kWh","$/kWh"]
[null,null,null,null,null,"Interior","Interior","Interior","Interior","Interior","Interior","Interior","Interior","Interior","Interior","Interior","Exterior","Exterior","Exterior","Exterior","Exterior","Exterior","Exterior","Exterior","Exterior","Exterior","Exterior","Interior","Interior","Interior","Interior","Interior","Interior","Interior","Interior","Interior","Interior","Interior","Exterior","Exterior","Exterior","Exterior","Exterior","Exterior","Exterior","Exterior","Exterior","Exterior","Exterior"]
[null,{"$f":"'Project Info'!D8","v":0},{"$f":"IF(Program=\"\",0,INDEX(C5:C8,MATCH(Program,$B5:$B8,0),1))","v":0},0,0,0,0,0,0,0,0,0,0,0,0,0,0,0,0,0,0,0,0,0,0,0,0,{"$f":"IF(Program=\"\",0,INDEX(AB5:AB8,MATCH(Program,$B5:$B8,0),1))","v":0},0,0,0,0,0,0,0,0,0,0,0,0,0,0,0,0,0,0,0,0,0]
[null,"Program","Max base","Max %","Max incentive","Halogen","High Intensity Discharge (HID)","Integrated-ballast CFL Lamps","Integrated-ballast CCFL Lamps","Modular CFL and CCFL Fixtures","Integrated-ballast LED Lamps","Light Emitting Diode (LED)","LED Replacement Tubes","Linear Fluorescent","New Construction","Lighting Controls","Halogen","High Intensity Discharge (HID)","Integrated-ballast CFL Lamps","Integrated-ballast CCFL Lamps","Modular CFL and CCFL Fixtures","Integrated-ballast LED Lamps","Light Emitting Diode (LED)","LED Replacement Tubes","Linear Fluorescent","New Construction","Lighting Controls","Halogen","High Intensity Discharge (HID)","Integrated-ballast CFL Lamps","Integrated-ballast CCFL Lamps","Modular CFL and CCFL Fixtures","Integrated-ballast LED Lamps","Light Emitting Diode (LED)","LED Replacement Tubes","Linear Fluorescent","New Construction","Lighting Controls","Halogen","High Intensity Discharge (HID)","Integrated-ballast CFL Lamps","Integrated-ballast CCFL Lamps","Modular CFL and CCFL Fixtures","Integrated-ballast LED Lamps","Light Emitting Diode (LED)","LED Replacement Tubes","Linear Fluorescent","New Construction","Lighting Controls"]
[null,"Commercial Solutions",999999,0.6,{"$f":"IF('Project Info'!$D$16=\"\",C5,MIN(D5*'Project Info'!$D$16,C5))","v":999999},200,200,200,200,200,325,325,325,200,325,200,200,200,200,200,200,250,250,250,200,250,200,0.03,0.03,0.03,0.03,0.03,0.05,0.05,0.05,0.03,0.05,0.03,0.03,0.03,0.03,0.03,0.03,0.05,0.05,0.05,0.03,0.05,0.03]
[null,"Score/CitySmart",999999,0.6,{"$f":"IF('Project Info'!$D$16=\"\",C6,MIN(D6*'Project Info'!$D$16,C6))","v":999999},200,200,200,200,200,325,325,325,200,325,200,200,200,200,200,200,250,250,250,200,250,200,0.03,0.03,0.03,0.03,0.03,0.05,0.05,0.05,0.03,0.05,0.03,0.03,0.03,0.03,0.03,0.03,0.05,0.05,0.05,0.03,0.05,0.03]
[]
[]
[]
[]
[]
[]
[]
[]
[]
[]
[]
[]
[]
[]
[]
[]
[]
[]
[]
[]
[]
[]
[]
[]
[]
[null,"<-This should be row 32.   PPI:"]
[null,"Account #:"]
[null,"Name on Account or Tax ID:"]
[null,"PPI Hide Trigger:",true]

{"sheet":"Version Log","index":15,"n_rows":312,"n_cols":6,"rows_kept":312,"cut":false,"hidden":true,"merged":[[1,1,1,5]]}
[1]
[null,"Version Log"]
[]
[null,"Original Author:",null,"Adam Keeling","QA/QC Engineer(s):","Boone Drummond"]
[null,"Primary Developer:",null,"Adam Groenhuyzen","Senior Engineer Approval:"]
[]
[null,"Version","Date","Reason for Change","Change Description","Contact, Department"]
[null,"23.0.0",null,null,"Created standalone lighting calculator version for CPS Energy based off SLC","Adam Groenhuyzen"]
[null,"23.0.1","2023-03-29",null,"Fixed issue with DSMT sheet protection","Adam Groenhuyzen"]
[null,null,null,null,"Fixed error in NC capped incentive calculation","Adam Groenhuyzen"]
[null,null,null,null,"Corrected bug with import macro not capturing B&A tab","Adam Groenhuyzen"]
[null,null,null,null,"Fixed formula references on Fixture Descriptions","Adam Groenhuyzen"]
[null,null,null,null,"Fixed bug with hide PPI macro referencing wrong cell","Adam Groenhuyzen"]
[null,null,null,null,"Added back F46ILU and F48ILU codes","Adam Groenhuyzen"]
[null,"23.1.0","2023-08-01",null,"EISA Tier 2 updates","Adam Groenhuyzen"]
[]
[]
[]
[]
[]
[]
[]
[]
[]
[]
[]
[]
[]
[]
[]
[]
[]
[]
[]
[]
[]
[]
[]
[]
[]
[]
[]
[]
[]
[]
[]
[]
[]
[]
[]
[]
[]
[]
[]
[]
[]
[]
[]
[]
[]
[]
[]
[]
[]
[]
[]
[]
[]
[]
[]
[]
[]
[]
[]
[]
[]
[]
[]
[]
[]
[]
[]
[]
[]
[]
[]
[]
[]
[]
[]
[]
[]
[]
[]
[]
[]
[]
[]
[]
[]
[]
[]
[]
[]
[]
[]
[]
[]
[]
[]
[]
[]
[]
[]
[]
[]
[]
[]
[]
[]
[]
[]
[]
[]
[]
[]
[]
[]
[]
[]
[]
[]
[]
[]
[]
[]
[]
[]
[]
[]
[]
[]
[]
[]
[]
[]
[]
[]
[]
[]
[]
[]
[]
[]
[]
[]
[]
[]
[]
[]
[]
[]
[]
[]
[]
[]
[]
[]
[]
[]
[]
[]
[]
[]
[]
[]
[]
[]
[]
[]
[]
[]
[]
[]
[]
[]
[]
[]
[]
[]
[]
[]
[]
[]
[]
[]
[]
[]
[]
[]
[]
[]
[]
[]
[]
[]
[]
[]
[]
[]
[]
[]
[]
[]
[]
[]
[]
[]
[]
[]
[]
[]
[]
[]
[]
[]
[]
[]
[]
[]
[]
[]
[]
[]
[]
[]
[]
[]
[]
[]
[]
[]
[]
[]
[]
[]
[]
[]
[]
[]
[]
[]
[]
[]
[]
[]
[]
[]
[]
[]
[]
[]
[]
[]
[]
[]
[]
[]
[]
[]
[]
[]
[]
[]
[]
[]
[]
[]
[]
[]
[]
[]
[]
[]
[]
[]
[]
[]
[]
[]
[]
[]
[]
[]
[]
[]
[]
[]
[]
[]
[]
[]
[]
[]
[]
[]
[]
[]
[]
[]
[null,"23.0.0",null,null,"Created standalone version for CPS Energy from SLC","Adam Groenhuyzen"]
[null,"23.0.1"]